{"text_format":"1","workbook":"xlsx","n_sheets":93,"sheets":["1.Kemzeke-Zuid","2.Halle-Dassenveld","3.Winksele","4.Herent","5.Bekkevoort","6.Overijse","7.St. Michiels","9.Torhout","10.Houthalen","11.Diepenbeek","12.Wommelgem-Zuid","13.Minitaria","14.Hakendover","15.Kontich","16.Breendonk (Puurs)","17.Hasselt-Zuid","18.Herentals-West","19.Rumst","20.Paal","21.Lummen","22.Halen","23.Maasmechelen","24.Gentbrugge Arsenaal","25.Aalst-Zuid","26.Waasmunster","27.Melsele-Zuid","28.Meerbeke","29.Ninove","30.Kruishoutem","32.Vrasene-Noord","33.Merelbeke","34.Vilvoorde","35.Holsbeek","36.Halle-Essenbeek","37.Halle-Sint Rochus","38.Boutersem","39.Aarschot","40.Tielt-Winge","41.Walshoutem","42.Zingem","43.Kemzeke-West","44.Kemzeke-Oost","46.Geel-Oost","47.Lille","48.Oelegem-West","49.Oelegem-Oost","50.Sint Job in 't Goor","51.Menen","52.Deerlijk","54.E17 Deinze","55.Erpe-Mere","56.Geel-West","57.Veurne","58.Oudenburg","59.Middelkerke","60.Loenhout","61.Meise","62.Nieuwpoort","63.Lichtervelde","64.Kortrijk-Oost","65.Loppem","66.Jabbeke-Oost","67.Waregem","68.Zandvoorde","69.Beernem","70.The Loop-Expo","72.Veurne","73.Jabbeke-West","74.Melsele","77.Keizershoek","78.Blancefloerlaan","80.Gentbrugge","82.Vuntcomplex","83.Sterrebeek","84.Halle-Rattenput","85.Strombeek-Bever","87.Affligem","88.Bertem","89.Hoegaarden","90.Kampenhout","91.Nevele","92.Beerse-Vosselaar","93.Terlaemen","94.Boechout","95.Aalter","96.De Pinte","97.Destelbergen","99.Massenhoven","100.Tongeren","Coordinaten","Sjabloon","Bezetting_1","Bezetting_2"],"not_rendered":{"charts":180,"images":90,"macros":1,"external_links":0,"defined_names":180,"comments":0,"pivot_tables":0},"unopened":[],"bounds":{"document_bytes":16777216,"sheet_cells":100000,"rows_first":2000,"rows_last":500,"rows_between":2000,"halvings":0,"cell_chars":16384,"cell_head_chars":4096},"cells_cut":0,"cells_raw":0,"read":"whole","date_system":"1900"}

{"sheet":"1.Kemzeke-Zuid","index":0,"n_rows":54,"n_cols":26,"rows_kept":54,"cut":false,"hidden":false,"merged":[[4,3,5,12],[4,16,5,16],[15,3,16,12]]}
[]
[null,"PARKEERONDERZOEK",null,"CARPOOLPARKINGS EN P+R PARKINGS"]
[null,1,null,{"$f":"B8 & \" - \"& TEXT(VLOOKUP(B3,Coordinaten!$A$2:$G$95,7,0),\"dddd dd mmmm jjjj\")","v":"Carpool parking Kemzeke-Zuid, Stekene - di 10 & do 12 oktober 2023"}]
[null,{"$f":"VLOOKUP(B3,Coordinaten!$A$2:$G$95,6,0)","v":"51.226907, 4.063425"}]
[null,null,null,"BEZETTING  ",null,null,null,null,null,null,null,null,null,null,null,null,"OPMERKINGEN"]
[]
[null,"Onderzoeksgebied",null,"Datum","Geregistreerd tussen","Pers","Vracht","Motor","Obstakel / overig","Fout   pers","Fout Vracht","Totaal","E-wagen\nplaats","Invalidenplaats","Gestalde fietsen",null,null,null,null,null,{"$f":"F7","v":"Pers"},"Vracht","Motor","Obstakel / overig","Fout   pers","Fout Vracht"]
[null,{"$f":"VLOOKUP(B3,Coordinaten!$A$2:$G$95,3,0)&\", \"&VLOOKUP(B3,Coordinaten!$A$2:$G$95,5,0)","v":"Carpool parking Kemzeke-Zuid, Stekene"},null,{"$f":"_xlfn.XLOOKUP($B$3,Bezetting_1!$A$2:$A$90,Bezetting_1!C$2:C$90,,0)","v":"2023-10-10"},{"$f":"_xlfn.XLOOKUP($B$3,Bezetting_1!$A$2:$A$90,Bezetting_1!D$2:D$90,,0)","v":"09:00 - 16:00u"},{"$f":"_xlfn.XLOOKUP($B$3,Bezetting_1!$A$2:$A$90,Bezetting_1!E$2:E$90,,0)","v":30},{"$f":"_xlfn.XLOOKUP($B$3,Bezetting_1!$A$2:$A$90,Bezetting_1!F$2:F$90,,0)","v":1},{"$f":"_xlfn.XLOOKUP($B$3,Bezetting_1!$A$2:$A$90,Bezetting_1!G$2:G$90,,0)","v":0},{"$f":"_xlfn.XLOOKUP($B$3,Bezetting_1!$A$2:$A$90,Bezetting_1!H$2:H$90,,0)","v":0},{"$f":"_xlfn.XLOOKUP($B$3,Bezetting_1!$A$2:$A$90,Bezetting_1!I$2:I$90,,0)","v":20},{"$f":"_xlfn.XLOOKUP($B$3,Bezetting_1!$A$2:$A$90,Bezetting_1!J$2:J$90,,0)","v":0},{"$f":"_xlfn.XLOOKUP($B$3,Bezetting_1!$A$2:$A$90,Bezetting_1!K$2:K$90,,0)","v":51},{"$f":"_xlfn.XLOOKUP($B$3,Bezetting_1!$A$2:$A$90,Bezetting_1!L$2:L$90,,0)","v":0},{"$f":"_xlfn.XLOOKUP($B$3,Bezetting_1!$A$2:$A$90,Bezetting_1!M$2:M$90,,0)","v":0},{"$f":"_xlfn.XLOOKUP($B$3,Bezetting_1!$A$2:$A$90,Bezetting_1!N$2:N$90,,0)","v":9},null,{"$f":"_xlfn.XLOOKUP($B$3,Bezetting_1!$A$2:$A$90,Bezetting_1!P$2:P$90,,0)","v":0},null,{"$f":"D8","v":"2023-10-10"},{"$f":"E8","v":"09:00 - 16:00u"},{"$f":"IF(F8=0,NA(),F8/$L8)","v":0.58823529411764708},{"$f":"IF(G8=0,NA(),G8/$L8)","v":1.9607843137254902E-2},{"$f":"IF(H8=0,NA(),H8/$L8)","v":{"$error":"#N/A"}},{"$error":"#N/A"},0.39215686274509803,{"$error":"#N/A"}]
[null,{"$f":"\"Nabij kruispunt: \"&VLOOKUP(B3,Coordinaten!$A$2:$L$95,4,0)","v":"Nabij kruispunt: N49 / N403"},null,null,null,{"$f":"IF(F8=0,\"-\",F8/$L$8)","v":0.58823529411764708},{"$f":"IF(G8=0,\"-\",G8/$L$8)","v":1.9607843137254902E-2},"-","-",0.39215686274509803,"-",1,null,null,null,null,{"$f":"_xlfn.XLOOKUP($B$3,Bezetting_1!$A$2:$A$90,Bezetting_1!Q$2:Q$90,,0)","v":0},null,{"$f":"D10","v":"2023-10-10"},{"$f":"E10","v":"19:00 - 02:00u"},{"$f":"IF(F10=0,NA(),F10/$L10)","v":0.69565217391304346},{"$f":"IF(G10=0,NA(),G10/$L10)","v":{"$error":"#N/A"}},{"$error":"#N/A"},{"$error":"#N/A"},{"$error":"#N/A"},0.30434782608695654]
[null,null,null,{"$f":"_xlfn.XLOOKUP($B$3,Bezetting_2!$A$2:$A$90,Bezetting_2!C$2:C$90,,0)","v":"2023-10-10"},{"$f":"_xlfn.XLOOKUP($B$3,Bezetting_2!$A$2:$A$90,Bezetting_2!D$2:D$90,,0)","v":"19:00 - 02:00u"},{"$f":"_xlfn.XLOOKUP($B$3,Bezetting_2!$A$2:$A$90,Bezetting_2!E$2:E$90,,0)","v":16},{"$f":"_xlfn.XLOOKUP($B$3,Bezetting_2!$A$2:$A$90,Bezetting_2!F$2:F$90,,0)","v":0},{"$f":"_xlfn.XLOOKUP($B$3,Bezetting_2!$A$2:$A$90,Bezetting_2!G$2:G$90,,0)","v":0},{"$f":"_xlfn.XLOOKUP($B$3,Bezetting_2!$A$2:$A$90,Bezetting_2!H$2:H$90,,0)","v":0},{"$f":"_xlfn.XLOOKUP($B$3,Bezetting_2!$A$2:$A$90,Bezetting_2!I$2:I$90,,0)","v":0},{"$f":"_xlfn.XLOOKUP($B$3,Bezetting_2!$A$2:$A$90,Bezetting_2!J$2:J$90,,0)","v":7},{"$f":"_xlfn.XLOOKUP($B$3,Bezetting_2!$A$2:$A$90,Bezetting_2!K$2:K$90,,0)","v":23},{"$f":"_xlfn.XLOOKUP($B$3,Bezetting_2!$A$2:$A$90,Bezetting_2!L$2:L$90,,0)","v":0},{"$f":"_xlfn.XLOOKUP($B$3,Bezetting_2!$A$2:$A$90,Bezetting_2!M$2:M$90,,0)","v":0},{"$f":"_xlfn.XLOOKUP($B$3,Bezetting_2!$A$2:$A$90,Bezetting_2!N$2:N$90,,0)","v":4},{"$f":"_xlfn.XLOOKUP($B$3,Bezetting_2!$A$2:$A$90,Bezetting_2!O$2:O$90,,0)","v":0},{"$f":"_xlfn.XLOOKUP($B$3,Bezetting_2!$A$2:$A$90,Bezetting_2!P$2:P$90,,0)","v":0}]
[null,"Meting",null,null,null,{"$f":"IF(F10=0,\"-\",F10/$L$10)","v":0.69565217391304346},{"$f":"IF(G10=0,\"-\",G10/$L$10)","v":"-"},"-","-","-",0.30434782608695654,1,null,null,null,null,{"$f":"_xlfn.XLOOKUP($B$3,Bezetting_2!$A$2:$A$90,Bezetting_2!Q$2:Q$90,,0)","v":0}]
[null,{"$f":"\"Meetperiode: \"&TEXT(VLOOKUP(B3,Coordinaten!$A:$G,7,0),\"dddd dd mmmm jjjj\")","v":"Meetperiode: di 10 & do 12 oktober 2023"}]
[null,"Methodiek: Parkeerdrukmeting met waarnemers"]
[null,"In opdracht van: Vlaamse overheid"]
[null,"Uitgevoerd door: Dufec"]
[null,null,null,"VERDELING NAAR CATEGORIE"]
[null,"Locatie"]
[null,{"$f":"IF(B4=\"\",\"\",HYPERLINK(\"http://www.googlemaps.com/?q=\"&B4,\"Lat/Long: \"&B4))","v":"Lat/Long: 51.226907, 4.063425"}]
[]
[null,null,null,null,null,null,null,null,null,null,null,null,null,null,null,"Legenda"]
[null,null,null,null,null,null,null,null,null,null,null,null,null,null,null,null,"Personenwagen"]
[null,null,null,null,null,null,null,null,null,null,null,null,null,null,null,null,"Vracht"]
[null,null,null,null,null,null,null,null,null,null,null,null,null,null,null,null,"Motor"]
[null,null,null,null,null,null,null,null,null,null,null,null,null,null,null,null,"Obstakel / overig"]
[null,null,null,null,null,null,null,null,null,null,null,null,null,null,null,null,"Fout personenwagen"]
[null,null,null,null,null,null,null,null,null,null,null,null,null,null,null,null,"Fout Vracht"]
[]
[]
[]
[]
[]
[]
[]
[]
[]
[]
[]
[]
[null,"Toelichting"]
[null,"Pers = personenwagens op daarvoor bestemde"]
[null,"          openbare plaatsen"]
[null,"Vracht = vrachtwagens op daarvoor bestemde"]
[null,"          parkeerplaatsen (middel- en zwaar vrachtverkeer)"]
[null,"Motor = geparkeerde motoren op openbare plaatsen"]
[null,"Obstakel / overig = obstakels of overige voertuigen"]
[null,"          geparkeerd op openbare plaatsen"]
[null,"Fout pers = personenwagens die fout geparkeerd staan"]
[null,"Fout vracht = vrachtwagens die fout geparkeerd staan"]
[null,"E-wagen = geparkeerde elektrisch voertuig bij een"]
[null,"          elektrisch oplaadpunt"]
[null,"Invalide = personenwagens en motoren op voor"]
[null,"          invalide personen bestemde parkeerplaats"]
[null,"Gestalde fietsen = alle gestalde fietsen op de"]
[null,"          daarvoor bestemde parkeerplaatsen"]

{"sheet":"2.Halle-Dassenveld","index":1,"n_rows":54,"n_cols":26,"rows_kept":54,"cut":false,"hidden":false,"merged":[[53,3,56,14],[4,3,5,12],[4,16,5,16],[15,3,16,12]]}
[]
[null,"PARKEERONDERZOEK",null,"CARPOOLPARKINGS EN P+R PARKINGS"]
[null,2,null,{"$f":"B8 & \" - \"& TEXT(VLOOKUP(B3,Coordinaten!$A$2:$G$95,7,0),\"dddd dd mmmm jjjj\")","v":"Carpool parking Halle-Dassenveld, Halle - di 10 & do 12 oktober 2023"}]
[null,{"$f":"VLOOKUP(B3,Coordinaten!$A$2:$G$95,6,0)","v":"50.726346, 4.217220"}]
[null,null,null,"BEZETTING  ",null,null,null,null,null,null,null,null,null,null,null,null,"OPMERKINGEN"]
[]
[null,"Onderzoeksgebied",null,"Datum","Geregistreerd tussen","Pers","Vracht","Motor","Obstakel / overig","Fout   pers","Fout Vracht","Totaal","E-wagen\nplaats","Invalidenplaats","Gestalde fietsen",null,null,null,null,null,{"$f":"F7","v":"Pers"},"Vracht","Motor","Obstakel / overig","Fout   pers","Fout Vracht"]
[null,{"$f":"VLOOKUP(B3,Coordinaten!$A$2:$G$95,3,0)&\", \"&VLOOKUP(B3,Coordinaten!$A$2:$G$95,5,0)","v":"Carpool parking Halle-Dassenveld, Halle"},null,{"$f":"_xlfn.XLOOKUP($B$3,Bezetting_1!$A$2:$A$90,Bezetting_1!C$2:C$90,,0)","v":"2023-10-12"},{"$f":"_xlfn.XLOOKUP($B$3,Bezetting_1!$A$2:$A$90,Bezetting_1!D$2:D$90,,0)","v":"09:00 - 16:00u"},{"$f":"_xlfn.XLOOKUP($B$3,Bezetting_1!$A$2:$A$90,Bezetting_1!E$2:E$90,,0)","v":21},{"$f":"_xlfn.XLOOKUP($B$3,Bezetting_1!$A$2:$A$90,Bezetting_1!F$2:F$90,,0)","v":16},{"$f":"_xlfn.XLOOKUP($B$3,Bezetting_1!$A$2:$A$90,Bezetting_1!G$2:G$90,,0)","v":0},{"$f":"_xlfn.XLOOKUP($B$3,Bezetting_1!$A$2:$A$90,Bezetting_1!H$2:H$90,,0)","v":0},{"$f":"_xlfn.XLOOKUP($B$3,Bezetting_1!$A$2:$A$90,Bezetting_1!I$2:I$90,,0)","v":0},{"$f":"_xlfn.XLOOKUP($B$3,Bezetting_1!$A$2:$A$90,Bezetting_1!J$2:J$90,,0)","v":0},{"$f":"_xlfn.XLOOKUP($B$3,Bezetting_1!$A$2:$A$90,Bezetting_1!K$2:K$90,,0)","v":37},{"$f":"_xlfn.XLOOKUP($B$3,Bezetting_1!$A$2:$A$90,Bezetting_1!L$2:L$90,,0)","v":0},{"$f":"_xlfn.XLOOKUP($B$3,Bezetting_1!$A$2:$A$90,Bezetting_1!M$2:M$90,,0)","v":0},{"$f":"_xlfn.XLOOKUP($B$3,Bezetting_1!$A$2:$A$90,Bezetting_1!N$2:N$90,,0)","v":0},null,{"$f":"_xlfn.XLOOKUP($B$3,Bezetting_1!$A$2:$A$90,Bezetting_1!P$2:P$90,,0)","v":0},null,{"$f":"D8","v":"2023-10-12"},{"$f":"E8","v":"09:00 - 16:00u"},{"$f":"IF(F8=0,NA(),F8/$L8)","v":0.56756756756756754},{"$f":"IF(G8=0,NA(),G8/$L8)","v":0.43243243243243246},{"$f":"IF(H8=0,NA(),H8/$L8)","v":{"$error":"#N/A"}},{"$error":"#N/A"},{"$error":"#N/A"},{"$error":"#N/A"}]
[null,{"$f":"\"Nabij kruispunt: \"&VLOOKUP(B3,Coordinaten!$A$2:$L$95,4,0)","v":"Nabij kruispunt: N7 / A8"},null,null,null,{"$f":"IF(F8=0,\"-\",F8/$L$8)","v":0.56756756756756754},{"$f":"IF(G8=0,\"-\",G8/$L$8)","v":0.43243243243243246},"-","-","-","-",1,null,null,null,null,{"$f":"_xlfn.XLOOKUP($B$3,Bezetting_1!$A$2:$A$90,Bezetting_1!Q$2:Q$90,,0)","v":0},null,{"$f":"D10","v":"2023-10-12"},{"$f":"E10","v":"19:00 - 02:00u"},{"$f":"IF(F10=0,NA(),F10/$L10)","v":0.45945945945945948},{"$f":"IF(G10=0,NA(),G10/$L10)","v":0.54054054054054057},{"$error":"#N/A"},{"$error":"#N/A"},{"$error":"#N/A"},{"$error":"#N/A"}]
[null,null,null,{"$f":"_xlfn.XLOOKUP($B$3,Bezetting_2!$A$2:$A$90,Bezetting_2!C$2:C$90,,0)","v":"2023-10-12"},{"$f":"_xlfn.XLOOKUP($B$3,Bezetting_2!$A$2:$A$90,Bezetting_2!D$2:D$90,,0)","v":"19:00 - 02:00u"},{"$f":"_xlfn.XLOOKUP($B$3,Bezetting_2!$A$2:$A$90,Bezetting_2!E$2:E$90,,0)","v":17},{"$f":"_xlfn.XLOOKUP($B$3,Bezetting_2!$A$2:$A$90,Bezetting_2!F$2:F$90,,0)","v":20},{"$f":"_xlfn.XLOOKUP($B$3,Bezetting_2!$A$2:$A$90,Bezetting_2!G$2:G$90,,0)","v":0},{"$f":"_xlfn.XLOOKUP($B$3,Bezetting_2!$A$2:$A$90,Bezetting_2!H$2:H$90,,0)","v":0},{"$f":"_xlfn.XLOOKUP($B$3,Bezetting_2!$A$2:$A$90,Bezetting_2!I$2:I$90,,0)","v":0},{"$f":"_xlfn.XLOOKUP($B$3,Bezetting_2!$A$2:$A$90,Bezetting_2!J$2:J$90,,0)","v":0},{"$f":"_xlfn.XLOOKUP($B$3,Bezetting_2!$A$2:$A$90,Bezetting_2!K$2:K$90,,0)","v":37},{"$f":"_xlfn.XLOOKUP($B$3,Bezetting_2!$A$2:$A$90,Bezetting_2!L$2:L$90,,0)","v":0},{"$f":"_xlfn.XLOOKUP($B$3,Bezetting_2!$A$2:$A$90,Bezetting_2!M$2:M$90,,0)","v":0},{"$f":"_xlfn.XLOOKUP($B$3,Bezetting_2!$A$2:$A$90,Bezetting_2!N$2:N$90,,0)","v":0},{"$f":"_xlfn.XLOOKUP($B$3,Bezetting_2!$A$2:$A$90,Bezetting_2!O$2:O$90,,0)","v":0},{"$f":"_xlfn.XLOOKUP($B$3,Bezetting_2!$A$2:$A$90,Bezetting_2!P$2:P$90,,0)","v":0}]
[null,"Meting",null,null,null,{"$f":"IF(F10=0,\"-\",F10/$L$10)","v":0.45945945945945948},{"$f":"IF(G10=0,\"-\",G10/$L$10)","v":0.54054054054054057},"-","-","-","-",1,null,null,null,null,{"$f":"_xlfn.XLOOKUP($B$3,Bezetting_2!$A$2:$A$90,Bezetting_2!Q$2:Q$90,,0)","v":0}]
[null,{"$f":"\"Meetperiode: \"&TEXT(VLOOKUP(B3,Coordinaten!$A:$G,7,0),\"dddd dd mmmm jjjj\")","v":"Meetperiode: di 10 & do 12 oktober 2023"}]
[null,"Methodiek: Parkeerdrukmeting met waarnemers"]
[null,"In opdracht van: Vlaamse overheid"]
[null,"Uitgevoerd door: Dufec"]
[null,null,null,"VERDELING NAAR CATEGORIE"]
[null,"Locatie"]
[null,{"$f":"IF(B4=\"\",\"\",HYPERLINK(\"http://www.googlemaps.com/?q=\"&B4,\"Lat/Long: \"&B4))","v":"Lat/Long: 50.726346, 4.217220"}]
[]
[null,null,null,null,null,null,null,null,null,null,null,null,null,null,null,"Legenda"]
[null,null,null,null,null,null,null,null,null,null,null,null,null,null,null,null,"Personenwagen"]
[null,null,null,null,null,null,null,null,null,null,null,null,null,null,null,null,"Vracht"]
[null,null,null,null,null,null,null,null,null,null,null,null,null,null,null,null,"Motor"]
[null,null,null,null,null,null,null,null,null,null,null,null,null,null,null,null,"Obstakel / overig"]
[null,null,null,null,null,null,null,null,null,null,null,null,null,null,null,null,"Fout personenwagen"]
[null,null,null,null,null,null,null,null,null,null,null,null,null,null,null,null,"Fout Vracht"]
[]
[]
[]
[]
[]
[]
[]
[]
[]
[]
[]
[]
[null,"Toelichting"]
[null,"Pers = personenwagens op daarvoor bestemde"]
[null,"          openbare plaatsen"]
[null,"Vracht = vrachtwagens op daarvoor bestemde"]
[null,"          parkeerplaatsen (middel- en zwaar vrachtverkeer)"]
[null,"Motor = geparkeerde motoren op openbare plaatsen"]
[null,"Obstakel / overig = obstakels of overige voertuigen"]
[null,"          geparkeerd op openbare plaatsen"]
[null,"Fout pers = personenwagens die fout geparkeerd staan"]
[null,"Fout vracht = vrachtwagens die fout geparkeerd staan"]
[null,"E-wagen = geparkeerde elektrisch voertuig bij een"]
[null,"          elektrisch oplaadpunt"]
[null,"Invalide = personenwagens en motoren op voor"]
[null,"          invalide personen bestemde parkeerplaats"]
[null,"Gestalde fietsen = alle gestalde fietsen op de"]
[null,"          daarvoor bestemde parkeerplaatsen"]

{"sheet":"3.Winksele","index":2,"n_rows":54,"n_cols":26,"rows_kept":54,"cut":false,"hidden":false,"merged":[[4,3,5,12],[4,16,5,16],[15,3,16,12]]}
[]
[null,"PARKEERONDERZOEK",null,"CARPOOLPARKINGS EN P+R PARKINGS"]
[null,3,null,{"$f":"B8 & \" - \"& TEXT(VLOOKUP(B3,Coordinaten!$A$2:$G$95,7,0),\"dddd dd mmmm jjjj\")","v":"Carpool parking Winksele, Herent - di 10 & do 12 oktober 2023"}]
[null,{"$f":"VLOOKUP(B3,Coordinaten!$A$2:$G$95,6,0)","v":"50.885324, 4.672071"}]
[null,null,null,"BEZETTING  ",null,null,null,null,null,null,null,null,null,null,null,null,"OPMERKINGEN"]
[]
[null,"Onderzoeksgebied",null,"Datum","Geregistreerd tussen","Pers","Vracht","Motor","Obstakel / overig","Fout   pers","Fout Vracht","Totaal","E-wagen\nplaats","Invalidenplaats","Gestalde fietsen",null,null,null,null,null,{"$f":"F7","v":"Pers"},"Vracht","Motor","Obstakel / overig","Fout   pers","Fout Vracht"]
[null,{"$f":"VLOOKUP(B3,Coordinaten!$A$2:$G$95,3,0)&\", \"&VLOOKUP(B3,Coordinaten!$A$2:$G$95,5,0)","v":"Carpool parking Winksele, Herent"},null,{"$f":"_xlfn.XLOOKUP($B$3,Bezetting_1!$A$2:$A$90,Bezetting_1!C$2:C$90,,0)","v":"2023-10-10"},{"$f":"_xlfn.XLOOKUP($B$3,Bezetting_1!$A$2:$A$90,Bezetting_1!D$2:D$90,,0)","v":"09:00 - 16:00u"},{"$f":"_xlfn.XLOOKUP($B$3,Bezetting_1!$A$2:$A$90,Bezetting_1!E$2:E$90,,0)","v":13},{"$f":"_xlfn.XLOOKUP($B$3,Bezetting_1!$A$2:$A$90,Bezetting_1!F$2:F$90,,0)","v":0},{"$f":"_xlfn.XLOOKUP($B$3,Bezetting_1!$A$2:$A$90,Bezetting_1!G$2:G$90,,0)","v":0},{"$f":"_xlfn.XLOOKUP($B$3,Bezetting_1!$A$2:$A$90,Bezetting_1!H$2:H$90,,0)","v":0},{"$f":"_xlfn.XLOOKUP($B$3,Bezetting_1!$A$2:$A$90,Bezetting_1!I$2:I$90,,0)","v":0},{"$f":"_xlfn.XLOOKUP($B$3,Bezetting_1!$A$2:$A$90,Bezetting_1!J$2:J$90,,0)","v":0},{"$f":"_xlfn.XLOOKUP($B$3,Bezetting_1!$A$2:$A$90,Bezetting_1!K$2:K$90,,0)","v":13},{"$f":"_xlfn.XLOOKUP($B$3,Bezetting_1!$A$2:$A$90,Bezetting_1!L$2:L$90,,0)","v":0},{"$f":"_xlfn.XLOOKUP($B$3,Bezetting_1!$A$2:$A$90,Bezetting_1!M$2:M$90,,0)","v":0},{"$f":"_xlfn.XLOOKUP($B$3,Bezetting_1!$A$2:$A$90,Bezetting_1!N$2:N$90,,0)","v":4},null,{"$f":"_xlfn.XLOOKUP($B$3,Bezetting_1!$A$2:$A$90,Bezetting_1!P$2:P$90,,0)","v":0},null,{"$f":"D8","v":"2023-10-10"},{"$f":"E8","v":"09:00 - 16:00u"},{"$f":"IF(F8=0,NA(),F8/$L8)","v":1},{"$f":"IF(G8=0,NA(),G8/$L8)","v":{"$error":"#N/A"}},{"$f":"IF(H8=0,NA(),H8/$L8)","v":{"$error":"#N/A"}},{"$error":"#N/A"},{"$error":"#N/A"},{"$error":"#N/A"}]
[null,{"$f":"\"Nabij kruispunt: \"&VLOOKUP(B3,Coordinaten!$A$2:$L$95,4,0)","v":"Nabij kruispunt: Stuiverstraat / N2"},null,null,null,{"$f":"IF(F8=0,\"-\",F8/$L$8)","v":1},{"$f":"IF(G8=0,\"-\",G8/$L$8)","v":"-"},"-","-","-","-",1,null,null,null,null,{"$f":"_xlfn.XLOOKUP($B$3,Bezetting_1!$A$2:$A$90,Bezetting_1!Q$2:Q$90,,0)","v":0},null,{"$f":"D10","v":"2023-10-10"},{"$f":"E10","v":"19:00 - 02:00u"},{"$f":"IF(F10=0,NA(),F10/$L10)","v":1},{"$f":"IF(G10=0,NA(),G10/$L10)","v":{"$error":"#N/A"}},{"$error":"#N/A"},{"$error":"#N/A"},{"$error":"#N/A"},{"$error":"#N/A"}]
[null,null,null,{"$f":"_xlfn.XLOOKUP($B$3,Bezetting_2!$A$2:$A$90,Bezetting_2!C$2:C$90,,0)","v":"2023-10-10"},{"$f":"_xlfn.XLOOKUP($B$3,Bezetting_2!$A$2:$A$90,Bezetting_2!D$2:D$90,,0)","v":"19:00 - 02:00u"},{"$f":"_xlfn.XLOOKUP($B$3,Bezetting_2!$A$2:$A$90,Bezetting_2!E$2:E$90,,0)","v":10},{"$f":"_xlfn.XLOOKUP($B$3,Bezetting_2!$A$2:$A$90,Bezetting_2!F$2:F$90,,0)","v":0},{"$f":"_xlfn.XLOOKUP($B$3,Bezetting_2!$A$2:$A$90,Bezetting_2!G$2:G$90,,0)","v":0},{"$f":"_xlfn.XLOOKUP($B$3,Bezetting_2!$A$2:$A$90,Bezetting_2!H$2:H$90,,0)","v":0},{"$f":"_xlfn.XLOOKUP($B$3,Bezetting_2!$A$2:$A$90,Bezetting_2!I$2:I$90,,0)","v":0},{"$f":"_xlfn.XLOOKUP($B$3,Bezetting_2!$A$2:$A$90,Bezetting_2!J$2:J$90,,0)","v":0},{"$f":"_xlfn.XLOOKUP($B$3,Bezetting_2!$A$2:$A$90,Bezetting_2!K$2:K$90,,0)","v":10},{"$f":"_xlfn.XLOOKUP($B$3,Bezetting_2!$A$2:$A$90,Bezetting_2!L$2:L$90,,0)","v":0},{"$f":"_xlfn.XLOOKUP($B$3,Bezetting_2!$A$2:$A$90,Bezetting_2!M$2:M$90,,0)","v":0},{"$f":"_xlfn.XLOOKUP($B$3,Bezetting_2!$A$2:$A$90,Bezetting_2!N$2:N$90,,0)","v":5},{"$f":"_xlfn.XLOOKUP($B$3,Bezetting_2!$A$2:$A$90,Bezetting_2!O$2:O$90,,0)","v":0},{"$f":"_xlfn.XLOOKUP($B$3,Bezetting_2!$A$2:$A$90,Bezetting_2!P$2:P$90,,0)","v":0}]
[null,"Meting",null,null,null,{"$f":"IF(F10=0,\"-\",F10/$L$10)","v":1},{"$f":"IF(G10=0,\"-\",G10/$L$10)","v":"-"},"-","-","-","-",1,null,null,null,null,{"$f":"_xlfn.XLOOKUP($B$3,Bezetting_2!$A$2:$A$90,Bezetting_2!Q$2:Q$90,,0)","v":0}]
[null,{"$f":"\"Meetperiode: \"&TEXT(VLOOKUP(B3,Coordinaten!$A:$G,7,0),\"dddd dd mmmm jjjj\")","v":"Meetperiode: di 10 & do 12 oktober 2023"}]
[null,"Methodiek: Parkeerdrukmeting met waarnemers"]
[null,"In opdracht van: Vlaamse overheid"]
[null,"Uitgevoerd door: Dufec"]
[null,null,null,"VERDELING NAAR CATEGORIE"]
[null,"Locatie"]
[null,{"$f":"IF(B4=\"\",\"\",HYPERLINK(\"http://www.googlemaps.com/?q=\"&B4,\"Lat/Long: \"&B4))","v":"Lat/Long: 50.885324, 4.672071"}]
[]
[null,null,null,null,null,null,null,null,null,null,null,null,null,null,null,"Legenda"]
[null,null,null,null,null,null,null,null,null,null,null,null,null,null,null,null,"Personenwagen"]
[null,null,null,null,null,null,null,null,null,null,null,null,null,null,null,null,"Vracht"]
[null,null,null,null,null,null,null,null,null,null,null,null,null,null,null,null,"Motor"]
[null,null,null,null,null,null,null,null,null,null,null,null,null,null,null,null,"Obstakel / overig"]
[null,null,null,null,null,null,null,null,null,null,null,null,null,null,null,null,"Fout personenwagen"]
[null,null,null,null,null,null,null,null,null,null,null,null,null,null,null,null,"Fout Vracht"]
[]
[]
[]
[]
[]
[]
[]
[]
[]
[]
[]
[]
[null,"Toelichting"]
[null,"Pers = personenwagens op daarvoor bestemde"]
[null,"          openbare plaatsen"]
[null,"Vracht = vrachtwagens op daarvoor bestemde"]
[null,"          parkeerplaatsen (middel- en zwaar vrachtverkeer)"]
[null,"Motor = geparkeerde motoren op openbare plaatsen"]
[null,"Obstakel / overig = obstakels of overige voertuigen"]
[null,"          geparkeerd op openbare plaatsen"]
[null,"Fout pers = personenwagens die fout geparkeerd staan"]
[null,"Fout vracht = vrachtwagens die fout geparkeerd staan"]
[null,"E-wagen = geparkeerde elektrisch voertuig bij een"]
[null,"          elektrisch oplaadpunt"]
[null,"Invalide = personenwagens en motoren op voor"]
[null,"          invalide personen bestemde parkeerplaats"]
[null,"Gestalde fietsen = alle gestalde fietsen op de"]
[null,"          daarvoor bestemde parkeerplaatsen"]

{"sheet":"4.Herent","index":3,"n_rows":54,"n_cols":26,"rows_kept":54,"cut":false,"hidden":false,"merged":[[4,3,5,12],[4,16,5,16],[15,3,16,12]]}
[]
[null,"PARKEERONDERZOEK",null,"CARPOOLPARKINGS EN P+R PARKINGS"]
[null,4,null,{"$f":"B8 & \" - \"& TEXT(VLOOKUP(B3,Coordinaten!$A$2:$G$95,7,0),\"dddd dd mmmm jjjj\")","v":"Carpool parking Herent, Leuven - di 10 & do 12 oktober 2023"}]
[null,{"$f":"VLOOKUP(B3,Coordinaten!$A$2:$G$95,6,0)","v":"50.893869, 4.689409"}]
[null,null,null,"BEZETTING  ",null,null,null,null,null,null,null,null,null,null,null,null,"OPMERKINGEN"]
[]
[null,"Onderzoeksgebied",null,"Datum","Geregistreerd tussen","Pers","Vracht","Motor","Obstakel / overig","Fout   pers","Fout Vracht","Totaal","E-wagen\nplaats","Invalidenplaats","Gestalde fietsen",null,null,null,null,null,{"$f":"F7","v":"Pers"},"Vracht","Motor","Obstakel / overig","Fout   pers","Fout Vracht"]
[null,{"$f":"VLOOKUP(B3,Coordinaten!$A$2:$G$95,3,0)&\", \"&VLOOKUP(B3,Coordinaten!$A$2:$G$95,5,0)","v":"Carpool parking Herent, Leuven"},null,{"$f":"_xlfn.XLOOKUP($B$3,Bezetting_1!$A$2:$A$90,Bezetting_1!C$2:C$90,,0)","v":"2023-10-10"},{"$f":"_xlfn.XLOOKUP($B$3,Bezetting_1!$A$2:$A$90,Bezetting_1!D$2:D$90,,0)","v":"09:00 - 16:00u"},{"$f":"_xlfn.XLOOKUP($B$3,Bezetting_1!$A$2:$A$90,Bezetting_1!E$2:E$90,,0)","v":43},{"$f":"_xlfn.XLOOKUP($B$3,Bezetting_1!$A$2:$A$90,Bezetting_1!F$2:F$90,,0)","v":0},{"$f":"_xlfn.XLOOKUP($B$3,Bezetting_1!$A$2:$A$90,Bezetting_1!G$2:G$90,,0)","v":0},{"$f":"_xlfn.XLOOKUP($B$3,Bezetting_1!$A$2:$A$90,Bezetting_1!H$2:H$90,,0)","v":1},{"$f":"_xlfn.XLOOKUP($B$3,Bezetting_1!$A$2:$A$90,Bezetting_1!I$2:I$90,,0)","v":0},{"$f":"_xlfn.XLOOKUP($B$3,Bezetting_1!$A$2:$A$90,Bezetting_1!J$2:J$90,,0)","v":0},{"$f":"_xlfn.XLOOKUP($B$3,Bezetting_1!$A$2:$A$90,Bezetting_1!K$2:K$90,,0)","v":44},{"$f":"_xlfn.XLOOKUP($B$3,Bezetting_1!$A$2:$A$90,Bezetting_1!L$2:L$90,,0)","v":0},{"$f":"_xlfn.XLOOKUP($B$3,Bezetting_1!$A$2:$A$90,Bezetting_1!M$2:M$90,,0)","v":0},{"$f":"_xlfn.XLOOKUP($B$3,Bezetting_1!$A$2:$A$90,Bezetting_1!N$2:N$90,,0)","v":12},null,{"$f":"_xlfn.XLOOKUP($B$3,Bezetting_1!$A$2:$A$90,Bezetting_1!P$2:P$90,,0)","v":"Overig: aanhanger"},null,{"$f":"D8","v":"2023-10-10"},{"$f":"E8","v":"09:00 - 16:00u"},{"$f":"IF(F8=0,NA(),F8/$L8)","v":0.97727272727272729},{"$f":"IF(G8=0,NA(),G8/$L8)","v":{"$error":"#N/A"}},{"$f":"IF(H8=0,NA(),H8/$L8)","v":{"$error":"#N/A"}},2.2727272727272728E-2,{"$error":"#N/A"},{"$error":"#N/A"}]
[null,{"$f":"\"Nabij kruispunt: \"&VLOOKUP(B3,Coordinaten!$A$2:$L$95,4,0)","v":"Nabij kruispunt: N26 / A2"},null,null,null,{"$f":"IF(F8=0,\"-\",F8/$L$8)","v":0.97727272727272729},{"$f":"IF(G8=0,\"-\",G8/$L$8)","v":"-"},"-",2.2727272727272728E-2,"-","-",1,null,null,null,null,{"$f":"_xlfn.XLOOKUP($B$3,Bezetting_1!$A$2:$A$90,Bezetting_1!Q$2:Q$90,,0)","v":0},null,{"$f":"D10","v":"2023-10-10"},{"$f":"E10","v":"19:00 - 02:00u"},{"$f":"IF(F10=0,NA(),F10/$L10)","v":0.97916666666666663},{"$f":"IF(G10=0,NA(),G10/$L10)","v":{"$error":"#N/A"}},{"$error":"#N/A"},2.0833333333333332E-2,{"$error":"#N/A"},{"$error":"#N/A"}]
[null,null,null,{"$f":"_xlfn.XLOOKUP($B$3,Bezetting_2!$A$2:$A$90,Bezetting_2!C$2:C$90,,0)","v":"2023-10-10"},{"$f":"_xlfn.XLOOKUP($B$3,Bezetting_2!$A$2:$A$90,Bezetting_2!D$2:D$90,,0)","v":"19:00 - 02:00u"},{"$f":"_xlfn.XLOOKUP($B$3,Bezetting_2!$A$2:$A$90,Bezetting_2!E$2:E$90,,0)","v":47},{"$f":"_xlfn.XLOOKUP($B$3,Bezetting_2!$A$2:$A$90,Bezetting_2!F$2:F$90,,0)","v":0},{"$f":"_xlfn.XLOOKUP($B$3,Bezetting_2!$A$2:$A$90,Bezetting_2!G$2:G$90,,0)","v":0},{"$f":"_xlfn.XLOOKUP($B$3,Bezetting_2!$A$2:$A$90,Bezetting_2!H$2:H$90,,0)","v":1},{"$f":"_xlfn.XLOOKUP($B$3,Bezetting_2!$A$2:$A$90,Bezetting_2!I$2:I$90,,0)","v":0},{"$f":"_xlfn.XLOOKUP($B$3,Bezetting_2!$A$2:$A$90,Bezetting_2!J$2:J$90,,0)","v":0},{"$f":"_xlfn.XLOOKUP($B$3,Bezetting_2!$A$2:$A$90,Bezetting_2!K$2:K$90,,0)","v":48},{"$f":"_xlfn.XLOOKUP($B$3,Bezetting_2!$A$2:$A$90,Bezetting_2!L$2:L$90,,0)","v":0},{"$f":"_xlfn.XLOOKUP($B$3,Bezetting_2!$A$2:$A$90,Bezetting_2!M$2:M$90,,0)","v":0},{"$f":"_xlfn.XLOOKUP($B$3,Bezetting_2!$A$2:$A$90,Bezetting_2!N$2:N$90,,0)","v":9},{"$f":"_xlfn.XLOOKUP($B$3,Bezetting_2!$A$2:$A$90,Bezetting_2!O$2:O$90,,0)","v":0},{"$f":"_xlfn.XLOOKUP($B$3,Bezetting_2!$A$2:$A$90,Bezetting_2!P$2:P$90,,0)","v":"Overig: aanhanger"}]
[null,"Meting",null,null,null,{"$f":"IF(F10=0,\"-\",F10/$L$10)","v":0.97916666666666663},{"$f":"IF(G10=0,\"-\",G10/$L$10)","v":"-"},"-",2.0833333333333332E-2,"-","-",1,null,null,null,null,{"$f":"_xlfn.XLOOKUP($B$3,Bezetting_2!$A$2:$A$90,Bezetting_2!Q$2:Q$90,,0)","v":"Fout: 2 fietsen"}]
[null,{"$f":"\"Meetperiode: \"&TEXT(VLOOKUP(B3,Coordinaten!$A:$G,7,0),\"dddd dd mmmm jjjj\")","v":"Meetperiode: di 10 & do 12 oktober 2023"}]
[null,"Methodiek: Parkeerdrukmeting met waarnemers"]
[null,"In opdracht van: Vlaamse overheid"]
[null,"Uitgevoerd door: Dufec"]
[null,null,null,"VERDELING NAAR CATEGORIE"]
[null,"Locatie"]
[null,{"$f":"IF(B4=\"\",\"\",HYPERLINK(\"http://www.googlemaps.com/?q=\"&B4,\"Lat/Long: \"&B4))","v":"Lat/Long: 50.893869, 4.689409"}]
[]
[null,null,null,null,null,null,null,null,null,null,null,null,null,null,null,"Legenda"]
[null,null,null,null,null,null,null,null,null,null,null,null,null,null,null,null,"Personenwagen"]
[null,null,null,null,null,null,null,null,null,null,null,null,null,null,null,null,"Vracht"]
[null,null,null,null,null,null,null,null,null,null,null,null,null,null,null,null,"Motor"]
[null,null,null,null,null,null,null,null,null,null,null,null,null,null,null,null,"Obstakel / overig"]
[null,null,null,null,null,null,null,null,null,null,null,null,null,null,null,null,"Fout personenwagen"]
[null,null,null,null,null,null,null,null,null,null,null,null,null,null,null,null,"Fout Vracht"]
[]
[]
[]
[]
[]
[]
[]
[]
[]
[]
[]
[]
[null,"Toelichting"]
[null,"Pers = personenwagens op daarvoor bestemde"]
[null,"          openbare plaatsen"]
[null,"Vracht = vrachtwagens op daarvoor bestemde"]
[null,"          parkeerplaatsen (middel- en zwaar vrachtverkeer)"]
[null,"Motor = geparkeerde motoren op openbare plaatsen"]
[null,"Obstakel / overig = obstakels of overige voertuigen"]
[null,"          geparkeerd op openbare plaatsen"]
[null,"Fout pers = personenwagens die fout geparkeerd staan"]
[null,"Fout vracht = vrachtwagens die fout geparkeerd staan"]
[null,"E-wagen = geparkeerde elektrisch voertuig bij een"]
[null,"          elektrisch oplaadpunt"]
[null,"Invalide = personenwagens en motoren op voor"]
[null,"          invalide personen bestemde parkeerplaats"]
[null,"Gestalde fietsen = alle gestalde fietsen op de"]
[null,"          daarvoor bestemde parkeerplaatsen"]

{"sheet":"5.Bekkevoort","index":4,"n_rows":54,"n_cols":26,"rows_kept":54,"cut":false,"hidden":false,"merged":[[4,3,5,12],[4,16,5,16],[15,3,16,12]]}
[]
[null,"PARKEERONDERZOEK",null,"CARPOOLPARKINGS EN P+R PARKINGS"]
[null,5,null,{"$f":"B8 & \" - \"& TEXT(VLOOKUP(B3,Coordinaten!$A$2:$G$95,7,0),\"dddd dd mmmm jjjj\")","v":"Carpool parking Bekkevoort, Bekkevoort - di 10 & do 12 oktober 2023"}]
[null,{"$f":"VLOOKUP(B3,Coordinaten!$A$2:$G$95,6,0)","v":"50.952219, 4.998683"}]
[null,null,null,"BEZETTING  ",null,null,null,null,null,null,null,null,null,null,null,null,"OPMERKINGEN"]
[]
[null,"Onderzoeksgebied",null,"Datum","Geregistreerd tussen","Pers","Vracht","Motor","Obstakel / overig","Fout   pers","Fout Vracht","Totaal","E-wagen\nplaats","Invalidenplaats","Gestalde fietsen",null,null,null,null,null,{"$f":"F7","v":"Pers"},"Vracht","Motor","Obstakel / overig","Fout   pers","Fout Vracht"]
[null,{"$f":"VLOOKUP(B3,Coordinaten!$A$2:$G$95,3,0)&\", \"&VLOOKUP(B3,Coordinaten!$A$2:$G$95,5,0)","v":"Carpool parking Bekkevoort, Bekkevoort"},null,{"$f":"_xlfn.XLOOKUP($B$3,Bezetting_1!$A$2:$A$90,Bezetting_1!C$2:C$90,,0)","v":"2023-10-12"},{"$f":"_xlfn.XLOOKUP($B$3,Bezetting_1!$A$2:$A$90,Bezetting_1!D$2:D$90,,0)","v":"09:00 - 16:00u"},{"$f":"_xlfn.XLOOKUP($B$3,Bezetting_1!$A$2:$A$90,Bezetting_1!E$2:E$90,,0)","v":52},{"$f":"_xlfn.XLOOKUP($B$3,Bezetting_1!$A$2:$A$90,Bezetting_1!F$2:F$90,,0)","v":0},{"$f":"_xlfn.XLOOKUP($B$3,Bezetting_1!$A$2:$A$90,Bezetting_1!G$2:G$90,,0)","v":1},{"$f":"_xlfn.XLOOKUP($B$3,Bezetting_1!$A$2:$A$90,Bezetting_1!H$2:H$90,,0)","v":0},{"$f":"_xlfn.XLOOKUP($B$3,Bezetting_1!$A$2:$A$90,Bezetting_1!I$2:I$90,,0)","v":0},{"$f":"_xlfn.XLOOKUP($B$3,Bezetting_1!$A$2:$A$90,Bezetting_1!J$2:J$90,,0)","v":0},{"$f":"_xlfn.XLOOKUP($B$3,Bezetting_1!$A$2:$A$90,Bezetting_1!K$2:K$90,,0)","v":53},{"$f":"_xlfn.XLOOKUP($B$3,Bezetting_1!$A$2:$A$90,Bezetting_1!L$2:L$90,,0)","v":0},{"$f":"_xlfn.XLOOKUP($B$3,Bezetting_1!$A$2:$A$90,Bezetting_1!M$2:M$90,,0)","v":0},{"$f":"_xlfn.XLOOKUP($B$3,Bezetting_1!$A$2:$A$90,Bezetting_1!N$2:N$90,,0)","v":0},null,{"$f":"_xlfn.XLOOKUP($B$3,Bezetting_1!$A$2:$A$90,Bezetting_1!P$2:P$90,,0)","v":0},null,{"$f":"D8","v":"2023-10-12"},{"$f":"E8","v":"09:00 - 16:00u"},{"$f":"IF(F8=0,NA(),F8/$L8)","v":0.98113207547169812},{"$f":"IF(G8=0,NA(),G8/$L8)","v":{"$error":"#N/A"}},{"$f":"IF(H8=0,NA(),H8/$L8)","v":1.8867924528301886E-2},{"$error":"#N/A"},{"$error":"#N/A"},{"$error":"#N/A"}]
[null,{"$f":"\"Nabij kruispunt: \"&VLOOKUP(B3,Coordinaten!$A$2:$L$95,4,0)","v":"Nabij kruispunt: N2 / A2"},null,null,null,{"$f":"IF(F8=0,\"-\",F8/$L$8)","v":0.98113207547169812},{"$f":"IF(G8=0,\"-\",G8/$L$8)","v":"-"},1.8867924528301886E-2,"-","-","-",1,null,null,null,null,{"$f":"_xlfn.XLOOKUP($B$3,Bezetting_1!$A$2:$A$90,Bezetting_1!Q$2:Q$90,,0)","v":0},null,{"$f":"D10","v":"2023-10-10"},{"$f":"E10","v":"19:00 - 02:00u"},{"$f":"IF(F10=0,NA(),F10/$L10)","v":1},{"$f":"IF(G10=0,NA(),G10/$L10)","v":{"$error":"#N/A"}},{"$error":"#N/A"},{"$error":"#N/A"},{"$error":"#N/A"},{"$error":"#N/A"}]
[null,null,null,{"$f":"_xlfn.XLOOKUP($B$3,Bezetting_2!$A$2:$A$90,Bezetting_2!C$2:C$90,,0)","v":"2023-10-10"},{"$f":"_xlfn.XLOOKUP($B$3,Bezetting_2!$A$2:$A$90,Bezetting_2!D$2:D$90,,0)","v":"19:00 - 02:00u"},{"$f":"_xlfn.XLOOKUP($B$3,Bezetting_2!$A$2:$A$90,Bezetting_2!E$2:E$90,,0)","v":19},{"$f":"_xlfn.XLOOKUP($B$3,Bezetting_2!$A$2:$A$90,Bezetting_2!F$2:F$90,,0)","v":0},{"$f":"_xlfn.XLOOKUP($B$3,Bezetting_2!$A$2:$A$90,Bezetting_2!G$2:G$90,,0)","v":0},{"$f":"_xlfn.XLOOKUP($B$3,Bezetting_2!$A$2:$A$90,Bezetting_2!H$2:H$90,,0)","v":0},{"$f":"_xlfn.XLOOKUP($B$3,Bezetting_2!$A$2:$A$90,Bezetting_2!I$2:I$90,,0)","v":0},{"$f":"_xlfn.XLOOKUP($B$3,Bezetting_2!$A$2:$A$90,Bezetting_2!J$2:J$90,,0)","v":0},{"$f":"_xlfn.XLOOKUP($B$3,Bezetting_2!$A$2:$A$90,Bezetting_2!K$2:K$90,,0)","v":19},{"$f":"_xlfn.XLOOKUP($B$3,Bezetting_2!$A$2:$A$90,Bezetting_2!L$2:L$90,,0)","v":0},{"$f":"_xlfn.XLOOKUP($B$3,Bezetting_2!$A$2:$A$90,Bezetting_2!M$2:M$90,,0)","v":0},{"$f":"_xlfn.XLOOKUP($B$3,Bezetting_2!$A$2:$A$90,Bezetting_2!N$2:N$90,,0)","v":0},{"$f":"_xlfn.XLOOKUP($B$3,Bezetting_2!$A$2:$A$90,Bezetting_2!O$2:O$90,,0)","v":0},{"$f":"_xlfn.XLOOKUP($B$3,Bezetting_2!$A$2:$A$90,Bezetting_2!P$2:P$90,,0)","v":"Oplegger langs de weg"}]
[null,"Meting",null,null,null,{"$f":"IF(F10=0,\"-\",F10/$L$10)","v":1},{"$f":"IF(G10=0,\"-\",G10/$L$10)","v":"-"},"-","-","-","-",1,null,null,null,null,{"$f":"_xlfn.XLOOKUP($B$3,Bezetting_2!$A$2:$A$90,Bezetting_2!Q$2:Q$90,,0)","v":0}]
[null,{"$f":"\"Meetperiode: \"&TEXT(VLOOKUP(B3,Coordinaten!$A:$G,7,0),\"dddd dd mmmm jjjj\")","v":"Meetperiode: di 10 & do 12 oktober 2023"}]
[null,"Methodiek: Parkeerdrukmeting met waarnemers"]
[null,"In opdracht van: Vlaamse overheid"]
[null,"Uitgevoerd door: Dufec"]
[null,null,null,"VERDELING NAAR CATEGORIE"]
[null,"Locatie"]
[null,{"$f":"IF(B4=\"\",\"\",HYPERLINK(\"http://www.googlemaps.com/?q=\"&B4,\"Lat/Long: \"&B4))","v":"Lat/Long: 50.952219, 4.998683"}]
[]
[null,null,null,null,null,null,null,null,null,null,null,null,null,null,null,"Legenda"]
[null,null,null,null,null,null,null,null,null,null,null,null,null,null,null,null,"Personenwagen"]
[null,null,null,null,null,null,null,null,null,null,null,null,null,null,null,null,"Vracht"]
[null,null,null,null,null,null,null,null,null,null,null,null,null,null,null,null,"Motor"]
[null,null,null,null,null,null,null,null,null,null,null,null,null,null,null,null,"Obstakel / overig"]
[null,null,null,null,null,null,null,null,null,null,null,null,null,null,null,null,"Fout personenwagen"]
[null,null,null,null,null,null,null,null,null,null,null,null,null,null,null,null,"Fout Vracht"]
[]
[]
[]
[]
[]
[]
[]
[]
[]
[]
[]
[]
[null,"Toelichting"]
[null,"Pers = personenwagens op daarvoor bestemde"]
[null,"          openbare plaatsen"]
[null,"Vracht = vrachtwagens op daarvoor bestemde"]
[null,"          parkeerplaatsen (middel- en zwaar vrachtverkeer)"]
[null,"Motor = geparkeerde motoren op openbare plaatsen"]
[null,"Obstakel / overig = obstakels of overige voertuigen"]
[null,"          geparkeerd op openbare plaatsen"]
[null,"Fout pers = personenwagens die fout geparkeerd staan"]
[null,"Fout vracht = vrachtwagens die fout geparkeerd staan"]
[null,"E-wagen = geparkeerde elektrisch voertuig bij een"]
[null,"          elektrisch oplaadpunt"]
[null,"Invalide = personenwagens en motoren op voor"]
[null,"          invalide personen bestemde parkeerplaats"]
[null,"Gestalde fietsen = alle gestalde fietsen op de"]
[null,"          daarvoor bestemde parkeerplaatsen"]

{"sheet":"6.Overijse","index":5,"n_rows":54,"n_cols":26,"rows_kept":54,"cut":false,"hidden":false,"merged":[[4,3,5,12],[4,16,5,16],[15,3,16,12]]}
[]
[null,"PARKEERONDERZOEK",null,"CARPOOLPARKINGS EN P+R PARKINGS"]
[null,6,null,{"$f":"B8 & \" - \"& TEXT(VLOOKUP(B3,Coordinaten!$A$2:$G$95,7,0),\"dddd dd mmmm jjjj\")","v":"Carpool parking Overijse, Overijse - di 10 & do 12 oktober 2023"}]
[null,{"$f":"VLOOKUP(B3,Coordinaten!$A$2:$G$95,6,0)","v":"50.755140, 4.526412"}]
[null,null,null,"BEZETTING  ",null,null,null,null,null,null,null,null,null,null,null,null,"OPMERKINGEN"]
[]
[null,"Onderzoeksgebied",null,"Datum","Geregistreerd tussen","Pers","Vracht","Motor","Obstakel / overig","Fout   pers","Fout Vracht","Totaal","E-wagen\nplaats","Invalidenplaats","Gestalde fietsen",null,null,null,null,null,{"$f":"F7","v":"Pers"},"Vracht","Motor","Obstakel / overig","Fout   pers","Fout Vracht"]
[null,{"$f":"VLOOKUP(B3,Coordinaten!$A$2:$G$95,3,0)&\", \"&VLOOKUP(B3,Coordinaten!$A$2:$G$95,5,0)","v":"Carpool parking Overijse, Overijse"},null,{"$f":"_xlfn.XLOOKUP($B$3,Bezetting_1!$A$2:$A$90,Bezetting_1!C$2:C$90,,0)","v":"2023-10-12"},{"$f":"_xlfn.XLOOKUP($B$3,Bezetting_1!$A$2:$A$90,Bezetting_1!D$2:D$90,,0)","v":"09:00 - 16:00u"},{"$f":"_xlfn.XLOOKUP($B$3,Bezetting_1!$A$2:$A$90,Bezetting_1!E$2:E$90,,0)","v":21},{"$f":"_xlfn.XLOOKUP($B$3,Bezetting_1!$A$2:$A$90,Bezetting_1!F$2:F$90,,0)","v":0},{"$f":"_xlfn.XLOOKUP($B$3,Bezetting_1!$A$2:$A$90,Bezetting_1!G$2:G$90,,0)","v":0},{"$f":"_xlfn.XLOOKUP($B$3,Bezetting_1!$A$2:$A$90,Bezetting_1!H$2:H$90,,0)","v":20},{"$f":"_xlfn.XLOOKUP($B$3,Bezetting_1!$A$2:$A$90,Bezetting_1!I$2:I$90,,0)","v":0},{"$f":"_xlfn.XLOOKUP($B$3,Bezetting_1!$A$2:$A$90,Bezetting_1!J$2:J$90,,0)","v":0},{"$f":"_xlfn.XLOOKUP($B$3,Bezetting_1!$A$2:$A$90,Bezetting_1!K$2:K$90,,0)","v":41},{"$f":"_xlfn.XLOOKUP($B$3,Bezetting_1!$A$2:$A$90,Bezetting_1!L$2:L$90,,0)","v":0},{"$f":"_xlfn.XLOOKUP($B$3,Bezetting_1!$A$2:$A$90,Bezetting_1!M$2:M$90,,0)","v":0},{"$f":"_xlfn.XLOOKUP($B$3,Bezetting_1!$A$2:$A$90,Bezetting_1!N$2:N$90,,0)","v":0},null,{"$f":"_xlfn.XLOOKUP($B$3,Bezetting_1!$A$2:$A$90,Bezetting_1!P$2:P$90,,0)","v":"Overig: werkzaamheden"},null,{"$f":"D8","v":"2023-10-12"},{"$f":"E8","v":"09:00 - 16:00u"},{"$f":"IF(F8=0,NA(),F8/$L8)","v":0.51219512195121952},{"$f":"IF(G8=0,NA(),G8/$L8)","v":{"$error":"#N/A"}},{"$f":"IF(H8=0,NA(),H8/$L8)","v":{"$error":"#N/A"}},0.48780487804878048,{"$error":"#N/A"},{"$error":"#N/A"}]
[null,{"$f":"\"Nabij kruispunt: \"&VLOOKUP(B3,Coordinaten!$A$2:$L$95,4,0)","v":"Nabij kruispunt: Kerkeweg / N253"},null,null,null,{"$f":"IF(F8=0,\"-\",F8/$L$8)","v":0.51219512195121952},{"$f":"IF(G8=0,\"-\",G8/$L$8)","v":"-"},"-",0.48780487804878048,"-","-",1,null,null,null,null,{"$f":"_xlfn.XLOOKUP($B$3,Bezetting_1!$A$2:$A$90,Bezetting_1!Q$2:Q$90,,0)","v":0},null,{"$f":"D10","v":"2023-10-12"},{"$f":"E10","v":"19:00 - 02:00u"},{"$f":"IF(F10=0,NA(),F10/$L10)","v":0.36363636363636365},{"$f":"IF(G10=0,NA(),G10/$L10)","v":{"$error":"#N/A"}},{"$error":"#N/A"},0.60606060606060608,3.0303030303030304E-2,{"$error":"#N/A"}]
[null,null,null,{"$f":"_xlfn.XLOOKUP($B$3,Bezetting_2!$A$2:$A$90,Bezetting_2!C$2:C$90,,0)","v":"2023-10-12"},{"$f":"_xlfn.XLOOKUP($B$3,Bezetting_2!$A$2:$A$90,Bezetting_2!D$2:D$90,,0)","v":"19:00 - 02:00u"},{"$f":"_xlfn.XLOOKUP($B$3,Bezetting_2!$A$2:$A$90,Bezetting_2!E$2:E$90,,0)","v":12},{"$f":"_xlfn.XLOOKUP($B$3,Bezetting_2!$A$2:$A$90,Bezetting_2!F$2:F$90,,0)","v":0},{"$f":"_xlfn.XLOOKUP($B$3,Bezetting_2!$A$2:$A$90,Bezetting_2!G$2:G$90,,0)","v":0},{"$f":"_xlfn.XLOOKUP($B$3,Bezetting_2!$A$2:$A$90,Bezetting_2!H$2:H$90,,0)","v":20},{"$f":"_xlfn.XLOOKUP($B$3,Bezetting_2!$A$2:$A$90,Bezetting_2!I$2:I$90,,0)","v":1},{"$f":"_xlfn.XLOOKUP($B$3,Bezetting_2!$A$2:$A$90,Bezetting_2!J$2:J$90,,0)","v":0},{"$f":"_xlfn.XLOOKUP($B$3,Bezetting_2!$A$2:$A$90,Bezetting_2!K$2:K$90,,0)","v":33},{"$f":"_xlfn.XLOOKUP($B$3,Bezetting_2!$A$2:$A$90,Bezetting_2!L$2:L$90,,0)","v":0},{"$f":"_xlfn.XLOOKUP($B$3,Bezetting_2!$A$2:$A$90,Bezetting_2!M$2:M$90,,0)","v":0},{"$f":"_xlfn.XLOOKUP($B$3,Bezetting_2!$A$2:$A$90,Bezetting_2!N$2:N$90,,0)","v":0},{"$f":"_xlfn.XLOOKUP($B$3,Bezetting_2!$A$2:$A$90,Bezetting_2!O$2:O$90,,0)","v":0},{"$f":"_xlfn.XLOOKUP($B$3,Bezetting_2!$A$2:$A$90,Bezetting_2!P$2:P$90,,0)","v":"Overig: werkzaamheden"}]
[null,"Meting",null,null,null,{"$f":"IF(F10=0,\"-\",F10/$L$10)","v":0.36363636363636365},{"$f":"IF(G10=0,\"-\",G10/$L$10)","v":"-"},"-",0.60606060606060608,3.0303030303030304E-2,"-",1,null,null,null,null,{"$f":"_xlfn.XLOOKUP($B$3,Bezetting_2!$A$2:$A$90,Bezetting_2!Q$2:Q$90,,0)","v":0}]
[null,{"$f":"\"Meetperiode: \"&TEXT(VLOOKUP(B3,Coordinaten!$A:$G,7,0),\"dddd dd mmmm jjjj\")","v":"Meetperiode: di 10 & do 12 oktober 2023"}]
[null,"Methodiek: Parkeerdrukmeting met waarnemers"]
[null,"In opdracht van: Vlaamse overheid"]
[null,"Uitgevoerd door: Dufec"]
[null,null,null,"VERDELING NAAR CATEGORIE"]
[null,"Locatie"]
[null,{"$f":"IF(B4=\"\",\"\",HYPERLINK(\"http://www.googlemaps.com/?q=\"&B4,\"Lat/Long: \"&B4))","v":"Lat/Long: 50.755140, 4.526412"}]
[]
[null,null,null,null,null,null,null,null,null,null,null,null,null,null,null,"Legenda"]
[null,null,null,null,null,null,null,null,null,null,null,null,null,null,null,null,"Personenwagen"]
[null,null,null,null,null,null,null,null,null,null,null,null,null,null,null,null,"Vracht"]
[null,null,null,null,null,null,null,null,null,null,null,null,null,null,null,null,"Motor"]
[null,null,null,null,null,null,null,null,null,null,null,null,null,null,null,null,"Obstakel / overig"]
[null,null,null,null,null,null,null,null,null,null,null,null,null,null,null,null,"Fout personenwagen"]
[null,null,null,null,null,null,null,null,null,null,null,null,null,null,null,null,"Fout Vracht"]
[]
[]
[]
[]
[]
[]
[]
[]
[]
[]
[]
[]
[null,"Toelichting"]
[null,"Pers = personenwagens op daarvoor bestemde"]
[null,"          openbare plaatsen"]
[null,"Vracht = vrachtwagens op daarvoor bestemde"]
[null,"          parkeerplaatsen (middel- en zwaar vrachtverkeer)"]
[null,"Motor = geparkeerde motoren op openbare plaatsen"]
[null,"Obstakel / overig = obstakels of overige voertuigen"]
[null,"          geparkeerd op openbare plaatsen"]
[null,"Fout pers = personenwagens die fout geparkeerd staan"]
[null,"Fout vracht = vrachtwagens die fout geparkeerd staan"]
[null,"E-wagen = geparkeerde elektrisch voertuig bij een"]
[null,"          elektrisch oplaadpunt"]
[null,"Invalide = personenwagens en motoren op voor"]
[null,"          invalide personen bestemde parkeerplaats"]
[null,"Gestalde fietsen = alle gestalde fietsen op de"]
[null,"          daarvoor bestemde parkeerplaatsen"]

{"sheet":"7.St. Michiels","index":6,"n_rows":54,"n_cols":26,"rows_kept":54,"cut":false,"hidden":false,"merged":[[4,3,5,12],[4,16,5,16],[15,3,16,12]]}
[]
[null,"PARKEERONDERZOEK",null,"CARPOOLPARKINGS EN P+R PARKINGS"]
[null,7,null,{"$f":"B8 & \" - \"& TEXT(VLOOKUP(B3,Coordinaten!$A$2:$G$95,7,0),\"dddd dd mmmm jjjj\")","v":"Carpool parking St. Michiels, Brugge - di 10 & do 12 oktober 2023"}]
[null,{"$f":"VLOOKUP(B3,Coordinaten!$A$2:$G$95,6,0)","v":"51.194190, 3.197624"}]
[null,null,null,"BEZETTING  ",null,null,null,null,null,null,null,null,null,null,null,null,"OPMERKINGEN"]
[]
[null,"Onderzoeksgebied",null,"Datum","Geregistreerd tussen","Pers","Vracht","Motor","Obstakel / overig","Fout   pers","Fout Vracht","Totaal","E-wagen\nplaats","Invalidenplaats","Gestalde fietsen",null,null,null,null,null,{"$f":"F7","v":"Pers"},"Vracht","Motor","Obstakel / overig","Fout   pers","Fout Vracht"]
[null,{"$f":"VLOOKUP(B3,Coordinaten!$A$2:$G$95,3,0)&\", \"&VLOOKUP(B3,Coordinaten!$A$2:$G$95,5,0)","v":"Carpool parking St. Michiels, Brugge"},null,{"$f":"_xlfn.XLOOKUP($B$3,Bezetting_1!$A$2:$A$90,Bezetting_1!C$2:C$90,,0)","v":"2023-10-10"},{"$f":"_xlfn.XLOOKUP($B$3,Bezetting_1!$A$2:$A$90,Bezetting_1!D$2:D$90,,0)","v":"09:00 - 16:00u"},{"$f":"_xlfn.XLOOKUP($B$3,Bezetting_1!$A$2:$A$90,Bezetting_1!E$2:E$90,,0)","v":58},{"$f":"_xlfn.XLOOKUP($B$3,Bezetting_1!$A$2:$A$90,Bezetting_1!F$2:F$90,,0)","v":0},{"$f":"_xlfn.XLOOKUP($B$3,Bezetting_1!$A$2:$A$90,Bezetting_1!G$2:G$90,,0)","v":0},{"$f":"_xlfn.XLOOKUP($B$3,Bezetting_1!$A$2:$A$90,Bezetting_1!H$2:H$90,,0)","v":0},{"$f":"_xlfn.XLOOKUP($B$3,Bezetting_1!$A$2:$A$90,Bezetting_1!I$2:I$90,,0)","v":0},{"$f":"_xlfn.XLOOKUP($B$3,Bezetting_1!$A$2:$A$90,Bezetting_1!J$2:J$90,,0)","v":0},{"$f":"_xlfn.XLOOKUP($B$3,Bezetting_1!$A$2:$A$90,Bezetting_1!K$2:K$90,,0)","v":58},{"$f":"_xlfn.XLOOKUP($B$3,Bezetting_1!$A$2:$A$90,Bezetting_1!L$2:L$90,,0)","v":1},{"$f":"_xlfn.XLOOKUP($B$3,Bezetting_1!$A$2:$A$90,Bezetting_1!M$2:M$90,,0)","v":0},{"$f":"_xlfn.XLOOKUP($B$3,Bezetting_1!$A$2:$A$90,Bezetting_1!N$2:N$90,,0)","v":2},null,{"$f":"_xlfn.XLOOKUP($B$3,Bezetting_1!$A$2:$A$90,Bezetting_1!P$2:P$90,,0)","v":0},null,{"$f":"D8","v":"2023-10-10"},{"$f":"E8","v":"09:00 - 16:00u"},{"$f":"IF(F8=0,NA(),F8/$L8)","v":1},{"$f":"IF(G8=0,NA(),G8/$L8)","v":{"$error":"#N/A"}},{"$f":"IF(H8=0,NA(),H8/$L8)","v":{"$error":"#N/A"}},{"$error":"#N/A"},{"$error":"#N/A"},{"$error":"#N/A"}]
[null,{"$f":"\"Nabij kruispunt: \"&VLOOKUP(B3,Coordinaten!$A$2:$L$95,4,0)","v":"Nabij kruispunt: N31 / N32"},null,null,null,{"$f":"IF(F8=0,\"-\",F8/$L$8)","v":1},{"$f":"IF(G8=0,\"-\",G8/$L$8)","v":"-"},"-","-","-","-",1,null,null,null,null,{"$f":"_xlfn.XLOOKUP($B$3,Bezetting_1!$A$2:$A$90,Bezetting_1!Q$2:Q$90,,0)","v":0},null,{"$f":"D10","v":"2023-10-10"},{"$f":"E10","v":"19:00 - 02:00u"},{"$f":"IF(F10=0,NA(),F10/$L10)","v":1},{"$f":"IF(G10=0,NA(),G10/$L10)","v":{"$error":"#N/A"}},{"$error":"#N/A"},{"$error":"#N/A"},{"$error":"#N/A"},{"$error":"#N/A"}]
[null,null,null,{"$f":"_xlfn.XLOOKUP($B$3,Bezetting_2!$A$2:$A$90,Bezetting_2!C$2:C$90,,0)","v":"2023-10-10"},{"$f":"_xlfn.XLOOKUP($B$3,Bezetting_2!$A$2:$A$90,Bezetting_2!D$2:D$90,,0)","v":"19:00 - 02:00u"},{"$f":"_xlfn.XLOOKUP($B$3,Bezetting_2!$A$2:$A$90,Bezetting_2!E$2:E$90,,0)","v":15},{"$f":"_xlfn.XLOOKUP($B$3,Bezetting_2!$A$2:$A$90,Bezetting_2!F$2:F$90,,0)","v":0},{"$f":"_xlfn.XLOOKUP($B$3,Bezetting_2!$A$2:$A$90,Bezetting_2!G$2:G$90,,0)","v":0},{"$f":"_xlfn.XLOOKUP($B$3,Bezetting_2!$A$2:$A$90,Bezetting_2!H$2:H$90,,0)","v":0},{"$f":"_xlfn.XLOOKUP($B$3,Bezetting_2!$A$2:$A$90,Bezetting_2!I$2:I$90,,0)","v":0},{"$f":"_xlfn.XLOOKUP($B$3,Bezetting_2!$A$2:$A$90,Bezetting_2!J$2:J$90,,0)","v":0},{"$f":"_xlfn.XLOOKUP($B$3,Bezetting_2!$A$2:$A$90,Bezetting_2!K$2:K$90,,0)","v":15},{"$f":"_xlfn.XLOOKUP($B$3,Bezetting_2!$A$2:$A$90,Bezetting_2!L$2:L$90,,0)","v":0},{"$f":"_xlfn.XLOOKUP($B$3,Bezetting_2!$A$2:$A$90,Bezetting_2!M$2:M$90,,0)","v":0},{"$f":"_xlfn.XLOOKUP($B$3,Bezetting_2!$A$2:$A$90,Bezetting_2!N$2:N$90,,0)","v":5},{"$f":"_xlfn.XLOOKUP($B$3,Bezetting_2!$A$2:$A$90,Bezetting_2!O$2:O$90,,0)","v":0},{"$f":"_xlfn.XLOOKUP($B$3,Bezetting_2!$A$2:$A$90,Bezetting_2!P$2:P$90,,0)","v":0}]
[null,"Meting",null,null,null,{"$f":"IF(F10=0,\"-\",F10/$L$10)","v":1},{"$f":"IF(G10=0,\"-\",G10/$L$10)","v":"-"},"-","-","-","-",1,null,null,null,null,{"$f":"_xlfn.XLOOKUP($B$3,Bezetting_2!$A$2:$A$90,Bezetting_2!Q$2:Q$90,,0)","v":0}]
[null,{"$f":"\"Meetperiode: \"&TEXT(VLOOKUP(B3,Coordinaten!$A:$G,7,0),\"dddd dd mmmm jjjj\")","v":"Meetperiode: di 10 & do 12 oktober 2023"}]
[null,"Methodiek: Parkeerdrukmeting met waarnemers"]
[null,"In opdracht van: Vlaamse overheid"]
[null,"Uitgevoerd door: Dufec"]
[null,null,null,"VERDELING NAAR CATEGORIE"]
[null,"Locatie"]
[null,{"$f":"IF(B4=\"\",\"\",HYPERLINK(\"http://www.googlemaps.com/?q=\"&B4,\"Lat/Long: \"&B4))","v":"Lat/Long: 51.194190, 3.197624"}]
[]
[null,null,null,null,null,null,null,null,null,null,null,null,null,null,null,"Legenda"]
[null,null,null,null,null,null,null,null,null,null,null,null,null,null,null,null,"Personenwagen"]
[null,null,null,null,null,null,null,null,null,null,null,null,null,null,null,null,"Vracht"]
[null,null,null,null,null,null,null,null,null,null,null,null,null,null,null,null,"Motor"]
[null,null,null,null,null,null,null,null,null,null,null,null,null,null,null,null,"Obstakel / overig"]
[null,null,null,null,null,null,null,null,null,null,null,null,null,null,null,null,"Fout personenwagen"]
[null,null,null,null,null,null,null,null,null,null,null,null,null,null,null,null,"Fout Vracht"]
[]
[]
[]
[]
[]
[]
[]
[]
[]
[]
[]
[]
[null,"Toelichting"]
[null,"Pers = personenwagens op daarvoor bestemde"]
[null,"          openbare plaatsen"]
[null,"Vracht = vrachtwagens op daarvoor bestemde"]
[null,"          parkeerplaatsen (middel- en zwaar vrachtverkeer)"]
[null,"Motor = geparkeerde motoren op openbare plaatsen"]
[null,"Obstakel / overig = obstakels of overige voertuigen"]
[null,"          geparkeerd op openbare plaatsen"]
[null,"Fout pers = personenwagens die fout geparkeerd staan"]
[null,"Fout vracht = vrachtwagens die fout geparkeerd staan"]
[null,"E-wagen = geparkeerde elektrisch voertuig bij een"]
[null,"          elektrisch oplaadpunt"]
[null,"Invalide = personenwagens en motoren op voor"]
[null,"          invalide personen bestemde parkeerplaats"]
[null,"Gestalde fietsen = alle gestalde fietsen op de"]
[null,"          daarvoor bestemde parkeerplaatsen"]

{"sheet":"9.Torhout","index":7,"n_rows":54,"n_cols":26,"rows_kept":54,"cut":false,"hidden":false,"merged":[[4,3,5,12],[4,16,5,16],[15,3,16,12]]}
[]
[null,"PARKEERONDERZOEK",null,"CARPOOLPARKINGS EN P+R PARKINGS"]
[null,9,null,{"$f":"B8 & \" - \"& TEXT(VLOOKUP(B3,Coordinaten!$A$2:$G$95,7,0),\"dddd dd mmmm jjjj\")","v":"Carpool parking Torhout, Torhout - di 10 & do 12 oktober 2023"}]
[null,{"$f":"VLOOKUP(B3,Coordinaten!$A$2:$G$95,6,0)","v":"51.077896, 3.118743"}]
[null,null,null,"BEZETTING  ",null,null,null,null,null,null,null,null,null,null,null,null,"OPMERKINGEN"]
[]
[null,"Onderzoeksgebied",null,"Datum","Geregistreerd tussen","Pers","Vracht","Motor","Obstakel / overig","Fout   pers","Fout Vracht","Totaal","E-wagen\nplaats","Invalidenplaats","Gestalde fietsen",null,null,null,null,null,{"$f":"F7","v":"Pers"},"Vracht","Motor","Obstakel / overig","Fout   pers","Fout Vracht"]
[null,{"$f":"VLOOKUP(B3,Coordinaten!$A$2:$G$95,3,0)&\", \"&VLOOKUP(B3,Coordinaten!$A$2:$G$95,5,0)","v":"Carpool parking Torhout, Torhout"},null,{"$f":"_xlfn.XLOOKUP($B$3,Bezetting_1!$A$2:$A$90,Bezetting_1!C$2:C$90,,0)","v":"2023-10-12"},{"$f":"_xlfn.XLOOKUP($B$3,Bezetting_1!$A$2:$A$90,Bezetting_1!D$2:D$90,,0)","v":"09:00 - 16:00u"},{"$f":"_xlfn.XLOOKUP($B$3,Bezetting_1!$A$2:$A$90,Bezetting_1!E$2:E$90,,0)","v":19},{"$f":"_xlfn.XLOOKUP($B$3,Bezetting_1!$A$2:$A$90,Bezetting_1!F$2:F$90,,0)","v":0},{"$f":"_xlfn.XLOOKUP($B$3,Bezetting_1!$A$2:$A$90,Bezetting_1!G$2:G$90,,0)","v":0},{"$f":"_xlfn.XLOOKUP($B$3,Bezetting_1!$A$2:$A$90,Bezetting_1!H$2:H$90,,0)","v":0},{"$f":"_xlfn.XLOOKUP($B$3,Bezetting_1!$A$2:$A$90,Bezetting_1!I$2:I$90,,0)","v":0},{"$f":"_xlfn.XLOOKUP($B$3,Bezetting_1!$A$2:$A$90,Bezetting_1!J$2:J$90,,0)","v":0},{"$f":"_xlfn.XLOOKUP($B$3,Bezetting_1!$A$2:$A$90,Bezetting_1!K$2:K$90,,0)","v":19},{"$f":"_xlfn.XLOOKUP($B$3,Bezetting_1!$A$2:$A$90,Bezetting_1!L$2:L$90,,0)","v":1},{"$f":"_xlfn.XLOOKUP($B$3,Bezetting_1!$A$2:$A$90,Bezetting_1!M$2:M$90,,0)","v":0},{"$f":"_xlfn.XLOOKUP($B$3,Bezetting_1!$A$2:$A$90,Bezetting_1!N$2:N$90,,0)","v":1},null,{"$f":"_xlfn.XLOOKUP($B$3,Bezetting_1!$A$2:$A$90,Bezetting_1!P$2:P$90,,0)","v":0},null,{"$f":"D8","v":"2023-10-12"},{"$f":"E8","v":"09:00 - 16:00u"},{"$f":"IF(F8=0,NA(),F8/$L8)","v":1},{"$f":"IF(G8=0,NA(),G8/$L8)","v":{"$error":"#N/A"}},{"$f":"IF(H8=0,NA(),H8/$L8)","v":{"$error":"#N/A"}},{"$error":"#N/A"},{"$error":"#N/A"},{"$error":"#N/A"}]
[null,{"$f":"\"Nabij kruispunt: \"&VLOOKUP(B3,Coordinaten!$A$2:$L$95,4,0)","v":"Nabij kruispunt: R34 / Keibergstraat"},null,null,null,{"$f":"IF(F8=0,\"-\",F8/$L$8)","v":1},{"$f":"IF(G8=0,\"-\",G8/$L$8)","v":"-"},"-","-","-","-",1,null,null,null,null,{"$f":"_xlfn.XLOOKUP($B$3,Bezetting_1!$A$2:$A$90,Bezetting_1!Q$2:Q$90,,0)","v":0},null,{"$f":"D10","v":"2023-10-12"},{"$f":"E10","v":"19:00 - 02:00u"},{"$f":"IF(F10=0,NA(),F10/$L10)","v":1},{"$f":"IF(G10=0,NA(),G10/$L10)","v":{"$error":"#N/A"}},{"$error":"#N/A"},{"$error":"#N/A"},{"$error":"#N/A"},{"$error":"#N/A"}]
[null,null,null,{"$f":"_xlfn.XLOOKUP($B$3,Bezetting_2!$A$2:$A$90,Bezetting_2!C$2:C$90,,0)","v":"2023-10-12"},{"$f":"_xlfn.XLOOKUP($B$3,Bezetting_2!$A$2:$A$90,Bezetting_2!D$2:D$90,,0)","v":"19:00 - 02:00u"},{"$f":"_xlfn.XLOOKUP($B$3,Bezetting_2!$A$2:$A$90,Bezetting_2!E$2:E$90,,0)","v":8},{"$f":"_xlfn.XLOOKUP($B$3,Bezetting_2!$A$2:$A$90,Bezetting_2!F$2:F$90,,0)","v":0},{"$f":"_xlfn.XLOOKUP($B$3,Bezetting_2!$A$2:$A$90,Bezetting_2!G$2:G$90,,0)","v":0},{"$f":"_xlfn.XLOOKUP($B$3,Bezetting_2!$A$2:$A$90,Bezetting_2!H$2:H$90,,0)","v":0},{"$f":"_xlfn.XLOOKUP($B$3,Bezetting_2!$A$2:$A$90,Bezetting_2!I$2:I$90,,0)","v":0},{"$f":"_xlfn.XLOOKUP($B$3,Bezetting_2!$A$2:$A$90,Bezetting_2!J$2:J$90,,0)","v":0},{"$f":"_xlfn.XLOOKUP($B$3,Bezetting_2!$A$2:$A$90,Bezetting_2!K$2:K$90,,0)","v":8},{"$f":"_xlfn.XLOOKUP($B$3,Bezetting_2!$A$2:$A$90,Bezetting_2!L$2:L$90,,0)","v":0},{"$f":"_xlfn.XLOOKUP($B$3,Bezetting_2!$A$2:$A$90,Bezetting_2!M$2:M$90,,0)","v":0},{"$f":"_xlfn.XLOOKUP($B$3,Bezetting_2!$A$2:$A$90,Bezetting_2!N$2:N$90,,0)","v":0},{"$f":"_xlfn.XLOOKUP($B$3,Bezetting_2!$A$2:$A$90,Bezetting_2!O$2:O$90,,0)","v":0},{"$f":"_xlfn.XLOOKUP($B$3,Bezetting_2!$A$2:$A$90,Bezetting_2!P$2:P$90,,0)","v":0}]
[null,"Meting",null,null,null,{"$f":"IF(F10=0,\"-\",F10/$L$10)","v":1},{"$f":"IF(G10=0,\"-\",G10/$L$10)","v":"-"},"-","-","-","-",1,null,null,null,null,{"$f":"_xlfn.XLOOKUP($B$3,Bezetting_2!$A$2:$A$90,Bezetting_2!Q$2:Q$90,,0)","v":0}]
[null,{"$f":"\"Meetperiode: \"&TEXT(VLOOKUP(B3,Coordinaten!$A:$G,7,0),\"dddd dd mmmm jjjj\")","v":"Meetperiode: di 10 & do 12 oktober 2023"}]
[null,"Methodiek: Parkeerdrukmeting met waarnemers"]
[null,"In opdracht van: Vlaamse overheid"]
[null,"Uitgevoerd door: Dufec"]
[null,null,null,"VERDELING NAAR CATEGORIE"]
[null,"Locatie"]
[null,{"$f":"IF(B4=\"\",\"\",HYPERLINK(\"http://www.googlemaps.com/?q=\"&B4,\"Lat/Long: \"&B4))","v":"Lat/Long: 51.077896, 3.118743"}]
[]
[null,null,null,null,null,null,null,null,null,null,null,null,null,null,null,"Legenda"]
[null,null,null,null,null,null,null,null,null,null,null,null,null,null,null,null,"Personenwagen"]
[null,null,null,null,null,null,null,null,null,null,null,null,null,null,null,null,"Vracht"]
[null,null,null,null,null,null,null,null,null,null,null,null,null,null,null,null,"Motor"]
[null,null,null,null,null,null,null,null,null,null,null,null,null,null,null,null,"Obstakel / overig"]
[null,null,null,null,null,null,null,null,null,null,null,null,null,null,null,null,"Fout personenwagen"]
[null,null,null,null,null,null,null,null,null,null,null,null,null,null,null,null,"Fout Vracht"]
[]
[]
[]
[]
[]
[]
[]
[]
[]
[]
[]
[]
[null,"Toelichting"]
[null,"Pers = personenwagens op daarvoor bestemde"]
[null,"          openbare plaatsen"]
[null,"Vracht = vrachtwagens op daarvoor bestemde"]
[null,"          parkeerplaatsen (middel- en zwaar vrachtverkeer)"]
[null,"Motor = geparkeerde motoren op openbare plaatsen"]
[null,"Obstakel / overig = obstakels of overige voertuigen"]
[null,"          geparkeerd op openbare plaatsen"]
[null,"Fout pers = personenwagens die fout geparkeerd staan"]
[null,"Fout vracht = vrachtwagens die fout geparkeerd staan"]
[null,"E-wagen = geparkeerde elektrisch voertuig bij een"]
[null,"          elektrisch oplaadpunt"]
[null,"Invalide = personenwagens en motoren op voor"]
[null,"          invalide personen bestemde parkeerplaats"]
[null,"Gestalde fietsen = alle gestalde fietsen op de"]
[null,"          daarvoor bestemde parkeerplaatsen"]

{"sheet":"10.Houthalen","index":8,"n_rows":54,"n_cols":26,"rows_kept":54,"cut":false,"hidden":false,"merged":[[4,3,5,12],[4,16,5,16],[15,3,16,12]]}
[]
[null,"PARKEERONDERZOEK",null,"CARPOOLPARKINGS EN P+R PARKINGS"]
[null,10,null,{"$f":"B8 & \" - \"& TEXT(VLOOKUP(B3,Coordinaten!$A$2:$G$95,7,0),\"dddd dd mmmm jjjj\")","v":"Carpool parking Houthalen, Houthalen-Helchteren - di 10 & do 12 oktober 2023"}]
[null,{"$f":"VLOOKUP(B3,Coordinaten!$A$2:$G$95,6,0)","v":"51.015552, 5.371400"}]
[null,null,null,"BEZETTING  ",null,null,null,null,null,null,null,null,null,null,null,null,"OPMERKINGEN"]
[]
[null,"Onderzoeksgebied",null,"Datum","Geregistreerd tussen","Pers","Vracht","Motor","Obstakel / overig","Fout   pers","Fout Vracht","Totaal","E-wagen\nplaats","Invalidenplaats","Gestalde fietsen",null,null,null,null,null,{"$f":"F7","v":"Pers"},"Vracht","Motor","Obstakel / overig","Fout   pers","Fout Vracht"]
[null,{"$f":"VLOOKUP(B3,Coordinaten!$A$2:$G$95,3,0)&\", \"&VLOOKUP(B3,Coordinaten!$A$2:$G$95,5,0)","v":"Carpool parking Houthalen, Houthalen-Helchteren"},null,{"$f":"_xlfn.XLOOKUP($B$3,Bezetting_1!$A$2:$A$90,Bezetting_1!C$2:C$90,,0)","v":"2023-10-12"},{"$f":"_xlfn.XLOOKUP($B$3,Bezetting_1!$A$2:$A$90,Bezetting_1!D$2:D$90,,0)","v":"09:00 - 16:00u"},{"$f":"_xlfn.XLOOKUP($B$3,Bezetting_1!$A$2:$A$90,Bezetting_1!E$2:E$90,,0)","v":65},{"$f":"_xlfn.XLOOKUP($B$3,Bezetting_1!$A$2:$A$90,Bezetting_1!F$2:F$90,,0)","v":0},{"$f":"_xlfn.XLOOKUP($B$3,Bezetting_1!$A$2:$A$90,Bezetting_1!G$2:G$90,,0)","v":0},{"$f":"_xlfn.XLOOKUP($B$3,Bezetting_1!$A$2:$A$90,Bezetting_1!H$2:H$90,,0)","v":0},{"$f":"_xlfn.XLOOKUP($B$3,Bezetting_1!$A$2:$A$90,Bezetting_1!I$2:I$90,,0)","v":0},{"$f":"_xlfn.XLOOKUP($B$3,Bezetting_1!$A$2:$A$90,Bezetting_1!J$2:J$90,,0)","v":0},{"$f":"_xlfn.XLOOKUP($B$3,Bezetting_1!$A$2:$A$90,Bezetting_1!K$2:K$90,,0)","v":65},{"$f":"_xlfn.XLOOKUP($B$3,Bezetting_1!$A$2:$A$90,Bezetting_1!L$2:L$90,,0)","v":0},{"$f":"_xlfn.XLOOKUP($B$3,Bezetting_1!$A$2:$A$90,Bezetting_1!M$2:M$90,,0)","v":0},{"$f":"_xlfn.XLOOKUP($B$3,Bezetting_1!$A$2:$A$90,Bezetting_1!N$2:N$90,,0)","v":2},null,{"$f":"_xlfn.XLOOKUP($B$3,Bezetting_1!$A$2:$A$90,Bezetting_1!P$2:P$90,,0)","v":0},null,{"$f":"D8","v":"2023-10-12"},{"$f":"E8","v":"09:00 - 16:00u"},{"$f":"IF(F8=0,NA(),F8/$L8)","v":1},{"$f":"IF(G8=0,NA(),G8/$L8)","v":{"$error":"#N/A"}},{"$f":"IF(H8=0,NA(),H8/$L8)","v":{"$error":"#N/A"}},{"$error":"#N/A"},{"$error":"#N/A"},{"$error":"#N/A"}]
[null,{"$f":"\"Nabij kruispunt: \"&VLOOKUP(B3,Coordinaten!$A$2:$L$95,4,0)","v":"Nabij kruispunt: N715 / A2"},null,null,null,{"$f":"IF(F8=0,\"-\",F8/$L$8)","v":1},{"$f":"IF(G8=0,\"-\",G8/$L$8)","v":"-"},"-","-","-","-",1,null,null,null,null,{"$f":"_xlfn.XLOOKUP($B$3,Bezetting_1!$A$2:$A$90,Bezetting_1!Q$2:Q$90,,0)","v":0},null,{"$f":"D10","v":"2023-10-10"},{"$f":"E10","v":"19:00 - 02:00u"},{"$f":"IF(F10=0,NA(),F10/$L10)","v":1},{"$f":"IF(G10=0,NA(),G10/$L10)","v":{"$error":"#N/A"}},{"$error":"#N/A"},{"$error":"#N/A"},{"$error":"#N/A"},{"$error":"#N/A"}]
[null,null,null,{"$f":"_xlfn.XLOOKUP($B$3,Bezetting_2!$A$2:$A$90,Bezetting_2!C$2:C$90,,0)","v":"2023-10-10"},{"$f":"_xlfn.XLOOKUP($B$3,Bezetting_2!$A$2:$A$90,Bezetting_2!D$2:D$90,,0)","v":"19:00 - 02:00u"},{"$f":"_xlfn.XLOOKUP($B$3,Bezetting_2!$A$2:$A$90,Bezetting_2!E$2:E$90,,0)","v":35},{"$f":"_xlfn.XLOOKUP($B$3,Bezetting_2!$A$2:$A$90,Bezetting_2!F$2:F$90,,0)","v":0},{"$f":"_xlfn.XLOOKUP($B$3,Bezetting_2!$A$2:$A$90,Bezetting_2!G$2:G$90,,0)","v":0},{"$f":"_xlfn.XLOOKUP($B$3,Bezetting_2!$A$2:$A$90,Bezetting_2!H$2:H$90,,0)","v":0},{"$f":"_xlfn.XLOOKUP($B$3,Bezetting_2!$A$2:$A$90,Bezetting_2!I$2:I$90,,0)","v":0},{"$f":"_xlfn.XLOOKUP($B$3,Bezetting_2!$A$2:$A$90,Bezetting_2!J$2:J$90,,0)","v":0},{"$f":"_xlfn.XLOOKUP($B$3,Bezetting_2!$A$2:$A$90,Bezetting_2!K$2:K$90,,0)","v":35},{"$f":"_xlfn.XLOOKUP($B$3,Bezetting_2!$A$2:$A$90,Bezetting_2!L$2:L$90,,0)","v":0},{"$f":"_xlfn.XLOOKUP($B$3,Bezetting_2!$A$2:$A$90,Bezetting_2!M$2:M$90,,0)","v":0},{"$f":"_xlfn.XLOOKUP($B$3,Bezetting_2!$A$2:$A$90,Bezetting_2!N$2:N$90,,0)","v":1},{"$f":"_xlfn.XLOOKUP($B$3,Bezetting_2!$A$2:$A$90,Bezetting_2!O$2:O$90,,0)","v":0},{"$f":"_xlfn.XLOOKUP($B$3,Bezetting_2!$A$2:$A$90,Bezetting_2!P$2:P$90,,0)","v":0}]
[null,"Meting",null,null,null,{"$f":"IF(F10=0,\"-\",F10/$L$10)","v":1},{"$f":"IF(G10=0,\"-\",G10/$L$10)","v":"-"},"-","-","-","-",1,null,null,null,null,{"$f":"_xlfn.XLOOKUP($B$3,Bezetting_2!$A$2:$A$90,Bezetting_2!Q$2:Q$90,,0)","v":0}]
[null,{"$f":"\"Meetperiode: \"&TEXT(VLOOKUP(B3,Coordinaten!$A:$G,7,0),\"dddd dd mmmm jjjj\")","v":"Meetperiode: di 10 & do 12 oktober 2023"}]
[null,"Methodiek: Parkeerdrukmeting met waarnemers"]
[null,"In opdracht van: Vlaamse overheid"]
[null,"Uitgevoerd door: Dufec"]
[null,null,null,"VERDELING NAAR CATEGORIE"]
[null,"Locatie"]
[null,{"$f":"IF(B4=\"\",\"\",HYPERLINK(\"http://www.googlemaps.com/?q=\"&B4,\"Lat/Long: \"&B4))","v":"Lat/Long: 51.015552, 5.371400"}]
[]
[null,null,null,null,null,null,null,null,null,null,null,null,null,null,null,"Legenda"]
[null,null,null,null,null,null,null,null,null,null,null,null,null,null,null,null,"Personenwagen"]
[null,null,null,null,null,null,null,null,null,null,null,null,null,null,null,null,"Vracht"]
[null,null,null,null,null,null,null,null,null,null,null,null,null,null,null,null,"Motor"]
[null,null,null,null,null,null,null,null,null,null,null,null,null,null,null,null,"Obstakel / overig"]
[null,null,null,null,null,null,null,null,null,null,null,null,null,null,null,null,"Fout personenwagen"]
[null,null,null,null,null,null,null,null,null,null,null,null,null,null,null,null,"Fout Vracht"]
[]
[]
[]
[]
[]
[]
[]
[]
[]
[]
[]
[]
[null,"Toelichting"]
[null,"Pers = personenwagens op daarvoor bestemde"]
[null,"          openbare plaatsen"]
[null,"Vracht = vrachtwagens op daarvoor bestemde"]
[null,"          parkeerplaatsen (middel- en zwaar vrachtverkeer)"]
[null,"Motor = geparkeerde motoren op openbare plaatsen"]
[null,"Obstakel / overig = obstakels of overige voertuigen"]
[null,"          geparkeerd op openbare plaatsen"]
[null,"Fout pers = personenwagens die fout geparkeerd staan"]
[null,"Fout vracht = vrachtwagens die fout geparkeerd staan"]
[null,"E-wagen = geparkeerde elektrisch voertuig bij een"]
[null,"          elektrisch oplaadpunt"]
[null,"Invalide = personenwagens en motoren op voor"]
[null,"          invalide personen bestemde parkeerplaats"]
[null,"Gestalde fietsen = alle gestalde fietsen op de"]
[null,"          daarvoor bestemde parkeerplaatsen"]

{"sheet":"11.Diepenbeek","index":9,"n_rows":54,"n_cols":26,"rows_kept":54,"cut":false,"hidden":false,"merged":[[4,3,5,12],[4,16,5,16],[15,3,16,12]]}
[]
[null,"PARKEERONDERZOEK",null,"CARPOOLPARKINGS EN P+R PARKINGS"]
[null,11,null,{"$f":"B8 & \" - \"& TEXT(VLOOKUP(B3,Coordinaten!$A$2:$G$95,7,0),\"dddd dd mmmm jjjj\")","v":"Carpool parking Diepenbeek, Diepenbeek - di 10 & do 12 oktober 2023"}]
[null,{"$f":"VLOOKUP(B3,Coordinaten!$A$2:$G$95,6,0)","v":"50.894087, 5.417912"}]
[null,null,null,"BEZETTING  ",null,null,null,null,null,null,null,null,null,null,null,null,"OPMERKINGEN"]
[]
[null,"Onderzoeksgebied",null,"Datum","Geregistreerd tussen","Pers","Vracht","Motor","Obstakel / overig","Fout   pers","Fout Vracht","Totaal","E-wagen\nplaats","Invalidenplaats","Gestalde fietsen",null,null,null,null,null,{"$f":"F7","v":"Pers"},"Vracht","Motor","Obstakel / overig","Fout   pers","Fout Vracht"]
[null,{"$f":"VLOOKUP(B3,Coordinaten!$A$2:$G$95,3,0)&\", \"&VLOOKUP(B3,Coordinaten!$A$2:$G$95,5,0)","v":"Carpool parking Diepenbeek, Diepenbeek"},null,{"$f":"_xlfn.XLOOKUP($B$3,Bezetting_1!$A$2:$A$90,Bezetting_1!C$2:C$90,,0)","v":"2023-10-12"},{"$f":"_xlfn.XLOOKUP($B$3,Bezetting_1!$A$2:$A$90,Bezetting_1!D$2:D$90,,0)","v":"09:00 - 16:00u"},{"$f":"_xlfn.XLOOKUP($B$3,Bezetting_1!$A$2:$A$90,Bezetting_1!E$2:E$90,,0)","v":79},{"$f":"_xlfn.XLOOKUP($B$3,Bezetting_1!$A$2:$A$90,Bezetting_1!F$2:F$90,,0)","v":0},{"$f":"_xlfn.XLOOKUP($B$3,Bezetting_1!$A$2:$A$90,Bezetting_1!G$2:G$90,,0)","v":0},{"$f":"_xlfn.XLOOKUP($B$3,Bezetting_1!$A$2:$A$90,Bezetting_1!H$2:H$90,,0)","v":0},{"$f":"_xlfn.XLOOKUP($B$3,Bezetting_1!$A$2:$A$90,Bezetting_1!I$2:I$90,,0)","v":1},{"$f":"_xlfn.XLOOKUP($B$3,Bezetting_1!$A$2:$A$90,Bezetting_1!J$2:J$90,,0)","v":0},{"$f":"_xlfn.XLOOKUP($B$3,Bezetting_1!$A$2:$A$90,Bezetting_1!K$2:K$90,,0)","v":80},{"$f":"_xlfn.XLOOKUP($B$3,Bezetting_1!$A$2:$A$90,Bezetting_1!L$2:L$90,,0)","v":0},{"$f":"_xlfn.XLOOKUP($B$3,Bezetting_1!$A$2:$A$90,Bezetting_1!M$2:M$90,,0)","v":0},{"$f":"_xlfn.XLOOKUP($B$3,Bezetting_1!$A$2:$A$90,Bezetting_1!N$2:N$90,,0)","v":3},null,{"$f":"_xlfn.XLOOKUP($B$3,Bezetting_1!$A$2:$A$90,Bezetting_1!P$2:P$90,,0)","v":0},null,{"$f":"D8","v":"2023-10-12"},{"$f":"E8","v":"09:00 - 16:00u"},{"$f":"IF(F8=0,NA(),F8/$L8)","v":0.98750000000000004},{"$f":"IF(G8=0,NA(),G8/$L8)","v":{"$error":"#N/A"}},{"$f":"IF(H8=0,NA(),H8/$L8)","v":{"$error":"#N/A"}},{"$error":"#N/A"},1.2500000000000001E-2,{"$error":"#N/A"}]
[null,{"$f":"\"Nabij kruispunt: \"&VLOOKUP(B3,Coordinaten!$A$2:$L$95,4,0)","v":"Nabij kruispunt: N76 / A13"},null,null,null,{"$f":"IF(F8=0,\"-\",F8/$L$8)","v":0.98750000000000004},{"$f":"IF(G8=0,\"-\",G8/$L$8)","v":"-"},"-","-",1.2500000000000001E-2,"-",1,null,null,null,null,{"$f":"_xlfn.XLOOKUP($B$3,Bezetting_1!$A$2:$A$90,Bezetting_1!Q$2:Q$90,,0)","v":0},null,{"$f":"D10","v":"2023-10-10"},{"$f":"E10","v":"19:00 - 02:00u"},{"$f":"IF(F10=0,NA(),F10/$L10)","v":0.9285714285714286},{"$f":"IF(G10=0,NA(),G10/$L10)","v":{"$error":"#N/A"}},{"$error":"#N/A"},{"$error":"#N/A"},7.1428571428571425E-2,{"$error":"#N/A"}]
[null,null,null,{"$f":"_xlfn.XLOOKUP($B$3,Bezetting_2!$A$2:$A$90,Bezetting_2!C$2:C$90,,0)","v":"2023-10-10"},{"$f":"_xlfn.XLOOKUP($B$3,Bezetting_2!$A$2:$A$90,Bezetting_2!D$2:D$90,,0)","v":"19:00 - 02:00u"},{"$f":"_xlfn.XLOOKUP($B$3,Bezetting_2!$A$2:$A$90,Bezetting_2!E$2:E$90,,0)","v":26},{"$f":"_xlfn.XLOOKUP($B$3,Bezetting_2!$A$2:$A$90,Bezetting_2!F$2:F$90,,0)","v":0},{"$f":"_xlfn.XLOOKUP($B$3,Bezetting_2!$A$2:$A$90,Bezetting_2!G$2:G$90,,0)","v":0},{"$f":"_xlfn.XLOOKUP($B$3,Bezetting_2!$A$2:$A$90,Bezetting_2!H$2:H$90,,0)","v":0},{"$f":"_xlfn.XLOOKUP($B$3,Bezetting_2!$A$2:$A$90,Bezetting_2!I$2:I$90,,0)","v":2},{"$f":"_xlfn.XLOOKUP($B$3,Bezetting_2!$A$2:$A$90,Bezetting_2!J$2:J$90,,0)","v":0},{"$f":"_xlfn.XLOOKUP($B$3,Bezetting_2!$A$2:$A$90,Bezetting_2!K$2:K$90,,0)","v":28},{"$f":"_xlfn.XLOOKUP($B$3,Bezetting_2!$A$2:$A$90,Bezetting_2!L$2:L$90,,0)","v":0},{"$f":"_xlfn.XLOOKUP($B$3,Bezetting_2!$A$2:$A$90,Bezetting_2!M$2:M$90,,0)","v":0},{"$f":"_xlfn.XLOOKUP($B$3,Bezetting_2!$A$2:$A$90,Bezetting_2!N$2:N$90,,0)","v":1},{"$f":"_xlfn.XLOOKUP($B$3,Bezetting_2!$A$2:$A$90,Bezetting_2!O$2:O$90,,0)","v":0},{"$f":"_xlfn.XLOOKUP($B$3,Bezetting_2!$A$2:$A$90,Bezetting_2!P$2:P$90,,0)","v":0}]
[null,"Meting",null,null,null,{"$f":"IF(F10=0,\"-\",F10/$L$10)","v":0.9285714285714286},{"$f":"IF(G10=0,\"-\",G10/$L$10)","v":"-"},"-","-",7.1428571428571425E-2,"-",1,null,null,null,null,{"$f":"_xlfn.XLOOKUP($B$3,Bezetting_2!$A$2:$A$90,Bezetting_2!Q$2:Q$90,,0)","v":0}]
[null,{"$f":"\"Meetperiode: \"&TEXT(VLOOKUP(B3,Coordinaten!$A:$G,7,0),\"dddd dd mmmm jjjj\")","v":"Meetperiode: di 10 & do 12 oktober 2023"}]
[null,"Methodiek: Parkeerdrukmeting met waarnemers"]
[null,"In opdracht van: Vlaamse overheid"]
[null,"Uitgevoerd door: Dufec"]
[null,null,null,"VERDELING NAAR CATEGORIE"]
[null,"Locatie"]
[null,{"$f":"IF(B4=\"\",\"\",HYPERLINK(\"http://www.googlemaps.com/?q=\"&B4,\"Lat/Long: \"&B4))","v":"Lat/Long: 50.894087, 5.417912"}]
[]
[null,null,null,null,null,null,null,null,null,null,null,null,null,null,null,"Legenda"]
[null,null,null,null,null,null,null,null,null,null,null,null,null,null,null,null,"Personenwagen"]
[null,null,null,null,null,null,null,null,null,null,null,null,null,null,null,null,"Vracht"]
[null,null,null,null,null,null,null,null,null,null,null,null,null,null,null,null,"Motor"]
[null,null,null,null,null,null,null,null,null,null,null,null,null,null,null,null,"Obstakel / overig"]
[null,null,null,null,null,null,null,null,null,null,null,null,null,null,null,null,"Fout personenwagen"]
[null,null,null,null,null,null,null,null,null,null,null,null,null,null,null,null,"Fout Vracht"]
[]
[]
[]
[]
[]
[]
[]
[]
[]
[]
[]
[]
[null,"Toelichting"]
[null,"Pers = personenwagens op daarvoor bestemde"]
[null,"          openbare plaatsen"]
[null,"Vracht = vrachtwagens op daarvoor bestemde"]
[null,"          parkeerplaatsen (middel- en zwaar vrachtverkeer)"]
[null,"Motor = geparkeerde motoren op openbare plaatsen"]
[null,"Obstakel / overig = obstakels of overige voertuigen"]
[null,"          geparkeerd op openbare plaatsen"]
[null,"Fout pers = personenwagens die fout geparkeerd staan"]
[null,"Fout vracht = vrachtwagens die fout geparkeerd staan"]
[null,"E-wagen = geparkeerde elektrisch voertuig bij een"]
[null,"          elektrisch oplaadpunt"]
[null,"Invalide = personenwagens en motoren op voor"]
[null,"          invalide personen bestemde parkeerplaats"]
[null,"Gestalde fietsen = alle gestalde fietsen op de"]
[null,"          daarvoor bestemde parkeerplaatsen"]

{"sheet":"12.Wommelgem-Zuid","index":10,"n_rows":54,"n_cols":26,"rows_kept":54,"cut":false,"hidden":false,"merged":[[4,3,5,12],[4,16,5,16],[15,3,16,12]]}
[]
[null,"PARKEERONDERZOEK",null,"CARPOOLPARKINGS EN P+R PARKINGS"]
[null,12,null,{"$f":"B8 & \" - \"& TEXT(VLOOKUP(B3,Coordinaten!$A$2:$G$95,7,0),\"dddd dd mmmm jjjj\")","v":"P+R parking Wommelgem-Zuid, Wommelgem - di 10 & do 12 oktober 2023"}]
[null,{"$f":"VLOOKUP(B3,Coordinaten!$A$2:$G$95,6,0)","v":"51.210463, 4.493799"}]
[null,null,null,"BEZETTING  ",null,null,null,null,null,null,null,null,null,null,null,null,"OPMERKINGEN"]
[]
[null,"Onderzoeksgebied",null,"Datum","Geregistreerd tussen","Pers","Vracht","Motor","Obstakel / overig","Fout   pers","Fout Vracht","Totaal","E-wagen\nplaats","Invalidenplaats","Gestalde fietsen",null,null,null,null,null,{"$f":"F7","v":"Pers"},"Vracht","Motor","Obstakel / overig","Fout   pers","Fout Vracht"]
[null,{"$f":"VLOOKUP(B3,Coordinaten!$A$2:$G$95,3,0)&\", \"&VLOOKUP(B3,Coordinaten!$A$2:$G$95,5,0)","v":"P+R parking Wommelgem-Zuid, Wommelgem"},null,{"$f":"_xlfn.XLOOKUP($B$3,Bezetting_1!$A$2:$A$90,Bezetting_1!C$2:C$90,,0)","v":"2023-10-12"},{"$f":"_xlfn.XLOOKUP($B$3,Bezetting_1!$A$2:$A$90,Bezetting_1!D$2:D$90,,0)","v":"09:00 - 16:00u"},{"$f":"_xlfn.XLOOKUP($B$3,Bezetting_1!$A$2:$A$90,Bezetting_1!E$2:E$90,,0)","v":38},{"$f":"_xlfn.XLOOKUP($B$3,Bezetting_1!$A$2:$A$90,Bezetting_1!F$2:F$90,,0)","v":0},{"$f":"_xlfn.XLOOKUP($B$3,Bezetting_1!$A$2:$A$90,Bezetting_1!G$2:G$90,,0)","v":1},{"$f":"_xlfn.XLOOKUP($B$3,Bezetting_1!$A$2:$A$90,Bezetting_1!H$2:H$90,,0)","v":0},{"$f":"_xlfn.XLOOKUP($B$3,Bezetting_1!$A$2:$A$90,Bezetting_1!I$2:I$90,,0)","v":1},{"$f":"_xlfn.XLOOKUP($B$3,Bezetting_1!$A$2:$A$90,Bezetting_1!J$2:J$90,,0)","v":0},{"$f":"_xlfn.XLOOKUP($B$3,Bezetting_1!$A$2:$A$90,Bezetting_1!K$2:K$90,,0)","v":40},{"$f":"_xlfn.XLOOKUP($B$3,Bezetting_1!$A$2:$A$90,Bezetting_1!L$2:L$90,,0)","v":0},{"$f":"_xlfn.XLOOKUP($B$3,Bezetting_1!$A$2:$A$90,Bezetting_1!M$2:M$90,,0)","v":0},{"$f":"_xlfn.XLOOKUP($B$3,Bezetting_1!$A$2:$A$90,Bezetting_1!N$2:N$90,,0)","v":6},null,{"$f":"_xlfn.XLOOKUP($B$3,Bezetting_1!$A$2:$A$90,Bezetting_1!P$2:P$90,,0)","v":0},null,{"$f":"D8","v":"2023-10-12"},{"$f":"E8","v":"09:00 - 16:00u"},{"$f":"IF(F8=0,NA(),F8/$L8)","v":0.95},{"$f":"IF(G8=0,NA(),G8/$L8)","v":{"$error":"#N/A"}},{"$f":"IF(H8=0,NA(),H8/$L8)","v":2.5000000000000001E-2},{"$error":"#N/A"},2.5000000000000001E-2,{"$error":"#N/A"}]
[null,{"$f":"\"Nabij kruispunt: \"&VLOOKUP(B3,Coordinaten!$A$2:$L$95,4,0)","v":"Nabij kruispunt: R11 / A13"},null,null,null,{"$f":"IF(F8=0,\"-\",F8/$L$8)","v":0.95},{"$f":"IF(G8=0,\"-\",G8/$L$8)","v":"-"},2.5000000000000001E-2,"-",2.5000000000000001E-2,"-",1,null,null,null,null,{"$f":"_xlfn.XLOOKUP($B$3,Bezetting_1!$A$2:$A$90,Bezetting_1!Q$2:Q$90,,0)","v":0},null,{"$f":"D10","v":"2023-10-10"},{"$f":"E10","v":"19:00 - 02:00u"},{"$f":"IF(F10=0,NA(),F10/$L10)","v":0.9375},{"$f":"IF(G10=0,NA(),G10/$L10)","v":{"$error":"#N/A"}},{"$error":"#N/A"},{"$error":"#N/A"},{"$error":"#N/A"},6.25E-2]
[null,null,null,{"$f":"_xlfn.XLOOKUP($B$3,Bezetting_2!$A$2:$A$90,Bezetting_2!C$2:C$90,,0)","v":"2023-10-10"},{"$f":"_xlfn.XLOOKUP($B$3,Bezetting_2!$A$2:$A$90,Bezetting_2!D$2:D$90,,0)","v":"19:00 - 02:00u"},{"$f":"_xlfn.XLOOKUP($B$3,Bezetting_2!$A$2:$A$90,Bezetting_2!E$2:E$90,,0)","v":15},{"$f":"_xlfn.XLOOKUP($B$3,Bezetting_2!$A$2:$A$90,Bezetting_2!F$2:F$90,,0)","v":0},{"$f":"_xlfn.XLOOKUP($B$3,Bezetting_2!$A$2:$A$90,Bezetting_2!G$2:G$90,,0)","v":0},{"$f":"_xlfn.XLOOKUP($B$3,Bezetting_2!$A$2:$A$90,Bezetting_2!H$2:H$90,,0)","v":0},{"$f":"_xlfn.XLOOKUP($B$3,Bezetting_2!$A$2:$A$90,Bezetting_2!I$2:I$90,,0)","v":0},{"$f":"_xlfn.XLOOKUP($B$3,Bezetting_2!$A$2:$A$90,Bezetting_2!J$2:J$90,,0)","v":1},{"$f":"_xlfn.XLOOKUP($B$3,Bezetting_2!$A$2:$A$90,Bezetting_2!K$2:K$90,,0)","v":16},{"$f":"_xlfn.XLOOKUP($B$3,Bezetting_2!$A$2:$A$90,Bezetting_2!L$2:L$90,,0)","v":0},{"$f":"_xlfn.XLOOKUP($B$3,Bezetting_2!$A$2:$A$90,Bezetting_2!M$2:M$90,,0)","v":0},{"$f":"_xlfn.XLOOKUP($B$3,Bezetting_2!$A$2:$A$90,Bezetting_2!N$2:N$90,,0)","v":1},{"$f":"_xlfn.XLOOKUP($B$3,Bezetting_2!$A$2:$A$90,Bezetting_2!O$2:O$90,,0)","v":0},{"$f":"_xlfn.XLOOKUP($B$3,Bezetting_2!$A$2:$A$90,Bezetting_2!P$2:P$90,,0)","v":"Fout vracht: op 6 plaatsen"}]
[null,"Meting",null,null,null,{"$f":"IF(F10=0,\"-\",F10/$L$10)","v":0.9375},{"$f":"IF(G10=0,\"-\",G10/$L$10)","v":"-"},"-","-","-",6.25E-2,1,null,null,null,null,{"$f":"_xlfn.XLOOKUP($B$3,Bezetting_2!$A$2:$A$90,Bezetting_2!Q$2:Q$90,,0)","v":0}]
[null,{"$f":"\"Meetperiode: \"&TEXT(VLOOKUP(B3,Coordinaten!$A:$G,7,0),\"dddd dd mmmm jjjj\")","v":"Meetperiode: di 10 & do 12 oktober 2023"}]
[null,"Methodiek: Parkeerdrukmeting met waarnemers"]
[null,"In opdracht van: Vlaamse overheid"]
[null,"Uitgevoerd door: Dufec"]
[null,null,null,"VERDELING NAAR CATEGORIE"]
[null,"Locatie"]
[null,{"$f":"IF(B4=\"\",\"\",HYPERLINK(\"http://www.googlemaps.com/?q=\"&B4,\"Lat/Long: \"&B4))","v":"Lat/Long: 51.210463, 4.493799"}]
[]
[null,null,null,null,null,null,null,null,null,null,null,null,null,null,null,"Legenda"]
[null,null,null,null,null,null,null,null,null,null,null,null,null,null,null,null,"Personenwagen"]
[null,null,null,null,null,null,null,null,null,null,null,null,null,null,null,null,"Vracht"]
[null,null,null,null,null,null,null,null,null,null,null,null,null,null,null,null,"Motor"]
[null,null,null,null,null,null,null,null,null,null,null,null,null,null,null,null,"Obstakel / overig"]
[null,null,null,null,null,null,null,null,null,null,null,null,null,null,null,null,"Fout personenwagen"]
[null,null,null,null,null,null,null,null,null,null,null,null,null,null,null,null,"Fout Vracht"]
[]
[]
[]
[]
[]
[]
[]
[]
[]
[]
[]
[]
[null,"Toelichting"]
[null,"Pers = personenwagens op daarvoor bestemde"]
[null,"          openbare plaatsen"]
[null,"Vracht = vrachtwagens op daarvoor bestemde"]
[null,"          parkeerplaatsen (middel- en zwaar vrachtverkeer)"]
[null,"Motor = geparkeerde motoren op openbare plaatsen"]
[null,"Obstakel / overig = obstakels of overige voertuigen"]
[null,"          geparkeerd op openbare plaatsen"]
[null,"Fout pers = personenwagens die fout geparkeerd staan"]
[null,"Fout vracht = vrachtwagens die fout geparkeerd staan"]
[null,"E-wagen = geparkeerde elektrisch voertuig bij een"]
[null,"          elektrisch oplaadpunt"]
[null,"Invalide = personenwagens en motoren op voor"]
[null,"          invalide personen bestemde parkeerplaats"]
[null,"Gestalde fietsen = alle gestalde fietsen op de"]
[null,"          daarvoor bestemde parkeerplaatsen"]

{"sheet":"13.Minitaria","index":11,"n_rows":54,"n_cols":26,"rows_kept":54,"cut":false,"hidden":false,"merged":[[4,3,5,12],[4,16,5,16],[15,3,16,12]]}
[]
[null,"PARKEERONDERZOEK",null,"CARPOOLPARKINGS EN P+R PARKINGS"]
[null,13,null,{"$f":"B8 & \" - \"& TEXT(VLOOKUP(B3,Coordinaten!$A$2:$G$95,7,0),\"dddd dd mmmm jjjj\")","v":"Carpool parking Minitaria, Tienen - di 10 & do 12 oktober 2023"}]
[null,{"$f":"VLOOKUP(B3,Coordinaten!$A$2:$G$95,6,0)","v":"50.799170, 4.970858"}]
[null,null,null,"BEZETTING  ",null,null,null,null,null,null,null,null,null,null,null,null,"OPMERKINGEN"]
[]
[null,"Onderzoeksgebied",null,"Datum","Geregistreerd tussen","Pers","Vracht","Motor","Obstakel / overig","Fout   pers","Fout Vracht","Totaal","E-wagen\nplaats","Invalidenplaats","Gestalde fietsen",null,null,null,null,null,{"$f":"F7","v":"Pers"},"Vracht","Motor","Obstakel / overig","Fout   pers","Fout Vracht"]
[null,{"$f":"VLOOKUP(B3,Coordinaten!$A$2:$G$95,3,0)&\", \"&VLOOKUP(B3,Coordinaten!$A$2:$G$95,5,0)","v":"Carpool parking Minitaria, Tienen"},null,{"$f":"_xlfn.XLOOKUP($B$3,Bezetting_1!$A$2:$A$90,Bezetting_1!C$2:C$90,,0)","v":"2023-10-10"},{"$f":"_xlfn.XLOOKUP($B$3,Bezetting_1!$A$2:$A$90,Bezetting_1!D$2:D$90,,0)","v":"09:00 - 16:00u"},{"$f":"_xlfn.XLOOKUP($B$3,Bezetting_1!$A$2:$A$90,Bezetting_1!E$2:E$90,,0)","v":5},{"$f":"_xlfn.XLOOKUP($B$3,Bezetting_1!$A$2:$A$90,Bezetting_1!F$2:F$90,,0)","v":0},{"$f":"_xlfn.XLOOKUP($B$3,Bezetting_1!$A$2:$A$90,Bezetting_1!G$2:G$90,,0)","v":0},{"$f":"_xlfn.XLOOKUP($B$3,Bezetting_1!$A$2:$A$90,Bezetting_1!H$2:H$90,,0)","v":1},{"$f":"_xlfn.XLOOKUP($B$3,Bezetting_1!$A$2:$A$90,Bezetting_1!I$2:I$90,,0)","v":0},{"$f":"_xlfn.XLOOKUP($B$3,Bezetting_1!$A$2:$A$90,Bezetting_1!J$2:J$90,,0)","v":0},{"$f":"_xlfn.XLOOKUP($B$3,Bezetting_1!$A$2:$A$90,Bezetting_1!K$2:K$90,,0)","v":6},{"$f":"_xlfn.XLOOKUP($B$3,Bezetting_1!$A$2:$A$90,Bezetting_1!L$2:L$90,,0)","v":0},{"$f":"_xlfn.XLOOKUP($B$3,Bezetting_1!$A$2:$A$90,Bezetting_1!M$2:M$90,,0)","v":1},{"$f":"_xlfn.XLOOKUP($B$3,Bezetting_1!$A$2:$A$90,Bezetting_1!N$2:N$90,,0)","v":0},null,{"$f":"_xlfn.XLOOKUP($B$3,Bezetting_1!$A$2:$A$90,Bezetting_1!P$2:P$90,,0)","v":"Overig: aanhanger"},null,{"$f":"D8","v":"2023-10-10"},{"$f":"E8","v":"09:00 - 16:00u"},{"$f":"IF(F8=0,NA(),F8/$L8)","v":0.83333333333333337},{"$f":"IF(G8=0,NA(),G8/$L8)","v":{"$error":"#N/A"}},{"$f":"IF(H8=0,NA(),H8/$L8)","v":{"$error":"#N/A"}},0.16666666666666666,{"$error":"#N/A"},{"$error":"#N/A"}]
[null,{"$f":"\"Nabij kruispunt: \"&VLOOKUP(B3,Coordinaten!$A$2:$L$95,4,0)","v":"Nabij kruispunt: N3 / R27"},null,null,null,{"$f":"IF(F8=0,\"-\",F8/$L$8)","v":0.83333333333333337},{"$f":"IF(G8=0,\"-\",G8/$L$8)","v":"-"},"-",0.16666666666666666,"-","-",1,null,null,null,null,{"$f":"_xlfn.XLOOKUP($B$3,Bezetting_1!$A$2:$A$90,Bezetting_1!Q$2:Q$90,,0)","v":0},null,{"$f":"D10","v":"2023-10-10"},{"$f":"E10","v":"19:00 - 02:00u"},{"$f":"IF(F10=0,NA(),F10/$L10)","v":0.88888888888888884},{"$f":"IF(G10=0,NA(),G10/$L10)","v":{"$error":"#N/A"}},{"$error":"#N/A"},0.1111111111111111,{"$error":"#N/A"},{"$error":"#N/A"}]
[null,null,null,{"$f":"_xlfn.XLOOKUP($B$3,Bezetting_2!$A$2:$A$90,Bezetting_2!C$2:C$90,,0)","v":"2023-10-10"},{"$f":"_xlfn.XLOOKUP($B$3,Bezetting_2!$A$2:$A$90,Bezetting_2!D$2:D$90,,0)","v":"19:00 - 02:00u"},{"$f":"_xlfn.XLOOKUP($B$3,Bezetting_2!$A$2:$A$90,Bezetting_2!E$2:E$90,,0)","v":8},{"$f":"_xlfn.XLOOKUP($B$3,Bezetting_2!$A$2:$A$90,Bezetting_2!F$2:F$90,,0)","v":0},{"$f":"_xlfn.XLOOKUP($B$3,Bezetting_2!$A$2:$A$90,Bezetting_2!G$2:G$90,,0)","v":0},{"$f":"_xlfn.XLOOKUP($B$3,Bezetting_2!$A$2:$A$90,Bezetting_2!H$2:H$90,,0)","v":1},{"$f":"_xlfn.XLOOKUP($B$3,Bezetting_2!$A$2:$A$90,Bezetting_2!I$2:I$90,,0)","v":0},{"$f":"_xlfn.XLOOKUP($B$3,Bezetting_2!$A$2:$A$90,Bezetting_2!J$2:J$90,,0)","v":0},{"$f":"_xlfn.XLOOKUP($B$3,Bezetting_2!$A$2:$A$90,Bezetting_2!K$2:K$90,,0)","v":9},{"$f":"_xlfn.XLOOKUP($B$3,Bezetting_2!$A$2:$A$90,Bezetting_2!L$2:L$90,,0)","v":0},{"$f":"_xlfn.XLOOKUP($B$3,Bezetting_2!$A$2:$A$90,Bezetting_2!M$2:M$90,,0)","v":1},{"$f":"_xlfn.XLOOKUP($B$3,Bezetting_2!$A$2:$A$90,Bezetting_2!N$2:N$90,,0)","v":0},{"$f":"_xlfn.XLOOKUP($B$3,Bezetting_2!$A$2:$A$90,Bezetting_2!O$2:O$90,,0)","v":0},{"$f":"_xlfn.XLOOKUP($B$3,Bezetting_2!$A$2:$A$90,Bezetting_2!P$2:P$90,,0)","v":"Overig: aanhanger"}]
[null,"Meting",null,null,null,{"$f":"IF(F10=0,\"-\",F10/$L$10)","v":0.88888888888888884},{"$f":"IF(G10=0,\"-\",G10/$L$10)","v":"-"},"-",0.1111111111111111,"-","-",1,null,null,null,null,{"$f":"_xlfn.XLOOKUP($B$3,Bezetting_2!$A$2:$A$90,Bezetting_2!Q$2:Q$90,,0)","v":0}]
[null,{"$f":"\"Meetperiode: \"&TEXT(VLOOKUP(B3,Coordinaten!$A:$G,7,0),\"dddd dd mmmm jjjj\")","v":"Meetperiode: di 10 & do 12 oktober 2023"}]
[null,"Methodiek: Parkeerdrukmeting met waarnemers"]
[null,"In opdracht van: Vlaamse overheid"]
[null,"Uitgevoerd door: Dufec"]
[null,null,null,"VERDELING NAAR CATEGORIE"]
[null,"Locatie"]
[null,{"$f":"IF(B4=\"\",\"\",HYPERLINK(\"http://www.googlemaps.com/?q=\"&B4,\"Lat/Long: \"&B4))","v":"Lat/Long: 50.799170, 4.970858"}]
[]
[null,null,null,null,null,null,null,null,null,null,null,null,null,null,null,"Legenda"]
[null,null,null,null,null,null,null,null,null,null,null,null,null,null,null,null,"Personenwagen"]
[null,null,null,null,null,null,null,null,null,null,null,null,null,null,null,null,"Vracht"]
[null,null,null,null,null,null,null,null,null,null,null,null,null,null,null,null,"Motor"]
[null,null,null,null,null,null,null,null,null,null,null,null,null,null,null,null,"Obstakel / overig"]
[null,null,null,null,null,null,null,null,null,null,null,null,null,null,null,null,"Fout personenwagen"]
[null,null,null,null,null,null,null,null,null,null,null,null,null,null,null,null,"Fout Vracht"]
[]
[]
[]
[]
[]
[]
[]
[]
[]
[]
[]
[]
[null,"Toelichting"]
[null,"Pers = personenwagens op daarvoor bestemde"]
[null,"          openbare plaatsen"]
[null,"Vracht = vrachtwagens op daarvoor bestemde"]
[null,"          parkeerplaatsen (middel- en zwaar vrachtverkeer)"]
[null,"Motor = geparkeerde motoren op openbare plaatsen"]
[null,"Obstakel / overig = obstakels of overige voertuigen"]
[null,"          geparkeerd op openbare plaatsen"]
[null,"Fout pers = personenwagens die fout geparkeerd staan"]
[null,"Fout vracht = vrachtwagens die fout geparkeerd staan"]
[null,"E-wagen = geparkeerde elektrisch voertuig bij een"]
[null,"          elektrisch oplaadpunt"]
[null,"Invalide = personenwagens en motoren op voor"]
[null,"          invalide personen bestemde parkeerplaats"]
[null,"Gestalde fietsen = alle gestalde fietsen op de"]
[null,"          daarvoor bestemde parkeerplaatsen"]

{"sheet":"14.Hakendover","index":12,"n_rows":54,"n_cols":26,"rows_kept":54,"cut":false,"hidden":false,"merged":[[4,3,5,12],[4,16,5,16],[15,3,16,12]]}
[]
[null,"PARKEERONDERZOEK",null,"CARPOOLPARKINGS EN P+R PARKINGS"]
[null,14,null,{"$f":"B8 & \" - \"& TEXT(VLOOKUP(B3,Coordinaten!$A$2:$G$95,7,0),\"dddd dd mmmm jjjj\")","v":"Carpool parking Hakendover, Tienen - di 10 & do 12 oktober 2023"}]
[null,{"$f":"VLOOKUP(B3,Coordinaten!$A$2:$G$95,6,0)","v":"50.798982, 4.973467"}]
[null,null,null,"BEZETTING  ",null,null,null,null,null,null,null,null,null,null,null,null,"OPMERKINGEN"]
[]
[null,"Onderzoeksgebied",null,"Datum","Geregistreerd tussen","Pers","Vracht","Motor","Obstakel / overig","Fout   pers","Fout Vracht","Totaal","E-wagen\nplaats","Invalidenplaats","Gestalde fietsen",null,null,null,null,null,{"$f":"F7","v":"Pers"},"Vracht","Motor","Obstakel / overig","Fout   pers","Fout Vracht"]
[null,{"$f":"VLOOKUP(B3,Coordinaten!$A$2:$G$95,3,0)&\", \"&VLOOKUP(B3,Coordinaten!$A$2:$G$95,5,0)","v":"Carpool parking Hakendover, Tienen"},null,{"$f":"_xlfn.XLOOKUP($B$3,Bezetting_1!$A$2:$A$90,Bezetting_1!C$2:C$90,,0)","v":"2023-10-10"},{"$f":"_xlfn.XLOOKUP($B$3,Bezetting_1!$A$2:$A$90,Bezetting_1!D$2:D$90,,0)","v":"09:00 - 16:00u"},{"$f":"_xlfn.XLOOKUP($B$3,Bezetting_1!$A$2:$A$90,Bezetting_1!E$2:E$90,,0)","v":4},{"$f":"_xlfn.XLOOKUP($B$3,Bezetting_1!$A$2:$A$90,Bezetting_1!F$2:F$90,,0)","v":0},{"$f":"_xlfn.XLOOKUP($B$3,Bezetting_1!$A$2:$A$90,Bezetting_1!G$2:G$90,,0)","v":0},{"$f":"_xlfn.XLOOKUP($B$3,Bezetting_1!$A$2:$A$90,Bezetting_1!H$2:H$90,,0)","v":0},{"$f":"_xlfn.XLOOKUP($B$3,Bezetting_1!$A$2:$A$90,Bezetting_1!I$2:I$90,,0)","v":0},{"$f":"_xlfn.XLOOKUP($B$3,Bezetting_1!$A$2:$A$90,Bezetting_1!J$2:J$90,,0)","v":0},{"$f":"_xlfn.XLOOKUP($B$3,Bezetting_1!$A$2:$A$90,Bezetting_1!K$2:K$90,,0)","v":4},{"$f":"_xlfn.XLOOKUP($B$3,Bezetting_1!$A$2:$A$90,Bezetting_1!L$2:L$90,,0)","v":0},{"$f":"_xlfn.XLOOKUP($B$3,Bezetting_1!$A$2:$A$90,Bezetting_1!M$2:M$90,,0)","v":0},{"$f":"_xlfn.XLOOKUP($B$3,Bezetting_1!$A$2:$A$90,Bezetting_1!N$2:N$90,,0)","v":0},null,{"$f":"_xlfn.XLOOKUP($B$3,Bezetting_1!$A$2:$A$90,Bezetting_1!P$2:P$90,,0)","v":0},null,{"$f":"D8","v":"2023-10-10"},{"$f":"E8","v":"09:00 - 16:00u"},{"$f":"IF(F8=0,NA(),F8/$L8)","v":1},{"$f":"IF(G8=0,NA(),G8/$L8)","v":{"$error":"#N/A"}},{"$f":"IF(H8=0,NA(),H8/$L8)","v":{"$error":"#N/A"}},{"$error":"#N/A"},{"$error":"#N/A"},{"$error":"#N/A"}]
[null,{"$f":"\"Nabij kruispunt: \"&VLOOKUP(B3,Coordinaten!$A$2:$L$95,4,0)","v":"Nabij kruispunt: N3 / R27"},null,null,null,{"$f":"IF(F8=0,\"-\",F8/$L$8)","v":1},{"$f":"IF(G8=0,\"-\",G8/$L$8)","v":"-"},"-","-","-","-",1,null,null,null,null,{"$f":"_xlfn.XLOOKUP($B$3,Bezetting_1!$A$2:$A$90,Bezetting_1!Q$2:Q$90,,0)","v":0},null,{"$f":"D10","v":"2023-10-10"},{"$f":"E10","v":"19:00 - 02:00u"},{"$f":"IF(F10=0,NA(),F10/$L10)","v":1},{"$f":"IF(G10=0,NA(),G10/$L10)","v":{"$error":"#N/A"}},{"$error":"#N/A"},{"$error":"#N/A"},{"$error":"#N/A"},{"$error":"#N/A"}]
[null,null,null,{"$f":"_xlfn.XLOOKUP($B$3,Bezetting_2!$A$2:$A$90,Bezetting_2!C$2:C$90,,0)","v":"2023-10-10"},{"$f":"_xlfn.XLOOKUP($B$3,Bezetting_2!$A$2:$A$90,Bezetting_2!D$2:D$90,,0)","v":"19:00 - 02:00u"},{"$f":"_xlfn.XLOOKUP($B$3,Bezetting_2!$A$2:$A$90,Bezetting_2!E$2:E$90,,0)","v":2},{"$f":"_xlfn.XLOOKUP($B$3,Bezetting_2!$A$2:$A$90,Bezetting_2!F$2:F$90,,0)","v":0},{"$f":"_xlfn.XLOOKUP($B$3,Bezetting_2!$A$2:$A$90,Bezetting_2!G$2:G$90,,0)","v":0},{"$f":"_xlfn.XLOOKUP($B$3,Bezetting_2!$A$2:$A$90,Bezetting_2!H$2:H$90,,0)","v":0},{"$f":"_xlfn.XLOOKUP($B$3,Bezetting_2!$A$2:$A$90,Bezetting_2!I$2:I$90,,0)","v":0},{"$f":"_xlfn.XLOOKUP($B$3,Bezetting_2!$A$2:$A$90,Bezetting_2!J$2:J$90,,0)","v":0},{"$f":"_xlfn.XLOOKUP($B$3,Bezetting_2!$A$2:$A$90,Bezetting_2!K$2:K$90,,0)","v":2},{"$f":"_xlfn.XLOOKUP($B$3,Bezetting_2!$A$2:$A$90,Bezetting_2!L$2:L$90,,0)","v":0},{"$f":"_xlfn.XLOOKUP($B$3,Bezetting_2!$A$2:$A$90,Bezetting_2!M$2:M$90,,0)","v":0},{"$f":"_xlfn.XLOOKUP($B$3,Bezetting_2!$A$2:$A$90,Bezetting_2!N$2:N$90,,0)","v":0},{"$f":"_xlfn.XLOOKUP($B$3,Bezetting_2!$A$2:$A$90,Bezetting_2!O$2:O$90,,0)","v":0},{"$f":"_xlfn.XLOOKUP($B$3,Bezetting_2!$A$2:$A$90,Bezetting_2!P$2:P$90,,0)","v":0}]
[null,"Meting",null,null,null,{"$f":"IF(F10=0,\"-\",F10/$L$10)","v":1},{"$f":"IF(G10=0,\"-\",G10/$L$10)","v":"-"},"-","-","-","-",1,null,null,null,null,{"$f":"_xlfn.XLOOKUP($B$3,Bezetting_2!$A$2:$A$90,Bezetting_2!Q$2:Q$90,,0)","v":0}]
[null,{"$f":"\"Meetperiode: \"&TEXT(VLOOKUP(B3,Coordinaten!$A:$G,7,0),\"dddd dd mmmm jjjj\")","v":"Meetperiode: di 10 & do 12 oktober 2023"}]
[null,"Methodiek: Parkeerdrukmeting met waarnemers"]
[null,"In opdracht van: Vlaamse overheid"]
[null,"Uitgevoerd door: Dufec"]
[null,null,null,"VERDELING NAAR CATEGORIE"]
[null,"Locatie"]
[null,{"$f":"IF(B4=\"\",\"\",HYPERLINK(\"http://www.googlemaps.com/?q=\"&B4,\"Lat/Long: \"&B4))","v":"Lat/Long: 50.798982, 4.973467"}]
[]
[null,null,null,null,null,null,null,null,null,null,null,null,null,null,null,"Legenda"]
[null,null,null,null,null,null,null,null,null,null,null,null,null,null,null,null,"Personenwagen"]
[null,null,null,null,null,null,null,null,null,null,null,null,null,null,null,null,"Vracht"]
[null,null,null,null,null,null,null,null,null,null,null,null,null,null,null,null,"Motor"]
[null,null,null,null,null,null,null,null,null,null,null,null,null,null,null,null,"Obstakel / overig"]
[null,null,null,null,null,null,null,null,null,null,null,null,null,null,null,null,"Fout personenwagen"]
[null,null,null,null,null,null,null,null,null,null,null,null,null,null,null,null,"Fout Vracht"]
[]
[]
[]
[]
[]
[]
[]
[]
[]
[]
[]
[]
[null,"Toelichting"]
[null,"Pers = personenwagens op daarvoor bestemde"]
[null,"          openbare plaatsen"]
[null,"Vracht = vrachtwagens op daarvoor bestemde"]
[null,"          parkeerplaatsen (middel- en zwaar vrachtverkeer)"]
[null,"Motor = geparkeerde motoren op openbare plaatsen"]
[null,"Obstakel / overig = obstakels of overige voertuigen"]
[null,"          geparkeerd op openbare plaatsen"]
[null,"Fout pers = personenwagens die fout geparkeerd staan"]
[null,"Fout vracht = vrachtwagens die fout geparkeerd staan"]
[null,"E-wagen = geparkeerde elektrisch voertuig bij een"]
[null,"          elektrisch oplaadpunt"]
[null,"Invalide = personenwagens en motoren op voor"]
[null,"          invalide personen bestemde parkeerplaats"]
[null,"Gestalde fietsen = alle gestalde fietsen op de"]
[null,"          daarvoor bestemde parkeerplaatsen"]

{"sheet":"15.Kontich","index":13,"n_rows":54,"n_cols":26,"rows_kept":54,"cut":false,"hidden":false,"merged":[[4,3,5,12],[4,16,5,16],[15,3,16,12]]}
[]
[null,"PARKEERONDERZOEK",null,"CARPOOLPARKINGS EN P+R PARKINGS"]
[null,15,null,{"$f":"B8 & \" - \"& TEXT(VLOOKUP(B3,Coordinaten!$A$2:$G$95,7,0),\"dddd dd mmmm jjjj\")","v":"Carpool parking Kontich, Kontich - di 10 & do 12 oktober 2023"}]
[null,{"$f":"VLOOKUP(B3,Coordinaten!$A$2:$G$95,6,0)","v":"51.126274, 4.432122"}]
[null,null,null,"BEZETTING  ",null,null,null,null,null,null,null,null,null,null,null,null,"OPMERKINGEN"]
[]
[null,"Onderzoeksgebied",null,"Datum","Geregistreerd tussen","Pers","Vracht","Motor","Obstakel / overig","Fout   pers","Fout Vracht","Totaal","E-wagen\nplaats","Invalidenplaats","Gestalde fietsen",null,null,null,null,null,{"$f":"F7","v":"Pers"},"Vracht","Motor","Obstakel / overig","Fout   pers","Fout Vracht"]
[null,{"$f":"VLOOKUP(B3,Coordinaten!$A$2:$G$95,3,0)&\", \"&VLOOKUP(B3,Coordinaten!$A$2:$G$95,5,0)","v":"Carpool parking Kontich, Kontich"},null,{"$f":"_xlfn.XLOOKUP($B$3,Bezetting_1!$A$2:$A$90,Bezetting_1!C$2:C$90,,0)","v":"2023-10-12"},{"$f":"_xlfn.XLOOKUP($B$3,Bezetting_1!$A$2:$A$90,Bezetting_1!D$2:D$90,,0)","v":"09:00 - 16:00u"},{"$f":"_xlfn.XLOOKUP($B$3,Bezetting_1!$A$2:$A$90,Bezetting_1!E$2:E$90,,0)","v":144},{"$f":"_xlfn.XLOOKUP($B$3,Bezetting_1!$A$2:$A$90,Bezetting_1!F$2:F$90,,0)","v":0},{"$f":"_xlfn.XLOOKUP($B$3,Bezetting_1!$A$2:$A$90,Bezetting_1!G$2:G$90,,0)","v":0},{"$f":"_xlfn.XLOOKUP($B$3,Bezetting_1!$A$2:$A$90,Bezetting_1!H$2:H$90,,0)","v":1},{"$f":"_xlfn.XLOOKUP($B$3,Bezetting_1!$A$2:$A$90,Bezetting_1!I$2:I$90,,0)","v":0},{"$f":"_xlfn.XLOOKUP($B$3,Bezetting_1!$A$2:$A$90,Bezetting_1!J$2:J$90,,0)","v":0},{"$f":"_xlfn.XLOOKUP($B$3,Bezetting_1!$A$2:$A$90,Bezetting_1!K$2:K$90,,0)","v":145},{"$f":"_xlfn.XLOOKUP($B$3,Bezetting_1!$A$2:$A$90,Bezetting_1!L$2:L$90,,0)","v":1},{"$f":"_xlfn.XLOOKUP($B$3,Bezetting_1!$A$2:$A$90,Bezetting_1!M$2:M$90,,0)","v":0},{"$f":"_xlfn.XLOOKUP($B$3,Bezetting_1!$A$2:$A$90,Bezetting_1!N$2:N$90,,0)","v":0},null,{"$f":"_xlfn.XLOOKUP($B$3,Bezetting_1!$A$2:$A$90,Bezetting_1!P$2:P$90,,0)","v":"Overig: caravan"},null,{"$f":"D8","v":"2023-10-12"},{"$f":"E8","v":"09:00 - 16:00u"},{"$f":"IF(F8=0,NA(),F8/$L8)","v":0.99310344827586206},{"$f":"IF(G8=0,NA(),G8/$L8)","v":{"$error":"#N/A"}},{"$f":"IF(H8=0,NA(),H8/$L8)","v":{"$error":"#N/A"}},6.8965517241379309E-3,{"$error":"#N/A"},{"$error":"#N/A"}]
[null,{"$f":"\"Nabij kruispunt: \"&VLOOKUP(B3,Coordinaten!$A$2:$L$95,4,0)","v":"Nabij kruispunt: N171 / A1"},null,null,null,{"$f":"IF(F8=0,\"-\",F8/$L$8)","v":0.99310344827586206},{"$f":"IF(G8=0,\"-\",G8/$L$8)","v":"-"},"-",6.8965517241379309E-3,"-","-",1,null,null,null,null,{"$f":"_xlfn.XLOOKUP($B$3,Bezetting_1!$A$2:$A$90,Bezetting_1!Q$2:Q$90,,0)","v":0},null,{"$f":"D10","v":"2023-10-12"},{"$f":"E10","v":"19:00 - 02:00u"},{"$f":"IF(F10=0,NA(),F10/$L10)","v":0.94059405940594054},{"$f":"IF(G10=0,NA(),G10/$L10)","v":{"$error":"#N/A"}},{"$error":"#N/A"},5.9405940594059403E-2,{"$error":"#N/A"},{"$error":"#N/A"}]
[null,null,null,{"$f":"_xlfn.XLOOKUP($B$3,Bezetting_2!$A$2:$A$90,Bezetting_2!C$2:C$90,,0)","v":"2023-10-12"},{"$f":"_xlfn.XLOOKUP($B$3,Bezetting_2!$A$2:$A$90,Bezetting_2!D$2:D$90,,0)","v":"19:00 - 02:00u"},{"$f":"_xlfn.XLOOKUP($B$3,Bezetting_2!$A$2:$A$90,Bezetting_2!E$2:E$90,,0)","v":95},{"$f":"_xlfn.XLOOKUP($B$3,Bezetting_2!$A$2:$A$90,Bezetting_2!F$2:F$90,,0)","v":0},{"$f":"_xlfn.XLOOKUP($B$3,Bezetting_2!$A$2:$A$90,Bezetting_2!G$2:G$90,,0)","v":0},{"$f":"_xlfn.XLOOKUP($B$3,Bezetting_2!$A$2:$A$90,Bezetting_2!H$2:H$90,,0)","v":6},{"$f":"_xlfn.XLOOKUP($B$3,Bezetting_2!$A$2:$A$90,Bezetting_2!I$2:I$90,,0)","v":0},{"$f":"_xlfn.XLOOKUP($B$3,Bezetting_2!$A$2:$A$90,Bezetting_2!J$2:J$90,,0)","v":0},{"$f":"_xlfn.XLOOKUP($B$3,Bezetting_2!$A$2:$A$90,Bezetting_2!K$2:K$90,,0)","v":101},{"$f":"_xlfn.XLOOKUP($B$3,Bezetting_2!$A$2:$A$90,Bezetting_2!L$2:L$90,,0)","v":0},{"$f":"_xlfn.XLOOKUP($B$3,Bezetting_2!$A$2:$A$90,Bezetting_2!M$2:M$90,,0)","v":0},{"$f":"_xlfn.XLOOKUP($B$3,Bezetting_2!$A$2:$A$90,Bezetting_2!N$2:N$90,,0)","v":0},{"$f":"_xlfn.XLOOKUP($B$3,Bezetting_2!$A$2:$A$90,Bezetting_2!O$2:O$90,,0)","v":0},{"$f":"_xlfn.XLOOKUP($B$3,Bezetting_2!$A$2:$A$90,Bezetting_2!P$2:P$90,,0)","v":"Overig: 1x trailer, 5x bus"}]
[null,"Meting",null,null,null,{"$f":"IF(F10=0,\"-\",F10/$L$10)","v":0.94059405940594054},{"$f":"IF(G10=0,\"-\",G10/$L$10)","v":"-"},"-",5.9405940594059403E-2,"-","-",1,null,null,null,null,{"$f":"_xlfn.XLOOKUP($B$3,Bezetting_2!$A$2:$A$90,Bezetting_2!Q$2:Q$90,,0)","v":0}]
[null,{"$f":"\"Meetperiode: \"&TEXT(VLOOKUP(B3,Coordinaten!$A:$G,7,0),\"dddd dd mmmm jjjj\")","v":"Meetperiode: di 10 & do 12 oktober 2023"}]
[null,"Methodiek: Parkeerdrukmeting met waarnemers"]
[null,"In opdracht van: Vlaamse overheid"]
[null,"Uitgevoerd door: Dufec"]
[null,null,null,"VERDELING NAAR CATEGORIE"]
[null,"Locatie"]
[null,{"$f":"IF(B4=\"\",\"\",HYPERLINK(\"http://www.googlemaps.com/?q=\"&B4,\"Lat/Long: \"&B4))","v":"Lat/Long: 51.126274, 4.432122"}]
[]
[null,null,null,null,null,null,null,null,null,null,null,null,null,null,null,"Legenda"]
[null,null,null,null,null,null,null,null,null,null,null,null,null,null,null,null,"Personenwagen"]
[null,null,null,null,null,null,null,null,null,null,null,null,null,null,null,null,"Vracht"]
[null,null,null,null,null,null,null,null,null,null,null,null,null,null,null,null,"Motor"]
[null,null,null,null,null,null,null,null,null,null,null,null,null,null,null,null,"Obstakel / overig"]
[null,null,null,null,null,null,null,null,null,null,null,null,null,null,null,null,"Fout personenwagen"]
[null,null,null,null,null,null,null,null,null,null,null,null,null,null,null,null,"Fout Vracht"]
[]
[]
[]
[]
[]
[]
[]
[]
[]
[]
[]
[]
[null,"Toelichting"]
[null,"Pers = personenwagens op daarvoor bestemde"]
[null,"          openbare plaatsen"]
[null,"Vracht = vrachtwagens op daarvoor bestemde"]
[null,"          parkeerplaatsen (middel- en zwaar vrachtverkeer)"]
[null,"Motor = geparkeerde motoren op openbare plaatsen"]
[null,"Obstakel / overig = obstakels of overige voertuigen"]
[null,"          geparkeerd op openbare plaatsen"]
[null,"Fout pers = personenwagens die fout geparkeerd staan"]
[null,"Fout vracht = vrachtwagens die fout geparkeerd staan"]
[null,"E-wagen = geparkeerde elektrisch voertuig bij een"]
[null,"          elektrisch oplaadpunt"]
[null,"Invalide = personenwagens en motoren op voor"]
[null,"          invalide personen bestemde parkeerplaats"]
[null,"Gestalde fietsen = alle gestalde fietsen op de"]
[null,"          daarvoor bestemde parkeerplaatsen"]

{"sheet":"16.Breendonk (Puurs)","index":14,"n_rows":54,"n_cols":26,"rows_kept":54,"cut":false,"hidden":false,"merged":[[4,3,5,12],[4,16,5,16],[15,3,16,12]]}
[]
[null,"PARKEERONDERZOEK",null,"CARPOOLPARKINGS EN P+R PARKINGS"]
[null,16,null,{"$f":"B8 & \" - \"& TEXT(VLOOKUP(B3,Coordinaten!$A$2:$G$95,7,0),\"dddd dd mmmm jjjj\")","v":"Carpool parking Breendonk (Puurs), Puurs - di 10 & do 12 oktober 2023"}]
[null,{"$f":"VLOOKUP(B3,Coordinaten!$A$2:$G$95,6,0)","v":"51.060329, 4.334348"}]
[null,null,null,"BEZETTING  ",null,null,null,null,null,null,null,null,null,null,null,null,"OPMERKINGEN"]
[]
[null,"Onderzoeksgebied",null,"Datum","Geregistreerd tussen","Pers","Vracht","Motor","Obstakel / overig","Fout   pers","Fout Vracht","Totaal","E-wagen\nplaats","Invalidenplaats","Gestalde fietsen",null,null,null,null,null,{"$f":"F7","v":"Pers"},"Vracht","Motor","Obstakel / overig","Fout   pers","Fout Vracht"]
[null,{"$f":"VLOOKUP(B3,Coordinaten!$A$2:$G$95,3,0)&\", \"&VLOOKUP(B3,Coordinaten!$A$2:$G$95,5,0)","v":"Carpool parking Breendonk (Puurs), Puurs"},null,{"$f":"_xlfn.XLOOKUP($B$3,Bezetting_1!$A$2:$A$90,Bezetting_1!C$2:C$90,,0)","v":"2023-10-12"},{"$f":"_xlfn.XLOOKUP($B$3,Bezetting_1!$A$2:$A$90,Bezetting_1!D$2:D$90,,0)","v":"09:00 - 16:00u"},{"$f":"_xlfn.XLOOKUP($B$3,Bezetting_1!$A$2:$A$90,Bezetting_1!E$2:E$90,,0)","v":79},{"$f":"_xlfn.XLOOKUP($B$3,Bezetting_1!$A$2:$A$90,Bezetting_1!F$2:F$90,,0)","v":13},{"$f":"_xlfn.XLOOKUP($B$3,Bezetting_1!$A$2:$A$90,Bezetting_1!G$2:G$90,,0)","v":0},{"$f":"_xlfn.XLOOKUP($B$3,Bezetting_1!$A$2:$A$90,Bezetting_1!H$2:H$90,,0)","v":0},{"$f":"_xlfn.XLOOKUP($B$3,Bezetting_1!$A$2:$A$90,Bezetting_1!I$2:I$90,,0)","v":2},{"$f":"_xlfn.XLOOKUP($B$3,Bezetting_1!$A$2:$A$90,Bezetting_1!J$2:J$90,,0)","v":4},{"$f":"_xlfn.XLOOKUP($B$3,Bezetting_1!$A$2:$A$90,Bezetting_1!K$2:K$90,,0)","v":98},{"$f":"_xlfn.XLOOKUP($B$3,Bezetting_1!$A$2:$A$90,Bezetting_1!L$2:L$90,,0)","v":0},{"$f":"_xlfn.XLOOKUP($B$3,Bezetting_1!$A$2:$A$90,Bezetting_1!M$2:M$90,,0)","v":0},{"$f":"_xlfn.XLOOKUP($B$3,Bezetting_1!$A$2:$A$90,Bezetting_1!N$2:N$90,,0)","v":0},null,{"$f":"_xlfn.XLOOKUP($B$3,Bezetting_1!$A$2:$A$90,Bezetting_1!P$2:P$90,,0)","v":0},null,{"$f":"D8","v":"2023-10-12"},{"$f":"E8","v":"09:00 - 16:00u"},{"$f":"IF(F8=0,NA(),F8/$L8)","v":0.80612244897959184},{"$f":"IF(G8=0,NA(),G8/$L8)","v":0.1326530612244898},{"$f":"IF(H8=0,NA(),H8/$L8)","v":{"$error":"#N/A"}},{"$error":"#N/A"},2.0408163265306121E-2,4.0816326530612242E-2]
[null,{"$f":"\"Nabij kruispunt: \"&VLOOKUP(B3,Coordinaten!$A$2:$L$95,4,0)","v":"Nabij kruispunt: N16 / N183"},null,null,null,{"$f":"IF(F8=0,\"-\",F8/$L$8)","v":0.80612244897959184},{"$f":"IF(G8=0,\"-\",G8/$L$8)","v":0.1326530612244898},"-","-",2.0408163265306121E-2,4.0816326530612242E-2,1,null,null,null,null,{"$f":"_xlfn.XLOOKUP($B$3,Bezetting_1!$A$2:$A$90,Bezetting_1!Q$2:Q$90,,0)","v":0},null,{"$f":"D10","v":"2023-10-12"},{"$f":"E10","v":"19:00 - 02:00u"},{"$f":"IF(F10=0,NA(),F10/$L10)","v":0.36249999999999999},{"$f":"IF(G10=0,NA(),G10/$L10)","v":0.21249999999999999},{"$error":"#N/A"},{"$error":"#N/A"},1.2500000000000001E-2,0.41249999999999998]
[null,null,null,{"$f":"_xlfn.XLOOKUP($B$3,Bezetting_2!$A$2:$A$90,Bezetting_2!C$2:C$90,,0)","v":"2023-10-12"},{"$f":"_xlfn.XLOOKUP($B$3,Bezetting_2!$A$2:$A$90,Bezetting_2!D$2:D$90,,0)","v":"19:00 - 02:00u"},{"$f":"_xlfn.XLOOKUP($B$3,Bezetting_2!$A$2:$A$90,Bezetting_2!E$2:E$90,,0)","v":29},{"$f":"_xlfn.XLOOKUP($B$3,Bezetting_2!$A$2:$A$90,Bezetting_2!F$2:F$90,,0)","v":17},{"$f":"_xlfn.XLOOKUP($B$3,Bezetting_2!$A$2:$A$90,Bezetting_2!G$2:G$90,,0)","v":0},{"$f":"_xlfn.XLOOKUP($B$3,Bezetting_2!$A$2:$A$90,Bezetting_2!H$2:H$90,,0)","v":0},{"$f":"_xlfn.XLOOKUP($B$3,Bezetting_2!$A$2:$A$90,Bezetting_2!I$2:I$90,,0)","v":1},{"$f":"_xlfn.XLOOKUP($B$3,Bezetting_2!$A$2:$A$90,Bezetting_2!J$2:J$90,,0)","v":33},{"$f":"_xlfn.XLOOKUP($B$3,Bezetting_2!$A$2:$A$90,Bezetting_2!K$2:K$90,,0)","v":80},{"$f":"_xlfn.XLOOKUP($B$3,Bezetting_2!$A$2:$A$90,Bezetting_2!L$2:L$90,,0)","v":0},{"$f":"_xlfn.XLOOKUP($B$3,Bezetting_2!$A$2:$A$90,Bezetting_2!M$2:M$90,,0)","v":0},{"$f":"_xlfn.XLOOKUP($B$3,Bezetting_2!$A$2:$A$90,Bezetting_2!N$2:N$90,,0)","v":0},{"$f":"_xlfn.XLOOKUP($B$3,Bezetting_2!$A$2:$A$90,Bezetting_2!O$2:O$90,,0)","v":0},{"$f":"_xlfn.XLOOKUP($B$3,Bezetting_2!$A$2:$A$90,Bezetting_2!P$2:P$90,,0)","v":0}]
[null,"Meting",null,null,null,{"$f":"IF(F10=0,\"-\",F10/$L$10)","v":0.36249999999999999},{"$f":"IF(G10=0,\"-\",G10/$L$10)","v":0.21249999999999999},"-","-",1.2500000000000001E-2,0.41249999999999998,1,null,null,null,null,{"$f":"_xlfn.XLOOKUP($B$3,Bezetting_2!$A$2:$A$90,Bezetting_2!Q$2:Q$90,,0)","v":0}]
[null,{"$f":"\"Meetperiode: \"&TEXT(VLOOKUP(B3,Coordinaten!$A:$G,7,0),\"dddd dd mmmm jjjj\")","v":"Meetperiode: di 10 & do 12 oktober 2023"}]
[null,"Methodiek: Parkeerdrukmeting met waarnemers"]
[null,"In opdracht van: Vlaamse overheid"]
[null,"Uitgevoerd door: Dufec"]
[null,null,null,"VERDELING NAAR CATEGORIE"]
[null,"Locatie"]
[null,{"$f":"IF(B4=\"\",\"\",HYPERLINK(\"http://www.googlemaps.com/?q=\"&B4,\"Lat/Long: \"&B4))","v":"Lat/Long: 51.060329, 4.334348"}]
[]
[null,null,null,null,null,null,null,null,null,null,null,null,null,null,null,"Legenda"]
[null,null,null,null,null,null,null,null,null,null,null,null,null,null,null,null,"Personenwagen"]
[null,null,null,null,null,null,null,null,null,null,null,null,null,null,null,null,"Vracht"]
[null,null,null,null,null,null,null,null,null,null,null,null,null,null,null,null,"Motor"]
[null,null,null,null,null,null,null,null,null,null,null,null,null,null,null,null,"Obstakel / overig"]
[null,null,null,null,null,null,null,null,null,null,null,null,null,null,null,null,"Fout personenwagen"]
[null,null,null,null,null,null,null,null,null,null,null,null,null,null,null,null,"Fout Vracht"]
[]
[]
[]
[]
[]
[]
[]
[]
[]
[]
[]
[]
[null,"Toelichting"]
[null,"Pers = personenwagens op daarvoor bestemde"]
[null,"          openbare plaatsen"]
[null,"Vracht = vrachtwagens op daarvoor bestemde"]
[null,"          parkeerplaatsen (middel- en zwaar vrachtverkeer)"]
[null,"Motor = geparkeerde motoren op openbare plaatsen"]
[null,"Obstakel / overig = obstakels of overige voertuigen"]
[null,"          geparkeerd op openbare plaatsen"]
[null,"Fout pers = personenwagens die fout geparkeerd staan"]
[null,"Fout vracht = vrachtwagens die fout geparkeerd staan"]
[null,"E-wagen = geparkeerde elektrisch voertuig bij een"]
[null,"          elektrisch oplaadpunt"]
[null,"Invalide = personenwagens en motoren op voor"]
[null,"          invalide personen bestemde parkeerplaats"]
[null,"Gestalde fietsen = alle gestalde fietsen op de"]
[null,"          daarvoor bestemde parkeerplaatsen"]

{"sheet":"17.Hasselt-Zuid","index":15,"n_rows":54,"n_cols":26,"rows_kept":54,"cut":false,"hidden":false,"merged":[[4,3,5,12],[4,16,5,16],[15,3,16,12]]}
[]
[null,"PARKEERONDERZOEK",null,"CARPOOLPARKINGS EN P+R PARKINGS"]
[null,17,null,{"$f":"B8 & \" - \"& TEXT(VLOOKUP(B3,Coordinaten!$A$2:$G$95,7,0),\"dddd dd mmmm jjjj\")","v":"Carpool parking Hasselt-Zuid, Hasselt - di 10 & do 12 oktober 2023"}]
[null,{"$f":"VLOOKUP(B3,Coordinaten!$A$2:$G$95,6,0)","v":"50.915675, 5.322639"}]
[null,null,null,"BEZETTING  ",null,null,null,null,null,null,null,null,null,null,null,null,"OPMERKINGEN"]
[]
[null,"Onderzoeksgebied",null,"Datum","Geregistreerd tussen","Pers","Vracht","Motor","Obstakel / overig","Fout   pers","Fout Vracht","Totaal","E-wagen\nplaats","Invalidenplaats","Gestalde fietsen",null,null,null,null,null,{"$f":"F7","v":"Pers"},"Vracht","Motor","Obstakel / overig","Fout   pers","Fout Vracht"]
[null,{"$f":"VLOOKUP(B3,Coordinaten!$A$2:$G$95,3,0)&\", \"&VLOOKUP(B3,Coordinaten!$A$2:$G$95,5,0)","v":"Carpool parking Hasselt-Zuid, Hasselt"},null,{"$f":"_xlfn.XLOOKUP($B$3,Bezetting_1!$A$2:$A$90,Bezetting_1!C$2:C$90,,0)","v":"2023-10-12"},{"$f":"_xlfn.XLOOKUP($B$3,Bezetting_1!$A$2:$A$90,Bezetting_1!D$2:D$90,,0)","v":"09:00 - 16:00u"},{"$f":"_xlfn.XLOOKUP($B$3,Bezetting_1!$A$2:$A$90,Bezetting_1!E$2:E$90,,0)","v":52},{"$f":"_xlfn.XLOOKUP($B$3,Bezetting_1!$A$2:$A$90,Bezetting_1!F$2:F$90,,0)","v":0},{"$f":"_xlfn.XLOOKUP($B$3,Bezetting_1!$A$2:$A$90,Bezetting_1!G$2:G$90,,0)","v":0},{"$f":"_xlfn.XLOOKUP($B$3,Bezetting_1!$A$2:$A$90,Bezetting_1!H$2:H$90,,0)","v":0},{"$f":"_xlfn.XLOOKUP($B$3,Bezetting_1!$A$2:$A$90,Bezetting_1!I$2:I$90,,0)","v":0},{"$f":"_xlfn.XLOOKUP($B$3,Bezetting_1!$A$2:$A$90,Bezetting_1!J$2:J$90,,0)","v":0},{"$f":"_xlfn.XLOOKUP($B$3,Bezetting_1!$A$2:$A$90,Bezetting_1!K$2:K$90,,0)","v":52},{"$f":"_xlfn.XLOOKUP($B$3,Bezetting_1!$A$2:$A$90,Bezetting_1!L$2:L$90,,0)","v":1},{"$f":"_xlfn.XLOOKUP($B$3,Bezetting_1!$A$2:$A$90,Bezetting_1!M$2:M$90,,0)","v":0},{"$f":"_xlfn.XLOOKUP($B$3,Bezetting_1!$A$2:$A$90,Bezetting_1!N$2:N$90,,0)","v":6},null,{"$f":"_xlfn.XLOOKUP($B$3,Bezetting_1!$A$2:$A$90,Bezetting_1!P$2:P$90,,0)","v":0},null,{"$f":"D8","v":"2023-10-12"},{"$f":"E8","v":"09:00 - 16:00u"},{"$f":"IF(F8=0,NA(),F8/$L8)","v":1},{"$f":"IF(G8=0,NA(),G8/$L8)","v":{"$error":"#N/A"}},{"$f":"IF(H8=0,NA(),H8/$L8)","v":{"$error":"#N/A"}},{"$error":"#N/A"},{"$error":"#N/A"},{"$error":"#N/A"}]
[null,{"$f":"\"Nabij kruispunt: \"&VLOOKUP(B3,Coordinaten!$A$2:$L$95,4,0)","v":"Nabij kruispunt: N80 / A13"},null,null,null,{"$f":"IF(F8=0,\"-\",F8/$L$8)","v":1},{"$f":"IF(G8=0,\"-\",G8/$L$8)","v":"-"},"-","-","-","-",1,null,null,null,null,{"$f":"_xlfn.XLOOKUP($B$3,Bezetting_1!$A$2:$A$90,Bezetting_1!Q$2:Q$90,,0)","v":0},null,{"$f":"D10","v":"2023-10-10"},{"$f":"E10","v":"19:00 - 02:00u"},{"$f":"IF(F10=0,NA(),F10/$L10)","v":1},{"$f":"IF(G10=0,NA(),G10/$L10)","v":{"$error":"#N/A"}},{"$error":"#N/A"},{"$error":"#N/A"},{"$error":"#N/A"},{"$error":"#N/A"}]
[null,null,null,{"$f":"_xlfn.XLOOKUP($B$3,Bezetting_2!$A$2:$A$90,Bezetting_2!C$2:C$90,,0)","v":"2023-10-10"},{"$f":"_xlfn.XLOOKUP($B$3,Bezetting_2!$A$2:$A$90,Bezetting_2!D$2:D$90,,0)","v":"19:00 - 02:00u"},{"$f":"_xlfn.XLOOKUP($B$3,Bezetting_2!$A$2:$A$90,Bezetting_2!E$2:E$90,,0)","v":40},{"$f":"_xlfn.XLOOKUP($B$3,Bezetting_2!$A$2:$A$90,Bezetting_2!F$2:F$90,,0)","v":0},{"$f":"_xlfn.XLOOKUP($B$3,Bezetting_2!$A$2:$A$90,Bezetting_2!G$2:G$90,,0)","v":0},{"$f":"_xlfn.XLOOKUP($B$3,Bezetting_2!$A$2:$A$90,Bezetting_2!H$2:H$90,,0)","v":0},{"$f":"_xlfn.XLOOKUP($B$3,Bezetting_2!$A$2:$A$90,Bezetting_2!I$2:I$90,,0)","v":0},{"$f":"_xlfn.XLOOKUP($B$3,Bezetting_2!$A$2:$A$90,Bezetting_2!J$2:J$90,,0)","v":0},{"$f":"_xlfn.XLOOKUP($B$3,Bezetting_2!$A$2:$A$90,Bezetting_2!K$2:K$90,,0)","v":40},{"$f":"_xlfn.XLOOKUP($B$3,Bezetting_2!$A$2:$A$90,Bezetting_2!L$2:L$90,,0)","v":0},{"$f":"_xlfn.XLOOKUP($B$3,Bezetting_2!$A$2:$A$90,Bezetting_2!M$2:M$90,,0)","v":0},{"$f":"_xlfn.XLOOKUP($B$3,Bezetting_2!$A$2:$A$90,Bezetting_2!N$2:N$90,,0)","v":5},{"$f":"_xlfn.XLOOKUP($B$3,Bezetting_2!$A$2:$A$90,Bezetting_2!O$2:O$90,,0)","v":0},{"$f":"_xlfn.XLOOKUP($B$3,Bezetting_2!$A$2:$A$90,Bezetting_2!P$2:P$90,,0)","v":0}]
[null,"Meting",null,null,null,{"$f":"IF(F10=0,\"-\",F10/$L$10)","v":1},{"$f":"IF(G10=0,\"-\",G10/$L$10)","v":"-"},"-","-","-","-",1,null,null,null,null,{"$f":"_xlfn.XLOOKUP($B$3,Bezetting_2!$A$2:$A$90,Bezetting_2!Q$2:Q$90,,0)","v":0}]
[null,{"$f":"\"Meetperiode: \"&TEXT(VLOOKUP(B3,Coordinaten!$A:$G,7,0),\"dddd dd mmmm jjjj\")","v":"Meetperiode: di 10 & do 12 oktober 2023"}]
[null,"Methodiek: Parkeerdrukmeting met waarnemers"]
[null,"In opdracht van: Vlaamse overheid"]
[null,"Uitgevoerd door: Dufec"]
[null,null,null,"VERDELING NAAR CATEGORIE"]
[null,"Locatie"]
[null,{"$f":"IF(B4=\"\",\"\",HYPERLINK(\"http://www.googlemaps.com/?q=\"&B4,\"Lat/Long: \"&B4))","v":"Lat/Long: 50.915675, 5.322639"}]
[]
[null,null,null,null,null,null,null,null,null,null,null,null,null,null,null,"Legenda"]
[null,null,null,null,null,null,null,null,null,null,null,null,null,null,null,null,"Personenwagen"]
[null,null,null,null,null,null,null,null,null,null,null,null,null,null,null,null,"Vracht"]
[null,null,null,null,null,null,null,null,null,null,null,null,null,null,null,null,"Motor"]
[null,null,null,null,null,null,null,null,null,null,null,null,null,null,null,null,"Obstakel / overig"]
[null,null,null,null,null,null,null,null,null,null,null,null,null,null,null,null,"Fout personenwagen"]
[null,null,null,null,null,null,null,null,null,null,null,null,null,null,null,null,"Fout Vracht"]
[]
[]
[]
[]
[]
[]
[]
[]
[]
[]
[]
[]
[null,"Toelichting"]
[null,"Pers = personenwagens op daarvoor bestemde"]
[null,"          openbare plaatsen"]
[null,"Vracht = vrachtwagens op daarvoor bestemde"]
[null,"          parkeerplaatsen (middel- en zwaar vrachtverkeer)"]
[null,"Motor = geparkeerde motoren op openbare plaatsen"]
[null,"Obstakel / overig = obstakels of overige voertuigen"]
[null,"          geparkeerd op openbare plaatsen"]
[null,"Fout pers = personenwagens die fout geparkeerd staan"]
[null,"Fout vracht = vrachtwagens die fout geparkeerd staan"]
[null,"E-wagen = geparkeerde elektrisch voertuig bij een"]
[null,"          elektrisch oplaadpunt"]
[null,"Invalide = personenwagens en motoren op voor"]
[null,"          invalide personen bestemde parkeerplaats"]
[null,"Gestalde fietsen = alle gestalde fietsen op de"]
[null,"          daarvoor bestemde parkeerplaatsen"]

{"sheet":"18.Herentals-West","index":16,"n_rows":54,"n_cols":26,"rows_kept":54,"cut":false,"hidden":false,"merged":[[4,3,5,12],[4,16,5,16],[15,3,16,12]]}
[]
[null,"PARKEERONDERZOEK",null,"CARPOOLPARKINGS EN P+R PARKINGS"]
[null,18,null,{"$f":"B8 & \" - \"& TEXT(VLOOKUP(B3,Coordinaten!$A$2:$G$95,7,0),\"dddd dd mmmm jjjj\")","v":"Carpool parking Herentals-West, Grobbendonk - di 10 & do 12 oktober 2023"}]
[null,{"$f":"VLOOKUP(B3,Coordinaten!$A$2:$G$95,6,0)","v":"51.175093, 4.761781"}]
[null,null,null,"BEZETTING  ",null,null,null,null,null,null,null,null,null,null,null,null,"OPMERKINGEN"]
[]
[null,"Onderzoeksgebied",null,"Datum","Geregistreerd tussen","Pers","Vracht","Motor","Obstakel / overig","Fout   pers","Fout Vracht","Totaal","E-wagen\nplaats","Invalidenplaats","Gestalde fietsen",null,null,null,null,null,{"$f":"F7","v":"Pers"},"Vracht","Motor","Obstakel / overig","Fout   pers","Fout Vracht"]
[null,{"$f":"VLOOKUP(B3,Coordinaten!$A$2:$G$95,3,0)&\", \"&VLOOKUP(B3,Coordinaten!$A$2:$G$95,5,0)","v":"Carpool parking Herentals-West, Grobbendonk"},null,{"$f":"_xlfn.XLOOKUP($B$3,Bezetting_1!$A$2:$A$90,Bezetting_1!C$2:C$90,,0)","v":"2023-10-12"},{"$f":"_xlfn.XLOOKUP($B$3,Bezetting_1!$A$2:$A$90,Bezetting_1!D$2:D$90,,0)","v":"09:00 - 16:00u"},{"$f":"_xlfn.XLOOKUP($B$3,Bezetting_1!$A$2:$A$90,Bezetting_1!E$2:E$90,,0)","v":51},{"$f":"_xlfn.XLOOKUP($B$3,Bezetting_1!$A$2:$A$90,Bezetting_1!F$2:F$90,,0)","v":0},{"$f":"_xlfn.XLOOKUP($B$3,Bezetting_1!$A$2:$A$90,Bezetting_1!G$2:G$90,,0)","v":0},{"$f":"_xlfn.XLOOKUP($B$3,Bezetting_1!$A$2:$A$90,Bezetting_1!H$2:H$90,,0)","v":0},{"$f":"_xlfn.XLOOKUP($B$3,Bezetting_1!$A$2:$A$90,Bezetting_1!I$2:I$90,,0)","v":0},{"$f":"_xlfn.XLOOKUP($B$3,Bezetting_1!$A$2:$A$90,Bezetting_1!J$2:J$90,,0)","v":0},{"$f":"_xlfn.XLOOKUP($B$3,Bezetting_1!$A$2:$A$90,Bezetting_1!K$2:K$90,,0)","v":51},{"$f":"_xlfn.XLOOKUP($B$3,Bezetting_1!$A$2:$A$90,Bezetting_1!L$2:L$90,,0)","v":0},{"$f":"_xlfn.XLOOKUP($B$3,Bezetting_1!$A$2:$A$90,Bezetting_1!M$2:M$90,,0)","v":0},{"$f":"_xlfn.XLOOKUP($B$3,Bezetting_1!$A$2:$A$90,Bezetting_1!N$2:N$90,,0)","v":2},null,{"$f":"_xlfn.XLOOKUP($B$3,Bezetting_1!$A$2:$A$90,Bezetting_1!P$2:P$90,,0)","v":0},null,{"$f":"D8","v":"2023-10-12"},{"$f":"E8","v":"09:00 - 16:00u"},{"$f":"IF(F8=0,NA(),F8/$L8)","v":1},{"$f":"IF(G8=0,NA(),G8/$L8)","v":{"$error":"#N/A"}},{"$f":"IF(H8=0,NA(),H8/$L8)","v":{"$error":"#N/A"}},{"$error":"#N/A"},{"$error":"#N/A"},{"$error":"#N/A"}]
[null,{"$f":"\"Nabij kruispunt: \"&VLOOKUP(B3,Coordinaten!$A$2:$L$95,4,0)","v":"Nabij kruispunt: N13 / A13"},null,null,null,{"$f":"IF(F8=0,\"-\",F8/$L$8)","v":1},{"$f":"IF(G8=0,\"-\",G8/$L$8)","v":"-"},"-","-","-","-",1,null,null,null,null,{"$f":"_xlfn.XLOOKUP($B$3,Bezetting_1!$A$2:$A$90,Bezetting_1!Q$2:Q$90,,0)","v":0},null,{"$f":"D10","v":"2023-10-10"},{"$f":"E10","v":"19:00 - 02:00u"},{"$f":"IF(F10=0,NA(),F10/$L10)","v":1},{"$f":"IF(G10=0,NA(),G10/$L10)","v":{"$error":"#N/A"}},{"$error":"#N/A"},{"$error":"#N/A"},{"$error":"#N/A"},{"$error":"#N/A"}]
[null,null,null,{"$f":"_xlfn.XLOOKUP($B$3,Bezetting_2!$A$2:$A$90,Bezetting_2!C$2:C$90,,0)","v":"2023-10-10"},{"$f":"_xlfn.XLOOKUP($B$3,Bezetting_2!$A$2:$A$90,Bezetting_2!D$2:D$90,,0)","v":"19:00 - 02:00u"},{"$f":"_xlfn.XLOOKUP($B$3,Bezetting_2!$A$2:$A$90,Bezetting_2!E$2:E$90,,0)","v":13},{"$f":"_xlfn.XLOOKUP($B$3,Bezetting_2!$A$2:$A$90,Bezetting_2!F$2:F$90,,0)","v":0},{"$f":"_xlfn.XLOOKUP($B$3,Bezetting_2!$A$2:$A$90,Bezetting_2!G$2:G$90,,0)","v":0},{"$f":"_xlfn.XLOOKUP($B$3,Bezetting_2!$A$2:$A$90,Bezetting_2!H$2:H$90,,0)","v":0},{"$f":"_xlfn.XLOOKUP($B$3,Bezetting_2!$A$2:$A$90,Bezetting_2!I$2:I$90,,0)","v":0},{"$f":"_xlfn.XLOOKUP($B$3,Bezetting_2!$A$2:$A$90,Bezetting_2!J$2:J$90,,0)","v":0},{"$f":"_xlfn.XLOOKUP($B$3,Bezetting_2!$A$2:$A$90,Bezetting_2!K$2:K$90,,0)","v":13},{"$f":"_xlfn.XLOOKUP($B$3,Bezetting_2!$A$2:$A$90,Bezetting_2!L$2:L$90,,0)","v":0},{"$f":"_xlfn.XLOOKUP($B$3,Bezetting_2!$A$2:$A$90,Bezetting_2!M$2:M$90,,0)","v":0},{"$f":"_xlfn.XLOOKUP($B$3,Bezetting_2!$A$2:$A$90,Bezetting_2!N$2:N$90,,0)","v":1},{"$f":"_xlfn.XLOOKUP($B$3,Bezetting_2!$A$2:$A$90,Bezetting_2!O$2:O$90,,0)","v":0},{"$f":"_xlfn.XLOOKUP($B$3,Bezetting_2!$A$2:$A$90,Bezetting_2!P$2:P$90,,0)","v":0}]
[null,"Meting",null,null,null,{"$f":"IF(F10=0,\"-\",F10/$L$10)","v":1},{"$f":"IF(G10=0,\"-\",G10/$L$10)","v":"-"},"-","-","-","-",1,null,null,null,null,{"$f":"_xlfn.XLOOKUP($B$3,Bezetting_2!$A$2:$A$90,Bezetting_2!Q$2:Q$90,,0)","v":0}]
[null,{"$f":"\"Meetperiode: \"&TEXT(VLOOKUP(B3,Coordinaten!$A:$G,7,0),\"dddd dd mmmm jjjj\")","v":"Meetperiode: di 10 & do 12 oktober 2023"}]
[null,"Methodiek: Parkeerdrukmeting met waarnemers"]
[null,"In opdracht van: Vlaamse overheid"]
[null,"Uitgevoerd door: Dufec"]
[null,null,null,"VERDELING NAAR CATEGORIE"]
[null,"Locatie"]
[null,{"$f":"IF(B4=\"\",\"\",HYPERLINK(\"http://www.googlemaps.com/?q=\"&B4,\"Lat/Long: \"&B4))","v":"Lat/Long: 51.175093, 4.761781"}]
[]
[null,null,null,null,null,null,null,null,null,null,null,null,null,null,null,"Legenda"]
[null,null,null,null,null,null,null,null,null,null,null,null,null,null,null,null,"Personenwagen"]
[null,null,null,null,null,null,null,null,null,null,null,null,null,null,null,null,"Vracht"]
[null,null,null,null,null,null,null,null,null,null,null,null,null,null,null,null,"Motor"]
[null,null,null,null,null,null,null,null,null,null,null,null,null,null,null,null,"Obstakel / overig"]
[null,null,null,null,null,null,null,null,null,null,null,null,null,null,null,null,"Fout personenwagen"]
[null,null,null,null,null,null,null,null,null,null,null,null,null,null,null,null,"Fout Vracht"]
[]
[]
[]
[]
[]
[]
[]
[]
[]
[]
[]
[]
[null,"Toelichting"]
[null,"Pers = personenwagens op daarvoor bestemde"]
[null,"          openbare plaatsen"]
[null,"Vracht = vrachtwagens op daarvoor bestemde"]
[null,"          parkeerplaatsen (middel- en zwaar vrachtverkeer)"]
[null,"Motor = geparkeerde motoren op openbare plaatsen"]
[null,"Obstakel / overig = obstakels of overige voertuigen"]
[null,"          geparkeerd op openbare plaatsen"]
[null,"Fout pers = personenwagens die fout geparkeerd staan"]
[null,"Fout vracht = vrachtwagens die fout geparkeerd staan"]
[null,"E-wagen = geparkeerde elektrisch voertuig bij een"]
[null,"          elektrisch oplaadpunt"]
[null,"Invalide = personenwagens en motoren op voor"]
[null,"          invalide personen bestemde parkeerplaats"]
[null,"Gestalde fietsen = alle gestalde fietsen op de"]
[null,"          daarvoor bestemde parkeerplaatsen"]

{"sheet":"19.Rumst","index":17,"n_rows":54,"n_cols":26,"rows_kept":54,"cut":false,"hidden":false,"merged":[[4,3,5,12],[4,16,5,16],[15,3,16,12]]}
[]
[null,"PARKEERONDERZOEK",null,"CARPOOLPARKINGS EN P+R PARKINGS"]
[null,19,null,{"$f":"B8 & \" - \"& TEXT(VLOOKUP(B3,Coordinaten!$A$2:$G$95,7,0),\"dddd dd mmmm jjjj\")","v":"Carpool parking Rumst, Rumst - di 10 & do 12 oktober 2023"}]
[null,{"$f":"VLOOKUP(B3,Coordinaten!$A$2:$G$95,6,0)","v":"51.085447, 4.444751"}]
[null,null,null,"BEZETTING  ",null,null,null,null,null,null,null,null,null,null,null,null,"OPMERKINGEN"]
[]
[null,"Onderzoeksgebied",null,"Datum","Geregistreerd tussen","Pers","Vracht","Motor","Obstakel / overig","Fout   pers","Fout Vracht","Totaal","E-wagen\nplaats","Invalidenplaats","Gestalde fietsen",null,null,null,null,null,{"$f":"F7","v":"Pers"},"Vracht","Motor","Obstakel / overig","Fout   pers","Fout Vracht"]
[null,{"$f":"VLOOKUP(B3,Coordinaten!$A$2:$G$95,3,0)&\", \"&VLOOKUP(B3,Coordinaten!$A$2:$G$95,5,0)","v":"Carpool parking Rumst, Rumst"},null,{"$f":"_xlfn.XLOOKUP($B$3,Bezetting_1!$A$2:$A$90,Bezetting_1!C$2:C$90,,0)","v":"2023-10-12"},{"$f":"_xlfn.XLOOKUP($B$3,Bezetting_1!$A$2:$A$90,Bezetting_1!D$2:D$90,,0)","v":"09:00 - 16:00u"},{"$f":"_xlfn.XLOOKUP($B$3,Bezetting_1!$A$2:$A$90,Bezetting_1!E$2:E$90,,0)","v":43},{"$f":"_xlfn.XLOOKUP($B$3,Bezetting_1!$A$2:$A$90,Bezetting_1!F$2:F$90,,0)","v":0},{"$f":"_xlfn.XLOOKUP($B$3,Bezetting_1!$A$2:$A$90,Bezetting_1!G$2:G$90,,0)","v":0},{"$f":"_xlfn.XLOOKUP($B$3,Bezetting_1!$A$2:$A$90,Bezetting_1!H$2:H$90,,0)","v":0},{"$f":"_xlfn.XLOOKUP($B$3,Bezetting_1!$A$2:$A$90,Bezetting_1!I$2:I$90,,0)","v":0},{"$f":"_xlfn.XLOOKUP($B$3,Bezetting_1!$A$2:$A$90,Bezetting_1!J$2:J$90,,0)","v":0},{"$f":"_xlfn.XLOOKUP($B$3,Bezetting_1!$A$2:$A$90,Bezetting_1!K$2:K$90,,0)","v":43},{"$f":"_xlfn.XLOOKUP($B$3,Bezetting_1!$A$2:$A$90,Bezetting_1!L$2:L$90,,0)","v":1},{"$f":"_xlfn.XLOOKUP($B$3,Bezetting_1!$A$2:$A$90,Bezetting_1!M$2:M$90,,0)","v":0},{"$f":"_xlfn.XLOOKUP($B$3,Bezetting_1!$A$2:$A$90,Bezetting_1!N$2:N$90,,0)","v":7},null,{"$f":"_xlfn.XLOOKUP($B$3,Bezetting_1!$A$2:$A$90,Bezetting_1!P$2:P$90,,0)","v":0},null,{"$f":"D8","v":"2023-10-12"},{"$f":"E8","v":"09:00 - 16:00u"},{"$f":"IF(F8=0,NA(),F8/$L8)","v":1},{"$f":"IF(G8=0,NA(),G8/$L8)","v":{"$error":"#N/A"}},{"$f":"IF(H8=0,NA(),H8/$L8)","v":{"$error":"#N/A"}},{"$error":"#N/A"},{"$error":"#N/A"},{"$error":"#N/A"}]
[null,{"$f":"\"Nabij kruispunt: \"&VLOOKUP(B3,Coordinaten!$A$2:$L$95,4,0)","v":"Nabij kruispunt: N1c / A1"},null,null,null,{"$f":"IF(F8=0,\"-\",F8/$L$8)","v":1},{"$f":"IF(G8=0,\"-\",G8/$L$8)","v":"-"},"-","-","-","-",1,null,null,null,null,{"$f":"_xlfn.XLOOKUP($B$3,Bezetting_1!$A$2:$A$90,Bezetting_1!Q$2:Q$90,,0)","v":0},null,{"$f":"D10","v":"2023-10-12"},{"$f":"E10","v":"19:00 - 02:00u"},{"$f":"IF(F10=0,NA(),F10/$L10)","v":0.97674418604651159},{"$f":"IF(G10=0,NA(),G10/$L10)","v":{"$error":"#N/A"}},{"$error":"#N/A"},{"$error":"#N/A"},2.3255813953488372E-2,{"$error":"#N/A"}]
[null,null,null,{"$f":"_xlfn.XLOOKUP($B$3,Bezetting_2!$A$2:$A$90,Bezetting_2!C$2:C$90,,0)","v":"2023-10-12"},{"$f":"_xlfn.XLOOKUP($B$3,Bezetting_2!$A$2:$A$90,Bezetting_2!D$2:D$90,,0)","v":"19:00 - 02:00u"},{"$f":"_xlfn.XLOOKUP($B$3,Bezetting_2!$A$2:$A$90,Bezetting_2!E$2:E$90,,0)","v":42},{"$f":"_xlfn.XLOOKUP($B$3,Bezetting_2!$A$2:$A$90,Bezetting_2!F$2:F$90,,0)","v":0},{"$f":"_xlfn.XLOOKUP($B$3,Bezetting_2!$A$2:$A$90,Bezetting_2!G$2:G$90,,0)","v":0},{"$f":"_xlfn.XLOOKUP($B$3,Bezetting_2!$A$2:$A$90,Bezetting_2!H$2:H$90,,0)","v":0},{"$f":"_xlfn.XLOOKUP($B$3,Bezetting_2!$A$2:$A$90,Bezetting_2!I$2:I$90,,0)","v":1},{"$f":"_xlfn.XLOOKUP($B$3,Bezetting_2!$A$2:$A$90,Bezetting_2!J$2:J$90,,0)","v":0},{"$f":"_xlfn.XLOOKUP($B$3,Bezetting_2!$A$2:$A$90,Bezetting_2!K$2:K$90,,0)","v":43},{"$f":"_xlfn.XLOOKUP($B$3,Bezetting_2!$A$2:$A$90,Bezetting_2!L$2:L$90,,0)","v":2},{"$f":"_xlfn.XLOOKUP($B$3,Bezetting_2!$A$2:$A$90,Bezetting_2!M$2:M$90,,0)","v":0},{"$f":"_xlfn.XLOOKUP($B$3,Bezetting_2!$A$2:$A$90,Bezetting_2!N$2:N$90,,0)","v":0},{"$f":"_xlfn.XLOOKUP($B$3,Bezetting_2!$A$2:$A$90,Bezetting_2!O$2:O$90,,0)","v":0},{"$f":"_xlfn.XLOOKUP($B$3,Bezetting_2!$A$2:$A$90,Bezetting_2!P$2:P$90,,0)","v":0}]
[null,"Meting",null,null,null,{"$f":"IF(F10=0,\"-\",F10/$L$10)","v":0.97674418604651159},{"$f":"IF(G10=0,\"-\",G10/$L$10)","v":"-"},"-","-",2.3255813953488372E-2,"-",1,null,null,null,null,{"$f":"_xlfn.XLOOKUP($B$3,Bezetting_2!$A$2:$A$90,Bezetting_2!Q$2:Q$90,,0)","v":0}]
[null,{"$f":"\"Meetperiode: \"&TEXT(VLOOKUP(B3,Coordinaten!$A:$G,7,0),\"dddd dd mmmm jjjj\")","v":"Meetperiode: di 10 & do 12 oktober 2023"}]
[null,"Methodiek: Parkeerdrukmeting met waarnemers"]
[null,"In opdracht van: Vlaamse overheid"]
[null,"Uitgevoerd door: Dufec"]
[null,null,null,"VERDELING NAAR CATEGORIE"]
[null,"Locatie"]
[null,{"$f":"IF(B4=\"\",\"\",HYPERLINK(\"http://www.googlemaps.com/?q=\"&B4,\"Lat/Long: \"&B4))","v":"Lat/Long: 51.085447, 4.444751"}]
[]
[null,null,null,null,null,null,null,null,null,null,null,null,null,null,null,"Legenda"]
[null,null,null,null,null,null,null,null,null,null,null,null,null,null,null,null,"Personenwagen"]
[null,null,null,null,null,null,null,null,null,null,null,null,null,null,null,null,"Vracht"]
[null,null,null,null,null,null,null,null,null,null,null,null,null,null,null,null,"Motor"]
[null,null,null,null,null,null,null,null,null,null,null,null,null,null,null,null,"Obstakel / overig"]
[null,null,null,null,null,null,null,null,null,null,null,null,null,null,null,null,"Fout personenwagen"]
[null,null,null,null,null,null,null,null,null,null,null,null,null,null,null,null,"Fout Vracht"]
[]
[]
[]
[]
[]
[]
[]
[]
[]
[]
[]
[]
[null,"Toelichting"]
[null,"Pers = personenwagens op daarvoor bestemde"]
[null,"          openbare plaatsen"]
[null,"Vracht = vrachtwagens op daarvoor bestemde"]
[null,"          parkeerplaatsen (middel- en zwaar vrachtverkeer)"]
[null,"Motor = geparkeerde motoren op openbare plaatsen"]
[null,"Obstakel / overig = obstakels of overige voertuigen"]
[null,"          geparkeerd op openbare plaatsen"]
[null,"Fout pers = personenwagens die fout geparkeerd staan"]
[null,"Fout vracht = vrachtwagens die fout geparkeerd staan"]
[null,"E-wagen = geparkeerde elektrisch voertuig bij een"]
[null,"          elektrisch oplaadpunt"]
[null,"Invalide = personenwagens en motoren op voor"]
[null,"          invalide personen bestemde parkeerplaats"]
[null,"Gestalde fietsen = alle gestalde fietsen op de"]
[null,"          daarvoor bestemde parkeerplaatsen"]

{"sheet":"20.Paal","index":18,"n_rows":54,"n_cols":26,"rows_kept":54,"cut":false,"hidden":false,"merged":[[4,3,5,12],[4,16,5,16],[15,3,16,12]]}
[]
[null,"PARKEERONDERZOEK",null,"CARPOOLPARKINGS EN P+R PARKINGS"]
[null,20,null,{"$f":"B8 & \" - \"& TEXT(VLOOKUP(B3,Coordinaten!$A$2:$G$95,7,0),\"dddd dd mmmm jjjj\")","v":"Carpool parking Paal, Beringen - di 10 & do 12 oktober 2023"}]
[null,{"$f":"VLOOKUP(B3,Coordinaten!$A$2:$G$95,6,0)","v":"51.043187, 5.186305"}]
[null,null,null,"BEZETTING  ",null,null,null,null,null,null,null,null,null,null,null,null,"OPMERKINGEN"]
[]
[null,"Onderzoeksgebied",null,"Datum","Geregistreerd tussen","Pers","Vracht","Motor","Obstakel / overig","Fout   pers","Fout Vracht","Totaal","E-wagen\nplaats","Invalidenplaats","Gestalde fietsen",null,null,null,null,null,{"$f":"F7","v":"Pers"},"Vracht","Motor","Obstakel / overig","Fout   pers","Fout Vracht"]
[null,{"$f":"VLOOKUP(B3,Coordinaten!$A$2:$G$95,3,0)&\", \"&VLOOKUP(B3,Coordinaten!$A$2:$G$95,5,0)","v":"Carpool parking Paal, Beringen"},null,{"$f":"_xlfn.XLOOKUP($B$3,Bezetting_1!$A$2:$A$90,Bezetting_1!C$2:C$90,,0)","v":"2023-10-12"},{"$f":"_xlfn.XLOOKUP($B$3,Bezetting_1!$A$2:$A$90,Bezetting_1!D$2:D$90,,0)","v":"09:00 - 16:00u"},{"$f":"_xlfn.XLOOKUP($B$3,Bezetting_1!$A$2:$A$90,Bezetting_1!E$2:E$90,,0)","v":72},{"$f":"_xlfn.XLOOKUP($B$3,Bezetting_1!$A$2:$A$90,Bezetting_1!F$2:F$90,,0)","v":0},{"$f":"_xlfn.XLOOKUP($B$3,Bezetting_1!$A$2:$A$90,Bezetting_1!G$2:G$90,,0)","v":0},{"$f":"_xlfn.XLOOKUP($B$3,Bezetting_1!$A$2:$A$90,Bezetting_1!H$2:H$90,,0)","v":0},{"$f":"_xlfn.XLOOKUP($B$3,Bezetting_1!$A$2:$A$90,Bezetting_1!I$2:I$90,,0)","v":0},{"$f":"_xlfn.XLOOKUP($B$3,Bezetting_1!$A$2:$A$90,Bezetting_1!J$2:J$90,,0)","v":0},{"$f":"_xlfn.XLOOKUP($B$3,Bezetting_1!$A$2:$A$90,Bezetting_1!K$2:K$90,,0)","v":72},{"$f":"_xlfn.XLOOKUP($B$3,Bezetting_1!$A$2:$A$90,Bezetting_1!L$2:L$90,,0)","v":0},{"$f":"_xlfn.XLOOKUP($B$3,Bezetting_1!$A$2:$A$90,Bezetting_1!M$2:M$90,,0)","v":0},{"$f":"_xlfn.XLOOKUP($B$3,Bezetting_1!$A$2:$A$90,Bezetting_1!N$2:N$90,,0)","v":2},null,{"$f":"_xlfn.XLOOKUP($B$3,Bezetting_1!$A$2:$A$90,Bezetting_1!P$2:P$90,,0)","v":0},null,{"$f":"D8","v":"2023-10-12"},{"$f":"E8","v":"09:00 - 16:00u"},{"$f":"IF(F8=0,NA(),F8/$L8)","v":1},{"$f":"IF(G8=0,NA(),G8/$L8)","v":{"$error":"#N/A"}},{"$f":"IF(H8=0,NA(),H8/$L8)","v":{"$error":"#N/A"}},{"$error":"#N/A"},{"$error":"#N/A"},{"$error":"#N/A"}]
[null,{"$f":"\"Nabij kruispunt: \"&VLOOKUP(B3,Coordinaten!$A$2:$L$95,4,0)","v":"Nabij kruispunt: N29 / A13"},null,null,null,{"$f":"IF(F8=0,\"-\",F8/$L$8)","v":1},{"$f":"IF(G8=0,\"-\",G8/$L$8)","v":"-"},"-","-","-","-",1,null,null,null,null,{"$f":"_xlfn.XLOOKUP($B$3,Bezetting_1!$A$2:$A$90,Bezetting_1!Q$2:Q$90,,0)","v":0},null,{"$f":"D10","v":"2023-10-10"},{"$f":"E10","v":"19:00 - 02:00u"},{"$f":"IF(F10=0,NA(),F10/$L10)","v":1},{"$f":"IF(G10=0,NA(),G10/$L10)","v":{"$error":"#N/A"}},{"$error":"#N/A"},{"$error":"#N/A"},{"$error":"#N/A"},{"$error":"#N/A"}]
[null,null,null,{"$f":"_xlfn.XLOOKUP($B$3,Bezetting_2!$A$2:$A$90,Bezetting_2!C$2:C$90,,0)","v":"2023-10-10"},{"$f":"_xlfn.XLOOKUP($B$3,Bezetting_2!$A$2:$A$90,Bezetting_2!D$2:D$90,,0)","v":"19:00 - 02:00u"},{"$f":"_xlfn.XLOOKUP($B$3,Bezetting_2!$A$2:$A$90,Bezetting_2!E$2:E$90,,0)","v":19},{"$f":"_xlfn.XLOOKUP($B$3,Bezetting_2!$A$2:$A$90,Bezetting_2!F$2:F$90,,0)","v":0},{"$f":"_xlfn.XLOOKUP($B$3,Bezetting_2!$A$2:$A$90,Bezetting_2!G$2:G$90,,0)","v":0},{"$f":"_xlfn.XLOOKUP($B$3,Bezetting_2!$A$2:$A$90,Bezetting_2!H$2:H$90,,0)","v":0},{"$f":"_xlfn.XLOOKUP($B$3,Bezetting_2!$A$2:$A$90,Bezetting_2!I$2:I$90,,0)","v":0},{"$f":"_xlfn.XLOOKUP($B$3,Bezetting_2!$A$2:$A$90,Bezetting_2!J$2:J$90,,0)","v":0},{"$f":"_xlfn.XLOOKUP($B$3,Bezetting_2!$A$2:$A$90,Bezetting_2!K$2:K$90,,0)","v":19},{"$f":"_xlfn.XLOOKUP($B$3,Bezetting_2!$A$2:$A$90,Bezetting_2!L$2:L$90,,0)","v":0},{"$f":"_xlfn.XLOOKUP($B$3,Bezetting_2!$A$2:$A$90,Bezetting_2!M$2:M$90,,0)","v":0},{"$f":"_xlfn.XLOOKUP($B$3,Bezetting_2!$A$2:$A$90,Bezetting_2!N$2:N$90,,0)","v":1},{"$f":"_xlfn.XLOOKUP($B$3,Bezetting_2!$A$2:$A$90,Bezetting_2!O$2:O$90,,0)","v":0},{"$f":"_xlfn.XLOOKUP($B$3,Bezetting_2!$A$2:$A$90,Bezetting_2!P$2:P$90,,0)","v":0}]
[null,"Meting",null,null,null,{"$f":"IF(F10=0,\"-\",F10/$L$10)","v":1},{"$f":"IF(G10=0,\"-\",G10/$L$10)","v":"-"},"-","-","-","-",1,null,null,null,null,{"$f":"_xlfn.XLOOKUP($B$3,Bezetting_2!$A$2:$A$90,Bezetting_2!Q$2:Q$90,,0)","v":0}]
[null,{"$f":"\"Meetperiode: \"&TEXT(VLOOKUP(B3,Coordinaten!$A:$G,7,0),\"dddd dd mmmm jjjj\")","v":"Meetperiode: di 10 & do 12 oktober 2023"}]
[null,"Methodiek: Parkeerdrukmeting met waarnemers"]
[null,"In opdracht van: Vlaamse overheid"]
[null,"Uitgevoerd door: Dufec"]
[null,null,null,"VERDELING NAAR CATEGORIE"]
[null,"Locatie"]
[null,{"$f":"IF(B4=\"\",\"\",HYPERLINK(\"http://www.googlemaps.com/?q=\"&B4,\"Lat/Long: \"&B4))","v":"Lat/Long: 51.043187, 5.186305"}]
[]
[null,null,null,null,null,null,null,null,null,null,null,null,null,null,null,"Legenda"]
[null,null,null,null,null,null,null,null,null,null,null,null,null,null,null,null,"Personenwagen"]
[null,null,null,null,null,null,null,null,null,null,null,null,null,null,null,null,"Vracht"]
[null,null,null,null,null,null,null,null,null,null,null,null,null,null,null,null,"Motor"]
[null,null,null,null,null,null,null,null,null,null,null,null,null,null,null,null,"Obstakel / overig"]
[null,null,null,null,null,null,null,null,null,null,null,null,null,null,null,null,"Fout personenwagen"]
[null,null,null,null,null,null,null,null,null,null,null,null,null,null,null,null,"Fout Vracht"]
[]
[]
[]
[]
[]
[]
[]
[]
[]
[]
[]
[]
[null,"Toelichting"]
[null,"Pers = personenwagens op daarvoor bestemde"]
[null,"          openbare plaatsen"]
[null,"Vracht = vrachtwagens op daarvoor bestemde"]
[null,"          parkeerplaatsen (middel- en zwaar vrachtverkeer)"]
[null,"Motor = geparkeerde motoren op openbare plaatsen"]
[null,"Obstakel / overig = obstakels of overige voertuigen"]
[null,"          geparkeerd op openbare plaatsen"]
[null,"Fout pers = personenwagens die fout geparkeerd staan"]
[null,"Fout vracht = vrachtwagens die fout geparkeerd staan"]
[null,"E-wagen = geparkeerde elektrisch voertuig bij een"]
[null,"          elektrisch oplaadpunt"]
[null,"Invalide = personenwagens en motoren op voor"]
[null,"          invalide personen bestemde parkeerplaats"]
[null,"Gestalde fietsen = alle gestalde fietsen op de"]
[null,"          daarvoor bestemde parkeerplaatsen"]

{"sheet":"21.Lummen","index":19,"n_rows":54,"n_cols":26,"rows_kept":54,"cut":false,"hidden":false,"merged":[[4,3,5,12],[4,16,5,16],[15,3,16,12]]}
[]
[null,"PARKEERONDERZOEK",null,"CARPOOLPARKINGS EN P+R PARKINGS"]
[null,21,null,{"$f":"B8 & \" - \"& TEXT(VLOOKUP(B3,Coordinaten!$A$2:$G$95,7,0),\"dddd dd mmmm jjjj\")","v":"Carpool parking Lummen, Lummen - di 10 & do 12 oktober 2023"}]
[null,{"$f":"VLOOKUP(B3,Coordinaten!$A$2:$G$95,6,0)","v":"50.997621, 5.197778"}]
[null,null,null,"BEZETTING  ",null,null,null,null,null,null,null,null,null,null,null,null,"OPMERKINGEN"]
[]
[null,"Onderzoeksgebied",null,"Datum","Geregistreerd tussen","Pers","Vracht","Motor","Obstakel / overig","Fout   pers","Fout Vracht","Totaal","E-wagen\nplaats","Invalidenplaats","Gestalde fietsen",null,null,null,null,null,{"$f":"F7","v":"Pers"},"Vracht","Motor","Obstakel / overig","Fout   pers","Fout Vracht"]
[null,{"$f":"VLOOKUP(B3,Coordinaten!$A$2:$G$95,3,0)&\", \"&VLOOKUP(B3,Coordinaten!$A$2:$G$95,5,0)","v":"Carpool parking Lummen, Lummen"},null,{"$f":"_xlfn.XLOOKUP($B$3,Bezetting_1!$A$2:$A$90,Bezetting_1!C$2:C$90,,0)","v":"2023-10-12"},{"$f":"_xlfn.XLOOKUP($B$3,Bezetting_1!$A$2:$A$90,Bezetting_1!D$2:D$90,,0)","v":"09:00 - 16:00u"},{"$f":"_xlfn.XLOOKUP($B$3,Bezetting_1!$A$2:$A$90,Bezetting_1!E$2:E$90,,0)","v":269},{"$f":"_xlfn.XLOOKUP($B$3,Bezetting_1!$A$2:$A$90,Bezetting_1!F$2:F$90,,0)","v":0},{"$f":"_xlfn.XLOOKUP($B$3,Bezetting_1!$A$2:$A$90,Bezetting_1!G$2:G$90,,0)","v":1},{"$f":"_xlfn.XLOOKUP($B$3,Bezetting_1!$A$2:$A$90,Bezetting_1!H$2:H$90,,0)","v":0},{"$f":"_xlfn.XLOOKUP($B$3,Bezetting_1!$A$2:$A$90,Bezetting_1!I$2:I$90,,0)","v":4},{"$f":"_xlfn.XLOOKUP($B$3,Bezetting_1!$A$2:$A$90,Bezetting_1!J$2:J$90,,0)","v":0},{"$f":"_xlfn.XLOOKUP($B$3,Bezetting_1!$A$2:$A$90,Bezetting_1!K$2:K$90,,0)","v":274},{"$f":"_xlfn.XLOOKUP($B$3,Bezetting_1!$A$2:$A$90,Bezetting_1!L$2:L$90,,0)","v":0},{"$f":"_xlfn.XLOOKUP($B$3,Bezetting_1!$A$2:$A$90,Bezetting_1!M$2:M$90,,0)","v":0},{"$f":"_xlfn.XLOOKUP($B$3,Bezetting_1!$A$2:$A$90,Bezetting_1!N$2:N$90,,0)","v":4},null,{"$f":"_xlfn.XLOOKUP($B$3,Bezetting_1!$A$2:$A$90,Bezetting_1!P$2:P$90,,0)","v":0},null,{"$f":"D8","v":"2023-10-12"},{"$f":"E8","v":"09:00 - 16:00u"},{"$f":"IF(F8=0,NA(),F8/$L8)","v":0.98175182481751821},{"$f":"IF(G8=0,NA(),G8/$L8)","v":{"$error":"#N/A"}},{"$f":"IF(H8=0,NA(),H8/$L8)","v":3.6496350364963502E-3},{"$error":"#N/A"},1.4598540145985401E-2,{"$error":"#N/A"}]
[null,{"$f":"\"Nabij kruispunt: \"&VLOOKUP(B3,Coordinaten!$A$2:$L$95,4,0)","v":"Nabij kruispunt: N717 / A2"},null,null,null,{"$f":"IF(F8=0,\"-\",F8/$L$8)","v":0.98175182481751821},{"$f":"IF(G8=0,\"-\",G8/$L$8)","v":"-"},3.6496350364963502E-3,"-",1.4598540145985401E-2,"-",1,null,null,null,null,{"$f":"_xlfn.XLOOKUP($B$3,Bezetting_1!$A$2:$A$90,Bezetting_1!Q$2:Q$90,,0)","v":0},null,{"$f":"D10","v":"2023-10-10"},{"$f":"E10","v":"19:00 - 02:00u"},{"$f":"IF(F10=0,NA(),F10/$L10)","v":1},{"$f":"IF(G10=0,NA(),G10/$L10)","v":{"$error":"#N/A"}},{"$error":"#N/A"},{"$error":"#N/A"},{"$error":"#N/A"},{"$error":"#N/A"}]
[null,null,null,{"$f":"_xlfn.XLOOKUP($B$3,Bezetting_2!$A$2:$A$90,Bezetting_2!C$2:C$90,,0)","v":"2023-10-10"},{"$f":"_xlfn.XLOOKUP($B$3,Bezetting_2!$A$2:$A$90,Bezetting_2!D$2:D$90,,0)","v":"19:00 - 02:00u"},{"$f":"_xlfn.XLOOKUP($B$3,Bezetting_2!$A$2:$A$90,Bezetting_2!E$2:E$90,,0)","v":109},{"$f":"_xlfn.XLOOKUP($B$3,Bezetting_2!$A$2:$A$90,Bezetting_2!F$2:F$90,,0)","v":0},{"$f":"_xlfn.XLOOKUP($B$3,Bezetting_2!$A$2:$A$90,Bezetting_2!G$2:G$90,,0)","v":0},{"$f":"_xlfn.XLOOKUP($B$3,Bezetting_2!$A$2:$A$90,Bezetting_2!H$2:H$90,,0)","v":0},{"$f":"_xlfn.XLOOKUP($B$3,Bezetting_2!$A$2:$A$90,Bezetting_2!I$2:I$90,,0)","v":0},{"$f":"_xlfn.XLOOKUP($B$3,Bezetting_2!$A$2:$A$90,Bezetting_2!J$2:J$90,,0)","v":0},{"$f":"_xlfn.XLOOKUP($B$3,Bezetting_2!$A$2:$A$90,Bezetting_2!K$2:K$90,,0)","v":109},{"$f":"_xlfn.XLOOKUP($B$3,Bezetting_2!$A$2:$A$90,Bezetting_2!L$2:L$90,,0)","v":0},{"$f":"_xlfn.XLOOKUP($B$3,Bezetting_2!$A$2:$A$90,Bezetting_2!M$2:M$90,,0)","v":0},{"$f":"_xlfn.XLOOKUP($B$3,Bezetting_2!$A$2:$A$90,Bezetting_2!N$2:N$90,,0)","v":0},{"$f":"_xlfn.XLOOKUP($B$3,Bezetting_2!$A$2:$A$90,Bezetting_2!O$2:O$90,,0)","v":0},{"$f":"_xlfn.XLOOKUP($B$3,Bezetting_2!$A$2:$A$90,Bezetting_2!P$2:P$90,,0)","v":0}]
[null,"Meting",null,null,null,{"$f":"IF(F10=0,\"-\",F10/$L$10)","v":1},{"$f":"IF(G10=0,\"-\",G10/$L$10)","v":"-"},"-","-","-","-",1,null,null,null,null,{"$f":"_xlfn.XLOOKUP($B$3,Bezetting_2!$A$2:$A$90,Bezetting_2!Q$2:Q$90,,0)","v":0}]
[null,{"$f":"\"Meetperiode: \"&TEXT(VLOOKUP(B3,Coordinaten!$A:$G,7,0),\"dddd dd mmmm jjjj\")","v":"Meetperiode: di 10 & do 12 oktober 2023"}]
[null,"Methodiek: Parkeerdrukmeting met waarnemers"]
[null,"In opdracht van: Vlaamse overheid"]
[null,"Uitgevoerd door: Dufec"]
[null,null,null,"VERDELING NAAR CATEGORIE"]
[null,"Locatie"]
[null,{"$f":"IF(B4=\"\",\"\",HYPERLINK(\"http://www.googlemaps.com/?q=\"&B4,\"Lat/Long: \"&B4))","v":"Lat/Long: 50.997621, 5.197778"}]
[]
[null,null,null,null,null,null,null,null,null,null,null,null,null,null,null,"Legenda"]
[null,null,null,null,null,null,null,null,null,null,null,null,null,null,null,null,"Personenwagen"]
[null,null,null,null,null,null,null,null,null,null,null,null,null,null,null,null,"Vracht"]
[null,null,null,null,null,null,null,null,null,null,null,null,null,null,null,null,"Motor"]
[null,null,null,null,null,null,null,null,null,null,null,null,null,null,null,null,"Obstakel / overig"]
[null,null,null,null,null,null,null,null,null,null,null,null,null,null,null,null,"Fout personenwagen"]
[null,null,null,null,null,null,null,null,null,null,null,null,null,null,null,null,"Fout Vracht"]
[]
[]
[]
[]
[]
[]
[]
[]
[]
[]
[]
[]
[null,"Toelichting"]
[null,"Pers = personenwagens op daarvoor bestemde"]
[null,"          openbare plaatsen"]
[null,"Vracht = vrachtwagens op daarvoor bestemde"]
[null,"          parkeerplaatsen (middel- en zwaar vrachtverkeer)"]
[null,"Motor = geparkeerde motoren op openbare plaatsen"]
[null,"Obstakel / overig = obstakels of overige voertuigen"]
[null,"          geparkeerd op openbare plaatsen"]
[null,"Fout pers = personenwagens die fout geparkeerd staan"]
[null,"Fout vracht = vrachtwagens die fout geparkeerd staan"]
[null,"E-wagen = geparkeerde elektrisch voertuig bij een"]
[null,"          elektrisch oplaadpunt"]
[null,"Invalide = personenwagens en motoren op voor"]
[null,"          invalide personen bestemde parkeerplaats"]
[null,"Gestalde fietsen = alle gestalde fietsen op de"]
[null,"          daarvoor bestemde parkeerplaatsen"]

{"sheet":"22.Halen","index":20,"n_rows":54,"n_cols":26,"rows_kept":54,"cut":false,"hidden":false,"merged":[[4,3,5,12],[4,16,5,16],[15,3,16,12]]}
[]
[null,"PARKEERONDERZOEK",null,"CARPOOLPARKINGS EN P+R PARKINGS"]
[null,22,null,{"$f":"B8 & \" - \"& TEXT(VLOOKUP(B3,Coordinaten!$A$2:$G$95,7,0),\"dddd dd mmmm jjjj\")","v":"Carpool parking Halen, Halen - di 10 & do 12 oktober 2023"}]
[null,{"$f":"VLOOKUP(B3,Coordinaten!$A$2:$G$95,6,0)","v":"50.962073, 5.083806"}]
[null,null,null,"BEZETTING  ",null,null,null,null,null,null,null,null,null,null,null,null,"OPMERKINGEN"]
[]
[null,"Onderzoeksgebied",null,"Datum","Geregistreerd tussen","Pers","Vracht","Motor","Obstakel / overig","Fout   pers","Fout Vracht","Totaal","E-wagen\nplaats","Invalidenplaats","Gestalde fietsen",null,null,null,null,null,{"$f":"F7","v":"Pers"},"Vracht","Motor","Obstakel / overig","Fout   pers","Fout Vracht"]
[null,{"$f":"VLOOKUP(B3,Coordinaten!$A$2:$G$95,3,0)&\", \"&VLOOKUP(B3,Coordinaten!$A$2:$G$95,5,0)","v":"Carpool parking Halen, Halen"},null,{"$f":"_xlfn.XLOOKUP($B$3,Bezetting_1!$A$2:$A$90,Bezetting_1!C$2:C$90,,0)","v":"2023-10-12"},{"$f":"_xlfn.XLOOKUP($B$3,Bezetting_1!$A$2:$A$90,Bezetting_1!D$2:D$90,,0)","v":"09:00 - 16:00u"},{"$f":"_xlfn.XLOOKUP($B$3,Bezetting_1!$A$2:$A$90,Bezetting_1!E$2:E$90,,0)","v":49},{"$f":"_xlfn.XLOOKUP($B$3,Bezetting_1!$A$2:$A$90,Bezetting_1!F$2:F$90,,0)","v":0},{"$f":"_xlfn.XLOOKUP($B$3,Bezetting_1!$A$2:$A$90,Bezetting_1!G$2:G$90,,0)","v":1},{"$f":"_xlfn.XLOOKUP($B$3,Bezetting_1!$A$2:$A$90,Bezetting_1!H$2:H$90,,0)","v":2},{"$f":"_xlfn.XLOOKUP($B$3,Bezetting_1!$A$2:$A$90,Bezetting_1!I$2:I$90,,0)","v":0},{"$f":"_xlfn.XLOOKUP($B$3,Bezetting_1!$A$2:$A$90,Bezetting_1!J$2:J$90,,0)","v":1},{"$f":"_xlfn.XLOOKUP($B$3,Bezetting_1!$A$2:$A$90,Bezetting_1!K$2:K$90,,0)","v":53},{"$f":"_xlfn.XLOOKUP($B$3,Bezetting_1!$A$2:$A$90,Bezetting_1!L$2:L$90,,0)","v":1},{"$f":"_xlfn.XLOOKUP($B$3,Bezetting_1!$A$2:$A$90,Bezetting_1!M$2:M$90,,0)","v":0},{"$f":"_xlfn.XLOOKUP($B$3,Bezetting_1!$A$2:$A$90,Bezetting_1!N$2:N$90,,0)","v":1},null,{"$f":"_xlfn.XLOOKUP($B$3,Bezetting_1!$A$2:$A$90,Bezetting_1!P$2:P$90,,0)","v":"Overig: 2x aanhanger"},null,{"$f":"D8","v":"2023-10-12"},{"$f":"E8","v":"09:00 - 16:00u"},{"$f":"IF(F8=0,NA(),F8/$L8)","v":0.92452830188679247},{"$f":"IF(G8=0,NA(),G8/$L8)","v":{"$error":"#N/A"}},{"$f":"IF(H8=0,NA(),H8/$L8)","v":1.8867924528301886E-2},3.7735849056603772E-2,{"$error":"#N/A"},1.8867924528301886E-2]
[null,{"$f":"\"Nabij kruispunt: \"&VLOOKUP(B3,Coordinaten!$A$2:$L$95,4,0)","v":"Nabij kruispunt: N2 / A2"},null,null,null,{"$f":"IF(F8=0,\"-\",F8/$L$8)","v":0.92452830188679247},{"$f":"IF(G8=0,\"-\",G8/$L$8)","v":"-"},1.8867924528301886E-2,3.7735849056603772E-2,"-",1.8867924528301886E-2,1,null,null,null,null,{"$f":"_xlfn.XLOOKUP($B$3,Bezetting_1!$A$2:$A$90,Bezetting_1!Q$2:Q$90,,0)","v":0},null,{"$f":"D10","v":"2023-10-10"},{"$f":"E10","v":"19:00 - 02:00u"},{"$f":"IF(F10=0,NA(),F10/$L10)","v":0.95238095238095233},{"$f":"IF(G10=0,NA(),G10/$L10)","v":{"$error":"#N/A"}},{"$error":"#N/A"},4.7619047619047616E-2,{"$error":"#N/A"},{"$error":"#N/A"}]
[null,null,null,{"$f":"_xlfn.XLOOKUP($B$3,Bezetting_2!$A$2:$A$90,Bezetting_2!C$2:C$90,,0)","v":"2023-10-10"},{"$f":"_xlfn.XLOOKUP($B$3,Bezetting_2!$A$2:$A$90,Bezetting_2!D$2:D$90,,0)","v":"19:00 - 02:00u"},{"$f":"_xlfn.XLOOKUP($B$3,Bezetting_2!$A$2:$A$90,Bezetting_2!E$2:E$90,,0)","v":20},{"$f":"_xlfn.XLOOKUP($B$3,Bezetting_2!$A$2:$A$90,Bezetting_2!F$2:F$90,,0)","v":0},{"$f":"_xlfn.XLOOKUP($B$3,Bezetting_2!$A$2:$A$90,Bezetting_2!G$2:G$90,,0)","v":0},{"$f":"_xlfn.XLOOKUP($B$3,Bezetting_2!$A$2:$A$90,Bezetting_2!H$2:H$90,,0)","v":1},{"$f":"_xlfn.XLOOKUP($B$3,Bezetting_2!$A$2:$A$90,Bezetting_2!I$2:I$90,,0)","v":0},{"$f":"_xlfn.XLOOKUP($B$3,Bezetting_2!$A$2:$A$90,Bezetting_2!J$2:J$90,,0)","v":0},{"$f":"_xlfn.XLOOKUP($B$3,Bezetting_2!$A$2:$A$90,Bezetting_2!K$2:K$90,,0)","v":21},{"$f":"_xlfn.XLOOKUP($B$3,Bezetting_2!$A$2:$A$90,Bezetting_2!L$2:L$90,,0)","v":0},{"$f":"_xlfn.XLOOKUP($B$3,Bezetting_2!$A$2:$A$90,Bezetting_2!M$2:M$90,,0)","v":0},{"$f":"_xlfn.XLOOKUP($B$3,Bezetting_2!$A$2:$A$90,Bezetting_2!N$2:N$90,,0)","v":0},{"$f":"_xlfn.XLOOKUP($B$3,Bezetting_2!$A$2:$A$90,Bezetting_2!O$2:O$90,,0)","v":0},{"$f":"_xlfn.XLOOKUP($B$3,Bezetting_2!$A$2:$A$90,Bezetting_2!P$2:P$90,,0)","v":"Overig: aanhanger"}]
[null,"Meting",null,null,null,{"$f":"IF(F10=0,\"-\",F10/$L$10)","v":0.95238095238095233},{"$f":"IF(G10=0,\"-\",G10/$L$10)","v":"-"},"-",4.7619047619047616E-2,"-","-",1,null,null,null,null,{"$f":"_xlfn.XLOOKUP($B$3,Bezetting_2!$A$2:$A$90,Bezetting_2!Q$2:Q$90,,0)","v":0}]
[null,{"$f":"\"Meetperiode: \"&TEXT(VLOOKUP(B3,Coordinaten!$A:$G,7,0),\"dddd dd mmmm jjjj\")","v":"Meetperiode: di 10 & do 12 oktober 2023"}]
[null,"Methodiek: Parkeerdrukmeting met waarnemers"]
[null,"In opdracht van: Vlaamse overheid"]
[null,"Uitgevoerd door: Dufec"]
[null,null,null,"VERDELING NAAR CATEGORIE"]
[null,"Locatie"]
[null,{"$f":"IF(B4=\"\",\"\",HYPERLINK(\"http://www.googlemaps.com/?q=\"&B4,\"Lat/Long: \"&B4))","v":"Lat/Long: 50.962073, 5.083806"}]
[]
[null,null,null,null,null,null,null,null,null,null,null,null,null,null,null,"Legenda"]
[null,null,null,null,null,null,null,null,null,null,null,null,null,null,null,null,"Personenwagen"]
[null,null,null,null,null,null,null,null,null,null,null,null,null,null,null,null,"Vracht"]
[null,null,null,null,null,null,null,null,null,null,null,null,null,null,null,null,"Motor"]
[null,null,null,null,null,null,null,null,null,null,null,null,null,null,null,null,"Obstakel / overig"]
[null,null,null,null,null,null,null,null,null,null,null,null,null,null,null,null,"Fout personenwagen"]
[null,null,null,null,null,null,null,null,null,null,null,null,null,null,null,null,"Fout Vracht"]
[]
[]
[]
[]
[]
[]
[]
[]
[]
[]
[]
[]
[null,"Toelichting"]
[null,"Pers = personenwagens op daarvoor bestemde"]
[null,"          openbare plaatsen"]
[null,"Vracht = vrachtwagens op daarvoor bestemde"]
[null,"          parkeerplaatsen (middel- en zwaar vrachtverkeer)"]
[null,"Motor = geparkeerde motoren op openbare plaatsen"]
[null,"Obstakel / overig = obstakels of overige voertuigen"]
[null,"          geparkeerd op openbare plaatsen"]
[null,"Fout pers = personenwagens die fout geparkeerd staan"]
[null,"Fout vracht = vrachtwagens die fout geparkeerd staan"]
[null,"E-wagen = geparkeerde elektrisch voertuig bij een"]
[null,"          elektrisch oplaadpunt"]
[null,"Invalide = personenwagens en motoren op voor"]
[null,"          invalide personen bestemde parkeerplaats"]
[null,"Gestalde fietsen = alle gestalde fietsen op de"]
[null,"          daarvoor bestemde parkeerplaatsen"]

{"sheet":"23.Maasmechelen","index":21,"n_rows":54,"n_cols":26,"rows_kept":54,"cut":false,"hidden":false,"merged":[[4,3,5,12],[4,16,5,16],[15,3,16,12]]}
[]
[null,"PARKEERONDERZOEK",null,"CARPOOLPARKINGS EN P+R PARKINGS"]
[null,23,null,{"$f":"B8 & \" - \"& TEXT(VLOOKUP(B3,Coordinaten!$A$2:$G$95,7,0),\"dddd dd mmmm jjjj\")","v":"Carpool parking Maasmechelen, Maasmechelen - di 10 & do 12 oktober 2023"}]
[null,{"$f":"VLOOKUP(B3,Coordinaten!$A$2:$G$95,6,0)","v":"50.954058, 5.694835"}]
[null,null,null,"BEZETTING  ",null,null,null,null,null,null,null,null,null,null,null,null,"OPMERKINGEN"]
[]
[null,"Onderzoeksgebied",null,"Datum","Geregistreerd tussen","Pers","Vracht","Motor","Obstakel / overig","Fout   pers","Fout Vracht","Totaal","E-wagen\nplaats","Invalidenplaats","Gestalde fietsen",null,null,null,null,null,{"$f":"F7","v":"Pers"},"Vracht","Motor","Obstakel / overig","Fout   pers","Fout Vracht"]
[null,{"$f":"VLOOKUP(B3,Coordinaten!$A$2:$G$95,3,0)&\", \"&VLOOKUP(B3,Coordinaten!$A$2:$G$95,5,0)","v":"Carpool parking Maasmechelen, Maasmechelen"},null,{"$f":"_xlfn.XLOOKUP($B$3,Bezetting_1!$A$2:$A$90,Bezetting_1!C$2:C$90,,0)","v":"2023-10-12"},{"$f":"_xlfn.XLOOKUP($B$3,Bezetting_1!$A$2:$A$90,Bezetting_1!D$2:D$90,,0)","v":"09:00 - 16:00u"},{"$f":"_xlfn.XLOOKUP($B$3,Bezetting_1!$A$2:$A$90,Bezetting_1!E$2:E$90,,0)","v":57},{"$f":"_xlfn.XLOOKUP($B$3,Bezetting_1!$A$2:$A$90,Bezetting_1!F$2:F$90,,0)","v":0},{"$f":"_xlfn.XLOOKUP($B$3,Bezetting_1!$A$2:$A$90,Bezetting_1!G$2:G$90,,0)","v":0},{"$f":"_xlfn.XLOOKUP($B$3,Bezetting_1!$A$2:$A$90,Bezetting_1!H$2:H$90,,0)","v":1},{"$f":"_xlfn.XLOOKUP($B$3,Bezetting_1!$A$2:$A$90,Bezetting_1!I$2:I$90,,0)","v":0},{"$f":"_xlfn.XLOOKUP($B$3,Bezetting_1!$A$2:$A$90,Bezetting_1!J$2:J$90,,0)","v":0},{"$f":"_xlfn.XLOOKUP($B$3,Bezetting_1!$A$2:$A$90,Bezetting_1!K$2:K$90,,0)","v":58},{"$f":"_xlfn.XLOOKUP($B$3,Bezetting_1!$A$2:$A$90,Bezetting_1!L$2:L$90,,0)","v":0},{"$f":"_xlfn.XLOOKUP($B$3,Bezetting_1!$A$2:$A$90,Bezetting_1!M$2:M$90,,0)","v":0},{"$f":"_xlfn.XLOOKUP($B$3,Bezetting_1!$A$2:$A$90,Bezetting_1!N$2:N$90,,0)","v":1},null,{"$f":"_xlfn.XLOOKUP($B$3,Bezetting_1!$A$2:$A$90,Bezetting_1!P$2:P$90,,0)","v":"Overig: aanhanger"},null,{"$f":"D8","v":"2023-10-12"},{"$f":"E8","v":"09:00 - 16:00u"},{"$f":"IF(F8=0,NA(),F8/$L8)","v":0.98275862068965514},{"$f":"IF(G8=0,NA(),G8/$L8)","v":{"$error":"#N/A"}},{"$f":"IF(H8=0,NA(),H8/$L8)","v":{"$error":"#N/A"}},1.7241379310344827E-2,{"$error":"#N/A"},{"$error":"#N/A"}]
[null,{"$f":"\"Nabij kruispunt: \"&VLOOKUP(B3,Coordinaten!$A$2:$L$95,4,0)","v":"Nabij kruispunt: N78 / E314"},null,null,null,{"$f":"IF(F8=0,\"-\",F8/$L$8)","v":0.98275862068965514},{"$f":"IF(G8=0,\"-\",G8/$L$8)","v":"-"},"-",1.7241379310344827E-2,"-","-",1,null,null,null,null,{"$f":"_xlfn.XLOOKUP($B$3,Bezetting_1!$A$2:$A$90,Bezetting_1!Q$2:Q$90,,0)","v":0},null,{"$f":"D10","v":"2023-10-10"},{"$f":"E10","v":"19:00 - 02:00u"},{"$f":"IF(F10=0,NA(),F10/$L10)","v":1},{"$f":"IF(G10=0,NA(),G10/$L10)","v":{"$error":"#N/A"}},{"$error":"#N/A"},{"$error":"#N/A"},{"$error":"#N/A"},{"$error":"#N/A"}]
[null,null,null,{"$f":"_xlfn.XLOOKUP($B$3,Bezetting_2!$A$2:$A$90,Bezetting_2!C$2:C$90,,0)","v":"2023-10-10"},{"$f":"_xlfn.XLOOKUP($B$3,Bezetting_2!$A$2:$A$90,Bezetting_2!D$2:D$90,,0)","v":"19:00 - 02:00u"},{"$f":"_xlfn.XLOOKUP($B$3,Bezetting_2!$A$2:$A$90,Bezetting_2!E$2:E$90,,0)","v":49},{"$f":"_xlfn.XLOOKUP($B$3,Bezetting_2!$A$2:$A$90,Bezetting_2!F$2:F$90,,0)","v":0},{"$f":"_xlfn.XLOOKUP($B$3,Bezetting_2!$A$2:$A$90,Bezetting_2!G$2:G$90,,0)","v":0},{"$f":"_xlfn.XLOOKUP($B$3,Bezetting_2!$A$2:$A$90,Bezetting_2!H$2:H$90,,0)","v":0},{"$f":"_xlfn.XLOOKUP($B$3,Bezetting_2!$A$2:$A$90,Bezetting_2!I$2:I$90,,0)","v":0},{"$f":"_xlfn.XLOOKUP($B$3,Bezetting_2!$A$2:$A$90,Bezetting_2!J$2:J$90,,0)","v":0},{"$f":"_xlfn.XLOOKUP($B$3,Bezetting_2!$A$2:$A$90,Bezetting_2!K$2:K$90,,0)","v":49},{"$f":"_xlfn.XLOOKUP($B$3,Bezetting_2!$A$2:$A$90,Bezetting_2!L$2:L$90,,0)","v":3},{"$f":"_xlfn.XLOOKUP($B$3,Bezetting_2!$A$2:$A$90,Bezetting_2!M$2:M$90,,0)","v":1},{"$f":"_xlfn.XLOOKUP($B$3,Bezetting_2!$A$2:$A$90,Bezetting_2!N$2:N$90,,0)","v":1},{"$f":"_xlfn.XLOOKUP($B$3,Bezetting_2!$A$2:$A$90,Bezetting_2!O$2:O$90,,0)","v":0},{"$f":"_xlfn.XLOOKUP($B$3,Bezetting_2!$A$2:$A$90,Bezetting_2!P$2:P$90,,0)","v":0}]
[null,"Meting",null,null,null,{"$f":"IF(F10=0,\"-\",F10/$L$10)","v":1},{"$f":"IF(G10=0,\"-\",G10/$L$10)","v":"-"},"-","-","-","-",1,null,null,null,null,{"$f":"_xlfn.XLOOKUP($B$3,Bezetting_2!$A$2:$A$90,Bezetting_2!Q$2:Q$90,,0)","v":0}]
[null,{"$f":"\"Meetperiode: \"&TEXT(VLOOKUP(B3,Coordinaten!$A:$G,7,0),\"dddd dd mmmm jjjj\")","v":"Meetperiode: di 10 & do 12 oktober 2023"}]
[null,"Methodiek: Parkeerdrukmeting met waarnemers"]
[null,"In opdracht van: Vlaamse overheid"]
[null,"Uitgevoerd door: Dufec"]
[null,null,null,"VERDELING NAAR CATEGORIE"]
[null,"Locatie"]
[null,{"$f":"IF(B4=\"\",\"\",HYPERLINK(\"http://www.googlemaps.com/?q=\"&B4,\"Lat/Long: \"&B4))","v":"Lat/Long: 50.954058, 5.694835"}]
[]
[null,null,null,null,null,null,null,null,null,null,null,null,null,null,null,"Legenda"]
[null,null,null,null,null,null,null,null,null,null,null,null,null,null,null,null,"Personenwagen"]
[null,null,null,null,null,null,null,null,null,null,null,null,null,null,null,null,"Vracht"]
[null,null,null,null,null,null,null,null,null,null,null,null,null,null,null,null,"Motor"]
[null,null,null,null,null,null,null,null,null,null,null,null,null,null,null,null,"Obstakel / overig"]
[null,null,null,null,null,null,null,null,null,null,null,null,null,null,null,null,"Fout personenwagen"]
[null,null,null,null,null,null,null,null,null,null,null,null,null,null,null,null,"Fout Vracht"]
[]
[]
[]
[]
[]
[]
[]
[]
[]
[]
[]
[]
[null,"Toelichting"]
[null,"Pers = personenwagens op daarvoor bestemde"]
[null,"          openbare plaatsen"]
[null,"Vracht = vrachtwagens op daarvoor bestemde"]
[null,"          parkeerplaatsen (middel- en zwaar vrachtverkeer)"]
[null,"Motor = geparkeerde motoren op openbare plaatsen"]
[null,"Obstakel / overig = obstakels of overige voertuigen"]
[null,"          geparkeerd op openbare plaatsen"]
[null,"Fout pers = personenwagens die fout geparkeerd staan"]
[null,"Fout vracht = vrachtwagens die fout geparkeerd staan"]
[null,"E-wagen = geparkeerde elektrisch voertuig bij een"]
[null,"          elektrisch oplaadpunt"]
[null,"Invalide = personenwagens en motoren op voor"]
[null,"          invalide personen bestemde parkeerplaats"]
[null,"Gestalde fietsen = alle gestalde fietsen op de"]
[null,"          daarvoor bestemde parkeerplaatsen"]

{"sheet":"24.Gentbrugge Arsenaal","index":22,"n_rows":54,"n_cols":26,"rows_kept":54,"cut":false,"hidden":false,"merged":[[4,3,5,12],[4,16,5,16],[15,3,16,12]]}
[]
[null,"PARKEERONDERZOEK",null,"CARPOOLPARKINGS EN P+R PARKINGS"]
[null,24,null,{"$f":"B8 & \" - \"& TEXT(VLOOKUP(B3,Coordinaten!$A$2:$G$95,7,0),\"dddd dd mmmm jjjj\")","v":"P+R parking Gentbrugge Arsenaal, Gent - di 10 & do 12 oktober 2023"}]
[null,{"$f":"VLOOKUP(B3,Coordinaten!$A$2:$G$95,6,0)","v":"51.032277, 3.758713"}]
[null,null,null,"BEZETTING  ",null,null,null,null,null,null,null,null,null,null,null,null,"OPMERKINGEN"]
[]
[null,"Onderzoeksgebied",null,"Datum","Geregistreerd tussen","Pers","Vracht","Motor","Obstakel / overig","Fout   pers","Fout Vracht","Totaal","E-wagen\nplaats","Invalidenplaats","Gestalde fietsen",null,null,null,null,null,{"$f":"F7","v":"Pers"},"Vracht","Motor","Obstakel / overig","Fout   pers","Fout Vracht"]
[null,{"$f":"VLOOKUP(B3,Coordinaten!$A$2:$G$95,3,0)&\", \"&VLOOKUP(B3,Coordinaten!$A$2:$G$95,5,0)","v":"P+R parking Gentbrugge Arsenaal, Gent"},null,{"$f":"_xlfn.XLOOKUP($B$3,Bezetting_1!$A$2:$A$90,Bezetting_1!C$2:C$90,,0)","v":"2023-10-12"},{"$f":"_xlfn.XLOOKUP($B$3,Bezetting_1!$A$2:$A$90,Bezetting_1!D$2:D$90,,0)","v":"09:00 - 16:00u"},{"$f":"_xlfn.XLOOKUP($B$3,Bezetting_1!$A$2:$A$90,Bezetting_1!E$2:E$90,,0)","v":248},{"$f":"_xlfn.XLOOKUP($B$3,Bezetting_1!$A$2:$A$90,Bezetting_1!F$2:F$90,,0)","v":0},{"$f":"_xlfn.XLOOKUP($B$3,Bezetting_1!$A$2:$A$90,Bezetting_1!G$2:G$90,,0)","v":0},{"$f":"_xlfn.XLOOKUP($B$3,Bezetting_1!$A$2:$A$90,Bezetting_1!H$2:H$90,,0)","v":2},{"$f":"_xlfn.XLOOKUP($B$3,Bezetting_1!$A$2:$A$90,Bezetting_1!I$2:I$90,,0)","v":7},{"$f":"_xlfn.XLOOKUP($B$3,Bezetting_1!$A$2:$A$90,Bezetting_1!J$2:J$90,,0)","v":0},{"$f":"_xlfn.XLOOKUP($B$3,Bezetting_1!$A$2:$A$90,Bezetting_1!K$2:K$90,,0)","v":257},{"$f":"_xlfn.XLOOKUP($B$3,Bezetting_1!$A$2:$A$90,Bezetting_1!L$2:L$90,,0)","v":4},{"$f":"_xlfn.XLOOKUP($B$3,Bezetting_1!$A$2:$A$90,Bezetting_1!M$2:M$90,,0)","v":0},{"$f":"_xlfn.XLOOKUP($B$3,Bezetting_1!$A$2:$A$90,Bezetting_1!N$2:N$90,,0)","v":33},null,{"$f":"_xlfn.XLOOKUP($B$3,Bezetting_1!$A$2:$A$90,Bezetting_1!P$2:P$90,,0)","v":"Overig: 2x aanhanger"},null,{"$f":"D8","v":"2023-10-12"},{"$f":"E8","v":"09:00 - 16:00u"},{"$f":"IF(F8=0,NA(),F8/$L8)","v":0.96498054474708173},{"$f":"IF(G8=0,NA(),G8/$L8)","v":{"$error":"#N/A"}},{"$f":"IF(H8=0,NA(),H8/$L8)","v":{"$error":"#N/A"}},7.7821011673151752E-3,2.7237354085603113E-2,{"$error":"#N/A"}]
[null,{"$f":"\"Nabij kruispunt: \"&VLOOKUP(B3,Coordinaten!$A$2:$L$95,4,0)","v":"Nabij kruispunt: N9 / Jules de Saint-Genoisstraat"},null,null,null,{"$f":"IF(F8=0,\"-\",F8/$L$8)","v":0.96498054474708173},{"$f":"IF(G8=0,\"-\",G8/$L$8)","v":"-"},"-",7.7821011673151752E-3,2.7237354085603113E-2,"-",1,null,null,null,null,{"$f":"_xlfn.XLOOKUP($B$3,Bezetting_1!$A$2:$A$90,Bezetting_1!Q$2:Q$90,,0)","v":0},null,{"$f":"D10","v":"2023-10-12"},{"$f":"E10","v":"19:00 - 02:00u"},{"$f":"IF(F10=0,NA(),F10/$L10)","v":0.98326359832635979},{"$f":"IF(G10=0,NA(),G10/$L10)","v":{"$error":"#N/A"}},{"$error":"#N/A"},{"$error":"#N/A"},1.6736401673640166E-2,{"$error":"#N/A"}]
[null,null,null,{"$f":"_xlfn.XLOOKUP($B$3,Bezetting_2!$A$2:$A$90,Bezetting_2!C$2:C$90,,0)","v":"2023-10-12"},{"$f":"_xlfn.XLOOKUP($B$3,Bezetting_2!$A$2:$A$90,Bezetting_2!D$2:D$90,,0)","v":"19:00 - 02:00u"},{"$f":"_xlfn.XLOOKUP($B$3,Bezetting_2!$A$2:$A$90,Bezetting_2!E$2:E$90,,0)","v":235},{"$f":"_xlfn.XLOOKUP($B$3,Bezetting_2!$A$2:$A$90,Bezetting_2!F$2:F$90,,0)","v":0},{"$f":"_xlfn.XLOOKUP($B$3,Bezetting_2!$A$2:$A$90,Bezetting_2!G$2:G$90,,0)","v":0},{"$f":"_xlfn.XLOOKUP($B$3,Bezetting_2!$A$2:$A$90,Bezetting_2!H$2:H$90,,0)","v":0},{"$f":"_xlfn.XLOOKUP($B$3,Bezetting_2!$A$2:$A$90,Bezetting_2!I$2:I$90,,0)","v":4},{"$f":"_xlfn.XLOOKUP($B$3,Bezetting_2!$A$2:$A$90,Bezetting_2!J$2:J$90,,0)","v":0},{"$f":"_xlfn.XLOOKUP($B$3,Bezetting_2!$A$2:$A$90,Bezetting_2!K$2:K$90,,0)","v":239},{"$f":"_xlfn.XLOOKUP($B$3,Bezetting_2!$A$2:$A$90,Bezetting_2!L$2:L$90,,0)","v":3},{"$f":"_xlfn.XLOOKUP($B$3,Bezetting_2!$A$2:$A$90,Bezetting_2!M$2:M$90,,0)","v":1},{"$f":"_xlfn.XLOOKUP($B$3,Bezetting_2!$A$2:$A$90,Bezetting_2!N$2:N$90,,0)","v":23},{"$f":"_xlfn.XLOOKUP($B$3,Bezetting_2!$A$2:$A$90,Bezetting_2!O$2:O$90,,0)","v":0},{"$f":"_xlfn.XLOOKUP($B$3,Bezetting_2!$A$2:$A$90,Bezetting_2!P$2:P$90,,0)","v":0}]
[null,"Meting",null,null,null,{"$f":"IF(F10=0,\"-\",F10/$L$10)","v":0.98326359832635979},{"$f":"IF(G10=0,\"-\",G10/$L$10)","v":"-"},"-","-",1.6736401673640166E-2,"-",1,null,null,null,null,{"$f":"_xlfn.XLOOKUP($B$3,Bezetting_2!$A$2:$A$90,Bezetting_2!Q$2:Q$90,,0)","v":0}]
[null,{"$f":"\"Meetperiode: \"&TEXT(VLOOKUP(B3,Coordinaten!$A:$G,7,0),\"dddd dd mmmm jjjj\")","v":"Meetperiode: di 10 & do 12 oktober 2023"}]
[null,"Methodiek: Parkeerdrukmeting met waarnemers"]
[null,"In opdracht van: Vlaamse overheid"]
[null,"Uitgevoerd door: Dufec"]
[null,null,null,"VERDELING NAAR CATEGORIE"]
[null,"Locatie"]
[null,{"$f":"IF(B4=\"\",\"\",HYPERLINK(\"http://www.googlemaps.com/?q=\"&B4,\"Lat/Long: \"&B4))","v":"Lat/Long: 51.032277, 3.758713"}]
[]
[null,null,null,null,null,null,null,null,null,null,null,null,null,null,null,"Legenda"]
[null,null,null,null,null,null,null,null,null,null,null,null,null,null,null,null,"Personenwagen"]
[null,null,null,null,null,null,null,null,null,null,null,null,null,null,null,null,"Vracht"]
[null,null,null,null,null,null,null,null,null,null,null,null,null,null,null,null,"Motor"]
[null,null,null,null,null,null,null,null,null,null,null,null,null,null,null,null,"Obstakel / overig"]
[null,null,null,null,null,null,null,null,null,null,null,null,null,null,null,null,"Fout personenwagen"]
[null,null,null,null,null,null,null,null,null,null,null,null,null,null,null,null,"Fout Vracht"]
[]
[]
[]
[]
[]
[]
[]
[]
[]
[]
[]
[]
[null,"Toelichting"]
[null,"Pers = personenwagens op daarvoor bestemde"]
[null,"          openbare plaatsen"]
[null,"Vracht = vrachtwagens op daarvoor bestemde"]
[null,"          parkeerplaatsen (middel- en zwaar vrachtverkeer)"]
[null,"Motor = geparkeerde motoren op openbare plaatsen"]
[null,"Obstakel / overig = obstakels of overige voertuigen"]
[null,"          geparkeerd op openbare plaatsen"]
[null,"Fout pers = personenwagens die fout geparkeerd staan"]
[null,"Fout vracht = vrachtwagens die fout geparkeerd staan"]
[null,"E-wagen = geparkeerde elektrisch voertuig bij een"]
[null,"          elektrisch oplaadpunt"]
[null,"Invalide = personenwagens en motoren op voor"]
[null,"          invalide personen bestemde parkeerplaats"]
[null,"Gestalde fietsen = alle gestalde fietsen op de"]
[null,"          daarvoor bestemde parkeerplaatsen"]

{"sheet":"25.Aalst-Zuid","index":23,"n_rows":54,"n_cols":26,"rows_kept":54,"cut":false,"hidden":false,"merged":[[4,3,5,12],[4,16,5,16],[15,3,16,12]]}
[]
[null,"PARKEERONDERZOEK",null,"CARPOOLPARKINGS EN P+R PARKINGS"]
[null,25,null,{"$f":"B8 & \" - \"& TEXT(VLOOKUP(B3,Coordinaten!$A$2:$G$95,7,0),\"dddd dd mmmm jjjj\")","v":"Carpool parking Aalst-Zuid, Aalst - di 10 & do 12 oktober 2023"}]
[null,{"$f":"VLOOKUP(B3,Coordinaten!$A$2:$G$95,6,0)","v":"50.913372, 4.031872"}]
[null,null,null,"BEZETTING  ",null,null,null,null,null,null,null,null,null,null,null,null,"OPMERKINGEN"]
[]
[null,"Onderzoeksgebied",null,"Datum","Geregistreerd tussen","Pers","Vracht","Motor","Obstakel / overig","Fout   pers","Fout Vracht","Totaal","E-wagen\nplaats","Invalidenplaats","Gestalde fietsen",null,null,null,null,null,{"$f":"F7","v":"Pers"},"Vracht","Motor","Obstakel / overig","Fout   pers","Fout Vracht"]
[null,{"$f":"VLOOKUP(B3,Coordinaten!$A$2:$G$95,3,0)&\", \"&VLOOKUP(B3,Coordinaten!$A$2:$G$95,5,0)","v":"Carpool parking Aalst-Zuid, Aalst"},null,{"$f":"_xlfn.XLOOKUP($B$3,Bezetting_1!$A$2:$A$90,Bezetting_1!C$2:C$90,,0)","v":"2023-10-12"},{"$f":"_xlfn.XLOOKUP($B$3,Bezetting_1!$A$2:$A$90,Bezetting_1!D$2:D$90,,0)","v":"09:00 - 16:00u"},{"$f":"_xlfn.XLOOKUP($B$3,Bezetting_1!$A$2:$A$90,Bezetting_1!E$2:E$90,,0)","v":22},{"$f":"_xlfn.XLOOKUP($B$3,Bezetting_1!$A$2:$A$90,Bezetting_1!F$2:F$90,,0)","v":0},{"$f":"_xlfn.XLOOKUP($B$3,Bezetting_1!$A$2:$A$90,Bezetting_1!G$2:G$90,,0)","v":0},{"$f":"_xlfn.XLOOKUP($B$3,Bezetting_1!$A$2:$A$90,Bezetting_1!H$2:H$90,,0)","v":0},{"$f":"_xlfn.XLOOKUP($B$3,Bezetting_1!$A$2:$A$90,Bezetting_1!I$2:I$90,,0)","v":6},{"$f":"_xlfn.XLOOKUP($B$3,Bezetting_1!$A$2:$A$90,Bezetting_1!J$2:J$90,,0)","v":0},{"$f":"_xlfn.XLOOKUP($B$3,Bezetting_1!$A$2:$A$90,Bezetting_1!K$2:K$90,,0)","v":28},{"$f":"_xlfn.XLOOKUP($B$3,Bezetting_1!$A$2:$A$90,Bezetting_1!L$2:L$90,,0)","v":1},{"$f":"_xlfn.XLOOKUP($B$3,Bezetting_1!$A$2:$A$90,Bezetting_1!M$2:M$90,,0)","v":0},{"$f":"_xlfn.XLOOKUP($B$3,Bezetting_1!$A$2:$A$90,Bezetting_1!N$2:N$90,,0)","v":0},null,{"$f":"_xlfn.XLOOKUP($B$3,Bezetting_1!$A$2:$A$90,Bezetting_1!P$2:P$90,,0)","v":0},null,{"$f":"D8","v":"2023-10-12"},{"$f":"E8","v":"09:00 - 16:00u"},{"$f":"IF(F8=0,NA(),F8/$L8)","v":0.7857142857142857},{"$f":"IF(G8=0,NA(),G8/$L8)","v":{"$error":"#N/A"}},{"$f":"IF(H8=0,NA(),H8/$L8)","v":{"$error":"#N/A"}},{"$error":"#N/A"},0.21428571428571427,{"$error":"#N/A"}]
[null,{"$f":"\"Nabij kruispunt: \"&VLOOKUP(B3,Coordinaten!$A$2:$L$95,4,0)","v":"Nabij kruispunt: N45 / N460"},null,null,null,{"$f":"IF(F8=0,\"-\",F8/$L$8)","v":0.7857142857142857},{"$f":"IF(G8=0,\"-\",G8/$L$8)","v":"-"},"-","-",0.21428571428571427,"-",1,null,null,null,null,{"$f":"_xlfn.XLOOKUP($B$3,Bezetting_1!$A$2:$A$90,Bezetting_1!Q$2:Q$90,,0)","v":0},null,{"$f":"D10","v":"2023-10-12"},{"$f":"E10","v":"19:00 - 02:00u"},{"$f":"IF(F10=0,NA(),F10/$L10)","v":1},{"$f":"IF(G10=0,NA(),G10/$L10)","v":{"$error":"#N/A"}},{"$error":"#N/A"},{"$error":"#N/A"},{"$error":"#N/A"},{"$error":"#N/A"}]
[null,null,null,{"$f":"_xlfn.XLOOKUP($B$3,Bezetting_2!$A$2:$A$90,Bezetting_2!C$2:C$90,,0)","v":"2023-10-12"},{"$f":"_xlfn.XLOOKUP($B$3,Bezetting_2!$A$2:$A$90,Bezetting_2!D$2:D$90,,0)","v":"19:00 - 02:00u"},{"$f":"_xlfn.XLOOKUP($B$3,Bezetting_2!$A$2:$A$90,Bezetting_2!E$2:E$90,,0)","v":17},{"$f":"_xlfn.XLOOKUP($B$3,Bezetting_2!$A$2:$A$90,Bezetting_2!F$2:F$90,,0)","v":0},{"$f":"_xlfn.XLOOKUP($B$3,Bezetting_2!$A$2:$A$90,Bezetting_2!G$2:G$90,,0)","v":0},{"$f":"_xlfn.XLOOKUP($B$3,Bezetting_2!$A$2:$A$90,Bezetting_2!H$2:H$90,,0)","v":0},{"$f":"_xlfn.XLOOKUP($B$3,Bezetting_2!$A$2:$A$90,Bezetting_2!I$2:I$90,,0)","v":0},{"$f":"_xlfn.XLOOKUP($B$3,Bezetting_2!$A$2:$A$90,Bezetting_2!J$2:J$90,,0)","v":0},{"$f":"_xlfn.XLOOKUP($B$3,Bezetting_2!$A$2:$A$90,Bezetting_2!K$2:K$90,,0)","v":17},{"$f":"_xlfn.XLOOKUP($B$3,Bezetting_2!$A$2:$A$90,Bezetting_2!L$2:L$90,,0)","v":0},{"$f":"_xlfn.XLOOKUP($B$3,Bezetting_2!$A$2:$A$90,Bezetting_2!M$2:M$90,,0)","v":0},{"$f":"_xlfn.XLOOKUP($B$3,Bezetting_2!$A$2:$A$90,Bezetting_2!N$2:N$90,,0)","v":0},{"$f":"_xlfn.XLOOKUP($B$3,Bezetting_2!$A$2:$A$90,Bezetting_2!O$2:O$90,,0)","v":0},{"$f":"_xlfn.XLOOKUP($B$3,Bezetting_2!$A$2:$A$90,Bezetting_2!P$2:P$90,,0)","v":0}]
[null,"Meting",null,null,null,{"$f":"IF(F10=0,\"-\",F10/$L$10)","v":1},{"$f":"IF(G10=0,\"-\",G10/$L$10)","v":"-"},"-","-","-","-",1,null,null,null,null,{"$f":"_xlfn.XLOOKUP($B$3,Bezetting_2!$A$2:$A$90,Bezetting_2!Q$2:Q$90,,0)","v":0}]
[null,{"$f":"\"Meetperiode: \"&TEXT(VLOOKUP(B3,Coordinaten!$A:$G,7,0),\"dddd dd mmmm jjjj\")","v":"Meetperiode: di 10 & do 12 oktober 2023"}]
[null,"Methodiek: Parkeerdrukmeting met waarnemers"]
[null,"In opdracht van: Vlaamse overheid"]
[null,"Uitgevoerd door: Dufec"]
[null,null,null,"VERDELING NAAR CATEGORIE"]
[null,"Locatie"]
[null,{"$f":"IF(B4=\"\",\"\",HYPERLINK(\"http://www.googlemaps.com/?q=\"&B4,\"Lat/Long: \"&B4))","v":"Lat/Long: 50.913372, 4.031872"}]
[]
[null,null,null,null,null,null,null,null,null,null,null,null,null,null,null,"Legenda"]
[null,null,null,null,null,null,null,null,null,null,null,null,null,null,null,null,"Personenwagen"]
[null,null,null,null,null,null,null,null,null,null,null,null,null,null,null,null,"Vracht"]
[null,null,null,null,null,null,null,null,null,null,null,null,null,null,null,null,"Motor"]
[null,null,null,null,null,null,null,null,null,null,null,null,null,null,null,null,"Obstakel / overig"]
[null,null,null,null,null,null,null,null,null,null,null,null,null,null,null,null,"Fout personenwagen"]
[null,null,null,null,null,null,null,null,null,null,null,null,null,null,null,null,"Fout Vracht"]
[]
[]
[]
[]
[]
[]
[]
[]
[]
[]
[]
[]
[null,"Toelichting"]
[null,"Pers = personenwagens op daarvoor bestemde"]
[null,"          openbare plaatsen"]
[null,"Vracht = vrachtwagens op daarvoor bestemde"]
[null,"          parkeerplaatsen (middel- en zwaar vrachtverkeer)"]
[null,"Motor = geparkeerde motoren op openbare plaatsen"]
[null,"Obstakel / overig = obstakels of overige voertuigen"]
[null,"          geparkeerd op openbare plaatsen"]
[null,"Fout pers = personenwagens die fout geparkeerd staan"]
[null,"Fout vracht = vrachtwagens die fout geparkeerd staan"]
[null,"E-wagen = geparkeerde elektrisch voertuig bij een"]
[null,"          elektrisch oplaadpunt"]
[null,"Invalide = personenwagens en motoren op voor"]
[null,"          invalide personen bestemde parkeerplaats"]
[null,"Gestalde fietsen = alle gestalde fietsen op de"]
[null,"          daarvoor bestemde parkeerplaatsen"]

{"sheet":"26.Waasmunster","index":24,"n_rows":54,"n_cols":26,"rows_kept":54,"cut":false,"hidden":false,"merged":[[4,3,5,12],[4,16,5,16],[15,3,16,12]]}
[]
[null,"PARKEERONDERZOEK",null,"CARPOOLPARKINGS EN P+R PARKINGS"]
[null,26,null,{"$f":"B8 & \" - \"& TEXT(VLOOKUP(B3,Coordinaten!$A$2:$G$95,7,0),\"dddd dd mmmm jjjj\")","v":"P+R parking Waasmunster, Waasmunster - di 10 & do 12 oktober 2023"}]
[null,{"$f":"VLOOKUP(B3,Coordinaten!$A$2:$G$95,6,0)","v":"51.127953, 4.079340"}]
[null,null,null,"BEZETTING  ",null,null,null,null,null,null,null,null,null,null,null,null,"OPMERKINGEN"]
[]
[null,"Onderzoeksgebied",null,"Datum","Geregistreerd tussen","Pers","Vracht","Motor","Obstakel / overig","Fout   pers","Fout Vracht","Totaal","E-wagen\nplaats","Invalidenplaats","Gestalde fietsen",null,null,null,null,null,{"$f":"F7","v":"Pers"},"Vracht","Motor","Obstakel / overig","Fout   pers","Fout Vracht"]
[null,{"$f":"VLOOKUP(B3,Coordinaten!$A$2:$G$95,3,0)&\", \"&VLOOKUP(B3,Coordinaten!$A$2:$G$95,5,0)","v":"P+R parking Waasmunster, Waasmunster"},null,{"$f":"_xlfn.XLOOKUP($B$3,Bezetting_1!$A$2:$A$90,Bezetting_1!C$2:C$90,,0)","v":"2023-10-10"},{"$f":"_xlfn.XLOOKUP($B$3,Bezetting_1!$A$2:$A$90,Bezetting_1!D$2:D$90,,0)","v":"09:00 - 16:00u"},{"$f":"_xlfn.XLOOKUP($B$3,Bezetting_1!$A$2:$A$90,Bezetting_1!E$2:E$90,,0)","v":27},{"$f":"_xlfn.XLOOKUP($B$3,Bezetting_1!$A$2:$A$90,Bezetting_1!F$2:F$90,,0)","v":0},{"$f":"_xlfn.XLOOKUP($B$3,Bezetting_1!$A$2:$A$90,Bezetting_1!G$2:G$90,,0)","v":0},{"$f":"_xlfn.XLOOKUP($B$3,Bezetting_1!$A$2:$A$90,Bezetting_1!H$2:H$90,,0)","v":0},{"$f":"_xlfn.XLOOKUP($B$3,Bezetting_1!$A$2:$A$90,Bezetting_1!I$2:I$90,,0)","v":0},{"$f":"_xlfn.XLOOKUP($B$3,Bezetting_1!$A$2:$A$90,Bezetting_1!J$2:J$90,,0)","v":0},{"$f":"_xlfn.XLOOKUP($B$3,Bezetting_1!$A$2:$A$90,Bezetting_1!K$2:K$90,,0)","v":27},{"$f":"_xlfn.XLOOKUP($B$3,Bezetting_1!$A$2:$A$90,Bezetting_1!L$2:L$90,,0)","v":0},{"$f":"_xlfn.XLOOKUP($B$3,Bezetting_1!$A$2:$A$90,Bezetting_1!M$2:M$90,,0)","v":0},{"$f":"_xlfn.XLOOKUP($B$3,Bezetting_1!$A$2:$A$90,Bezetting_1!N$2:N$90,,0)","v":2},null,{"$f":"_xlfn.XLOOKUP($B$3,Bezetting_1!$A$2:$A$90,Bezetting_1!P$2:P$90,,0)","v":0},null,{"$f":"D8","v":"2023-10-10"},{"$f":"E8","v":"09:00 - 16:00u"},{"$f":"IF(F8=0,NA(),F8/$L8)","v":1},{"$f":"IF(G8=0,NA(),G8/$L8)","v":{"$error":"#N/A"}},{"$f":"IF(H8=0,NA(),H8/$L8)","v":{"$error":"#N/A"}},{"$error":"#N/A"},{"$error":"#N/A"},{"$error":"#N/A"}]
[null,{"$f":"\"Nabij kruispunt: \"&VLOOKUP(B3,Coordinaten!$A$2:$L$95,4,0)","v":"Nabij kruispunt: N446 / A14"},null,null,null,{"$f":"IF(F8=0,\"-\",F8/$L$8)","v":1},{"$f":"IF(G8=0,\"-\",G8/$L$8)","v":"-"},"-","-","-","-",1,null,null,null,null,{"$f":"_xlfn.XLOOKUP($B$3,Bezetting_1!$A$2:$A$90,Bezetting_1!Q$2:Q$90,,0)","v":0},null,{"$f":"D10","v":"2023-10-10"},{"$f":"E10","v":"19:00 - 02:00u"},{"$f":"IF(F10=0,NA(),F10/$L10)","v":0.875},{"$f":"IF(G10=0,NA(),G10/$L10)","v":{"$error":"#N/A"}},{"$error":"#N/A"},0.125,{"$error":"#N/A"},{"$error":"#N/A"}]
[null,null,null,{"$f":"_xlfn.XLOOKUP($B$3,Bezetting_2!$A$2:$A$90,Bezetting_2!C$2:C$90,,0)","v":"2023-10-10"},{"$f":"_xlfn.XLOOKUP($B$3,Bezetting_2!$A$2:$A$90,Bezetting_2!D$2:D$90,,0)","v":"19:00 - 02:00u"},{"$f":"_xlfn.XLOOKUP($B$3,Bezetting_2!$A$2:$A$90,Bezetting_2!E$2:E$90,,0)","v":21},{"$f":"_xlfn.XLOOKUP($B$3,Bezetting_2!$A$2:$A$90,Bezetting_2!F$2:F$90,,0)","v":0},{"$f":"_xlfn.XLOOKUP($B$3,Bezetting_2!$A$2:$A$90,Bezetting_2!G$2:G$90,,0)","v":0},{"$f":"_xlfn.XLOOKUP($B$3,Bezetting_2!$A$2:$A$90,Bezetting_2!H$2:H$90,,0)","v":3},{"$f":"_xlfn.XLOOKUP($B$3,Bezetting_2!$A$2:$A$90,Bezetting_2!I$2:I$90,,0)","v":0},{"$f":"_xlfn.XLOOKUP($B$3,Bezetting_2!$A$2:$A$90,Bezetting_2!J$2:J$90,,0)","v":0},{"$f":"_xlfn.XLOOKUP($B$3,Bezetting_2!$A$2:$A$90,Bezetting_2!K$2:K$90,,0)","v":24},{"$f":"_xlfn.XLOOKUP($B$3,Bezetting_2!$A$2:$A$90,Bezetting_2!L$2:L$90,,0)","v":0},{"$f":"_xlfn.XLOOKUP($B$3,Bezetting_2!$A$2:$A$90,Bezetting_2!M$2:M$90,,0)","v":0},{"$f":"_xlfn.XLOOKUP($B$3,Bezetting_2!$A$2:$A$90,Bezetting_2!N$2:N$90,,0)","v":0},{"$f":"_xlfn.XLOOKUP($B$3,Bezetting_2!$A$2:$A$90,Bezetting_2!O$2:O$90,,0)","v":0},{"$f":"_xlfn.XLOOKUP($B$3,Bezetting_2!$A$2:$A$90,Bezetting_2!P$2:P$90,,0)","v":"Overig: graafmachine"}]
[null,"Meting",null,null,null,{"$f":"IF(F10=0,\"-\",F10/$L$10)","v":0.875},{"$f":"IF(G10=0,\"-\",G10/$L$10)","v":"-"},"-",0.125,"-","-",1,null,null,null,null,{"$f":"_xlfn.XLOOKUP($B$3,Bezetting_2!$A$2:$A$90,Bezetting_2!Q$2:Q$90,,0)","v":0}]
[null,{"$f":"\"Meetperiode: \"&TEXT(VLOOKUP(B3,Coordinaten!$A:$G,7,0),\"dddd dd mmmm jjjj\")","v":"Meetperiode: di 10 & do 12 oktober 2023"}]
[null,"Methodiek: Parkeerdrukmeting met waarnemers"]
[null,"In opdracht van: Vlaamse overheid"]
[null,"Uitgevoerd door: Dufec"]
[null,null,null,"VERDELING NAAR CATEGORIE"]
[null,"Locatie"]
[null,{"$f":"IF(B4=\"\",\"\",HYPERLINK(\"http://www.googlemaps.com/?q=\"&B4,\"Lat/Long: \"&B4))","v":"Lat/Long: 51.127953, 4.079340"}]
[]
[null,null,null,null,null,null,null,null,null,null,null,null,null,null,null,"Legenda"]
[null,null,null,null,null,null,null,null,null,null,null,null,null,null,null,null,"Personenwagen"]
[null,null,null,null,null,null,null,null,null,null,null,null,null,null,null,null,"Vracht"]
[null,null,null,null,null,null,null,null,null,null,null,null,null,null,null,null,"Motor"]
[null,null,null,null,null,null,null,null,null,null,null,null,null,null,null,null,"Obstakel / overig"]
[null,null,null,null,null,null,null,null,null,null,null,null,null,null,null,null,"Fout personenwagen"]
[null,null,null,null,null,null,null,null,null,null,null,null,null,null,null,null,"Fout Vracht"]
[]
[]
[]
[]
[]
[]
[]
[]
[]
[]
[]
[]
[null,"Toelichting"]
[null,"Pers = personenwagens op daarvoor bestemde"]
[null,"          openbare plaatsen"]
[null,"Vracht = vrachtwagens op daarvoor bestemde"]
[null,"          parkeerplaatsen (middel- en zwaar vrachtverkeer)"]
[null,"Motor = geparkeerde motoren op openbare plaatsen"]
[null,"Obstakel / overig = obstakels of overige voertuigen"]
[null,"          geparkeerd op openbare plaatsen"]
[null,"Fout pers = personenwagens die fout geparkeerd staan"]
[null,"Fout vracht = vrachtwagens die fout geparkeerd staan"]
[null,"E-wagen = geparkeerde elektrisch voertuig bij een"]
[null,"          elektrisch oplaadpunt"]
[null,"Invalide = personenwagens en motoren op voor"]
[null,"          invalide personen bestemde parkeerplaats"]
[null,"Gestalde fietsen = alle gestalde fietsen op de"]
[null,"          daarvoor bestemde parkeerplaatsen"]

{"sheet":"27.Melsele-Zuid","index":25,"n_rows":54,"n_cols":26,"rows_kept":54,"cut":false,"hidden":false,"merged":[[4,3,5,12],[4,16,5,16],[15,3,16,12]]}
[]
[null,"PARKEERONDERZOEK",null,"CARPOOLPARKINGS EN P+R PARKINGS"]
[null,27,null,{"$f":"B8 & \" - \"& TEXT(VLOOKUP(B3,Coordinaten!$A$2:$G$95,7,0),\"dddd dd mmmm jjjj\")","v":"Carpool parking Melsele-Zuid, Beveren - di 10 & do 12 oktober 2023"}]
[null,{"$f":"VLOOKUP(B3,Coordinaten!$A$2:$G$95,6,0)","v":"51.239507, 4.269469"}]
[null,null,null,"BEZETTING  ",null,null,null,null,null,null,null,null,null,null,null,null,"OPMERKINGEN"]
[]
[null,"Onderzoeksgebied",null,"Datum","Geregistreerd tussen","Pers","Vracht","Motor","Obstakel / overig","Fout   pers","Fout Vracht","Totaal","E-wagen\nplaats","Invalidenplaats","Gestalde fietsen",null,null,null,null,null,{"$f":"F7","v":"Pers"},"Vracht","Motor","Obstakel / overig","Fout   pers","Fout Vracht"]
[null,{"$f":"VLOOKUP(B3,Coordinaten!$A$2:$G$95,3,0)&\", \"&VLOOKUP(B3,Coordinaten!$A$2:$G$95,5,0)","v":"Carpool parking Melsele-Zuid, Beveren"},null,{"$f":"_xlfn.XLOOKUP($B$3,Bezetting_1!$A$2:$A$90,Bezetting_1!C$2:C$90,,0)","v":"2023-10-10"},{"$f":"_xlfn.XLOOKUP($B$3,Bezetting_1!$A$2:$A$90,Bezetting_1!D$2:D$90,,0)","v":"09:00 - 16:00u"},{"$f":"_xlfn.XLOOKUP($B$3,Bezetting_1!$A$2:$A$90,Bezetting_1!E$2:E$90,,0)","v":16},{"$f":"_xlfn.XLOOKUP($B$3,Bezetting_1!$A$2:$A$90,Bezetting_1!F$2:F$90,,0)","v":0},{"$f":"_xlfn.XLOOKUP($B$3,Bezetting_1!$A$2:$A$90,Bezetting_1!G$2:G$90,,0)","v":0},{"$f":"_xlfn.XLOOKUP($B$3,Bezetting_1!$A$2:$A$90,Bezetting_1!H$2:H$90,,0)","v":0},{"$f":"_xlfn.XLOOKUP($B$3,Bezetting_1!$A$2:$A$90,Bezetting_1!I$2:I$90,,0)","v":2},{"$f":"_xlfn.XLOOKUP($B$3,Bezetting_1!$A$2:$A$90,Bezetting_1!J$2:J$90,,0)","v":1},{"$f":"_xlfn.XLOOKUP($B$3,Bezetting_1!$A$2:$A$90,Bezetting_1!K$2:K$90,,0)","v":19},{"$f":"_xlfn.XLOOKUP($B$3,Bezetting_1!$A$2:$A$90,Bezetting_1!L$2:L$90,,0)","v":0},{"$f":"_xlfn.XLOOKUP($B$3,Bezetting_1!$A$2:$A$90,Bezetting_1!M$2:M$90,,0)","v":0},{"$f":"_xlfn.XLOOKUP($B$3,Bezetting_1!$A$2:$A$90,Bezetting_1!N$2:N$90,,0)","v":3},null,{"$f":"_xlfn.XLOOKUP($B$3,Bezetting_1!$A$2:$A$90,Bezetting_1!P$2:P$90,,0)","v":0},null,{"$f":"D8","v":"2023-10-10"},{"$f":"E8","v":"09:00 - 16:00u"},{"$f":"IF(F8=0,NA(),F8/$L8)","v":0.84210526315789469},{"$f":"IF(G8=0,NA(),G8/$L8)","v":{"$error":"#N/A"}},{"$f":"IF(H8=0,NA(),H8/$L8)","v":{"$error":"#N/A"}},{"$error":"#N/A"},0.10526315789473684,5.2631578947368418E-2]
[null,{"$f":"\"Nabij kruispunt: \"&VLOOKUP(B3,Coordinaten!$A$2:$L$95,4,0)","v":"Nabij kruispunt: N450 / A11"},null,null,null,{"$f":"IF(F8=0,\"-\",F8/$L$8)","v":0.84210526315789469},{"$f":"IF(G8=0,\"-\",G8/$L$8)","v":"-"},"-","-",0.10526315789473684,5.2631578947368418E-2,1,null,null,null,null,{"$f":"_xlfn.XLOOKUP($B$3,Bezetting_1!$A$2:$A$90,Bezetting_1!Q$2:Q$90,,0)","v":0},null,{"$f":"D10","v":"2023-10-10"},{"$f":"E10","v":"19:00 - 02:00u"},{"$f":"IF(F10=0,NA(),F10/$L10)","v":0.70270270270270274},{"$f":"IF(G10=0,NA(),G10/$L10)","v":{"$error":"#N/A"}},{"$error":"#N/A"},0.21621621621621623,{"$error":"#N/A"},8.1081081081081086E-2]
[null,null,null,{"$f":"_xlfn.XLOOKUP($B$3,Bezetting_2!$A$2:$A$90,Bezetting_2!C$2:C$90,,0)","v":"2023-10-10"},{"$f":"_xlfn.XLOOKUP($B$3,Bezetting_2!$A$2:$A$90,Bezetting_2!D$2:D$90,,0)","v":"19:00 - 02:00u"},{"$f":"_xlfn.XLOOKUP($B$3,Bezetting_2!$A$2:$A$90,Bezetting_2!E$2:E$90,,0)","v":26},{"$f":"_xlfn.XLOOKUP($B$3,Bezetting_2!$A$2:$A$90,Bezetting_2!F$2:F$90,,0)","v":0},{"$f":"_xlfn.XLOOKUP($B$3,Bezetting_2!$A$2:$A$90,Bezetting_2!G$2:G$90,,0)","v":0},{"$f":"_xlfn.XLOOKUP($B$3,Bezetting_2!$A$2:$A$90,Bezetting_2!H$2:H$90,,0)","v":8},{"$f":"_xlfn.XLOOKUP($B$3,Bezetting_2!$A$2:$A$90,Bezetting_2!I$2:I$90,,0)","v":0},{"$f":"_xlfn.XLOOKUP($B$3,Bezetting_2!$A$2:$A$90,Bezetting_2!J$2:J$90,,0)","v":3},{"$f":"_xlfn.XLOOKUP($B$3,Bezetting_2!$A$2:$A$90,Bezetting_2!K$2:K$90,,0)","v":37},{"$f":"_xlfn.XLOOKUP($B$3,Bezetting_2!$A$2:$A$90,Bezetting_2!L$2:L$90,,0)","v":0},{"$f":"_xlfn.XLOOKUP($B$3,Bezetting_2!$A$2:$A$90,Bezetting_2!M$2:M$90,,0)","v":0},{"$f":"_xlfn.XLOOKUP($B$3,Bezetting_2!$A$2:$A$90,Bezetting_2!N$2:N$90,,0)","v":0},{"$f":"_xlfn.XLOOKUP($B$3,Bezetting_2!$A$2:$A$90,Bezetting_2!O$2:O$90,,0)","v":0},{"$f":"_xlfn.XLOOKUP($B$3,Bezetting_2!$A$2:$A$90,Bezetting_2!P$2:P$90,,0)","v":"Overig: 1 touringcar bezet 8 plaatsen"}]
[null,"Meting",null,null,null,{"$f":"IF(F10=0,\"-\",F10/$L$10)","v":0.70270270270270274},{"$f":"IF(G10=0,\"-\",G10/$L$10)","v":"-"},"-",0.21621621621621623,"-",8.1081081081081086E-2,1,null,null,null,null,{"$f":"_xlfn.XLOOKUP($B$3,Bezetting_2!$A$2:$A$90,Bezetting_2!Q$2:Q$90,,0)","v":0}]
[null,{"$f":"\"Meetperiode: \"&TEXT(VLOOKUP(B3,Coordinaten!$A:$G,7,0),\"dddd dd mmmm jjjj\")","v":"Meetperiode: di 10 & do 12 oktober 2023"}]
[null,"Methodiek: Parkeerdrukmeting met waarnemers"]
[null,"In opdracht van: Vlaamse overheid"]
[null,"Uitgevoerd door: Dufec"]
[null,null,null,"VERDELING NAAR CATEGORIE"]
[null,"Locatie"]
[null,{"$f":"IF(B4=\"\",\"\",HYPERLINK(\"http://www.googlemaps.com/?q=\"&B4,\"Lat/Long: \"&B4))","v":"Lat/Long: 51.239507, 4.269469"}]
[]
[null,null,null,null,null,null,null,null,null,null,null,null,null,null,null,"Legenda"]
[null,null,null,null,null,null,null,null,null,null,null,null,null,null,null,null,"Personenwagen"]
[null,null,null,null,null,null,null,null,null,null,null,null,null,null,null,null,"Vracht"]
[null,null,null,null,null,null,null,null,null,null,null,null,null,null,null,null,"Motor"]
[null,null,null,null,null,null,null,null,null,null,null,null,null,null,null,null,"Obstakel / overig"]
[null,null,null,null,null,null,null,null,null,null,null,null,null,null,null,null,"Fout personenwagen"]
[null,null,null,null,null,null,null,null,null,null,null,null,null,null,null,null,"Fout Vracht"]
[]
[]
[]
[]
[]
[]
[]
[]
[]
[]
[]
[]
[null,"Toelichting"]
[null,"Pers = personenwagens op daarvoor bestemde"]
[null,"          openbare plaatsen"]
[null,"Vracht = vrachtwagens op daarvoor bestemde"]
[null,"          parkeerplaatsen (middel- en zwaar vrachtverkeer)"]
[null,"Motor = geparkeerde motoren op openbare plaatsen"]
[null,"Obstakel / overig = obstakels of overige voertuigen"]
[null,"          geparkeerd op openbare plaatsen"]
[null,"Fout pers = personenwagens die fout geparkeerd staan"]
[null,"Fout vracht = vrachtwagens die fout geparkeerd staan"]
[null,"E-wagen = geparkeerde elektrisch voertuig bij een"]
[null,"          elektrisch oplaadpunt"]
[null,"Invalide = personenwagens en motoren op voor"]
[null,"          invalide personen bestemde parkeerplaats"]
[null,"Gestalde fietsen = alle gestalde fietsen op de"]
[null,"          daarvoor bestemde parkeerplaatsen"]

{"sheet":"28.Meerbeke","index":26,"n_rows":54,"n_cols":26,"rows_kept":54,"cut":false,"hidden":false,"merged":[[4,3,5,12],[4,16,5,16],[15,3,16,12]]}
[]
[null,"PARKEERONDERZOEK",null,"CARPOOLPARKINGS EN P+R PARKINGS"]
[null,28,null,{"$f":"B8 & \" - \"& TEXT(VLOOKUP(B3,Coordinaten!$A$2:$G$95,7,0),\"dddd dd mmmm jjjj\")","v":"Carpool parking Meerbeke, Ninove - di 10 & do 12 oktober 2023"}]
[null,{"$f":"VLOOKUP(B3,Coordinaten!$A$2:$G$95,6,0)","v":"50.828223, 4.034914"}]
[null,null,null,"BEZETTING  ",null,null,null,null,null,null,null,null,null,null,null,null,"OPMERKINGEN"]
[]
[null,"Onderzoeksgebied",null,"Datum","Geregistreerd tussen","Pers","Vracht","Motor","Obstakel / overig","Fout   pers","Fout Vracht","Totaal","E-wagen\nplaats","Invalidenplaats","Gestalde fietsen",null,null,null,null,null,{"$f":"F7","v":"Pers"},"Vracht","Motor","Obstakel / overig","Fout   pers","Fout Vracht"]
[null,{"$f":"VLOOKUP(B3,Coordinaten!$A$2:$G$95,3,0)&\", \"&VLOOKUP(B3,Coordinaten!$A$2:$G$95,5,0)","v":"Carpool parking Meerbeke, Ninove"},null,{"$f":"_xlfn.XLOOKUP($B$3,Bezetting_1!$A$2:$A$90,Bezetting_1!C$2:C$90,,0)","v":"2023-10-12"},{"$f":"_xlfn.XLOOKUP($B$3,Bezetting_1!$A$2:$A$90,Bezetting_1!D$2:D$90,,0)","v":"09:00 - 16:00u"},{"$f":"_xlfn.XLOOKUP($B$3,Bezetting_1!$A$2:$A$90,Bezetting_1!E$2:E$90,,0)","v":22},{"$f":"_xlfn.XLOOKUP($B$3,Bezetting_1!$A$2:$A$90,Bezetting_1!F$2:F$90,,0)","v":0},{"$f":"_xlfn.XLOOKUP($B$3,Bezetting_1!$A$2:$A$90,Bezetting_1!G$2:G$90,,0)","v":0},{"$f":"_xlfn.XLOOKUP($B$3,Bezetting_1!$A$2:$A$90,Bezetting_1!H$2:H$90,,0)","v":0},{"$f":"_xlfn.XLOOKUP($B$3,Bezetting_1!$A$2:$A$90,Bezetting_1!I$2:I$90,,0)","v":0},{"$f":"_xlfn.XLOOKUP($B$3,Bezetting_1!$A$2:$A$90,Bezetting_1!J$2:J$90,,0)","v":0},{"$f":"_xlfn.XLOOKUP($B$3,Bezetting_1!$A$2:$A$90,Bezetting_1!K$2:K$90,,0)","v":22},{"$f":"_xlfn.XLOOKUP($B$3,Bezetting_1!$A$2:$A$90,Bezetting_1!L$2:L$90,,0)","v":0},{"$f":"_xlfn.XLOOKUP($B$3,Bezetting_1!$A$2:$A$90,Bezetting_1!M$2:M$90,,0)","v":0},{"$f":"_xlfn.XLOOKUP($B$3,Bezetting_1!$A$2:$A$90,Bezetting_1!N$2:N$90,,0)","v":0},null,{"$f":"_xlfn.XLOOKUP($B$3,Bezetting_1!$A$2:$A$90,Bezetting_1!P$2:P$90,,0)","v":"Fout: 1 fiets"},null,{"$f":"D8","v":"2023-10-12"},{"$f":"E8","v":"09:00 - 16:00u"},{"$f":"IF(F8=0,NA(),F8/$L8)","v":1},{"$f":"IF(G8=0,NA(),G8/$L8)","v":{"$error":"#N/A"}},{"$f":"IF(H8=0,NA(),H8/$L8)","v":{"$error":"#N/A"}},{"$error":"#N/A"},{"$error":"#N/A"},{"$error":"#N/A"}]
[null,{"$f":"\"Nabij kruispunt: \"&VLOOKUP(B3,Coordinaten!$A$2:$L$95,4,0)","v":"Nabij kruispunt: N28 / N8"},null,null,null,{"$f":"IF(F8=0,\"-\",F8/$L$8)","v":1},{"$f":"IF(G8=0,\"-\",G8/$L$8)","v":"-"},"-","-","-","-",1,null,null,null,null,{"$f":"_xlfn.XLOOKUP($B$3,Bezetting_1!$A$2:$A$90,Bezetting_1!Q$2:Q$90,,0)","v":0},null,{"$f":"D10","v":"2023-10-12"},{"$f":"E10","v":"19:00 - 02:00u"},{"$f":"IF(F10=0,NA(),F10/$L10)","v":1},{"$f":"IF(G10=0,NA(),G10/$L10)","v":{"$error":"#N/A"}},{"$error":"#N/A"},{"$error":"#N/A"},{"$error":"#N/A"},{"$error":"#N/A"}]
[null,null,null,{"$f":"_xlfn.XLOOKUP($B$3,Bezetting_2!$A$2:$A$90,Bezetting_2!C$2:C$90,,0)","v":"2023-10-12"},{"$f":"_xlfn.XLOOKUP($B$3,Bezetting_2!$A$2:$A$90,Bezetting_2!D$2:D$90,,0)","v":"19:00 - 02:00u"},{"$f":"_xlfn.XLOOKUP($B$3,Bezetting_2!$A$2:$A$90,Bezetting_2!E$2:E$90,,0)","v":13},{"$f":"_xlfn.XLOOKUP($B$3,Bezetting_2!$A$2:$A$90,Bezetting_2!F$2:F$90,,0)","v":0},{"$f":"_xlfn.XLOOKUP($B$3,Bezetting_2!$A$2:$A$90,Bezetting_2!G$2:G$90,,0)","v":0},{"$f":"_xlfn.XLOOKUP($B$3,Bezetting_2!$A$2:$A$90,Bezetting_2!H$2:H$90,,0)","v":0},{"$f":"_xlfn.XLOOKUP($B$3,Bezetting_2!$A$2:$A$90,Bezetting_2!I$2:I$90,,0)","v":0},{"$f":"_xlfn.XLOOKUP($B$3,Bezetting_2!$A$2:$A$90,Bezetting_2!J$2:J$90,,0)","v":0},{"$f":"_xlfn.XLOOKUP($B$3,Bezetting_2!$A$2:$A$90,Bezetting_2!K$2:K$90,,0)","v":13},{"$f":"_xlfn.XLOOKUP($B$3,Bezetting_2!$A$2:$A$90,Bezetting_2!L$2:L$90,,0)","v":0},{"$f":"_xlfn.XLOOKUP($B$3,Bezetting_2!$A$2:$A$90,Bezetting_2!M$2:M$90,,0)","v":0},{"$f":"_xlfn.XLOOKUP($B$3,Bezetting_2!$A$2:$A$90,Bezetting_2!N$2:N$90,,0)","v":0},{"$f":"_xlfn.XLOOKUP($B$3,Bezetting_2!$A$2:$A$90,Bezetting_2!O$2:O$90,,0)","v":0},{"$f":"_xlfn.XLOOKUP($B$3,Bezetting_2!$A$2:$A$90,Bezetting_2!P$2:P$90,,0)","v":0}]
[null,"Meting",null,null,null,{"$f":"IF(F10=0,\"-\",F10/$L$10)","v":1},{"$f":"IF(G10=0,\"-\",G10/$L$10)","v":"-"},"-","-","-","-",1,null,null,null,null,{"$f":"_xlfn.XLOOKUP($B$3,Bezetting_2!$A$2:$A$90,Bezetting_2!Q$2:Q$90,,0)","v":0}]
[null,{"$f":"\"Meetperiode: \"&TEXT(VLOOKUP(B3,Coordinaten!$A:$G,7,0),\"dddd dd mmmm jjjj\")","v":"Meetperiode: di 10 & do 12 oktober 2023"}]
[null,"Methodiek: Parkeerdrukmeting met waarnemers"]
[null,"In opdracht van: Vlaamse overheid"]
[null,"Uitgevoerd door: Dufec"]
[null,null,null,"VERDELING NAAR CATEGORIE"]
[null,"Locatie"]
[null,{"$f":"IF(B4=\"\",\"\",HYPERLINK(\"http://www.googlemaps.com/?q=\"&B4,\"Lat/Long: \"&B4))","v":"Lat/Long: 50.828223, 4.034914"}]
[]
[null,null,null,null,null,null,null,null,null,null,null,null,null,null,null,"Legenda"]
[null,null,null,null,null,null,null,null,null,null,null,null,null,null,null,null,"Personenwagen"]
[null,null,null,null,null,null,null,null,null,null,null,null,null,null,null,null,"Vracht"]
[null,null,null,null,null,null,null,null,null,null,null,null,null,null,null,null,"Motor"]
[null,null,null,null,null,null,null,null,null,null,null,null,null,null,null,null,"Obstakel / overig"]
[null,null,null,null,null,null,null,null,null,null,null,null,null,null,null,null,"Fout personenwagen"]
[null,null,null,null,null,null,null,null,null,null,null,null,null,null,null,null,"Fout Vracht"]
[]
[]
[]
[]
[]
[]
[]
[]
[]
[]
[]
[]
[null,"Toelichting"]
[null,"Pers = personenwagens op daarvoor bestemde"]
[null,"          openbare plaatsen"]
[null,"Vracht = vrachtwagens op daarvoor bestemde"]
[null,"          parkeerplaatsen (middel- en zwaar vrachtverkeer)"]
[null,"Motor = geparkeerde motoren op openbare plaatsen"]
[null,"Obstakel / overig = obstakels of overige voertuigen"]
[null,"          geparkeerd op openbare plaatsen"]
[null,"Fout pers = personenwagens die fout geparkeerd staan"]
[null,"Fout vracht = vrachtwagens die fout geparkeerd staan"]
[null,"E-wagen = geparkeerde elektrisch voertuig bij een"]
[null,"          elektrisch oplaadpunt"]
[null,"Invalide = personenwagens en motoren op voor"]
[null,"          invalide personen bestemde parkeerplaats"]
[null,"Gestalde fietsen = alle gestalde fietsen op de"]
[null,"          daarvoor bestemde parkeerplaatsen"]

{"sheet":"29.Ninove","index":27,"n_rows":54,"n_cols":26,"rows_kept":54,"cut":false,"hidden":false,"merged":[[4,3,5,12],[4,16,5,16],[15,3,16,12]]}
[]
[null,"PARKEERONDERZOEK",null,"CARPOOLPARKINGS EN P+R PARKINGS"]
[null,29,null,{"$f":"B8 & \" - \"& TEXT(VLOOKUP(B3,Coordinaten!$A$2:$G$95,7,0),\"dddd dd mmmm jjjj\")","v":"Carpool parking Ninove, Ninove - di 10 & do 12 oktober 2023"}]
[null,{"$f":"VLOOKUP(B3,Coordinaten!$A$2:$G$95,6,0)","v":"50.827345, 4.025918"}]
[null,null,null,"BEZETTING  ",null,null,null,null,null,null,null,null,null,null,null,null,"OPMERKINGEN"]
[]
[null,"Onderzoeksgebied",null,"Datum","Geregistreerd tussen","Pers","Vracht","Motor","Obstakel / overig","Fout   pers","Fout Vracht","Totaal","E-wagen\nplaats","Invalidenplaats","Gestalde fietsen",null,null,null,null,null,{"$f":"F7","v":"Pers"},"Vracht","Motor","Obstakel / overig","Fout   pers","Fout Vracht"]
[null,{"$f":"VLOOKUP(B3,Coordinaten!$A$2:$G$95,3,0)&\", \"&VLOOKUP(B3,Coordinaten!$A$2:$G$95,5,0)","v":"Carpool parking Ninove, Ninove"},null,{"$f":"_xlfn.XLOOKUP($B$3,Bezetting_1!$A$2:$A$90,Bezetting_1!C$2:C$90,,0)","v":"2023-10-12"},{"$f":"_xlfn.XLOOKUP($B$3,Bezetting_1!$A$2:$A$90,Bezetting_1!D$2:D$90,,0)","v":"09:00 - 16:00u"},{"$f":"_xlfn.XLOOKUP($B$3,Bezetting_1!$A$2:$A$90,Bezetting_1!E$2:E$90,,0)","v":23},{"$f":"_xlfn.XLOOKUP($B$3,Bezetting_1!$A$2:$A$90,Bezetting_1!F$2:F$90,,0)","v":0},{"$f":"_xlfn.XLOOKUP($B$3,Bezetting_1!$A$2:$A$90,Bezetting_1!G$2:G$90,,0)","v":0},{"$f":"_xlfn.XLOOKUP($B$3,Bezetting_1!$A$2:$A$90,Bezetting_1!H$2:H$90,,0)","v":0},{"$f":"_xlfn.XLOOKUP($B$3,Bezetting_1!$A$2:$A$90,Bezetting_1!I$2:I$90,,0)","v":0},{"$f":"_xlfn.XLOOKUP($B$3,Bezetting_1!$A$2:$A$90,Bezetting_1!J$2:J$90,,0)","v":0},{"$f":"_xlfn.XLOOKUP($B$3,Bezetting_1!$A$2:$A$90,Bezetting_1!K$2:K$90,,0)","v":23},{"$f":"_xlfn.XLOOKUP($B$3,Bezetting_1!$A$2:$A$90,Bezetting_1!L$2:L$90,,0)","v":0},{"$f":"_xlfn.XLOOKUP($B$3,Bezetting_1!$A$2:$A$90,Bezetting_1!M$2:M$90,,0)","v":0},{"$f":"_xlfn.XLOOKUP($B$3,Bezetting_1!$A$2:$A$90,Bezetting_1!N$2:N$90,,0)","v":0},null,{"$f":"_xlfn.XLOOKUP($B$3,Bezetting_1!$A$2:$A$90,Bezetting_1!P$2:P$90,,0)","v":0},null,{"$f":"D8","v":"2023-10-12"},{"$f":"E8","v":"09:00 - 16:00u"},{"$f":"IF(F8=0,NA(),F8/$L8)","v":1},{"$f":"IF(G8=0,NA(),G8/$L8)","v":{"$error":"#N/A"}},{"$f":"IF(H8=0,NA(),H8/$L8)","v":{"$error":"#N/A"}},{"$error":"#N/A"},{"$error":"#N/A"},{"$error":"#N/A"}]
[null,{"$f":"\"Nabij kruispunt: \"&VLOOKUP(B3,Coordinaten!$A$2:$L$95,4,0)","v":"Nabij kruispunt: N255 / N8"},null,null,null,{"$f":"IF(F8=0,\"-\",F8/$L$8)","v":1},{"$f":"IF(G8=0,\"-\",G8/$L$8)","v":"-"},"-","-","-","-",1,null,null,null,null,{"$f":"_xlfn.XLOOKUP($B$3,Bezetting_1!$A$2:$A$90,Bezetting_1!Q$2:Q$90,,0)","v":0},null,{"$f":"D10","v":"2023-10-12"},{"$f":"E10","v":"19:00 - 02:00u"},{"$f":"IF(F10=0,NA(),F10/$L10)","v":1},{"$f":"IF(G10=0,NA(),G10/$L10)","v":{"$error":"#N/A"}},{"$error":"#N/A"},{"$error":"#N/A"},{"$error":"#N/A"},{"$error":"#N/A"}]
[null,null,null,{"$f":"_xlfn.XLOOKUP($B$3,Bezetting_2!$A$2:$A$90,Bezetting_2!C$2:C$90,,0)","v":"2023-10-12"},{"$f":"_xlfn.XLOOKUP($B$3,Bezetting_2!$A$2:$A$90,Bezetting_2!D$2:D$90,,0)","v":"19:00 - 02:00u"},{"$f":"_xlfn.XLOOKUP($B$3,Bezetting_2!$A$2:$A$90,Bezetting_2!E$2:E$90,,0)","v":28},{"$f":"_xlfn.XLOOKUP($B$3,Bezetting_2!$A$2:$A$90,Bezetting_2!F$2:F$90,,0)","v":0},{"$f":"_xlfn.XLOOKUP($B$3,Bezetting_2!$A$2:$A$90,Bezetting_2!G$2:G$90,,0)","v":0},{"$f":"_xlfn.XLOOKUP($B$3,Bezetting_2!$A$2:$A$90,Bezetting_2!H$2:H$90,,0)","v":0},{"$f":"_xlfn.XLOOKUP($B$3,Bezetting_2!$A$2:$A$90,Bezetting_2!I$2:I$90,,0)","v":0},{"$f":"_xlfn.XLOOKUP($B$3,Bezetting_2!$A$2:$A$90,Bezetting_2!J$2:J$90,,0)","v":0},{"$f":"_xlfn.XLOOKUP($B$3,Bezetting_2!$A$2:$A$90,Bezetting_2!K$2:K$90,,0)","v":28},{"$f":"_xlfn.XLOOKUP($B$3,Bezetting_2!$A$2:$A$90,Bezetting_2!L$2:L$90,,0)","v":0},{"$f":"_xlfn.XLOOKUP($B$3,Bezetting_2!$A$2:$A$90,Bezetting_2!M$2:M$90,,0)","v":0},{"$f":"_xlfn.XLOOKUP($B$3,Bezetting_2!$A$2:$A$90,Bezetting_2!N$2:N$90,,0)","v":0},{"$f":"_xlfn.XLOOKUP($B$3,Bezetting_2!$A$2:$A$90,Bezetting_2!O$2:O$90,,0)","v":0},{"$f":"_xlfn.XLOOKUP($B$3,Bezetting_2!$A$2:$A$90,Bezetting_2!P$2:P$90,,0)","v":0}]
[null,"Meting",null,null,null,{"$f":"IF(F10=0,\"-\",F10/$L$10)","v":1},{"$f":"IF(G10=0,\"-\",G10/$L$10)","v":"-"},"-","-","-","-",1,null,null,null,null,{"$f":"_xlfn.XLOOKUP($B$3,Bezetting_2!$A$2:$A$90,Bezetting_2!Q$2:Q$90,,0)","v":0}]
[null,{"$f":"\"Meetperiode: \"&TEXT(VLOOKUP(B3,Coordinaten!$A:$G,7,0),\"dddd dd mmmm jjjj\")","v":"Meetperiode: di 10 & do 12 oktober 2023"}]
[null,"Methodiek: Parkeerdrukmeting met waarnemers"]
[null,"In opdracht van: Vlaamse overheid"]
[null,"Uitgevoerd door: Dufec"]
[null,null,null,"VERDELING NAAR CATEGORIE"]
[null,"Locatie"]
[null,{"$f":"IF(B4=\"\",\"\",HYPERLINK(\"http://www.googlemaps.com/?q=\"&B4,\"Lat/Long: \"&B4))","v":"Lat/Long: 50.827345, 4.025918"}]
[]
[null,null,null,null,null,null,null,null,null,null,null,null,null,null,null,"Legenda"]
[null,null,null,null,null,null,null,null,null,null,null,null,null,null,null,null,"Personenwagen"]
[null,null,null,null,null,null,null,null,null,null,null,null,null,null,null,null,"Vracht"]
[null,null,null,null,null,null,null,null,null,null,null,null,null,null,null,null,"Motor"]
[null,null,null,null,null,null,null,null,null,null,null,null,null,null,null,null,"Obstakel / overig"]
[null,null,null,null,null,null,null,null,null,null,null,null,null,null,null,null,"Fout personenwagen"]
[null,null,null,null,null,null,null,null,null,null,null,null,null,null,null,null,"Fout Vracht"]
[]
[]
[]
[]
[]
[]
[]
[]
[]
[]
[]
[]
[null,"Toelichting"]
[null,"Pers = personenwagens op daarvoor bestemde"]
[null,"          openbare plaatsen"]
[null,"Vracht = vrachtwagens op daarvoor bestemde"]
[null,"          parkeerplaatsen (middel- en zwaar vrachtverkeer)"]
[null,"Motor = geparkeerde motoren op openbare plaatsen"]
[null,"Obstakel / overig = obstakels of overige voertuigen"]
[null,"          geparkeerd op openbare plaatsen"]
[null,"Fout pers = personenwagens die fout geparkeerd staan"]
[null,"Fout vracht = vrachtwagens die fout geparkeerd staan"]
[null,"E-wagen = geparkeerde elektrisch voertuig bij een"]
[null,"          elektrisch oplaadpunt"]
[null,"Invalide = personenwagens en motoren op voor"]
[null,"          invalide personen bestemde parkeerplaats"]
[null,"Gestalde fietsen = alle gestalde fietsen op de"]
[null,"          daarvoor bestemde parkeerplaatsen"]

{"sheet":"30.Kruishoutem","index":28,"n_rows":54,"n_cols":26,"rows_kept":54,"cut":false,"hidden":false,"merged":[[4,3,5,12],[4,16,5,16],[15,3,16,12]]}
[]
[null,"PARKEERONDERZOEK",null,"CARPOOLPARKINGS EN P+R PARKINGS"]
[null,30,null,{"$f":"B8 & \" - \"& TEXT(VLOOKUP(B3,Coordinaten!$A$2:$G$95,7,0),\"dddd dd mmmm jjjj\")","v":"Carpool parking Kruishoutem, Kruishoutem - di 10 & do 12 oktober 2023"}]
[null,{"$f":"VLOOKUP(B3,Coordinaten!$A$2:$G$95,6,0)","v":"50.916012, 3.492023"}]
[null,null,null,"BEZETTING  ",null,null,null,null,null,null,null,null,null,null,null,null,"OPMERKINGEN"]
[]
[null,"Onderzoeksgebied",null,"Datum","Geregistreerd tussen","Pers","Vracht","Motor","Obstakel / overig","Fout   pers","Fout Vracht","Totaal","E-wagen\nplaats","Invalidenplaats","Gestalde fietsen",null,null,null,null,null,{"$f":"F7","v":"Pers"},"Vracht","Motor","Obstakel / overig","Fout   pers","Fout Vracht"]
[null,{"$f":"VLOOKUP(B3,Coordinaten!$A$2:$G$95,3,0)&\", \"&VLOOKUP(B3,Coordinaten!$A$2:$G$95,5,0)","v":"Carpool parking Kruishoutem, Kruishoutem"},null,{"$f":"_xlfn.XLOOKUP($B$3,Bezetting_1!$A$2:$A$90,Bezetting_1!C$2:C$90,,0)","v":"2023-10-12"},{"$f":"_xlfn.XLOOKUP($B$3,Bezetting_1!$A$2:$A$90,Bezetting_1!D$2:D$90,,0)","v":"09:00 - 16:00u"},{"$f":"_xlfn.XLOOKUP($B$3,Bezetting_1!$A$2:$A$90,Bezetting_1!E$2:E$90,,0)","v":36},{"$f":"_xlfn.XLOOKUP($B$3,Bezetting_1!$A$2:$A$90,Bezetting_1!F$2:F$90,,0)","v":0},{"$f":"_xlfn.XLOOKUP($B$3,Bezetting_1!$A$2:$A$90,Bezetting_1!G$2:G$90,,0)","v":0},{"$f":"_xlfn.XLOOKUP($B$3,Bezetting_1!$A$2:$A$90,Bezetting_1!H$2:H$90,,0)","v":0},{"$f":"_xlfn.XLOOKUP($B$3,Bezetting_1!$A$2:$A$90,Bezetting_1!I$2:I$90,,0)","v":2},{"$f":"_xlfn.XLOOKUP($B$3,Bezetting_1!$A$2:$A$90,Bezetting_1!J$2:J$90,,0)","v":1},{"$f":"_xlfn.XLOOKUP($B$3,Bezetting_1!$A$2:$A$90,Bezetting_1!K$2:K$90,,0)","v":39},{"$f":"_xlfn.XLOOKUP($B$3,Bezetting_1!$A$2:$A$90,Bezetting_1!L$2:L$90,,0)","v":0},{"$f":"_xlfn.XLOOKUP($B$3,Bezetting_1!$A$2:$A$90,Bezetting_1!M$2:M$90,,0)","v":0},{"$f":"_xlfn.XLOOKUP($B$3,Bezetting_1!$A$2:$A$90,Bezetting_1!N$2:N$90,,0)","v":0},null,{"$f":"_xlfn.XLOOKUP($B$3,Bezetting_1!$A$2:$A$90,Bezetting_1!P$2:P$90,,0)","v":"Fout pers: 2 auto's dubbel geparkeerd"},null,{"$f":"D8","v":"2023-10-12"},{"$f":"E8","v":"09:00 - 16:00u"},{"$f":"IF(F8=0,NA(),F8/$L8)","v":0.92307692307692313},{"$f":"IF(G8=0,NA(),G8/$L8)","v":{"$error":"#N/A"}},{"$f":"IF(H8=0,NA(),H8/$L8)","v":{"$error":"#N/A"}},{"$error":"#N/A"},5.128205128205128E-2,2.564102564102564E-2]
[null,{"$f":"\"Nabij kruispunt: \"&VLOOKUP(B3,Coordinaten!$A$2:$L$95,4,0)","v":"Nabij kruispunt: N459 / A14"},null,null,null,{"$f":"IF(F8=0,\"-\",F8/$L$8)","v":0.92307692307692313},{"$f":"IF(G8=0,\"-\",G8/$L$8)","v":"-"},"-","-",5.128205128205128E-2,2.564102564102564E-2,1,null,null,null,null,{"$f":"_xlfn.XLOOKUP($B$3,Bezetting_1!$A$2:$A$90,Bezetting_1!Q$2:Q$90,,0)","v":0},null,{"$f":"D10","v":"2023-10-12"},{"$f":"E10","v":"19:00 - 02:00u"},{"$f":"IF(F10=0,NA(),F10/$L10)","v":0.82352941176470584},{"$f":"IF(G10=0,NA(),G10/$L10)","v":{"$error":"#N/A"}},{"$error":"#N/A"},{"$error":"#N/A"},0.11764705882352941,5.8823529411764705E-2]
[null,null,null,{"$f":"_xlfn.XLOOKUP($B$3,Bezetting_2!$A$2:$A$90,Bezetting_2!C$2:C$90,,0)","v":"2023-10-12"},{"$f":"_xlfn.XLOOKUP($B$3,Bezetting_2!$A$2:$A$90,Bezetting_2!D$2:D$90,,0)","v":"19:00 - 02:00u"},{"$f":"_xlfn.XLOOKUP($B$3,Bezetting_2!$A$2:$A$90,Bezetting_2!E$2:E$90,,0)","v":14},{"$f":"_xlfn.XLOOKUP($B$3,Bezetting_2!$A$2:$A$90,Bezetting_2!F$2:F$90,,0)","v":0},{"$f":"_xlfn.XLOOKUP($B$3,Bezetting_2!$A$2:$A$90,Bezetting_2!G$2:G$90,,0)","v":0},{"$f":"_xlfn.XLOOKUP($B$3,Bezetting_2!$A$2:$A$90,Bezetting_2!H$2:H$90,,0)","v":0},{"$f":"_xlfn.XLOOKUP($B$3,Bezetting_2!$A$2:$A$90,Bezetting_2!I$2:I$90,,0)","v":2},{"$f":"_xlfn.XLOOKUP($B$3,Bezetting_2!$A$2:$A$90,Bezetting_2!J$2:J$90,,0)","v":1},{"$f":"_xlfn.XLOOKUP($B$3,Bezetting_2!$A$2:$A$90,Bezetting_2!K$2:K$90,,0)","v":17},{"$f":"_xlfn.XLOOKUP($B$3,Bezetting_2!$A$2:$A$90,Bezetting_2!L$2:L$90,,0)","v":0},{"$f":"_xlfn.XLOOKUP($B$3,Bezetting_2!$A$2:$A$90,Bezetting_2!M$2:M$90,,0)","v":1},{"$f":"_xlfn.XLOOKUP($B$3,Bezetting_2!$A$2:$A$90,Bezetting_2!N$2:N$90,,0)","v":0},{"$f":"_xlfn.XLOOKUP($B$3,Bezetting_2!$A$2:$A$90,Bezetting_2!O$2:O$90,,0)","v":0},{"$f":"_xlfn.XLOOKUP($B$3,Bezetting_2!$A$2:$A$90,Bezetting_2!P$2:P$90,,0)","v":0}]
[null,"Meting",null,null,null,{"$f":"IF(F10=0,\"-\",F10/$L$10)","v":0.82352941176470584},{"$f":"IF(G10=0,\"-\",G10/$L$10)","v":"-"},"-","-",0.11764705882352941,5.8823529411764705E-2,1,null,null,null,null,{"$f":"_xlfn.XLOOKUP($B$3,Bezetting_2!$A$2:$A$90,Bezetting_2!Q$2:Q$90,,0)","v":0}]
[null,{"$f":"\"Meetperiode: \"&TEXT(VLOOKUP(B3,Coordinaten!$A:$G,7,0),\"dddd dd mmmm jjjj\")","v":"Meetperiode: di 10 & do 12 oktober 2023"}]
[null,"Methodiek: Parkeerdrukmeting met waarnemers"]
[null,"In opdracht van: Vlaamse overheid"]
[null,"Uitgevoerd door: Dufec"]
[null,null,null,"VERDELING NAAR CATEGORIE"]
[null,"Locatie"]
[null,{"$f":"IF(B4=\"\",\"\",HYPERLINK(\"http://www.googlemaps.com/?q=\"&B4,\"Lat/Long: \"&B4))","v":"Lat/Long: 50.916012, 3.492023"}]
[]
[null,null,null,null,null,null,null,null,null,null,null,null,null,null,null,"Legenda"]
[null,null,null,null,null,null,null,null,null,null,null,null,null,null,null,null,"Personenwagen"]
[null,null,null,null,null,null,null,null,null,null,null,null,null,null,null,null,"Vracht"]
[null,null,null,null,null,null,null,null,null,null,null,null,null,null,null,null,"Motor"]
[null,null,null,null,null,null,null,null,null,null,null,null,null,null,null,null,"Obstakel / overig"]
[null,null,null,null,null,null,null,null,null,null,null,null,null,null,null,null,"Fout personenwagen"]
[null,null,null,null,null,null,null,null,null,null,null,null,null,null,null,null,"Fout Vracht"]
[]
[]
[]
[]
[]
[]
[]
[]
[]
[]
[]
[]
[null,"Toelichting"]
[null,"Pers = personenwagens op daarvoor bestemde"]
[null,"          openbare plaatsen"]
[null,"Vracht = vrachtwagens op daarvoor bestemde"]
[null,"          parkeerplaatsen (middel- en zwaar vrachtverkeer)"]
[null,"Motor = geparkeerde motoren op openbare plaatsen"]
[null,"Obstakel / overig = obstakels of overige voertuigen"]
[null,"          geparkeerd op openbare plaatsen"]
[null,"Fout pers = personenwagens die fout geparkeerd staan"]
[null,"Fout vracht = vrachtwagens die fout geparkeerd staan"]
[null,"E-wagen = geparkeerde elektrisch voertuig bij een"]
[null,"          elektrisch oplaadpunt"]
[null,"Invalide = personenwagens en motoren op voor"]
[null,"          invalide personen bestemde parkeerplaats"]
[null,"Gestalde fietsen = alle gestalde fietsen op de"]
[null,"          daarvoor bestemde parkeerplaatsen"]

{"sheet":"32.Vrasene-Noord","index":29,"n_rows":54,"n_cols":26,"rows_kept":54,"cut":false,"hidden":false,"merged":[[4,3,5,12],[4,16,5,16],[15,3,16,12]]}
[]
[null,"PARKEERONDERZOEK",null,"CARPOOLPARKINGS EN P+R PARKINGS"]
[null,32,null,{"$f":"B8 & \" - \"& TEXT(VLOOKUP(B3,Coordinaten!$A$2:$G$95,7,0),\"dddd dd mmmm jjjj\")","v":"Carpool parking Vrasene-Noord, Beveren - di 10 & do 12 oktober 2023"}]
[null,{"$f":"VLOOKUP(B3,Coordinaten!$A$2:$G$95,6,0)","v":"51.240943, 4.189741"}]
[null,null,null,"BEZETTING  ",null,null,null,null,null,null,null,null,null,null,null,null,"OPMERKINGEN"]
[]
[null,"Onderzoeksgebied",null,"Datum","Geregistreerd tussen","Pers","Vracht","Motor","Obstakel / overig","Fout   pers","Fout Vracht","Totaal","E-wagen\nplaats","Invalidenplaats","Gestalde fietsen",null,null,null,null,null,{"$f":"F7","v":"Pers"},"Vracht","Motor","Obstakel / overig","Fout   pers","Fout Vracht"]
[null,{"$f":"VLOOKUP(B3,Coordinaten!$A$2:$G$95,3,0)&\", \"&VLOOKUP(B3,Coordinaten!$A$2:$G$95,5,0)","v":"Carpool parking Vrasene-Noord, Beveren"},null,{"$f":"_xlfn.XLOOKUP($B$3,Bezetting_1!$A$2:$A$90,Bezetting_1!C$2:C$90,,0)","v":"2023-10-10"},{"$f":"_xlfn.XLOOKUP($B$3,Bezetting_1!$A$2:$A$90,Bezetting_1!D$2:D$90,,0)","v":"09:00 - 16:00u"},{"$f":"_xlfn.XLOOKUP($B$3,Bezetting_1!$A$2:$A$90,Bezetting_1!E$2:E$90,,0)","v":30},{"$f":"_xlfn.XLOOKUP($B$3,Bezetting_1!$A$2:$A$90,Bezetting_1!F$2:F$90,,0)","v":0},{"$f":"_xlfn.XLOOKUP($B$3,Bezetting_1!$A$2:$A$90,Bezetting_1!G$2:G$90,,0)","v":0},{"$f":"_xlfn.XLOOKUP($B$3,Bezetting_1!$A$2:$A$90,Bezetting_1!H$2:H$90,,0)","v":0},{"$f":"_xlfn.XLOOKUP($B$3,Bezetting_1!$A$2:$A$90,Bezetting_1!I$2:I$90,,0)","v":0},{"$f":"_xlfn.XLOOKUP($B$3,Bezetting_1!$A$2:$A$90,Bezetting_1!J$2:J$90,,0)","v":0},{"$f":"_xlfn.XLOOKUP($B$3,Bezetting_1!$A$2:$A$90,Bezetting_1!K$2:K$90,,0)","v":30},{"$f":"_xlfn.XLOOKUP($B$3,Bezetting_1!$A$2:$A$90,Bezetting_1!L$2:L$90,,0)","v":0},{"$f":"_xlfn.XLOOKUP($B$3,Bezetting_1!$A$2:$A$90,Bezetting_1!M$2:M$90,,0)","v":0},{"$f":"_xlfn.XLOOKUP($B$3,Bezetting_1!$A$2:$A$90,Bezetting_1!N$2:N$90,,0)","v":1},null,{"$f":"_xlfn.XLOOKUP($B$3,Bezetting_1!$A$2:$A$90,Bezetting_1!P$2:P$90,,0)","v":0},null,{"$f":"D8","v":"2023-10-10"},{"$f":"E8","v":"09:00 - 16:00u"},{"$f":"IF(F8=0,NA(),F8/$L8)","v":1},{"$f":"IF(G8=0,NA(),G8/$L8)","v":{"$error":"#N/A"}},{"$f":"IF(H8=0,NA(),H8/$L8)","v":{"$error":"#N/A"}},{"$error":"#N/A"},{"$error":"#N/A"},{"$error":"#N/A"}]
[null,{"$f":"\"Nabij kruispunt: \"&VLOOKUP(B3,Coordinaten!$A$2:$L$95,4,0)","v":"Nabij kruispunt: N451 / A11"},null,null,null,{"$f":"IF(F8=0,\"-\",F8/$L$8)","v":1},{"$f":"IF(G8=0,\"-\",G8/$L$8)","v":"-"},"-","-","-","-",1,null,null,null,null,{"$f":"_xlfn.XLOOKUP($B$3,Bezetting_1!$A$2:$A$90,Bezetting_1!Q$2:Q$90,,0)","v":0},null,{"$f":"D10","v":"2023-10-10"},{"$f":"E10","v":"19:00 - 02:00u"},{"$f":"IF(F10=0,NA(),F10/$L10)","v":0.94736842105263153},{"$f":"IF(G10=0,NA(),G10/$L10)","v":{"$error":"#N/A"}},{"$error":"#N/A"},5.2631578947368418E-2,{"$error":"#N/A"},{"$error":"#N/A"}]
[null,null,null,{"$f":"_xlfn.XLOOKUP($B$3,Bezetting_2!$A$2:$A$90,Bezetting_2!C$2:C$90,,0)","v":"2023-10-10"},{"$f":"_xlfn.XLOOKUP($B$3,Bezetting_2!$A$2:$A$90,Bezetting_2!D$2:D$90,,0)","v":"19:00 - 02:00u"},{"$f":"_xlfn.XLOOKUP($B$3,Bezetting_2!$A$2:$A$90,Bezetting_2!E$2:E$90,,0)","v":18},{"$f":"_xlfn.XLOOKUP($B$3,Bezetting_2!$A$2:$A$90,Bezetting_2!F$2:F$90,,0)","v":0},{"$f":"_xlfn.XLOOKUP($B$3,Bezetting_2!$A$2:$A$90,Bezetting_2!G$2:G$90,,0)","v":0},{"$f":"_xlfn.XLOOKUP($B$3,Bezetting_2!$A$2:$A$90,Bezetting_2!H$2:H$90,,0)","v":1},{"$f":"_xlfn.XLOOKUP($B$3,Bezetting_2!$A$2:$A$90,Bezetting_2!I$2:I$90,,0)","v":0},{"$f":"_xlfn.XLOOKUP($B$3,Bezetting_2!$A$2:$A$90,Bezetting_2!J$2:J$90,,0)","v":0},{"$f":"_xlfn.XLOOKUP($B$3,Bezetting_2!$A$2:$A$90,Bezetting_2!K$2:K$90,,0)","v":19},{"$f":"_xlfn.XLOOKUP($B$3,Bezetting_2!$A$2:$A$90,Bezetting_2!L$2:L$90,,0)","v":0},{"$f":"_xlfn.XLOOKUP($B$3,Bezetting_2!$A$2:$A$90,Bezetting_2!M$2:M$90,,0)","v":0},{"$f":"_xlfn.XLOOKUP($B$3,Bezetting_2!$A$2:$A$90,Bezetting_2!N$2:N$90,,0)","v":2},{"$f":"_xlfn.XLOOKUP($B$3,Bezetting_2!$A$2:$A$90,Bezetting_2!O$2:O$90,,0)","v":0},{"$f":"_xlfn.XLOOKUP($B$3,Bezetting_2!$A$2:$A$90,Bezetting_2!P$2:P$90,,0)","v":"Overig: 1x trailer"}]
[null,"Meting",null,null,null,{"$f":"IF(F10=0,\"-\",F10/$L$10)","v":0.94736842105263153},{"$f":"IF(G10=0,\"-\",G10/$L$10)","v":"-"},"-",5.2631578947368418E-2,"-","-",1,null,null,null,null,{"$f":"_xlfn.XLOOKUP($B$3,Bezetting_2!$A$2:$A$90,Bezetting_2!Q$2:Q$90,,0)","v":0}]
[null,{"$f":"\"Meetperiode: \"&TEXT(VLOOKUP(B3,Coordinaten!$A:$G,7,0),\"dddd dd mmmm jjjj\")","v":"Meetperiode: di 10 & do 12 oktober 2023"}]
[null,"Methodiek: Parkeerdrukmeting met waarnemers"]
[null,"In opdracht van: Vlaamse overheid"]
[null,"Uitgevoerd door: Dufec"]
[null,null,null,"VERDELING NAAR CATEGORIE"]
[null,"Locatie"]
[null,{"$f":"IF(B4=\"\",\"\",HYPERLINK(\"http://www.googlemaps.com/?q=\"&B4,\"Lat/Long: \"&B4))","v":"Lat/Long: 51.240943, 4.189741"}]
[]
[null,null,null,null,null,null,null,null,null,null,null,null,null,null,null,"Legenda"]
[null,null,null,null,null,null,null,null,null,null,null,null,null,null,null,null,"Personenwagen"]
[null,null,null,null,null,null,null,null,null,null,null,null,null,null,null,null,"Vracht"]
[null,null,null,null,null,null,null,null,null,null,null,null,null,null,null,null,"Motor"]
[null,null,null,null,null,null,null,null,null,null,null,null,null,null,null,null,"Obstakel / overig"]
[null,null,null,null,null,null,null,null,null,null,null,null,null,null,null,null,"Fout personenwagen"]
[null,null,null,null,null,null,null,null,null,null,null,null,null,null,null,null,"Fout Vracht"]
[]
[]
[]
[]
[]
[]
[]
[]
[]
[]
[]
[]
[null,"Toelichting"]
[null,"Pers = personenwagens op daarvoor bestemde"]
[null,"          openbare plaatsen"]
[null,"Vracht = vrachtwagens op daarvoor bestemde"]
[null,"          parkeerplaatsen (middel- en zwaar vrachtverkeer)"]
[null,"Motor = geparkeerde motoren op openbare plaatsen"]
[null,"Obstakel / overig = obstakels of overige voertuigen"]
[null,"          geparkeerd op openbare plaatsen"]
[null,"Fout pers = personenwagens die fout geparkeerd staan"]
[null,"Fout vracht = vrachtwagens die fout geparkeerd staan"]
[null,"E-wagen = geparkeerde elektrisch voertuig bij een"]
[null,"          elektrisch oplaadpunt"]
[null,"Invalide = personenwagens en motoren op voor"]
[null,"          invalide personen bestemde parkeerplaats"]
[null,"Gestalde fietsen = alle gestalde fietsen op de"]
[null,"          daarvoor bestemde parkeerplaatsen"]

{"sheet":"33.Merelbeke","index":30,"n_rows":54,"n_cols":26,"rows_kept":54,"cut":false,"hidden":false,"merged":[[4,3,5,12],[4,16,5,16],[15,3,16,12]]}
[]
[null,"PARKEERONDERZOEK",null,"CARPOOLPARKINGS EN P+R PARKINGS"]
[null,33,null,{"$f":"B8 & \" - \"& TEXT(VLOOKUP(B3,Coordinaten!$A$2:$G$95,7,0),\"dddd dd mmmm jjjj\")","v":"Carpool parking Merelbeke, Merelbeke - di 10 & do 12 oktober 2023"}]
[null,{"$f":"VLOOKUP(B3,Coordinaten!$A$2:$G$95,6,0)","v":"51.003542, 3.763040"}]
[null,null,null,"BEZETTING  ",null,null,null,null,null,null,null,null,null,null,null,null,"OPMERKINGEN"]
[]
[null,"Onderzoeksgebied",null,"Datum","Geregistreerd tussen","Pers","Vracht","Motor","Obstakel / overig","Fout   pers","Fout Vracht","Totaal","E-wagen\nplaats","Invalidenplaats","Gestalde fietsen",null,null,null,null,null,{"$f":"F7","v":"Pers"},"Vracht","Motor","Obstakel / overig","Fout   pers","Fout Vracht"]
[null,{"$f":"VLOOKUP(B3,Coordinaten!$A$2:$G$95,3,0)&\", \"&VLOOKUP(B3,Coordinaten!$A$2:$G$95,5,0)","v":"Carpool parking Merelbeke, Merelbeke"},null,{"$f":"_xlfn.XLOOKUP($B$3,Bezetting_1!$A$2:$A$90,Bezetting_1!C$2:C$90,,0)","v":"2023-10-12"},{"$f":"_xlfn.XLOOKUP($B$3,Bezetting_1!$A$2:$A$90,Bezetting_1!D$2:D$90,,0)","v":"09:00 - 16:00u"},{"$f":"_xlfn.XLOOKUP($B$3,Bezetting_1!$A$2:$A$90,Bezetting_1!E$2:E$90,,0)","v":88},{"$f":"_xlfn.XLOOKUP($B$3,Bezetting_1!$A$2:$A$90,Bezetting_1!F$2:F$90,,0)","v":0},{"$f":"_xlfn.XLOOKUP($B$3,Bezetting_1!$A$2:$A$90,Bezetting_1!G$2:G$90,,0)","v":0},{"$f":"_xlfn.XLOOKUP($B$3,Bezetting_1!$A$2:$A$90,Bezetting_1!H$2:H$90,,0)","v":0},{"$f":"_xlfn.XLOOKUP($B$3,Bezetting_1!$A$2:$A$90,Bezetting_1!I$2:I$90,,0)","v":2},{"$f":"_xlfn.XLOOKUP($B$3,Bezetting_1!$A$2:$A$90,Bezetting_1!J$2:J$90,,0)","v":1},{"$f":"_xlfn.XLOOKUP($B$3,Bezetting_1!$A$2:$A$90,Bezetting_1!K$2:K$90,,0)","v":91},{"$f":"_xlfn.XLOOKUP($B$3,Bezetting_1!$A$2:$A$90,Bezetting_1!L$2:L$90,,0)","v":0},{"$f":"_xlfn.XLOOKUP($B$3,Bezetting_1!$A$2:$A$90,Bezetting_1!M$2:M$90,,0)","v":0},{"$f":"_xlfn.XLOOKUP($B$3,Bezetting_1!$A$2:$A$90,Bezetting_1!N$2:N$90,,0)","v":8},null,{"$f":"_xlfn.XLOOKUP($B$3,Bezetting_1!$A$2:$A$90,Bezetting_1!P$2:P$90,,0)","v":0},null,{"$f":"D8","v":"2023-10-12"},{"$f":"E8","v":"09:00 - 16:00u"},{"$f":"IF(F8=0,NA(),F8/$L8)","v":0.96703296703296704},{"$f":"IF(G8=0,NA(),G8/$L8)","v":{"$error":"#N/A"}},{"$f":"IF(H8=0,NA(),H8/$L8)","v":{"$error":"#N/A"}},{"$error":"#N/A"},2.197802197802198E-2,1.098901098901099E-2]
[null,{"$f":"\"Nabij kruispunt: \"&VLOOKUP(B3,Coordinaten!$A$2:$L$95,4,0)","v":"Nabij kruispunt: B403 / R4"},null,null,null,{"$f":"IF(F8=0,\"-\",F8/$L$8)","v":0.96703296703296704},{"$f":"IF(G8=0,\"-\",G8/$L$8)","v":"-"},"-","-",2.197802197802198E-2,1.098901098901099E-2,1,null,null,null,null,{"$f":"_xlfn.XLOOKUP($B$3,Bezetting_1!$A$2:$A$90,Bezetting_1!Q$2:Q$90,,0)","v":0},null,{"$f":"D10","v":"2023-10-12"},{"$f":"E10","v":"19:00 - 02:00u"},{"$f":"IF(F10=0,NA(),F10/$L10)","v":0.93055555555555558},{"$f":"IF(G10=0,NA(),G10/$L10)","v":{"$error":"#N/A"}},1.3888888888888888E-2,5.5555555555555552E-2,{"$error":"#N/A"},{"$error":"#N/A"}]
[null,null,null,{"$f":"_xlfn.XLOOKUP($B$3,Bezetting_2!$A$2:$A$90,Bezetting_2!C$2:C$90,,0)","v":"2023-10-12"},{"$f":"_xlfn.XLOOKUP($B$3,Bezetting_2!$A$2:$A$90,Bezetting_2!D$2:D$90,,0)","v":"19:00 - 02:00u"},{"$f":"_xlfn.XLOOKUP($B$3,Bezetting_2!$A$2:$A$90,Bezetting_2!E$2:E$90,,0)","v":67},{"$f":"_xlfn.XLOOKUP($B$3,Bezetting_2!$A$2:$A$90,Bezetting_2!F$2:F$90,,0)","v":0},{"$f":"_xlfn.XLOOKUP($B$3,Bezetting_2!$A$2:$A$90,Bezetting_2!G$2:G$90,,0)","v":1},{"$f":"_xlfn.XLOOKUP($B$3,Bezetting_2!$A$2:$A$90,Bezetting_2!H$2:H$90,,0)","v":4},{"$f":"_xlfn.XLOOKUP($B$3,Bezetting_2!$A$2:$A$90,Bezetting_2!I$2:I$90,,0)","v":0},{"$f":"_xlfn.XLOOKUP($B$3,Bezetting_2!$A$2:$A$90,Bezetting_2!J$2:J$90,,0)","v":0},{"$f":"_xlfn.XLOOKUP($B$3,Bezetting_2!$A$2:$A$90,Bezetting_2!K$2:K$90,,0)","v":72},{"$f":"_xlfn.XLOOKUP($B$3,Bezetting_2!$A$2:$A$90,Bezetting_2!L$2:L$90,,0)","v":0},{"$f":"_xlfn.XLOOKUP($B$3,Bezetting_2!$A$2:$A$90,Bezetting_2!M$2:M$90,,0)","v":0},{"$f":"_xlfn.XLOOKUP($B$3,Bezetting_2!$A$2:$A$90,Bezetting_2!N$2:N$90,,0)","v":17},{"$f":"_xlfn.XLOOKUP($B$3,Bezetting_2!$A$2:$A$90,Bezetting_2!O$2:O$90,,0)","v":0},{"$f":"_xlfn.XLOOKUP($B$3,Bezetting_2!$A$2:$A$90,Bezetting_2!P$2:P$90,,0)","v":"Overig: pallets"}]
[null,"Meting",null,null,null,{"$f":"IF(F10=0,\"-\",F10/$L$10)","v":0.93055555555555558},{"$f":"IF(G10=0,\"-\",G10/$L$10)","v":"-"},1.3888888888888888E-2,5.5555555555555552E-2,"-","-",1,null,null,null,null,{"$f":"_xlfn.XLOOKUP($B$3,Bezetting_2!$A$2:$A$90,Bezetting_2!Q$2:Q$90,,0)","v":"Fout: 1 fiets"}]
[null,{"$f":"\"Meetperiode: \"&TEXT(VLOOKUP(B3,Coordinaten!$A:$G,7,0),\"dddd dd mmmm jjjj\")","v":"Meetperiode: di 10 & do 12 oktober 2023"}]
[null,"Methodiek: Parkeerdrukmeting met waarnemers"]
[null,"In opdracht van: Vlaamse overheid"]
[null,"Uitgevoerd door: Dufec"]
[null,null,null,"VERDELING NAAR CATEGORIE"]
[null,"Locatie"]
[null,{"$f":"IF(B4=\"\",\"\",HYPERLINK(\"http://www.googlemaps.com/?q=\"&B4,\"Lat/Long: \"&B4))","v":"Lat/Long: 51.003542, 3.763040"}]
[]
[null,null,null,null,null,null,null,null,null,null,null,null,null,null,null,"Legenda"]
[null,null,null,null,null,null,null,null,null,null,null,null,null,null,null,null,"Personenwagen"]
[null,null,null,null,null,null,null,null,null,null,null,null,null,null,null,null,"Vracht"]
[null,null,null,null,null,null,null,null,null,null,null,null,null,null,null,null,"Motor"]
[null,null,null,null,null,null,null,null,null,null,null,null,null,null,null,null,"Obstakel / overig"]
[null,null,null,null,null,null,null,null,null,null,null,null,null,null,null,null,"Fout personenwagen"]
[null,null,null,null,null,null,null,null,null,null,null,null,null,null,null,null,"Fout Vracht"]
[]
[]
[]
[]
[]
[]
[]
[]
[]
[]
[]
[]
[null,"Toelichting"]
[null,"Pers = personenwagens op daarvoor bestemde"]
[null,"          openbare plaatsen"]
[null,"Vracht = vrachtwagens op daarvoor bestemde"]
[null,"          parkeerplaatsen (middel- en zwaar vrachtverkeer)"]
[null,"Motor = geparkeerde motoren op openbare plaatsen"]
[null,"Obstakel / overig = obstakels of overige voertuigen"]
[null,"          geparkeerd op openbare plaatsen"]
[null,"Fout pers = personenwagens die fout geparkeerd staan"]
[null,"Fout vracht = vrachtwagens die fout geparkeerd staan"]
[null,"E-wagen = geparkeerde elektrisch voertuig bij een"]
[null,"          elektrisch oplaadpunt"]
[null,"Invalide = personenwagens en motoren op voor"]
[null,"          invalide personen bestemde parkeerplaats"]
[null,"Gestalde fietsen = alle gestalde fietsen op de"]
[null,"          daarvoor bestemde parkeerplaatsen"]

{"sheet":"34.Vilvoorde","index":31,"n_rows":54,"n_cols":26,"rows_kept":54,"cut":false,"hidden":false,"merged":[[4,3,5,12],[4,16,5,16],[15,3,16,12]]}
[]
[null,"PARKEERONDERZOEK",null,"CARPOOLPARKINGS EN P+R PARKINGS"]
[null,34,null,{"$f":"B8 & \" - \"& TEXT(VLOOKUP(B3,Coordinaten!$A$2:$G$95,7,0),\"dddd dd mmmm jjjj\")","v":"Carpool parking Vilvoorde, Machelen - di 10 & do 12 oktober 2023"}]
[null,{"$f":"VLOOKUP(B3,Coordinaten!$A$2:$G$95,6,0)","v":"50.910540, 4.459740"}]
[null,null,null,"BEZETTING  ",null,null,null,null,null,null,null,null,null,null,null,null,"OPMERKINGEN"]
[]
[null,"Onderzoeksgebied",null,"Datum","Geregistreerd tussen","Pers","Vracht","Motor","Obstakel / overig","Fout   pers","Fout Vracht","Totaal","E-wagen\nplaats","Invalidenplaats","Gestalde fietsen",null,null,null,null,null,{"$f":"F7","v":"Pers"},"Vracht","Motor","Obstakel / overig","Fout   pers","Fout Vracht"]
[null,{"$f":"VLOOKUP(B3,Coordinaten!$A$2:$G$95,3,0)&\", \"&VLOOKUP(B3,Coordinaten!$A$2:$G$95,5,0)","v":"Carpool parking Vilvoorde, Machelen"},null,{"$f":"_xlfn.XLOOKUP($B$3,Bezetting_1!$A$2:$A$90,Bezetting_1!C$2:C$90,,0)","v":"2023-10-12"},{"$f":"_xlfn.XLOOKUP($B$3,Bezetting_1!$A$2:$A$90,Bezetting_1!D$2:D$90,,0)","v":"09:00 - 16:00u"},{"$f":"_xlfn.XLOOKUP($B$3,Bezetting_1!$A$2:$A$90,Bezetting_1!E$2:E$90,,0)","v":26},{"$f":"_xlfn.XLOOKUP($B$3,Bezetting_1!$A$2:$A$90,Bezetting_1!F$2:F$90,,0)","v":0},{"$f":"_xlfn.XLOOKUP($B$3,Bezetting_1!$A$2:$A$90,Bezetting_1!G$2:G$90,,0)","v":0},{"$f":"_xlfn.XLOOKUP($B$3,Bezetting_1!$A$2:$A$90,Bezetting_1!H$2:H$90,,0)","v":0},{"$f":"_xlfn.XLOOKUP($B$3,Bezetting_1!$A$2:$A$90,Bezetting_1!I$2:I$90,,0)","v":0},{"$f":"_xlfn.XLOOKUP($B$3,Bezetting_1!$A$2:$A$90,Bezetting_1!J$2:J$90,,0)","v":0},{"$f":"_xlfn.XLOOKUP($B$3,Bezetting_1!$A$2:$A$90,Bezetting_1!K$2:K$90,,0)","v":26},{"$f":"_xlfn.XLOOKUP($B$3,Bezetting_1!$A$2:$A$90,Bezetting_1!L$2:L$90,,0)","v":0},{"$f":"_xlfn.XLOOKUP($B$3,Bezetting_1!$A$2:$A$90,Bezetting_1!M$2:M$90,,0)","v":0},{"$f":"_xlfn.XLOOKUP($B$3,Bezetting_1!$A$2:$A$90,Bezetting_1!N$2:N$90,,0)","v":0},null,{"$f":"_xlfn.XLOOKUP($B$3,Bezetting_1!$A$2:$A$90,Bezetting_1!P$2:P$90,,0)","v":0},null,{"$f":"D8","v":"2023-10-12"},{"$f":"E8","v":"09:00 - 16:00u"},{"$f":"IF(F8=0,NA(),F8/$L8)","v":1},{"$f":"IF(G8=0,NA(),G8/$L8)","v":{"$error":"#N/A"}},{"$f":"IF(H8=0,NA(),H8/$L8)","v":{"$error":"#N/A"}},{"$error":"#N/A"},{"$error":"#N/A"},{"$error":"#N/A"}]
[null,{"$f":"\"Nabij kruispunt: \"&VLOOKUP(B3,Coordinaten!$A$2:$L$95,4,0)","v":"Nabij kruispunt: N211 / N21"},null,null,null,{"$f":"IF(F8=0,\"-\",F8/$L$8)","v":1},{"$f":"IF(G8=0,\"-\",G8/$L$8)","v":"-"},"-","-","-","-",1,null,null,null,null,{"$f":"_xlfn.XLOOKUP($B$3,Bezetting_1!$A$2:$A$90,Bezetting_1!Q$2:Q$90,,0)","v":0},null,{"$f":"D10","v":"2023-10-12"},{"$f":"E10","v":"19:00 - 02:00u"},{"$f":"IF(F10=0,NA(),F10/$L10)","v":0.95454545454545459},{"$f":"IF(G10=0,NA(),G10/$L10)","v":{"$error":"#N/A"}},{"$error":"#N/A"},{"$error":"#N/A"},{"$error":"#N/A"},4.5454545454545456E-2]
[null,null,null,{"$f":"_xlfn.XLOOKUP($B$3,Bezetting_2!$A$2:$A$90,Bezetting_2!C$2:C$90,,0)","v":"2023-10-12"},{"$f":"_xlfn.XLOOKUP($B$3,Bezetting_2!$A$2:$A$90,Bezetting_2!D$2:D$90,,0)","v":"19:00 - 02:00u"},{"$f":"_xlfn.XLOOKUP($B$3,Bezetting_2!$A$2:$A$90,Bezetting_2!E$2:E$90,,0)","v":21},{"$f":"_xlfn.XLOOKUP($B$3,Bezetting_2!$A$2:$A$90,Bezetting_2!F$2:F$90,,0)","v":0},{"$f":"_xlfn.XLOOKUP($B$3,Bezetting_2!$A$2:$A$90,Bezetting_2!G$2:G$90,,0)","v":0},{"$f":"_xlfn.XLOOKUP($B$3,Bezetting_2!$A$2:$A$90,Bezetting_2!H$2:H$90,,0)","v":0},{"$f":"_xlfn.XLOOKUP($B$3,Bezetting_2!$A$2:$A$90,Bezetting_2!I$2:I$90,,0)","v":0},{"$f":"_xlfn.XLOOKUP($B$3,Bezetting_2!$A$2:$A$90,Bezetting_2!J$2:J$90,,0)","v":1},{"$f":"_xlfn.XLOOKUP($B$3,Bezetting_2!$A$2:$A$90,Bezetting_2!K$2:K$90,,0)","v":22},{"$f":"_xlfn.XLOOKUP($B$3,Bezetting_2!$A$2:$A$90,Bezetting_2!L$2:L$90,,0)","v":0},{"$f":"_xlfn.XLOOKUP($B$3,Bezetting_2!$A$2:$A$90,Bezetting_2!M$2:M$90,,0)","v":2},{"$f":"_xlfn.XLOOKUP($B$3,Bezetting_2!$A$2:$A$90,Bezetting_2!N$2:N$90,,0)","v":0},{"$f":"_xlfn.XLOOKUP($B$3,Bezetting_2!$A$2:$A$90,Bezetting_2!O$2:O$90,,0)","v":0},{"$f":"_xlfn.XLOOKUP($B$3,Bezetting_2!$A$2:$A$90,Bezetting_2!P$2:P$90,,0)","v":0}]
[null,"Meting",null,null,null,{"$f":"IF(F10=0,\"-\",F10/$L$10)","v":0.95454545454545459},{"$f":"IF(G10=0,\"-\",G10/$L$10)","v":"-"},"-","-","-",4.5454545454545456E-2,1,null,null,null,null,{"$f":"_xlfn.XLOOKUP($B$3,Bezetting_2!$A$2:$A$90,Bezetting_2!Q$2:Q$90,,0)","v":0}]
[null,{"$f":"\"Meetperiode: \"&TEXT(VLOOKUP(B3,Coordinaten!$A:$G,7,0),\"dddd dd mmmm jjjj\")","v":"Meetperiode: di 10 & do 12 oktober 2023"}]
[null,"Methodiek: Parkeerdrukmeting met waarnemers"]
[null,"In opdracht van: Vlaamse overheid"]
[null,"Uitgevoerd door: Dufec"]
[null,null,null,"VERDELING NAAR CATEGORIE"]
[null,"Locatie"]
[null,{"$f":"IF(B4=\"\",\"\",HYPERLINK(\"http://www.googlemaps.com/?q=\"&B4,\"Lat/Long: \"&B4))","v":"Lat/Long: 50.910540, 4.459740"}]
[]
[null,null,null,null,null,null,null,null,null,null,null,null,null,null,null,"Legenda"]
[null,null,null,null,null,null,null,null,null,null,null,null,null,null,null,null,"Personenwagen"]
[null,null,null,null,null,null,null,null,null,null,null,null,null,null,null,null,"Vracht"]
[null,null,null,null,null,null,null,null,null,null,null,null,null,null,null,null,"Motor"]
[null,null,null,null,null,null,null,null,null,null,null,null,null,null,null,null,"Obstakel / overig"]
[null,null,null,null,null,null,null,null,null,null,null,null,null,null,null,null,"Fout personenwagen"]
[null,null,null,null,null,null,null,null,null,null,null,null,null,null,null,null,"Fout Vracht"]
[]
[]
[]
[]
[]
[]
[]
[]
[]
[]
[]
[]
[null,"Toelichting"]
[null,"Pers = personenwagens op daarvoor bestemde"]
[null,"          openbare plaatsen"]
[null,"Vracht = vrachtwagens op daarvoor bestemde"]
[null,"          parkeerplaatsen (middel- en zwaar vrachtverkeer)"]
[null,"Motor = geparkeerde motoren op openbare plaatsen"]
[null,"Obstakel / overig = obstakels of overige voertuigen"]
[null,"          geparkeerd op openbare plaatsen"]
[null,"Fout pers = personenwagens die fout geparkeerd staan"]
[null,"Fout vracht = vrachtwagens die fout geparkeerd staan"]
[null,"E-wagen = geparkeerde elektrisch voertuig bij een"]
[null,"          elektrisch oplaadpunt"]
[null,"Invalide = personenwagens en motoren op voor"]
[null,"          invalide personen bestemde parkeerplaats"]
[null,"Gestalde fietsen = alle gestalde fietsen op de"]
[null,"          daarvoor bestemde parkeerplaatsen"]

{"sheet":"35.Holsbeek","index":32,"n_rows":54,"n_cols":26,"rows_kept":54,"cut":false,"hidden":false,"merged":[[4,3,5,12],[4,16,5,16],[15,3,16,12]]}
[]
[null,"PARKEERONDERZOEK",null,"CARPOOLPARKINGS EN P+R PARKINGS"]
[null,35,null,{"$f":"B8 & \" - \"& TEXT(VLOOKUP(B3,Coordinaten!$A$2:$G$95,7,0),\"dddd dd mmmm jjjj\")","v":"Carpool parking Holsbeek, Leuven - di 10 & do 12 oktober 2023"}]
[null,{"$f":"VLOOKUP(B3,Coordinaten!$A$2:$G$95,6,0)","v":"50.933565, 4.743369"}]
[null,null,null,"BEZETTING  ",null,null,null,null,null,null,null,null,null,null,null,null,"OPMERKINGEN"]
[]
[null,"Onderzoeksgebied",null,"Datum","Geregistreerd tussen","Pers","Vracht","Motor","Obstakel / overig","Fout   pers","Fout Vracht","Totaal","E-wagen\nplaats","Invalidenplaats","Gestalde fietsen",null,null,null,null,null,{"$f":"F7","v":"Pers"},"Vracht","Motor","Obstakel / overig","Fout   pers","Fout Vracht"]
[null,{"$f":"VLOOKUP(B3,Coordinaten!$A$2:$G$95,3,0)&\", \"&VLOOKUP(B3,Coordinaten!$A$2:$G$95,5,0)","v":"Carpool parking Holsbeek, Leuven"},null,{"$f":"_xlfn.XLOOKUP($B$3,Bezetting_1!$A$2:$A$90,Bezetting_1!C$2:C$90,,0)","v":"2023-10-10"},{"$f":"_xlfn.XLOOKUP($B$3,Bezetting_1!$A$2:$A$90,Bezetting_1!D$2:D$90,,0)","v":"09:00 - 16:00u"},{"$f":"_xlfn.XLOOKUP($B$3,Bezetting_1!$A$2:$A$90,Bezetting_1!E$2:E$90,,0)","v":16},{"$f":"_xlfn.XLOOKUP($B$3,Bezetting_1!$A$2:$A$90,Bezetting_1!F$2:F$90,,0)","v":0},{"$f":"_xlfn.XLOOKUP($B$3,Bezetting_1!$A$2:$A$90,Bezetting_1!G$2:G$90,,0)","v":0},{"$f":"_xlfn.XLOOKUP($B$3,Bezetting_1!$A$2:$A$90,Bezetting_1!H$2:H$90,,0)","v":0},{"$f":"_xlfn.XLOOKUP($B$3,Bezetting_1!$A$2:$A$90,Bezetting_1!I$2:I$90,,0)","v":0},{"$f":"_xlfn.XLOOKUP($B$3,Bezetting_1!$A$2:$A$90,Bezetting_1!J$2:J$90,,0)","v":0},{"$f":"_xlfn.XLOOKUP($B$3,Bezetting_1!$A$2:$A$90,Bezetting_1!K$2:K$90,,0)","v":16},{"$f":"_xlfn.XLOOKUP($B$3,Bezetting_1!$A$2:$A$90,Bezetting_1!L$2:L$90,,0)","v":0},{"$f":"_xlfn.XLOOKUP($B$3,Bezetting_1!$A$2:$A$90,Bezetting_1!M$2:M$90,,0)","v":0},{"$f":"_xlfn.XLOOKUP($B$3,Bezetting_1!$A$2:$A$90,Bezetting_1!N$2:N$90,,0)","v":0},null,{"$f":"_xlfn.XLOOKUP($B$3,Bezetting_1!$A$2:$A$90,Bezetting_1!P$2:P$90,,0)","v":0},null,{"$f":"D8","v":"2023-10-10"},{"$f":"E8","v":"09:00 - 16:00u"},{"$f":"IF(F8=0,NA(),F8/$L8)","v":1},{"$f":"IF(G8=0,NA(),G8/$L8)","v":{"$error":"#N/A"}},{"$f":"IF(H8=0,NA(),H8/$L8)","v":{"$error":"#N/A"}},{"$error":"#N/A"},{"$error":"#N/A"},{"$error":"#N/A"}]
[null,{"$f":"\"Nabij kruispunt: \"&VLOOKUP(B3,Coordinaten!$A$2:$L$95,4,0)","v":"Nabij kruispunt: N229 / A2"},null,null,null,{"$f":"IF(F8=0,\"-\",F8/$L$8)","v":1},{"$f":"IF(G8=0,\"-\",G8/$L$8)","v":"-"},"-","-","-","-",1,null,null,null,null,{"$f":"_xlfn.XLOOKUP($B$3,Bezetting_1!$A$2:$A$90,Bezetting_1!Q$2:Q$90,,0)","v":0},null,{"$f":"D10","v":"2023-10-10"},{"$f":"E10","v":"19:00 - 02:00u"},{"$f":"IF(F10=0,NA(),F10/$L10)","v":1},{"$f":"IF(G10=0,NA(),G10/$L10)","v":{"$error":"#N/A"}},{"$error":"#N/A"},{"$error":"#N/A"},{"$error":"#N/A"},{"$error":"#N/A"}]
[null,null,null,{"$f":"_xlfn.XLOOKUP($B$3,Bezetting_2!$A$2:$A$90,Bezetting_2!C$2:C$90,,0)","v":"2023-10-10"},{"$f":"_xlfn.XLOOKUP($B$3,Bezetting_2!$A$2:$A$90,Bezetting_2!D$2:D$90,,0)","v":"19:00 - 02:00u"},{"$f":"_xlfn.XLOOKUP($B$3,Bezetting_2!$A$2:$A$90,Bezetting_2!E$2:E$90,,0)","v":9},{"$f":"_xlfn.XLOOKUP($B$3,Bezetting_2!$A$2:$A$90,Bezetting_2!F$2:F$90,,0)","v":0},{"$f":"_xlfn.XLOOKUP($B$3,Bezetting_2!$A$2:$A$90,Bezetting_2!G$2:G$90,,0)","v":0},{"$f":"_xlfn.XLOOKUP($B$3,Bezetting_2!$A$2:$A$90,Bezetting_2!H$2:H$90,,0)","v":0},{"$f":"_xlfn.XLOOKUP($B$3,Bezetting_2!$A$2:$A$90,Bezetting_2!I$2:I$90,,0)","v":0},{"$f":"_xlfn.XLOOKUP($B$3,Bezetting_2!$A$2:$A$90,Bezetting_2!J$2:J$90,,0)","v":0},{"$f":"_xlfn.XLOOKUP($B$3,Bezetting_2!$A$2:$A$90,Bezetting_2!K$2:K$90,,0)","v":9},{"$f":"_xlfn.XLOOKUP($B$3,Bezetting_2!$A$2:$A$90,Bezetting_2!L$2:L$90,,0)","v":0},{"$f":"_xlfn.XLOOKUP($B$3,Bezetting_2!$A$2:$A$90,Bezetting_2!M$2:M$90,,0)","v":0},{"$f":"_xlfn.XLOOKUP($B$3,Bezetting_2!$A$2:$A$90,Bezetting_2!N$2:N$90,,0)","v":1},{"$f":"_xlfn.XLOOKUP($B$3,Bezetting_2!$A$2:$A$90,Bezetting_2!O$2:O$90,,0)","v":0},{"$f":"_xlfn.XLOOKUP($B$3,Bezetting_2!$A$2:$A$90,Bezetting_2!P$2:P$90,,0)","v":0}]
[null,"Meting",null,null,null,{"$f":"IF(F10=0,\"-\",F10/$L$10)","v":1},{"$f":"IF(G10=0,\"-\",G10/$L$10)","v":"-"},"-","-","-","-",1,null,null,null,null,{"$f":"_xlfn.XLOOKUP($B$3,Bezetting_2!$A$2:$A$90,Bezetting_2!Q$2:Q$90,,0)","v":0}]
[null,{"$f":"\"Meetperiode: \"&TEXT(VLOOKUP(B3,Coordinaten!$A:$G,7,0),\"dddd dd mmmm jjjj\")","v":"Meetperiode: di 10 & do 12 oktober 2023"}]
[null,"Methodiek: Parkeerdrukmeting met waarnemers"]
[null,"In opdracht van: Vlaamse overheid"]
[null,"Uitgevoerd door: Dufec"]
[null,null,null,"VERDELING NAAR CATEGORIE"]
[null,"Locatie"]
[null,{"$f":"IF(B4=\"\",\"\",HYPERLINK(\"http://www.googlemaps.com/?q=\"&B4,\"Lat/Long: \"&B4))","v":"Lat/Long: 50.933565, 4.743369"}]
[]
[null,null,null,null,null,null,null,null,null,null,null,null,null,null,null,"Legenda"]
[null,null,null,null,null,null,null,null,null,null,null,null,null,null,null,null,"Personenwagen"]
[null,null,null,null,null,null,null,null,null,null,null,null,null,null,null,null,"Vracht"]
[null,null,null,null,null,null,null,null,null,null,null,null,null,null,null,null,"Motor"]
[null,null,null,null,null,null,null,null,null,null,null,null,null,null,null,null,"Obstakel / overig"]
[null,null,null,null,null,null,null,null,null,null,null,null,null,null,null,null,"Fout personenwagen"]
[null,null,null,null,null,null,null,null,null,null,null,null,null,null,null,null,"Fout Vracht"]
[]
[]
[]
[]
[]
[]
[]
[]
[]
[]
[]
[]
[null,"Toelichting"]
[null,"Pers = personenwagens op daarvoor bestemde"]
[null,"          openbare plaatsen"]
[null,"Vracht = vrachtwagens op daarvoor bestemde"]
[null,"          parkeerplaatsen (middel- en zwaar vrachtverkeer)"]
[null,"Motor = geparkeerde motoren op openbare plaatsen"]
[null,"Obstakel / overig = obstakels of overige voertuigen"]
[null,"          geparkeerd op openbare plaatsen"]
[null,"Fout pers = personenwagens die fout geparkeerd staan"]
[null,"Fout vracht = vrachtwagens die fout geparkeerd staan"]
[null,"E-wagen = geparkeerde elektrisch voertuig bij een"]
[null,"          elektrisch oplaadpunt"]
[null,"Invalide = personenwagens en motoren op voor"]
[null,"          invalide personen bestemde parkeerplaats"]
[null,"Gestalde fietsen = alle gestalde fietsen op de"]
[null,"          daarvoor bestemde parkeerplaatsen"]

{"sheet":"36.Halle-Essenbeek","index":33,"n_rows":54,"n_cols":26,"rows_kept":54,"cut":false,"hidden":false,"merged":[[4,3,5,12],[4,16,5,16],[15,3,16,12]]}
[]
[null,"PARKEERONDERZOEK",null,"CARPOOLPARKINGS EN P+R PARKINGS"]
[null,36,null,{"$f":"B8 & \" - \"& TEXT(VLOOKUP(B3,Coordinaten!$A$2:$G$95,7,0),\"dddd dd mmmm jjjj\")","v":"P+R parking Halle-Essenbeek, Halle - di 10 & do 12 oktober 2023"}]
[null,{"$f":"VLOOKUP(B3,Coordinaten!$A$2:$G$95,6,0)","v":"50.721091, 4.250252"}]
[null,null,null,"BEZETTING  ",null,null,null,null,null,null,null,null,null,null,null,null,"OPMERKINGEN"]
[]
[null,"Onderzoeksgebied",null,"Datum","Geregistreerd tussen","Pers","Vracht","Motor","Obstakel / overig","Fout   pers","Fout Vracht","Totaal","E-wagen\nplaats","Invalidenplaats","Gestalde fietsen",null,null,null,null,null,{"$f":"F7","v":"Pers"},"Vracht","Motor","Obstakel / overig","Fout   pers","Fout Vracht"]
[null,{"$f":"VLOOKUP(B3,Coordinaten!$A$2:$G$95,3,0)&\", \"&VLOOKUP(B3,Coordinaten!$A$2:$G$95,5,0)","v":"P+R parking Halle-Essenbeek, Halle"},null,{"$f":"_xlfn.XLOOKUP($B$3,Bezetting_1!$A$2:$A$90,Bezetting_1!C$2:C$90,,0)","v":"2023-10-12"},{"$f":"_xlfn.XLOOKUP($B$3,Bezetting_1!$A$2:$A$90,Bezetting_1!D$2:D$90,,0)","v":"09:00 - 16:00u"},{"$f":"_xlfn.XLOOKUP($B$3,Bezetting_1!$A$2:$A$90,Bezetting_1!E$2:E$90,,0)","v":17},{"$f":"_xlfn.XLOOKUP($B$3,Bezetting_1!$A$2:$A$90,Bezetting_1!F$2:F$90,,0)","v":0},{"$f":"_xlfn.XLOOKUP($B$3,Bezetting_1!$A$2:$A$90,Bezetting_1!G$2:G$90,,0)","v":0},{"$f":"_xlfn.XLOOKUP($B$3,Bezetting_1!$A$2:$A$90,Bezetting_1!H$2:H$90,,0)","v":0},{"$f":"_xlfn.XLOOKUP($B$3,Bezetting_1!$A$2:$A$90,Bezetting_1!I$2:I$90,,0)","v":0},{"$f":"_xlfn.XLOOKUP($B$3,Bezetting_1!$A$2:$A$90,Bezetting_1!J$2:J$90,,0)","v":0},{"$f":"_xlfn.XLOOKUP($B$3,Bezetting_1!$A$2:$A$90,Bezetting_1!K$2:K$90,,0)","v":17},{"$f":"_xlfn.XLOOKUP($B$3,Bezetting_1!$A$2:$A$90,Bezetting_1!L$2:L$90,,0)","v":0},{"$f":"_xlfn.XLOOKUP($B$3,Bezetting_1!$A$2:$A$90,Bezetting_1!M$2:M$90,,0)","v":2},{"$f":"_xlfn.XLOOKUP($B$3,Bezetting_1!$A$2:$A$90,Bezetting_1!N$2:N$90,,0)","v":1},null,{"$f":"_xlfn.XLOOKUP($B$3,Bezetting_1!$A$2:$A$90,Bezetting_1!P$2:P$90,,0)","v":0},null,{"$f":"D8","v":"2023-10-12"},{"$f":"E8","v":"09:00 - 16:00u"},{"$f":"IF(F8=0,NA(),F8/$L8)","v":1},{"$f":"IF(G8=0,NA(),G8/$L8)","v":{"$error":"#N/A"}},{"$f":"IF(H8=0,NA(),H8/$L8)","v":{"$error":"#N/A"}},{"$error":"#N/A"},{"$error":"#N/A"},{"$error":"#N/A"}]
[null,{"$f":"\"Nabij kruispunt: \"&VLOOKUP(B3,Coordinaten!$A$2:$L$95,4,0)","v":"Nabij kruispunt: N28 / N203a"},null,null,null,{"$f":"IF(F8=0,\"-\",F8/$L$8)","v":1},{"$f":"IF(G8=0,\"-\",G8/$L$8)","v":"-"},"-","-","-","-",1,null,null,null,null,{"$f":"_xlfn.XLOOKUP($B$3,Bezetting_1!$A$2:$A$90,Bezetting_1!Q$2:Q$90,,0)","v":0},null,{"$f":"D10","v":"2023-10-12"},{"$f":"E10","v":"19:00 - 02:00u"},{"$f":"IF(F10=0,NA(),F10/$L10)","v":0.95652173913043481},{"$f":"IF(G10=0,NA(),G10/$L10)","v":{"$error":"#N/A"}},{"$error":"#N/A"},{"$error":"#N/A"},4.3478260869565216E-2,{"$error":"#N/A"}]
[null,null,null,{"$f":"_xlfn.XLOOKUP($B$3,Bezetting_2!$A$2:$A$90,Bezetting_2!C$2:C$90,,0)","v":"2023-10-12"},{"$f":"_xlfn.XLOOKUP($B$3,Bezetting_2!$A$2:$A$90,Bezetting_2!D$2:D$90,,0)","v":"19:00 - 02:00u"},{"$f":"_xlfn.XLOOKUP($B$3,Bezetting_2!$A$2:$A$90,Bezetting_2!E$2:E$90,,0)","v":22},{"$f":"_xlfn.XLOOKUP($B$3,Bezetting_2!$A$2:$A$90,Bezetting_2!F$2:F$90,,0)","v":0},{"$f":"_xlfn.XLOOKUP($B$3,Bezetting_2!$A$2:$A$90,Bezetting_2!G$2:G$90,,0)","v":0},{"$f":"_xlfn.XLOOKUP($B$3,Bezetting_2!$A$2:$A$90,Bezetting_2!H$2:H$90,,0)","v":0},{"$f":"_xlfn.XLOOKUP($B$3,Bezetting_2!$A$2:$A$90,Bezetting_2!I$2:I$90,,0)","v":1},{"$f":"_xlfn.XLOOKUP($B$3,Bezetting_2!$A$2:$A$90,Bezetting_2!J$2:J$90,,0)","v":0},{"$f":"_xlfn.XLOOKUP($B$3,Bezetting_2!$A$2:$A$90,Bezetting_2!K$2:K$90,,0)","v":23},{"$f":"_xlfn.XLOOKUP($B$3,Bezetting_2!$A$2:$A$90,Bezetting_2!L$2:L$90,,0)","v":0},{"$f":"_xlfn.XLOOKUP($B$3,Bezetting_2!$A$2:$A$90,Bezetting_2!M$2:M$90,,0)","v":0},{"$f":"_xlfn.XLOOKUP($B$3,Bezetting_2!$A$2:$A$90,Bezetting_2!N$2:N$90,,0)","v":0},{"$f":"_xlfn.XLOOKUP($B$3,Bezetting_2!$A$2:$A$90,Bezetting_2!O$2:O$90,,0)","v":0},{"$f":"_xlfn.XLOOKUP($B$3,Bezetting_2!$A$2:$A$90,Bezetting_2!P$2:P$90,,0)","v":0}]
[null,"Meting",null,null,null,{"$f":"IF(F10=0,\"-\",F10/$L$10)","v":0.95652173913043481},{"$f":"IF(G10=0,\"-\",G10/$L$10)","v":"-"},"-","-",4.3478260869565216E-2,"-",1,null,null,null,null,{"$f":"_xlfn.XLOOKUP($B$3,Bezetting_2!$A$2:$A$90,Bezetting_2!Q$2:Q$90,,0)","v":0}]
[null,{"$f":"\"Meetperiode: \"&TEXT(VLOOKUP(B3,Coordinaten!$A:$G,7,0),\"dddd dd mmmm jjjj\")","v":"Meetperiode: di 10 & do 12 oktober 2023"}]
[null,"Methodiek: Parkeerdrukmeting met waarnemers"]
[null,"In opdracht van: Vlaamse overheid"]
[null,"Uitgevoerd door: Dufec"]
[null,null,null,"VERDELING NAAR CATEGORIE"]
[null,"Locatie"]
[null,{"$f":"IF(B4=\"\",\"\",HYPERLINK(\"http://www.googlemaps.com/?q=\"&B4,\"Lat/Long: \"&B4))","v":"Lat/Long: 50.721091, 4.250252"}]
[]
[null,null,null,null,null,null,null,null,null,null,null,null,null,null,null,"Legenda"]
[null,null,null,null,null,null,null,null,null,null,null,null,null,null,null,null,"Personenwagen"]
[null,null,null,null,null,null,null,null,null,null,null,null,null,null,null,null,"Vracht"]
[null,null,null,null,null,null,null,null,null,null,null,null,null,null,null,null,"Motor"]
[null,null,null,null,null,null,null,null,null,null,null,null,null,null,null,null,"Obstakel / overig"]
[null,null,null,null,null,null,null,null,null,null,null,null,null,null,null,null,"Fout personenwagen"]
[null,null,null,null,null,null,null,null,null,null,null,null,null,null,null,null,"Fout Vracht"]
[]
[]
[]
[]
[]
[]
[]
[]
[]
[]
[]
[]
[null,"Toelichting"]
[null,"Pers = personenwagens op daarvoor bestemde"]
[null,"          openbare plaatsen"]
[null,"Vracht = vrachtwagens op daarvoor bestemde"]
[null,"          parkeerplaatsen (middel- en zwaar vrachtverkeer)"]
[null,"Motor = geparkeerde motoren op openbare plaatsen"]
[null,"Obstakel / overig = obstakels of overige voertuigen"]
[null,"          geparkeerd op openbare plaatsen"]
[null,"Fout pers = personenwagens die fout geparkeerd staan"]
[null,"Fout vracht = vrachtwagens die fout geparkeerd staan"]
[null,"E-wagen = geparkeerde elektrisch voertuig bij een"]
[null,"          elektrisch oplaadpunt"]
[null,"Invalide = personenwagens en motoren op voor"]
[null,"          invalide personen bestemde parkeerplaats"]
[null,"Gestalde fietsen = alle gestalde fietsen op de"]
[null,"          daarvoor bestemde parkeerplaatsen"]

{"sheet":"37.Halle-Sint Rochus","index":34,"n_rows":54,"n_cols":26,"rows_kept":54,"cut":false,"hidden":false,"merged":[[4,3,5,12],[4,16,5,16],[15,3,16,12]]}
[]
[null,"PARKEERONDERZOEK",null,"CARPOOLPARKINGS EN P+R PARKINGS"]
[null,37,null,{"$f":"B8 & \" - \"& TEXT(VLOOKUP(B3,Coordinaten!$A$2:$G$95,7,0),\"dddd dd mmmm jjjj\")","v":"Carpool parking Halle-Sint Rochus, Halle - di 10 & do 12 oktober 2023"}]
[null,{"$f":"VLOOKUP(B3,Coordinaten!$A$2:$G$95,6,0)","v":"50.727008, 4.258883"}]
[null,null,null,"BEZETTING  ",null,null,null,null,null,null,null,null,null,null,null,null,"OPMERKINGEN"]
[]
[null,"Onderzoeksgebied",null,"Datum","Geregistreerd tussen","Pers","Vracht","Motor","Obstakel / overig","Fout   pers","Fout Vracht","Totaal","E-wagen\nplaats","Invalidenplaats","Gestalde fietsen",null,null,null,null,null,{"$f":"F7","v":"Pers"},"Vracht","Motor","Obstakel / overig","Fout   pers","Fout Vracht"]
[null,{"$f":"VLOOKUP(B3,Coordinaten!$A$2:$G$95,3,0)&\", \"&VLOOKUP(B3,Coordinaten!$A$2:$G$95,5,0)","v":"Carpool parking Halle-Sint Rochus, Halle"},null,{"$f":"_xlfn.XLOOKUP($B$3,Bezetting_1!$A$2:$A$90,Bezetting_1!C$2:C$90,,0)","v":"2023-10-12"},{"$f":"_xlfn.XLOOKUP($B$3,Bezetting_1!$A$2:$A$90,Bezetting_1!D$2:D$90,,0)","v":"09:00 - 16:00u"},{"$f":"_xlfn.XLOOKUP($B$3,Bezetting_1!$A$2:$A$90,Bezetting_1!E$2:E$90,,0)","v":4},{"$f":"_xlfn.XLOOKUP($B$3,Bezetting_1!$A$2:$A$90,Bezetting_1!F$2:F$90,,0)","v":0},{"$f":"_xlfn.XLOOKUP($B$3,Bezetting_1!$A$2:$A$90,Bezetting_1!G$2:G$90,,0)","v":0},{"$f":"_xlfn.XLOOKUP($B$3,Bezetting_1!$A$2:$A$90,Bezetting_1!H$2:H$90,,0)","v":0},{"$f":"_xlfn.XLOOKUP($B$3,Bezetting_1!$A$2:$A$90,Bezetting_1!I$2:I$90,,0)","v":0},{"$f":"_xlfn.XLOOKUP($B$3,Bezetting_1!$A$2:$A$90,Bezetting_1!J$2:J$90,,0)","v":0},{"$f":"_xlfn.XLOOKUP($B$3,Bezetting_1!$A$2:$A$90,Bezetting_1!K$2:K$90,,0)","v":4},{"$f":"_xlfn.XLOOKUP($B$3,Bezetting_1!$A$2:$A$90,Bezetting_1!L$2:L$90,,0)","v":0},{"$f":"_xlfn.XLOOKUP($B$3,Bezetting_1!$A$2:$A$90,Bezetting_1!M$2:M$90,,0)","v":0},{"$f":"_xlfn.XLOOKUP($B$3,Bezetting_1!$A$2:$A$90,Bezetting_1!N$2:N$90,,0)","v":0},null,{"$f":"_xlfn.XLOOKUP($B$3,Bezetting_1!$A$2:$A$90,Bezetting_1!P$2:P$90,,0)","v":0},null,{"$f":"D8","v":"2023-10-12"},{"$f":"E8","v":"09:00 - 16:00u"},{"$f":"IF(F8=0,NA(),F8/$L8)","v":1},{"$f":"IF(G8=0,NA(),G8/$L8)","v":{"$error":"#N/A"}},{"$f":"IF(H8=0,NA(),H8/$L8)","v":{"$error":"#N/A"}},{"$error":"#N/A"},{"$error":"#N/A"},{"$error":"#N/A"}]
[null,{"$f":"\"Nabij kruispunt: \"&VLOOKUP(B3,Coordinaten!$A$2:$L$95,4,0)","v":"Nabij kruispunt: N203 / N203a"},null,null,null,{"$f":"IF(F8=0,\"-\",F8/$L$8)","v":1},{"$f":"IF(G8=0,\"-\",G8/$L$8)","v":"-"},"-","-","-","-",1,null,null,null,null,{"$f":"_xlfn.XLOOKUP($B$3,Bezetting_1!$A$2:$A$90,Bezetting_1!Q$2:Q$90,,0)","v":0},null,{"$f":"D10","v":"2023-10-12"},{"$f":"E10","v":"19:00 - 02:00u"},{"$f":"IF(F10=0,NA(),F10/$L10)","v":{"$error":"#N/A"}},{"$f":"IF(G10=0,NA(),G10/$L10)","v":{"$error":"#N/A"}},{"$error":"#N/A"},{"$error":"#N/A"},{"$error":"#N/A"},{"$error":"#N/A"}]
[null,null,null,{"$f":"_xlfn.XLOOKUP($B$3,Bezetting_2!$A$2:$A$90,Bezetting_2!C$2:C$90,,0)","v":"2023-10-12"},{"$f":"_xlfn.XLOOKUP($B$3,Bezetting_2!$A$2:$A$90,Bezetting_2!D$2:D$90,,0)","v":"19:00 - 02:00u"},{"$f":"_xlfn.XLOOKUP($B$3,Bezetting_2!$A$2:$A$90,Bezetting_2!E$2:E$90,,0)","v":0},{"$f":"_xlfn.XLOOKUP($B$3,Bezetting_2!$A$2:$A$90,Bezetting_2!F$2:F$90,,0)","v":0},{"$f":"_xlfn.XLOOKUP($B$3,Bezetting_2!$A$2:$A$90,Bezetting_2!G$2:G$90,,0)","v":0},{"$f":"_xlfn.XLOOKUP($B$3,Bezetting_2!$A$2:$A$90,Bezetting_2!H$2:H$90,,0)","v":0},{"$f":"_xlfn.XLOOKUP($B$3,Bezetting_2!$A$2:$A$90,Bezetting_2!I$2:I$90,,0)","v":0},{"$f":"_xlfn.XLOOKUP($B$3,Bezetting_2!$A$2:$A$90,Bezetting_2!J$2:J$90,,0)","v":0},{"$f":"_xlfn.XLOOKUP($B$3,Bezetting_2!$A$2:$A$90,Bezetting_2!K$2:K$90,,0)","v":0},{"$f":"_xlfn.XLOOKUP($B$3,Bezetting_2!$A$2:$A$90,Bezetting_2!L$2:L$90,,0)","v":0},{"$f":"_xlfn.XLOOKUP($B$3,Bezetting_2!$A$2:$A$90,Bezetting_2!M$2:M$90,,0)","v":0},{"$f":"_xlfn.XLOOKUP($B$3,Bezetting_2!$A$2:$A$90,Bezetting_2!N$2:N$90,,0)","v":0},{"$f":"_xlfn.XLOOKUP($B$3,Bezetting_2!$A$2:$A$90,Bezetting_2!O$2:O$90,,0)","v":0},{"$f":"_xlfn.XLOOKUP($B$3,Bezetting_2!$A$2:$A$90,Bezetting_2!P$2:P$90,,0)","v":0}]
[null,"Meting",null,null,null,{"$f":"IF(F10=0,\"-\",F10/$L$10)","v":"-"},{"$f":"IF(G10=0,\"-\",G10/$L$10)","v":"-"},"-","-","-","-","-",null,null,null,null,{"$f":"_xlfn.XLOOKUP($B$3,Bezetting_2!$A$2:$A$90,Bezetting_2!Q$2:Q$90,,0)","v":0}]
[null,{"$f":"\"Meetperiode: \"&TEXT(VLOOKUP(B3,Coordinaten!$A:$G,7,0),\"dddd dd mmmm jjjj\")","v":"Meetperiode: di 10 & do 12 oktober 2023"}]
[null,"Methodiek: Parkeerdrukmeting met waarnemers"]
[null,"In opdracht van: Vlaamse overheid"]
[null,"Uitgevoerd door: Dufec"]
[null,null,null,"VERDELING NAAR CATEGORIE"]
[null,"Locatie"]
[null,{"$f":"IF(B4=\"\",\"\",HYPERLINK(\"http://www.googlemaps.com/?q=\"&B4,\"Lat/Long: \"&B4))","v":"Lat/Long: 50.727008, 4.258883"}]
[]
[null,null,null,null,null,null,null,null,null,null,null,null,null,null,null,"Legenda"]
[null,null,null,null,null,null,null,null,null,null,null,null,null,null,null,null,"Personenwagen"]
[null,null,null,null,null,null,null,null,null,null,null,null,null,null,null,null,"Vracht"]
[null,null,null,null,null,null,null,null,null,null,null,null,null,null,null,null,"Motor"]
[null,null,null,null,null,null,null,null,null,null,null,null,null,null,null,null,"Obstakel / overig"]
[null,null,null,null,null,null,null,null,null,null,null,null,null,null,null,null,"Fout personenwagen"]
[null,null,null,null,null,null,null,null,null,null,null,null,null,null,null,null,"Fout Vracht"]
[]
[]
[]
[]
[]
[]
[]
[]
[]
[]
[]
[]
[null,"Toelichting"]
[null,"Pers = personenwagens op daarvoor bestemde"]
[null,"          openbare plaatsen"]
[null,"Vracht = vrachtwagens op daarvoor bestemde"]
[null,"          parkeerplaatsen (middel- en zwaar vrachtverkeer)"]
[null,"Motor = geparkeerde motoren op openbare plaatsen"]
[null,"Obstakel / overig = obstakels of overige voertuigen"]
[null,"          geparkeerd op openbare plaatsen"]
[null,"Fout pers = personenwagens die fout geparkeerd staan"]
[null,"Fout vracht = vrachtwagens die fout geparkeerd staan"]
[null,"E-wagen = geparkeerde elektrisch voertuig bij een"]
[null,"          elektrisch oplaadpunt"]
[null,"Invalide = personenwagens en motoren op voor"]
[null,"          invalide personen bestemde parkeerplaats"]
[null,"Gestalde fietsen = alle gestalde fietsen op de"]
[null,"          daarvoor bestemde parkeerplaatsen"]

{"sheet":"38.Boutersem","index":35,"n_rows":54,"n_cols":26,"rows_kept":54,"cut":false,"hidden":false,"merged":[[4,3,5,12],[4,16,5,16],[15,3,16,12]]}
[]
[null,"PARKEERONDERZOEK",null,"CARPOOLPARKINGS EN P+R PARKINGS"]
[null,38,null,{"$f":"B8 & \" - \"& TEXT(VLOOKUP(B3,Coordinaten!$A$2:$G$95,7,0),\"dddd dd mmmm jjjj\")","v":"Carpool parking Boutersem, Boutersem - di 10 & do 12 oktober 2023"}]
[null,{"$f":"VLOOKUP(B3,Coordinaten!$A$2:$G$95,6,0)","v":"50.825404, 4.814390"}]
[null,null,null,"BEZETTING  ",null,null,null,null,null,null,null,null,null,null,null,null,"OPMERKINGEN"]
[]
[null,"Onderzoeksgebied",null,"Datum","Geregistreerd tussen","Pers","Vracht","Motor","Obstakel / overig","Fout   pers","Fout Vracht","Totaal","E-wagen\nplaats","Invalidenplaats","Gestalde fietsen",null,null,null,null,null,{"$f":"F7","v":"Pers"},"Vracht","Motor","Obstakel / overig","Fout   pers","Fout Vracht"]
[null,{"$f":"VLOOKUP(B3,Coordinaten!$A$2:$G$95,3,0)&\", \"&VLOOKUP(B3,Coordinaten!$A$2:$G$95,5,0)","v":"Carpool parking Boutersem, Boutersem"},null,{"$f":"_xlfn.XLOOKUP($B$3,Bezetting_1!$A$2:$A$90,Bezetting_1!C$2:C$90,,0)","v":"2023-10-10"},{"$f":"_xlfn.XLOOKUP($B$3,Bezetting_1!$A$2:$A$90,Bezetting_1!D$2:D$90,,0)","v":"09:00 - 16:00u"},{"$f":"_xlfn.XLOOKUP($B$3,Bezetting_1!$A$2:$A$90,Bezetting_1!E$2:E$90,,0)","v":32},{"$f":"_xlfn.XLOOKUP($B$3,Bezetting_1!$A$2:$A$90,Bezetting_1!F$2:F$90,,0)","v":0},{"$f":"_xlfn.XLOOKUP($B$3,Bezetting_1!$A$2:$A$90,Bezetting_1!G$2:G$90,,0)","v":0},{"$f":"_xlfn.XLOOKUP($B$3,Bezetting_1!$A$2:$A$90,Bezetting_1!H$2:H$90,,0)","v":0},{"$f":"_xlfn.XLOOKUP($B$3,Bezetting_1!$A$2:$A$90,Bezetting_1!I$2:I$90,,0)","v":0},{"$f":"_xlfn.XLOOKUP($B$3,Bezetting_1!$A$2:$A$90,Bezetting_1!J$2:J$90,,0)","v":0},{"$f":"_xlfn.XLOOKUP($B$3,Bezetting_1!$A$2:$A$90,Bezetting_1!K$2:K$90,,0)","v":32},{"$f":"_xlfn.XLOOKUP($B$3,Bezetting_1!$A$2:$A$90,Bezetting_1!L$2:L$90,,0)","v":0},{"$f":"_xlfn.XLOOKUP($B$3,Bezetting_1!$A$2:$A$90,Bezetting_1!M$2:M$90,,0)","v":0},{"$f":"_xlfn.XLOOKUP($B$3,Bezetting_1!$A$2:$A$90,Bezetting_1!N$2:N$90,,0)","v":0},null,{"$f":"_xlfn.XLOOKUP($B$3,Bezetting_1!$A$2:$A$90,Bezetting_1!P$2:P$90,,0)","v":0},null,{"$f":"D8","v":"2023-10-10"},{"$f":"E8","v":"09:00 - 16:00u"},{"$f":"IF(F8=0,NA(),F8/$L8)","v":1},{"$f":"IF(G8=0,NA(),G8/$L8)","v":{"$error":"#N/A"}},{"$f":"IF(H8=0,NA(),H8/$L8)","v":{"$error":"#N/A"}},{"$error":"#N/A"},{"$error":"#N/A"},{"$error":"#N/A"}]
[null,{"$f":"\"Nabij kruispunt: \"&VLOOKUP(B3,Coordinaten!$A$2:$L$95,4,0)","v":"Nabij kruispunt: N234 / A3"},null,null,null,{"$f":"IF(F8=0,\"-\",F8/$L$8)","v":1},{"$f":"IF(G8=0,\"-\",G8/$L$8)","v":"-"},"-","-","-","-",1,null,null,null,null,{"$f":"_xlfn.XLOOKUP($B$3,Bezetting_1!$A$2:$A$90,Bezetting_1!Q$2:Q$90,,0)","v":0},null,{"$f":"D10","v":"2023-10-10"},{"$f":"E10","v":"19:00 - 02:00u"},{"$f":"IF(F10=0,NA(),F10/$L10)","v":0.55555555555555558},{"$f":"IF(G10=0,NA(),G10/$L10)","v":{"$error":"#N/A"}},{"$error":"#N/A"},0.22222222222222221,{"$error":"#N/A"},0.22222222222222221]
[null,null,null,{"$f":"_xlfn.XLOOKUP($B$3,Bezetting_2!$A$2:$A$90,Bezetting_2!C$2:C$90,,0)","v":"2023-10-10"},{"$f":"_xlfn.XLOOKUP($B$3,Bezetting_2!$A$2:$A$90,Bezetting_2!D$2:D$90,,0)","v":"19:00 - 02:00u"},{"$f":"_xlfn.XLOOKUP($B$3,Bezetting_2!$A$2:$A$90,Bezetting_2!E$2:E$90,,0)","v":5},{"$f":"_xlfn.XLOOKUP($B$3,Bezetting_2!$A$2:$A$90,Bezetting_2!F$2:F$90,,0)","v":0},{"$f":"_xlfn.XLOOKUP($B$3,Bezetting_2!$A$2:$A$90,Bezetting_2!G$2:G$90,,0)","v":0},{"$f":"_xlfn.XLOOKUP($B$3,Bezetting_2!$A$2:$A$90,Bezetting_2!H$2:H$90,,0)","v":2},{"$f":"_xlfn.XLOOKUP($B$3,Bezetting_2!$A$2:$A$90,Bezetting_2!I$2:I$90,,0)","v":0},{"$f":"_xlfn.XLOOKUP($B$3,Bezetting_2!$A$2:$A$90,Bezetting_2!J$2:J$90,,0)","v":2},{"$f":"_xlfn.XLOOKUP($B$3,Bezetting_2!$A$2:$A$90,Bezetting_2!K$2:K$90,,0)","v":9},{"$f":"_xlfn.XLOOKUP($B$3,Bezetting_2!$A$2:$A$90,Bezetting_2!L$2:L$90,,0)","v":0},{"$f":"_xlfn.XLOOKUP($B$3,Bezetting_2!$A$2:$A$90,Bezetting_2!M$2:M$90,,0)","v":0},{"$f":"_xlfn.XLOOKUP($B$3,Bezetting_2!$A$2:$A$90,Bezetting_2!N$2:N$90,,0)","v":0},{"$f":"_xlfn.XLOOKUP($B$3,Bezetting_2!$A$2:$A$90,Bezetting_2!O$2:O$90,,0)","v":0},{"$f":"_xlfn.XLOOKUP($B$3,Bezetting_2!$A$2:$A$90,Bezetting_2!P$2:P$90,,0)","v":"Overig: 2x oplegger"}]
[null,"Meting",null,null,null,{"$f":"IF(F10=0,\"-\",F10/$L$10)","v":0.55555555555555558},{"$f":"IF(G10=0,\"-\",G10/$L$10)","v":"-"},"-",0.22222222222222221,"-",0.22222222222222221,1,null,null,null,null,{"$f":"_xlfn.XLOOKUP($B$3,Bezetting_2!$A$2:$A$90,Bezetting_2!Q$2:Q$90,,0)","v":0}]
[null,{"$f":"\"Meetperiode: \"&TEXT(VLOOKUP(B3,Coordinaten!$A:$G,7,0),\"dddd dd mmmm jjjj\")","v":"Meetperiode: di 10 & do 12 oktober 2023"}]
[null,"Methodiek: Parkeerdrukmeting met waarnemers"]
[null,"In opdracht van: Vlaamse overheid"]
[null,"Uitgevoerd door: Dufec"]
[null,null,null,"VERDELING NAAR CATEGORIE"]
[null,"Locatie"]
[null,{"$f":"IF(B4=\"\",\"\",HYPERLINK(\"http://www.googlemaps.com/?q=\"&B4,\"Lat/Long: \"&B4))","v":"Lat/Long: 50.825404, 4.814390"}]
[]
[null,null,null,null,null,null,null,null,null,null,null,null,null,null,null,"Legenda"]
[null,null,null,null,null,null,null,null,null,null,null,null,null,null,null,null,"Personenwagen"]
[null,null,null,null,null,null,null,null,null,null,null,null,null,null,null,null,"Vracht"]
[null,null,null,null,null,null,null,null,null,null,null,null,null,null,null,null,"Motor"]
[null,null,null,null,null,null,null,null,null,null,null,null,null,null,null,null,"Obstakel / overig"]
[null,null,null,null,null,null,null,null,null,null,null,null,null,null,null,null,"Fout personenwagen"]
[null,null,null,null,null,null,null,null,null,null,null,null,null,null,null,null,"Fout Vracht"]
[]
[]
[]
[]
[]
[]
[]
[]
[]
[]
[]
[]
[null,"Toelichting"]
[null,"Pers = personenwagens op daarvoor bestemde"]
[null,"          openbare plaatsen"]
[null,"Vracht = vrachtwagens op daarvoor bestemde"]
[null,"          parkeerplaatsen (middel- en zwaar vrachtverkeer)"]
[null,"Motor = geparkeerde motoren op openbare plaatsen"]
[null,"Obstakel / overig = obstakels of overige voertuigen"]
[null,"          geparkeerd op openbare plaatsen"]
[null,"Fout pers = personenwagens die fout geparkeerd staan"]
[null,"Fout vracht = vrachtwagens die fout geparkeerd staan"]
[null,"E-wagen = geparkeerde elektrisch voertuig bij een"]
[null,"          elektrisch oplaadpunt"]
[null,"Invalide = personenwagens en motoren op voor"]
[null,"          invalide personen bestemde parkeerplaats"]
[null,"Gestalde fietsen = alle gestalde fietsen op de"]
[null,"          daarvoor bestemde parkeerplaatsen"]

{"sheet":"39.Aarschot","index":36,"n_rows":54,"n_cols":26,"rows_kept":54,"cut":false,"hidden":false,"merged":[[4,3,5,12],[4,16,5,16],[15,3,16,12]]}
[]
[null,"PARKEERONDERZOEK",null,"CARPOOLPARKINGS EN P+R PARKINGS"]
[null,39,null,{"$f":"B8 & \" - \"& TEXT(VLOOKUP(B3,Coordinaten!$A$2:$G$95,7,0),\"dddd dd mmmm jjjj\")","v":"Carpool parking Aarschot, Aarschot - di 10 & do 12 oktober 2023"}]
[null,{"$f":"VLOOKUP(B3,Coordinaten!$A$2:$G$95,6,0)","v":"50.963819, 4.836608"}]
[null,null,null,"BEZETTING  ",null,null,null,null,null,null,null,null,null,null,null,null,"OPMERKINGEN"]
[]
[null,"Onderzoeksgebied",null,"Datum","Geregistreerd tussen","Pers","Vracht","Motor","Obstakel / overig","Fout   pers","Fout Vracht","Totaal","E-wagen\nplaats","Invalidenplaats","Gestalde fietsen",null,null,null,null,null,{"$f":"F7","v":"Pers"},"Vracht","Motor","Obstakel / overig","Fout   pers","Fout Vracht"]
[null,{"$f":"VLOOKUP(B3,Coordinaten!$A$2:$G$95,3,0)&\", \"&VLOOKUP(B3,Coordinaten!$A$2:$G$95,5,0)","v":"Carpool parking Aarschot, Aarschot"},null,{"$f":"_xlfn.XLOOKUP($B$3,Bezetting_1!$A$2:$A$90,Bezetting_1!C$2:C$90,,0)","v":"2023-10-12"},{"$f":"_xlfn.XLOOKUP($B$3,Bezetting_1!$A$2:$A$90,Bezetting_1!D$2:D$90,,0)","v":"09:00 - 16:00u"},{"$f":"_xlfn.XLOOKUP($B$3,Bezetting_1!$A$2:$A$90,Bezetting_1!E$2:E$90,,0)","v":44},{"$f":"_xlfn.XLOOKUP($B$3,Bezetting_1!$A$2:$A$90,Bezetting_1!F$2:F$90,,0)","v":0},{"$f":"_xlfn.XLOOKUP($B$3,Bezetting_1!$A$2:$A$90,Bezetting_1!G$2:G$90,,0)","v":0},{"$f":"_xlfn.XLOOKUP($B$3,Bezetting_1!$A$2:$A$90,Bezetting_1!H$2:H$90,,0)","v":0},{"$f":"_xlfn.XLOOKUP($B$3,Bezetting_1!$A$2:$A$90,Bezetting_1!I$2:I$90,,0)","v":0},{"$f":"_xlfn.XLOOKUP($B$3,Bezetting_1!$A$2:$A$90,Bezetting_1!J$2:J$90,,0)","v":0},{"$f":"_xlfn.XLOOKUP($B$3,Bezetting_1!$A$2:$A$90,Bezetting_1!K$2:K$90,,0)","v":44},{"$f":"_xlfn.XLOOKUP($B$3,Bezetting_1!$A$2:$A$90,Bezetting_1!L$2:L$90,,0)","v":0},{"$f":"_xlfn.XLOOKUP($B$3,Bezetting_1!$A$2:$A$90,Bezetting_1!M$2:M$90,,0)","v":0},{"$f":"_xlfn.XLOOKUP($B$3,Bezetting_1!$A$2:$A$90,Bezetting_1!N$2:N$90,,0)","v":1},null,{"$f":"_xlfn.XLOOKUP($B$3,Bezetting_1!$A$2:$A$90,Bezetting_1!P$2:P$90,,0)","v":0},null,{"$f":"D8","v":"2023-10-12"},{"$f":"E8","v":"09:00 - 16:00u"},{"$f":"IF(F8=0,NA(),F8/$L8)","v":1},{"$f":"IF(G8=0,NA(),G8/$L8)","v":{"$error":"#N/A"}},{"$f":"IF(H8=0,NA(),H8/$L8)","v":{"$error":"#N/A"}},{"$error":"#N/A"},{"$error":"#N/A"},{"$error":"#N/A"}]
[null,{"$f":"\"Nabij kruispunt: \"&VLOOKUP(B3,Coordinaten!$A$2:$L$95,4,0)","v":"Nabij kruispunt: A2 / N233"},null,null,null,{"$f":"IF(F8=0,\"-\",F8/$L$8)","v":1},{"$f":"IF(G8=0,\"-\",G8/$L$8)","v":"-"},"-","-","-","-",1,null,null,null,null,{"$f":"_xlfn.XLOOKUP($B$3,Bezetting_1!$A$2:$A$90,Bezetting_1!Q$2:Q$90,,0)","v":0},null,{"$f":"D10","v":"2023-10-10"},{"$f":"E10","v":"19:00 - 02:00u"},{"$f":"IF(F10=0,NA(),F10/$L10)","v":1},{"$f":"IF(G10=0,NA(),G10/$L10)","v":{"$error":"#N/A"}},{"$error":"#N/A"},{"$error":"#N/A"},{"$error":"#N/A"},{"$error":"#N/A"}]
[null,null,null,{"$f":"_xlfn.XLOOKUP($B$3,Bezetting_2!$A$2:$A$90,Bezetting_2!C$2:C$90,,0)","v":"2023-10-10"},{"$f":"_xlfn.XLOOKUP($B$3,Bezetting_2!$A$2:$A$90,Bezetting_2!D$2:D$90,,0)","v":"19:00 - 02:00u"},{"$f":"_xlfn.XLOOKUP($B$3,Bezetting_2!$A$2:$A$90,Bezetting_2!E$2:E$90,,0)","v":55},{"$f":"_xlfn.XLOOKUP($B$3,Bezetting_2!$A$2:$A$90,Bezetting_2!F$2:F$90,,0)","v":0},{"$f":"_xlfn.XLOOKUP($B$3,Bezetting_2!$A$2:$A$90,Bezetting_2!G$2:G$90,,0)","v":0},{"$f":"_xlfn.XLOOKUP($B$3,Bezetting_2!$A$2:$A$90,Bezetting_2!H$2:H$90,,0)","v":0},{"$f":"_xlfn.XLOOKUP($B$3,Bezetting_2!$A$2:$A$90,Bezetting_2!I$2:I$90,,0)","v":0},{"$f":"_xlfn.XLOOKUP($B$3,Bezetting_2!$A$2:$A$90,Bezetting_2!J$2:J$90,,0)","v":0},{"$f":"_xlfn.XLOOKUP($B$3,Bezetting_2!$A$2:$A$90,Bezetting_2!K$2:K$90,,0)","v":55},{"$f":"_xlfn.XLOOKUP($B$3,Bezetting_2!$A$2:$A$90,Bezetting_2!L$2:L$90,,0)","v":0},{"$f":"_xlfn.XLOOKUP($B$3,Bezetting_2!$A$2:$A$90,Bezetting_2!M$2:M$90,,0)","v":0},{"$f":"_xlfn.XLOOKUP($B$3,Bezetting_2!$A$2:$A$90,Bezetting_2!N$2:N$90,,0)","v":1},{"$f":"_xlfn.XLOOKUP($B$3,Bezetting_2!$A$2:$A$90,Bezetting_2!O$2:O$90,,0)","v":0},{"$f":"_xlfn.XLOOKUP($B$3,Bezetting_2!$A$2:$A$90,Bezetting_2!P$2:P$90,,0)","v":0}]
[null,"Meting",null,null,null,{"$f":"IF(F10=0,\"-\",F10/$L$10)","v":1},{"$f":"IF(G10=0,\"-\",G10/$L$10)","v":"-"},"-","-","-","-",1,null,null,null,null,{"$f":"_xlfn.XLOOKUP($B$3,Bezetting_2!$A$2:$A$90,Bezetting_2!Q$2:Q$90,,0)","v":0}]
[null,{"$f":"\"Meetperiode: \"&TEXT(VLOOKUP(B3,Coordinaten!$A:$G,7,0),\"dddd dd mmmm jjjj\")","v":"Meetperiode: di 10 & do 12 oktober 2023"}]
[null,"Methodiek: Parkeerdrukmeting met waarnemers"]
[null,"In opdracht van: Vlaamse overheid"]
[null,"Uitgevoerd door: Dufec"]
[null,null,null,"VERDELING NAAR CATEGORIE"]
[null,"Locatie"]
[null,{"$f":"IF(B4=\"\",\"\",HYPERLINK(\"http://www.googlemaps.com/?q=\"&B4,\"Lat/Long: \"&B4))","v":"Lat/Long: 50.963819, 4.836608"}]
[]
[null,null,null,null,null,null,null,null,null,null,null,null,null,null,null,"Legenda"]
[null,null,null,null,null,null,null,null,null,null,null,null,null,null,null,null,"Personenwagen"]
[null,null,null,null,null,null,null,null,null,null,null,null,null,null,null,null,"Vracht"]
[null,null,null,null,null,null,null,null,null,null,null,null,null,null,null,null,"Motor"]
[null,null,null,null,null,null,null,null,null,null,null,null,null,null,null,null,"Obstakel / overig"]
[null,null,null,null,null,null,null,null,null,null,null,null,null,null,null,null,"Fout personenwagen"]
[null,null,null,null,null,null,null,null,null,null,null,null,null,null,null,null,"Fout Vracht"]
[]
[]
[]
[]
[]
[]
[]
[]
[]
[]
[]
[]
[null,"Toelichting"]
[null,"Pers = personenwagens op daarvoor bestemde"]
[null,"          openbare plaatsen"]
[null,"Vracht = vrachtwagens op daarvoor bestemde"]
[null,"          parkeerplaatsen (middel- en zwaar vrachtverkeer)"]
[null,"Motor = geparkeerde motoren op openbare plaatsen"]
[null,"Obstakel / overig = obstakels of overige voertuigen"]
[null,"          geparkeerd op openbare plaatsen"]
[null,"Fout pers = personenwagens die fout geparkeerd staan"]
[null,"Fout vracht = vrachtwagens die fout geparkeerd staan"]
[null,"E-wagen = geparkeerde elektrisch voertuig bij een"]
[null,"          elektrisch oplaadpunt"]
[null,"Invalide = personenwagens en motoren op voor"]
[null,"          invalide personen bestemde parkeerplaats"]
[null,"Gestalde fietsen = alle gestalde fietsen op de"]
[null,"          daarvoor bestemde parkeerplaatsen"]

{"sheet":"40.Tielt-Winge","index":37,"n_rows":54,"n_cols":26,"rows_kept":54,"cut":false,"hidden":false,"merged":[[4,3,5,12],[4,16,5,16],[15,3,16,12]]}
[]
[null,"PARKEERONDERZOEK",null,"CARPOOLPARKINGS EN P+R PARKINGS"]
[null,40,null,{"$f":"B8 & \" - \"& TEXT(VLOOKUP(B3,Coordinaten!$A$2:$G$95,7,0),\"dddd dd mmmm jjjj\")","v":"Carpool parking Tielt-Winge, Tielt-Winge - di 10 & do 12 oktober 2023"}]
[null,{"$f":"VLOOKUP(B3,Coordinaten!$A$2:$G$95,6,0)","v":"50.959801, 4.930284"}]
[null,null,null,"BEZETTING  ",null,null,null,null,null,null,null,null,null,null,null,null,"OPMERKINGEN"]
[]
[null,"Onderzoeksgebied",null,"Datum","Geregistreerd tussen","Pers","Vracht","Motor","Obstakel / overig","Fout   pers","Fout Vracht","Totaal","E-wagen\nplaats","Invalidenplaats","Gestalde fietsen",null,null,null,null,null,{"$f":"F7","v":"Pers"},"Vracht","Motor","Obstakel / overig","Fout   pers","Fout Vracht"]
[null,{"$f":"VLOOKUP(B3,Coordinaten!$A$2:$G$95,3,0)&\", \"&VLOOKUP(B3,Coordinaten!$A$2:$G$95,5,0)","v":"Carpool parking Tielt-Winge, Tielt-Winge"},null,{"$f":"_xlfn.XLOOKUP($B$3,Bezetting_1!$A$2:$A$90,Bezetting_1!C$2:C$90,,0)","v":"2023-10-12"},{"$f":"_xlfn.XLOOKUP($B$3,Bezetting_1!$A$2:$A$90,Bezetting_1!D$2:D$90,,0)","v":"09:00 - 16:00u"},{"$f":"_xlfn.XLOOKUP($B$3,Bezetting_1!$A$2:$A$90,Bezetting_1!E$2:E$90,,0)","v":37},{"$f":"_xlfn.XLOOKUP($B$3,Bezetting_1!$A$2:$A$90,Bezetting_1!F$2:F$90,,0)","v":0},{"$f":"_xlfn.XLOOKUP($B$3,Bezetting_1!$A$2:$A$90,Bezetting_1!G$2:G$90,,0)","v":0},{"$f":"_xlfn.XLOOKUP($B$3,Bezetting_1!$A$2:$A$90,Bezetting_1!H$2:H$90,,0)","v":0},{"$f":"_xlfn.XLOOKUP($B$3,Bezetting_1!$A$2:$A$90,Bezetting_1!I$2:I$90,,0)","v":0},{"$f":"_xlfn.XLOOKUP($B$3,Bezetting_1!$A$2:$A$90,Bezetting_1!J$2:J$90,,0)","v":0},{"$f":"_xlfn.XLOOKUP($B$3,Bezetting_1!$A$2:$A$90,Bezetting_1!K$2:K$90,,0)","v":37},{"$f":"_xlfn.XLOOKUP($B$3,Bezetting_1!$A$2:$A$90,Bezetting_1!L$2:L$90,,0)","v":0},{"$f":"_xlfn.XLOOKUP($B$3,Bezetting_1!$A$2:$A$90,Bezetting_1!M$2:M$90,,0)","v":0},{"$f":"_xlfn.XLOOKUP($B$3,Bezetting_1!$A$2:$A$90,Bezetting_1!N$2:N$90,,0)","v":1},null,{"$f":"_xlfn.XLOOKUP($B$3,Bezetting_1!$A$2:$A$90,Bezetting_1!P$2:P$90,,0)","v":0},null,{"$f":"D8","v":"2023-10-12"},{"$f":"E8","v":"09:00 - 16:00u"},{"$f":"IF(F8=0,NA(),F8/$L8)","v":1},{"$f":"IF(G8=0,NA(),G8/$L8)","v":{"$error":"#N/A"}},{"$f":"IF(H8=0,NA(),H8/$L8)","v":{"$error":"#N/A"}},{"$error":"#N/A"},{"$error":"#N/A"},{"$error":"#N/A"}]
[null,{"$f":"\"Nabij kruispunt: \"&VLOOKUP(B3,Coordinaten!$A$2:$L$95,4,0)","v":"Nabij kruispunt: N258 / A2"},null,null,null,{"$f":"IF(F8=0,\"-\",F8/$L$8)","v":1},{"$f":"IF(G8=0,\"-\",G8/$L$8)","v":"-"},"-","-","-","-",1,null,null,null,null,{"$f":"_xlfn.XLOOKUP($B$3,Bezetting_1!$A$2:$A$90,Bezetting_1!Q$2:Q$90,,0)","v":0},null,{"$f":"D10","v":"2023-10-10"},{"$f":"E10","v":"19:00 - 02:00u"},{"$f":"IF(F10=0,NA(),F10/$L10)","v":1},{"$f":"IF(G10=0,NA(),G10/$L10)","v":{"$error":"#N/A"}},{"$error":"#N/A"},{"$error":"#N/A"},{"$error":"#N/A"},{"$error":"#N/A"}]
[null,null,null,{"$f":"_xlfn.XLOOKUP($B$3,Bezetting_2!$A$2:$A$90,Bezetting_2!C$2:C$90,,0)","v":"2023-10-10"},{"$f":"_xlfn.XLOOKUP($B$3,Bezetting_2!$A$2:$A$90,Bezetting_2!D$2:D$90,,0)","v":"19:00 - 02:00u"},{"$f":"_xlfn.XLOOKUP($B$3,Bezetting_2!$A$2:$A$90,Bezetting_2!E$2:E$90,,0)","v":8},{"$f":"_xlfn.XLOOKUP($B$3,Bezetting_2!$A$2:$A$90,Bezetting_2!F$2:F$90,,0)","v":0},{"$f":"_xlfn.XLOOKUP($B$3,Bezetting_2!$A$2:$A$90,Bezetting_2!G$2:G$90,,0)","v":0},{"$f":"_xlfn.XLOOKUP($B$3,Bezetting_2!$A$2:$A$90,Bezetting_2!H$2:H$90,,0)","v":0},{"$f":"_xlfn.XLOOKUP($B$3,Bezetting_2!$A$2:$A$90,Bezetting_2!I$2:I$90,,0)","v":0},{"$f":"_xlfn.XLOOKUP($B$3,Bezetting_2!$A$2:$A$90,Bezetting_2!J$2:J$90,,0)","v":0},{"$f":"_xlfn.XLOOKUP($B$3,Bezetting_2!$A$2:$A$90,Bezetting_2!K$2:K$90,,0)","v":8},{"$f":"_xlfn.XLOOKUP($B$3,Bezetting_2!$A$2:$A$90,Bezetting_2!L$2:L$90,,0)","v":0},{"$f":"_xlfn.XLOOKUP($B$3,Bezetting_2!$A$2:$A$90,Bezetting_2!M$2:M$90,,0)","v":0},{"$f":"_xlfn.XLOOKUP($B$3,Bezetting_2!$A$2:$A$90,Bezetting_2!N$2:N$90,,0)","v":0},{"$f":"_xlfn.XLOOKUP($B$3,Bezetting_2!$A$2:$A$90,Bezetting_2!O$2:O$90,,0)","v":0},{"$f":"_xlfn.XLOOKUP($B$3,Bezetting_2!$A$2:$A$90,Bezetting_2!P$2:P$90,,0)","v":0}]
[null,"Meting",null,null,null,{"$f":"IF(F10=0,\"-\",F10/$L$10)","v":1},{"$f":"IF(G10=0,\"-\",G10/$L$10)","v":"-"},"-","-","-","-",1,null,null,null,null,{"$f":"_xlfn.XLOOKUP($B$3,Bezetting_2!$A$2:$A$90,Bezetting_2!Q$2:Q$90,,0)","v":0}]
[null,{"$f":"\"Meetperiode: \"&TEXT(VLOOKUP(B3,Coordinaten!$A:$G,7,0),\"dddd dd mmmm jjjj\")","v":"Meetperiode: di 10 & do 12 oktober 2023"}]
[null,"Methodiek: Parkeerdrukmeting met waarnemers"]
[null,"In opdracht van: Vlaamse overheid"]
[null,"Uitgevoerd door: Dufec"]
[null,null,null,"VERDELING NAAR CATEGORIE"]
[null,"Locatie"]
[null,{"$f":"IF(B4=\"\",\"\",HYPERLINK(\"http://www.googlemaps.com/?q=\"&B4,\"Lat/Long: \"&B4))","v":"Lat/Long: 50.959801, 4.930284"}]
[]
[null,null,null,null,null,null,null,null,null,null,null,null,null,null,null,"Legenda"]
[null,null,null,null,null,null,null,null,null,null,null,null,null,null,null,null,"Personenwagen"]
[null,null,null,null,null,null,null,null,null,null,null,null,null,null,null,null,"Vracht"]
[null,null,null,null,null,null,null,null,null,null,null,null,null,null,null,null,"Motor"]
[null,null,null,null,null,null,null,null,null,null,null,null,null,null,null,null,"Obstakel / overig"]
[null,null,null,null,null,null,null,null,null,null,null,null,null,null,null,null,"Fout personenwagen"]
[null,null,null,null,null,null,null,null,null,null,null,null,null,null,null,null,"Fout Vracht"]
[]
[]
[]
[]
[]
[]
[]
[]
[]
[]
[]
[]
[null,"Toelichting"]
[null,"Pers = personenwagens op daarvoor bestemde"]
[null,"          openbare plaatsen"]
[null,"Vracht = vrachtwagens op daarvoor bestemde"]
[null,"          parkeerplaatsen (middel- en zwaar vrachtverkeer)"]
[null,"Motor = geparkeerde motoren op openbare plaatsen"]
[null,"Obstakel / overig = obstakels of overige voertuigen"]
[null,"          geparkeerd op openbare plaatsen"]
[null,"Fout pers = personenwagens die fout geparkeerd staan"]
[null,"Fout vracht = vrachtwagens die fout geparkeerd staan"]
[null,"E-wagen = geparkeerde elektrisch voertuig bij een"]
[null,"          elektrisch oplaadpunt"]
[null,"Invalide = personenwagens en motoren op voor"]
[null,"          invalide personen bestemde parkeerplaats"]
[null,"Gestalde fietsen = alle gestalde fietsen op de"]
[null,"          daarvoor bestemde parkeerplaatsen"]

{"sheet":"41.Walshoutem","index":38,"n_rows":54,"n_cols":26,"rows_kept":54,"cut":false,"hidden":false,"merged":[[4,3,5,12],[4,16,5,16],[15,3,16,12]]}
[]
[null,"PARKEERONDERZOEK",null,"CARPOOLPARKINGS EN P+R PARKINGS"]
[null,41,null,{"$f":"B8 & \" - \"& TEXT(VLOOKUP(B3,Coordinaten!$A$2:$G$95,7,0),\"dddd dd mmmm jjjj\")","v":"Carpool parking Walshoutem, Landen - di 10 & do 12 oktober 2023"}]
[null,{"$f":"VLOOKUP(B3,Coordinaten!$A$2:$G$95,6,0)","v":"50.713075, 5.081833"}]
[null,null,null,"BEZETTING  ",null,null,null,null,null,null,null,null,null,null,null,null,"OPMERKINGEN"]
[]
[null,"Onderzoeksgebied",null,"Datum","Geregistreerd tussen","Pers","Vracht","Motor","Obstakel / overig","Fout   pers","Fout Vracht","Totaal","E-wagen\nplaats","Invalidenplaats","Gestalde fietsen",null,null,null,null,null,{"$f":"F7","v":"Pers"},"Vracht","Motor","Obstakel / overig","Fout   pers","Fout Vracht"]
[null,{"$f":"VLOOKUP(B3,Coordinaten!$A$2:$G$95,3,0)&\", \"&VLOOKUP(B3,Coordinaten!$A$2:$G$95,5,0)","v":"Carpool parking Walshoutem, Landen"},null,{"$f":"_xlfn.XLOOKUP($B$3,Bezetting_1!$A$2:$A$90,Bezetting_1!C$2:C$90,,0)","v":"2023-10-10"},{"$f":"_xlfn.XLOOKUP($B$3,Bezetting_1!$A$2:$A$90,Bezetting_1!D$2:D$90,,0)","v":"09:00 - 16:00u"},{"$f":"_xlfn.XLOOKUP($B$3,Bezetting_1!$A$2:$A$90,Bezetting_1!E$2:E$90,,0)","v":29},{"$f":"_xlfn.XLOOKUP($B$3,Bezetting_1!$A$2:$A$90,Bezetting_1!F$2:F$90,,0)","v":0},{"$f":"_xlfn.XLOOKUP($B$3,Bezetting_1!$A$2:$A$90,Bezetting_1!G$2:G$90,,0)","v":0},{"$f":"_xlfn.XLOOKUP($B$3,Bezetting_1!$A$2:$A$90,Bezetting_1!H$2:H$90,,0)","v":0},{"$f":"_xlfn.XLOOKUP($B$3,Bezetting_1!$A$2:$A$90,Bezetting_1!I$2:I$90,,0)","v":0},{"$f":"_xlfn.XLOOKUP($B$3,Bezetting_1!$A$2:$A$90,Bezetting_1!J$2:J$90,,0)","v":0},{"$f":"_xlfn.XLOOKUP($B$3,Bezetting_1!$A$2:$A$90,Bezetting_1!K$2:K$90,,0)","v":29},{"$f":"_xlfn.XLOOKUP($B$3,Bezetting_1!$A$2:$A$90,Bezetting_1!L$2:L$90,,0)","v":0},{"$f":"_xlfn.XLOOKUP($B$3,Bezetting_1!$A$2:$A$90,Bezetting_1!M$2:M$90,,0)","v":0},{"$f":"_xlfn.XLOOKUP($B$3,Bezetting_1!$A$2:$A$90,Bezetting_1!N$2:N$90,,0)","v":0},null,{"$f":"_xlfn.XLOOKUP($B$3,Bezetting_1!$A$2:$A$90,Bezetting_1!P$2:P$90,,0)","v":0},null,{"$f":"D8","v":"2023-10-10"},{"$f":"E8","v":"09:00 - 16:00u"},{"$f":"IF(F8=0,NA(),F8/$L8)","v":1},{"$f":"IF(G8=0,NA(),G8/$L8)","v":{"$error":"#N/A"}},{"$f":"IF(H8=0,NA(),H8/$L8)","v":{"$error":"#N/A"}},{"$error":"#N/A"},{"$error":"#N/A"},{"$error":"#N/A"}]
[null,{"$f":"\"Nabij kruispunt: \"&VLOOKUP(B3,Coordinaten!$A$2:$L$95,4,0)","v":"Nabij kruispunt: N80 / A3"},null,null,null,{"$f":"IF(F8=0,\"-\",F8/$L$8)","v":1},{"$f":"IF(G8=0,\"-\",G8/$L$8)","v":"-"},"-","-","-","-",1,null,null,null,null,{"$f":"_xlfn.XLOOKUP($B$3,Bezetting_1!$A$2:$A$90,Bezetting_1!Q$2:Q$90,,0)","v":0},null,{"$f":"D10","v":"2023-10-10"},{"$f":"E10","v":"19:00 - 02:00u"},{"$f":"IF(F10=0,NA(),F10/$L10)","v":1},{"$f":"IF(G10=0,NA(),G10/$L10)","v":{"$error":"#N/A"}},{"$error":"#N/A"},{"$error":"#N/A"},{"$error":"#N/A"},{"$error":"#N/A"}]
[null,null,null,{"$f":"_xlfn.XLOOKUP($B$3,Bezetting_2!$A$2:$A$90,Bezetting_2!C$2:C$90,,0)","v":"2023-10-10"},{"$f":"_xlfn.XLOOKUP($B$3,Bezetting_2!$A$2:$A$90,Bezetting_2!D$2:D$90,,0)","v":"19:00 - 02:00u"},{"$f":"_xlfn.XLOOKUP($B$3,Bezetting_2!$A$2:$A$90,Bezetting_2!E$2:E$90,,0)","v":10},{"$f":"_xlfn.XLOOKUP($B$3,Bezetting_2!$A$2:$A$90,Bezetting_2!F$2:F$90,,0)","v":0},{"$f":"_xlfn.XLOOKUP($B$3,Bezetting_2!$A$2:$A$90,Bezetting_2!G$2:G$90,,0)","v":0},{"$f":"_xlfn.XLOOKUP($B$3,Bezetting_2!$A$2:$A$90,Bezetting_2!H$2:H$90,,0)","v":0},{"$f":"_xlfn.XLOOKUP($B$3,Bezetting_2!$A$2:$A$90,Bezetting_2!I$2:I$90,,0)","v":0},{"$f":"_xlfn.XLOOKUP($B$3,Bezetting_2!$A$2:$A$90,Bezetting_2!J$2:J$90,,0)","v":0},{"$f":"_xlfn.XLOOKUP($B$3,Bezetting_2!$A$2:$A$90,Bezetting_2!K$2:K$90,,0)","v":10},{"$f":"_xlfn.XLOOKUP($B$3,Bezetting_2!$A$2:$A$90,Bezetting_2!L$2:L$90,,0)","v":0},{"$f":"_xlfn.XLOOKUP($B$3,Bezetting_2!$A$2:$A$90,Bezetting_2!M$2:M$90,,0)","v":0},{"$f":"_xlfn.XLOOKUP($B$3,Bezetting_2!$A$2:$A$90,Bezetting_2!N$2:N$90,,0)","v":0},{"$f":"_xlfn.XLOOKUP($B$3,Bezetting_2!$A$2:$A$90,Bezetting_2!O$2:O$90,,0)","v":0},{"$f":"_xlfn.XLOOKUP($B$3,Bezetting_2!$A$2:$A$90,Bezetting_2!P$2:P$90,,0)","v":0}]
[null,"Meting",null,null,null,{"$f":"IF(F10=0,\"-\",F10/$L$10)","v":1},{"$f":"IF(G10=0,\"-\",G10/$L$10)","v":"-"},"-","-","-","-",1,null,null,null,null,{"$f":"_xlfn.XLOOKUP($B$3,Bezetting_2!$A$2:$A$90,Bezetting_2!Q$2:Q$90,,0)","v":0}]
[null,{"$f":"\"Meetperiode: \"&TEXT(VLOOKUP(B3,Coordinaten!$A:$G,7,0),\"dddd dd mmmm jjjj\")","v":"Meetperiode: di 10 & do 12 oktober 2023"}]
[null,"Methodiek: Parkeerdrukmeting met waarnemers"]
[null,"In opdracht van: Vlaamse overheid"]
[null,"Uitgevoerd door: Dufec"]
[null,null,null,"VERDELING NAAR CATEGORIE"]
[null,"Locatie"]
[null,{"$f":"IF(B4=\"\",\"\",HYPERLINK(\"http://www.googlemaps.com/?q=\"&B4,\"Lat/Long: \"&B4))","v":"Lat/Long: 50.713075, 5.081833"}]
[]
[null,null,null,null,null,null,null,null,null,null,null,null,null,null,null,"Legenda"]
[null,null,null,null,null,null,null,null,null,null,null,null,null,null,null,null,"Personenwagen"]
[null,null,null,null,null,null,null,null,null,null,null,null,null,null,null,null,"Vracht"]
[null,null,null,null,null,null,null,null,null,null,null,null,null,null,null,null,"Motor"]
[null,null,null,null,null,null,null,null,null,null,null,null,null,null,null,null,"Obstakel / overig"]
[null,null,null,null,null,null,null,null,null,null,null,null,null,null,null,null,"Fout personenwagen"]
[null,null,null,null,null,null,null,null,null,null,null,null,null,null,null,null,"Fout Vracht"]
[]
[]
[]
[]
[]
[]
[]
[]
[]
[]
[]
[]
[null,"Toelichting"]
[null,"Pers = personenwagens op daarvoor bestemde"]
[null,"          openbare plaatsen"]
[null,"Vracht = vrachtwagens op daarvoor bestemde"]
[null,"          parkeerplaatsen (middel- en zwaar vrachtverkeer)"]
[null,"Motor = geparkeerde motoren op openbare plaatsen"]
[null,"Obstakel / overig = obstakels of overige voertuigen"]
[null,"          geparkeerd op openbare plaatsen"]
[null,"Fout pers = personenwagens die fout geparkeerd staan"]
[null,"Fout vracht = vrachtwagens die fout geparkeerd staan"]
[null,"E-wagen = geparkeerde elektrisch voertuig bij een"]
[null,"          elektrisch oplaadpunt"]
[null,"Invalide = personenwagens en motoren op voor"]
[null,"          invalide personen bestemde parkeerplaats"]
[null,"Gestalde fietsen = alle gestalde fietsen op de"]
[null,"          daarvoor bestemde parkeerplaatsen"]

{"sheet":"42.Zingem","index":39,"n_rows":54,"n_cols":26,"rows_kept":54,"cut":false,"hidden":false,"merged":[[4,3,5,12],[4,16,5,16],[15,3,16,12]]}
[]
[null,"PARKEERONDERZOEK",null,"CARPOOLPARKINGS EN P+R PARKINGS"]
[null,42,null,{"$f":"B8 & \" - \"& TEXT(VLOOKUP(B3,Coordinaten!$A$2:$G$95,7,0),\"dddd dd mmmm jjjj\")","v":"Carpool parking Zingem, Zingem - di 10 & do 12 oktober 2023"}]
[null,{"$f":"VLOOKUP(B3,Coordinaten!$A$2:$G$95,6,0)","v":"50.909427, 3.615886"}]
[null,null,null,"BEZETTING  ",null,null,null,null,null,null,null,null,null,null,null,null,"OPMERKINGEN"]
[]
[null,"Onderzoeksgebied",null,"Datum","Geregistreerd tussen","Pers","Vracht","Motor","Obstakel / overig","Fout   pers","Fout Vracht","Totaal","E-wagen\nplaats","Invalidenplaats","Gestalde fietsen",null,null,null,null,null,{"$f":"F7","v":"Pers"},"Vracht","Motor","Obstakel / overig","Fout   pers","Fout Vracht"]
[null,{"$f":"VLOOKUP(B3,Coordinaten!$A$2:$G$95,3,0)&\", \"&VLOOKUP(B3,Coordinaten!$A$2:$G$95,5,0)","v":"Carpool parking Zingem, Zingem"},null,{"$f":"_xlfn.XLOOKUP($B$3,Bezetting_1!$A$2:$A$90,Bezetting_1!C$2:C$90,,0)","v":"2023-10-12"},{"$f":"_xlfn.XLOOKUP($B$3,Bezetting_1!$A$2:$A$90,Bezetting_1!D$2:D$90,,0)","v":"09:00 - 16:00u"},{"$f":"_xlfn.XLOOKUP($B$3,Bezetting_1!$A$2:$A$90,Bezetting_1!E$2:E$90,,0)","v":16},{"$f":"_xlfn.XLOOKUP($B$3,Bezetting_1!$A$2:$A$90,Bezetting_1!F$2:F$90,,0)","v":0},{"$f":"_xlfn.XLOOKUP($B$3,Bezetting_1!$A$2:$A$90,Bezetting_1!G$2:G$90,,0)","v":0},{"$f":"_xlfn.XLOOKUP($B$3,Bezetting_1!$A$2:$A$90,Bezetting_1!H$2:H$90,,0)","v":0},{"$f":"_xlfn.XLOOKUP($B$3,Bezetting_1!$A$2:$A$90,Bezetting_1!I$2:I$90,,0)","v":0},{"$f":"_xlfn.XLOOKUP($B$3,Bezetting_1!$A$2:$A$90,Bezetting_1!J$2:J$90,,0)","v":0},{"$f":"_xlfn.XLOOKUP($B$3,Bezetting_1!$A$2:$A$90,Bezetting_1!K$2:K$90,,0)","v":16},{"$f":"_xlfn.XLOOKUP($B$3,Bezetting_1!$A$2:$A$90,Bezetting_1!L$2:L$90,,0)","v":0},{"$f":"_xlfn.XLOOKUP($B$3,Bezetting_1!$A$2:$A$90,Bezetting_1!M$2:M$90,,0)","v":0},{"$f":"_xlfn.XLOOKUP($B$3,Bezetting_1!$A$2:$A$90,Bezetting_1!N$2:N$90,,0)","v":6},null,{"$f":"_xlfn.XLOOKUP($B$3,Bezetting_1!$A$2:$A$90,Bezetting_1!P$2:P$90,,0)","v":0},null,{"$f":"D8","v":"2023-10-12"},{"$f":"E8","v":"09:00 - 16:00u"},{"$f":"IF(F8=0,NA(),F8/$L8)","v":1},{"$f":"IF(G8=0,NA(),G8/$L8)","v":{"$error":"#N/A"}},{"$f":"IF(H8=0,NA(),H8/$L8)","v":{"$error":"#N/A"}},{"$error":"#N/A"},{"$error":"#N/A"},{"$error":"#N/A"}]
[null,{"$f":"\"Nabij kruispunt: \"&VLOOKUP(B3,Coordinaten!$A$2:$L$95,4,0)","v":"Nabij kruispunt: N435 / N60"},null,null,null,{"$f":"IF(F8=0,\"-\",F8/$L$8)","v":1},{"$f":"IF(G8=0,\"-\",G8/$L$8)","v":"-"},"-","-","-","-",1,null,null,null,null,{"$f":"_xlfn.XLOOKUP($B$3,Bezetting_1!$A$2:$A$90,Bezetting_1!Q$2:Q$90,,0)","v":0},null,{"$f":"D10","v":"2023-10-12"},{"$f":"E10","v":"19:00 - 02:00u"},{"$f":"IF(F10=0,NA(),F10/$L10)","v":1},{"$f":"IF(G10=0,NA(),G10/$L10)","v":{"$error":"#N/A"}},{"$error":"#N/A"},{"$error":"#N/A"},{"$error":"#N/A"},{"$error":"#N/A"}]
[null,null,null,{"$f":"_xlfn.XLOOKUP($B$3,Bezetting_2!$A$2:$A$90,Bezetting_2!C$2:C$90,,0)","v":"2023-10-12"},{"$f":"_xlfn.XLOOKUP($B$3,Bezetting_2!$A$2:$A$90,Bezetting_2!D$2:D$90,,0)","v":"19:00 - 02:00u"},{"$f":"_xlfn.XLOOKUP($B$3,Bezetting_2!$A$2:$A$90,Bezetting_2!E$2:E$90,,0)","v":7},{"$f":"_xlfn.XLOOKUP($B$3,Bezetting_2!$A$2:$A$90,Bezetting_2!F$2:F$90,,0)","v":0},{"$f":"_xlfn.XLOOKUP($B$3,Bezetting_2!$A$2:$A$90,Bezetting_2!G$2:G$90,,0)","v":0},{"$f":"_xlfn.XLOOKUP($B$3,Bezetting_2!$A$2:$A$90,Bezetting_2!H$2:H$90,,0)","v":0},{"$f":"_xlfn.XLOOKUP($B$3,Bezetting_2!$A$2:$A$90,Bezetting_2!I$2:I$90,,0)","v":0},{"$f":"_xlfn.XLOOKUP($B$3,Bezetting_2!$A$2:$A$90,Bezetting_2!J$2:J$90,,0)","v":0},{"$f":"_xlfn.XLOOKUP($B$3,Bezetting_2!$A$2:$A$90,Bezetting_2!K$2:K$90,,0)","v":7},{"$f":"_xlfn.XLOOKUP($B$3,Bezetting_2!$A$2:$A$90,Bezetting_2!L$2:L$90,,0)","v":0},{"$f":"_xlfn.XLOOKUP($B$3,Bezetting_2!$A$2:$A$90,Bezetting_2!M$2:M$90,,0)","v":0},{"$f":"_xlfn.XLOOKUP($B$3,Bezetting_2!$A$2:$A$90,Bezetting_2!N$2:N$90,,0)","v":6},{"$f":"_xlfn.XLOOKUP($B$3,Bezetting_2!$A$2:$A$90,Bezetting_2!O$2:O$90,,0)","v":0},{"$f":"_xlfn.XLOOKUP($B$3,Bezetting_2!$A$2:$A$90,Bezetting_2!P$2:P$90,,0)","v":0}]
[null,"Meting",null,null,null,{"$f":"IF(F10=0,\"-\",F10/$L$10)","v":1},{"$f":"IF(G10=0,\"-\",G10/$L$10)","v":"-"},"-","-","-","-",1,null,null,null,null,{"$f":"_xlfn.XLOOKUP($B$3,Bezetting_2!$A$2:$A$90,Bezetting_2!Q$2:Q$90,,0)","v":0}]
[null,{"$f":"\"Meetperiode: \"&TEXT(VLOOKUP(B3,Coordinaten!$A:$G,7,0),\"dddd dd mmmm jjjj\")","v":"Meetperiode: di 10 & do 12 oktober 2023"}]
[null,"Methodiek: Parkeerdrukmeting met waarnemers"]
[null,"In opdracht van: Vlaamse overheid"]
[null,"Uitgevoerd door: Dufec"]
[null,null,null,"VERDELING NAAR CATEGORIE"]
[null,"Locatie"]
[null,{"$f":"IF(B4=\"\",\"\",HYPERLINK(\"http://www.googlemaps.com/?q=\"&B4,\"Lat/Long: \"&B4))","v":"Lat/Long: 50.909427, 3.615886"}]
[]
[null,null,null,null,null,null,null,null,null,null,null,null,null,null,null,"Legenda"]
[null,null,null,null,null,null,null,null,null,null,null,null,null,null,null,null,"Personenwagen"]
[null,null,null,null,null,null,null,null,null,null,null,null,null,null,null,null,"Vracht"]
[null,null,null,null,null,null,null,null,null,null,null,null,null,null,null,null,"Motor"]
[null,null,null,null,null,null,null,null,null,null,null,null,null,null,null,null,"Obstakel / overig"]
[null,null,null,null,null,null,null,null,null,null,null,null,null,null,null,null,"Fout personenwagen"]
[null,null,null,null,null,null,null,null,null,null,null,null,null,null,null,null,"Fout Vracht"]
[]
[]
[]
[]
[]
[]
[]
[]
[]
[]
[]
[]
[null,"Toelichting"]
[null,"Pers = personenwagens op daarvoor bestemde"]
[null,"          openbare plaatsen"]
[null,"Vracht = vrachtwagens op daarvoor bestemde"]
[null,"          parkeerplaatsen (middel- en zwaar vrachtverkeer)"]
[null,"Motor = geparkeerde motoren op openbare plaatsen"]
[null,"Obstakel / overig = obstakels of overige voertuigen"]
[null,"          geparkeerd op openbare plaatsen"]
[null,"Fout pers = personenwagens die fout geparkeerd staan"]
[null,"Fout vracht = vrachtwagens die fout geparkeerd staan"]
[null,"E-wagen = geparkeerde elektrisch voertuig bij een"]
[null,"          elektrisch oplaadpunt"]
[null,"Invalide = personenwagens en motoren op voor"]
[null,"          invalide personen bestemde parkeerplaats"]
[null,"Gestalde fietsen = alle gestalde fietsen op de"]
[null,"          daarvoor bestemde parkeerplaatsen"]

{"sheet":"43.Kemzeke-West","index":40,"n_rows":54,"n_cols":26,"rows_kept":54,"cut":false,"hidden":false,"merged":[[4,3,5,12],[4,16,5,16],[15,3,16,12]]}
[]
[null,"PARKEERONDERZOEK",null,"CARPOOLPARKINGS EN P+R PARKINGS"]
[null,43,null,{"$f":"B8 & \" - \"& TEXT(VLOOKUP(B3,Coordinaten!$A$2:$G$95,7,0),\"dddd dd mmmm jjjj\")","v":"Carpool parking Kemzeke-West, Stekene - di 10 & do 12 oktober 2023"}]
[null,{"$f":"VLOOKUP(B3,Coordinaten!$A$2:$G$95,6,0)","v":"51.229594, 4.060439"}]
[null,null,null,"BEZETTING  ",null,null,null,null,null,null,null,null,null,null,null,null,"OPMERKINGEN"]
[]
[null,"Onderzoeksgebied",null,"Datum","Geregistreerd tussen","Pers","Vracht","Motor","Obstakel / overig","Fout   pers","Fout Vracht","Totaal","E-wagen\nplaats","Invalidenplaats","Gestalde fietsen",null,null,null,null,null,{"$f":"F7","v":"Pers"},"Vracht","Motor","Obstakel / overig","Fout   pers","Fout Vracht"]
[null,{"$f":"VLOOKUP(B3,Coordinaten!$A$2:$G$95,3,0)&\", \"&VLOOKUP(B3,Coordinaten!$A$2:$G$95,5,0)","v":"Carpool parking Kemzeke-West, Stekene"},null,{"$f":"_xlfn.XLOOKUP($B$3,Bezetting_1!$A$2:$A$90,Bezetting_1!C$2:C$90,,0)","v":"2023-10-10"},{"$f":"_xlfn.XLOOKUP($B$3,Bezetting_1!$A$2:$A$90,Bezetting_1!D$2:D$90,,0)","v":"09:00 - 16:00u"},{"$f":"_xlfn.XLOOKUP($B$3,Bezetting_1!$A$2:$A$90,Bezetting_1!E$2:E$90,,0)","v":16},{"$f":"_xlfn.XLOOKUP($B$3,Bezetting_1!$A$2:$A$90,Bezetting_1!F$2:F$90,,0)","v":0},{"$f":"_xlfn.XLOOKUP($B$3,Bezetting_1!$A$2:$A$90,Bezetting_1!G$2:G$90,,0)","v":0},{"$f":"_xlfn.XLOOKUP($B$3,Bezetting_1!$A$2:$A$90,Bezetting_1!H$2:H$90,,0)","v":1},{"$f":"_xlfn.XLOOKUP($B$3,Bezetting_1!$A$2:$A$90,Bezetting_1!I$2:I$90,,0)","v":0},{"$f":"_xlfn.XLOOKUP($B$3,Bezetting_1!$A$2:$A$90,Bezetting_1!J$2:J$90,,0)","v":0},{"$f":"_xlfn.XLOOKUP($B$3,Bezetting_1!$A$2:$A$90,Bezetting_1!K$2:K$90,,0)","v":17},{"$f":"_xlfn.XLOOKUP($B$3,Bezetting_1!$A$2:$A$90,Bezetting_1!L$2:L$90,,0)","v":0},{"$f":"_xlfn.XLOOKUP($B$3,Bezetting_1!$A$2:$A$90,Bezetting_1!M$2:M$90,,0)","v":0},{"$f":"_xlfn.XLOOKUP($B$3,Bezetting_1!$A$2:$A$90,Bezetting_1!N$2:N$90,,0)","v":0},null,{"$f":"_xlfn.XLOOKUP($B$3,Bezetting_1!$A$2:$A$90,Bezetting_1!P$2:P$90,,0)","v":"Overig: aanhanger"},null,{"$f":"D8","v":"2023-10-10"},{"$f":"E8","v":"09:00 - 16:00u"},{"$f":"IF(F8=0,NA(),F8/$L8)","v":0.94117647058823528},{"$f":"IF(G8=0,NA(),G8/$L8)","v":{"$error":"#N/A"}},{"$f":"IF(H8=0,NA(),H8/$L8)","v":{"$error":"#N/A"}},5.8823529411764705E-2,{"$error":"#N/A"},{"$error":"#N/A"}]
[null,{"$f":"\"Nabij kruispunt: \"&VLOOKUP(B3,Coordinaten!$A$2:$L$95,4,0)","v":"Nabij kruispunt: N403 / N49"},null,null,null,{"$f":"IF(F8=0,\"-\",F8/$L$8)","v":0.94117647058823528},{"$f":"IF(G8=0,\"-\",G8/$L$8)","v":"-"},"-",5.8823529411764705E-2,"-","-",1,null,null,null,null,{"$f":"_xlfn.XLOOKUP($B$3,Bezetting_1!$A$2:$A$90,Bezetting_1!Q$2:Q$90,,0)","v":0},null,{"$f":"D10","v":"2023-10-10"},{"$f":"E10","v":"19:00 - 02:00u"},{"$f":"IF(F10=0,NA(),F10/$L10)","v":0.88888888888888884},{"$f":"IF(G10=0,NA(),G10/$L10)","v":{"$error":"#N/A"}},{"$error":"#N/A"},0.1111111111111111,{"$error":"#N/A"},{"$error":"#N/A"}]
[null,null,null,{"$f":"_xlfn.XLOOKUP($B$3,Bezetting_2!$A$2:$A$90,Bezetting_2!C$2:C$90,,0)","v":"2023-10-10"},{"$f":"_xlfn.XLOOKUP($B$3,Bezetting_2!$A$2:$A$90,Bezetting_2!D$2:D$90,,0)","v":"19:00 - 02:00u"},{"$f":"_xlfn.XLOOKUP($B$3,Bezetting_2!$A$2:$A$90,Bezetting_2!E$2:E$90,,0)","v":8},{"$f":"_xlfn.XLOOKUP($B$3,Bezetting_2!$A$2:$A$90,Bezetting_2!F$2:F$90,,0)","v":0},{"$f":"_xlfn.XLOOKUP($B$3,Bezetting_2!$A$2:$A$90,Bezetting_2!G$2:G$90,,0)","v":0},{"$f":"_xlfn.XLOOKUP($B$3,Bezetting_2!$A$2:$A$90,Bezetting_2!H$2:H$90,,0)","v":1},{"$f":"_xlfn.XLOOKUP($B$3,Bezetting_2!$A$2:$A$90,Bezetting_2!I$2:I$90,,0)","v":0},{"$f":"_xlfn.XLOOKUP($B$3,Bezetting_2!$A$2:$A$90,Bezetting_2!J$2:J$90,,0)","v":0},{"$f":"_xlfn.XLOOKUP($B$3,Bezetting_2!$A$2:$A$90,Bezetting_2!K$2:K$90,,0)","v":9},{"$f":"_xlfn.XLOOKUP($B$3,Bezetting_2!$A$2:$A$90,Bezetting_2!L$2:L$90,,0)","v":0},{"$f":"_xlfn.XLOOKUP($B$3,Bezetting_2!$A$2:$A$90,Bezetting_2!M$2:M$90,,0)","v":0},{"$f":"_xlfn.XLOOKUP($B$3,Bezetting_2!$A$2:$A$90,Bezetting_2!N$2:N$90,,0)","v":0},{"$f":"_xlfn.XLOOKUP($B$3,Bezetting_2!$A$2:$A$90,Bezetting_2!O$2:O$90,,0)","v":0},{"$f":"_xlfn.XLOOKUP($B$3,Bezetting_2!$A$2:$A$90,Bezetting_2!P$2:P$90,,0)","v":"Overig: aanhanger"}]
[null,"Meting",null,null,null,{"$f":"IF(F10=0,\"-\",F10/$L$10)","v":0.88888888888888884},{"$f":"IF(G10=0,\"-\",G10/$L$10)","v":"-"},"-",0.1111111111111111,"-","-",1,null,null,null,null,{"$f":"_xlfn.XLOOKUP($B$3,Bezetting_2!$A$2:$A$90,Bezetting_2!Q$2:Q$90,,0)","v":0}]
[null,{"$f":"\"Meetperiode: \"&TEXT(VLOOKUP(B3,Coordinaten!$A:$G,7,0),\"dddd dd mmmm jjjj\")","v":"Meetperiode: di 10 & do 12 oktober 2023"}]
[null,"Methodiek: Parkeerdrukmeting met waarnemers"]
[null,"In opdracht van: Vlaamse overheid"]
[null,"Uitgevoerd door: Dufec"]
[null,null,null,"VERDELING NAAR CATEGORIE"]
[null,"Locatie"]
[null,{"$f":"IF(B4=\"\",\"\",HYPERLINK(\"http://www.googlemaps.com/?q=\"&B4,\"Lat/Long: \"&B4))","v":"Lat/Long: 51.229594, 4.060439"}]
[]
[null,null,null,null,null,null,null,null,null,null,null,null,null,null,null,"Legenda"]
[null,null,null,null,null,null,null,null,null,null,null,null,null,null,null,null,"Personenwagen"]
[null,null,null,null,null,null,null,null,null,null,null,null,null,null,null,null,"Vracht"]
[null,null,null,null,null,null,null,null,null,null,null,null,null,null,null,null,"Motor"]
[null,null,null,null,null,null,null,null,null,null,null,null,null,null,null,null,"Obstakel / overig"]
[null,null,null,null,null,null,null,null,null,null,null,null,null,null,null,null,"Fout personenwagen"]
[null,null,null,null,null,null,null,null,null,null,null,null,null,null,null,null,"Fout Vracht"]
[]
[]
[]
[]
[]
[]
[]
[]
[]
[]
[]
[]
[null,"Toelichting"]
[null,"Pers = personenwagens op daarvoor bestemde"]
[null,"          openbare plaatsen"]
[null,"Vracht = vrachtwagens op daarvoor bestemde"]
[null,"          parkeerplaatsen (middel- en zwaar vrachtverkeer)"]
[null,"Motor = geparkeerde motoren op openbare plaatsen"]
[null,"Obstakel / overig = obstakels of overige voertuigen"]
[null,"          geparkeerd op openbare plaatsen"]
[null,"Fout pers = personenwagens die fout geparkeerd staan"]
[null,"Fout vracht = vrachtwagens die fout geparkeerd staan"]
[null,"E-wagen = geparkeerde elektrisch voertuig bij een"]
[null,"          elektrisch oplaadpunt"]
[null,"Invalide = personenwagens en motoren op voor"]
[null,"          invalide personen bestemde parkeerplaats"]
[null,"Gestalde fietsen = alle gestalde fietsen op de"]
[null,"          daarvoor bestemde parkeerplaatsen"]

{"sheet":"44.Kemzeke-Oost","index":41,"n_rows":54,"n_cols":26,"rows_kept":54,"cut":false,"hidden":false,"merged":[[4,3,5,12],[4,16,5,16],[15,3,16,12]]}
[]
[null,"PARKEERONDERZOEK",null,"CARPOOLPARKINGS EN P+R PARKINGS"]
[null,44,null,{"$f":"B8 & \" - \"& TEXT(VLOOKUP(B3,Coordinaten!$A$2:$G$95,7,0),\"dddd dd mmmm jjjj\")","v":"Carpool parking Kemzeke-Oost, Stekene - di 10 & do 12 oktober 2023"}]
[null,{"$f":"VLOOKUP(B3,Coordinaten!$A$2:$G$95,6,0)","v":"51.229783, 4.061087"}]
[null,null,null,"BEZETTING  ",null,null,null,null,null,null,null,null,null,null,null,null,"OPMERKINGEN"]
[]
[null,"Onderzoeksgebied",null,"Datum","Geregistreerd tussen","Pers","Vracht","Motor","Obstakel / overig","Fout   pers","Fout Vracht","Totaal","E-wagen\nplaats","Invalidenplaats","Gestalde fietsen",null,null,null,null,null,{"$f":"F7","v":"Pers"},"Vracht","Motor","Obstakel / overig","Fout   pers","Fout Vracht"]
[null,{"$f":"VLOOKUP(B3,Coordinaten!$A$2:$G$95,3,0)&\", \"&VLOOKUP(B3,Coordinaten!$A$2:$G$95,5,0)","v":"Carpool parking Kemzeke-Oost, Stekene"},null,{"$f":"_xlfn.XLOOKUP($B$3,Bezetting_1!$A$2:$A$90,Bezetting_1!C$2:C$90,,0)","v":"2023-10-10"},{"$f":"_xlfn.XLOOKUP($B$3,Bezetting_1!$A$2:$A$90,Bezetting_1!D$2:D$90,,0)","v":"09:00 - 16:00u"},{"$f":"_xlfn.XLOOKUP($B$3,Bezetting_1!$A$2:$A$90,Bezetting_1!E$2:E$90,,0)","v":2},{"$f":"_xlfn.XLOOKUP($B$3,Bezetting_1!$A$2:$A$90,Bezetting_1!F$2:F$90,,0)","v":0},{"$f":"_xlfn.XLOOKUP($B$3,Bezetting_1!$A$2:$A$90,Bezetting_1!G$2:G$90,,0)","v":0},{"$f":"_xlfn.XLOOKUP($B$3,Bezetting_1!$A$2:$A$90,Bezetting_1!H$2:H$90,,0)","v":0},{"$f":"_xlfn.XLOOKUP($B$3,Bezetting_1!$A$2:$A$90,Bezetting_1!I$2:I$90,,0)","v":0},{"$f":"_xlfn.XLOOKUP($B$3,Bezetting_1!$A$2:$A$90,Bezetting_1!J$2:J$90,,0)","v":0},{"$f":"_xlfn.XLOOKUP($B$3,Bezetting_1!$A$2:$A$90,Bezetting_1!K$2:K$90,,0)","v":2},{"$f":"_xlfn.XLOOKUP($B$3,Bezetting_1!$A$2:$A$90,Bezetting_1!L$2:L$90,,0)","v":0},{"$f":"_xlfn.XLOOKUP($B$3,Bezetting_1!$A$2:$A$90,Bezetting_1!M$2:M$90,,0)","v":0},{"$f":"_xlfn.XLOOKUP($B$3,Bezetting_1!$A$2:$A$90,Bezetting_1!N$2:N$90,,0)","v":0},null,{"$f":"_xlfn.XLOOKUP($B$3,Bezetting_1!$A$2:$A$90,Bezetting_1!P$2:P$90,,0)","v":0},null,{"$f":"D8","v":"2023-10-10"},{"$f":"E8","v":"09:00 - 16:00u"},{"$f":"IF(F8=0,NA(),F8/$L8)","v":1},{"$f":"IF(G8=0,NA(),G8/$L8)","v":{"$error":"#N/A"}},{"$f":"IF(H8=0,NA(),H8/$L8)","v":{"$error":"#N/A"}},{"$error":"#N/A"},{"$error":"#N/A"},{"$error":"#N/A"}]
[null,{"$f":"\"Nabij kruispunt: \"&VLOOKUP(B3,Coordinaten!$A$2:$L$95,4,0)","v":"Nabij kruispunt: N403 / N49"},null,null,null,{"$f":"IF(F8=0,\"-\",F8/$L$8)","v":1},{"$f":"IF(G8=0,\"-\",G8/$L$8)","v":"-"},"-","-","-","-",1,null,null,null,null,{"$f":"_xlfn.XLOOKUP($B$3,Bezetting_1!$A$2:$A$90,Bezetting_1!Q$2:Q$90,,0)","v":0},null,{"$f":"D10","v":"2023-10-10"},{"$f":"E10","v":"19:00 - 02:00u"},{"$f":"IF(F10=0,NA(),F10/$L10)","v":0.66666666666666663},{"$f":"IF(G10=0,NA(),G10/$L10)","v":{"$error":"#N/A"}},{"$error":"#N/A"},0.33333333333333331,{"$error":"#N/A"},{"$error":"#N/A"}]
[null,null,null,{"$f":"_xlfn.XLOOKUP($B$3,Bezetting_2!$A$2:$A$90,Bezetting_2!C$2:C$90,,0)","v":"2023-10-10"},{"$f":"_xlfn.XLOOKUP($B$3,Bezetting_2!$A$2:$A$90,Bezetting_2!D$2:D$90,,0)","v":"19:00 - 02:00u"},{"$f":"_xlfn.XLOOKUP($B$3,Bezetting_2!$A$2:$A$90,Bezetting_2!E$2:E$90,,0)","v":2},{"$f":"_xlfn.XLOOKUP($B$3,Bezetting_2!$A$2:$A$90,Bezetting_2!F$2:F$90,,0)","v":0},{"$f":"_xlfn.XLOOKUP($B$3,Bezetting_2!$A$2:$A$90,Bezetting_2!G$2:G$90,,0)","v":0},{"$f":"_xlfn.XLOOKUP($B$3,Bezetting_2!$A$2:$A$90,Bezetting_2!H$2:H$90,,0)","v":1},{"$f":"_xlfn.XLOOKUP($B$3,Bezetting_2!$A$2:$A$90,Bezetting_2!I$2:I$90,,0)","v":0},{"$f":"_xlfn.XLOOKUP($B$3,Bezetting_2!$A$2:$A$90,Bezetting_2!J$2:J$90,,0)","v":0},{"$f":"_xlfn.XLOOKUP($B$3,Bezetting_2!$A$2:$A$90,Bezetting_2!K$2:K$90,,0)","v":3},{"$f":"_xlfn.XLOOKUP($B$3,Bezetting_2!$A$2:$A$90,Bezetting_2!L$2:L$90,,0)","v":0},{"$f":"_xlfn.XLOOKUP($B$3,Bezetting_2!$A$2:$A$90,Bezetting_2!M$2:M$90,,0)","v":0},{"$f":"_xlfn.XLOOKUP($B$3,Bezetting_2!$A$2:$A$90,Bezetting_2!N$2:N$90,,0)","v":0},{"$f":"_xlfn.XLOOKUP($B$3,Bezetting_2!$A$2:$A$90,Bezetting_2!O$2:O$90,,0)","v":0},{"$f":"_xlfn.XLOOKUP($B$3,Bezetting_2!$A$2:$A$90,Bezetting_2!P$2:P$90,,0)","v":"Overig: touringcar"}]
[null,"Meting",null,null,null,{"$f":"IF(F10=0,\"-\",F10/$L$10)","v":0.66666666666666663},{"$f":"IF(G10=0,\"-\",G10/$L$10)","v":"-"},"-",0.33333333333333331,"-","-",1,null,null,null,null,{"$f":"_xlfn.XLOOKUP($B$3,Bezetting_2!$A$2:$A$90,Bezetting_2!Q$2:Q$90,,0)","v":0}]
[null,{"$f":"\"Meetperiode: \"&TEXT(VLOOKUP(B3,Coordinaten!$A:$G,7,0),\"dddd dd mmmm jjjj\")","v":"Meetperiode: di 10 & do 12 oktober 2023"}]
[null,"Methodiek: Parkeerdrukmeting met waarnemers"]
[null,"In opdracht van: Vlaamse overheid"]
[null,"Uitgevoerd door: Dufec"]
[null,null,null,"VERDELING NAAR CATEGORIE"]
[null,"Locatie"]
[null,{"$f":"IF(B4=\"\",\"\",HYPERLINK(\"http://www.googlemaps.com/?q=\"&B4,\"Lat/Long: \"&B4))","v":"Lat/Long: 51.229783, 4.061087"}]
[]
[null,null,null,null,null,null,null,null,null,null,null,null,null,null,null,"Legenda"]
[null,null,null,null,null,null,null,null,null,null,null,null,null,null,null,null,"Personenwagen"]
[null,null,null,null,null,null,null,null,null,null,null,null,null,null,null,null,"Vracht"]
[null,null,null,null,null,null,null,null,null,null,null,null,null,null,null,null,"Motor"]
[null,null,null,null,null,null,null,null,null,null,null,null,null,null,null,null,"Obstakel / overig"]
[null,null,null,null,null,null,null,null,null,null,null,null,null,null,null,null,"Fout personenwagen"]
[null,null,null,null,null,null,null,null,null,null,null,null,null,null,null,null,"Fout Vracht"]
[]
[]
[]
[]
[]
[]
[]
[]
[]
[]
[]
[]
[null,"Toelichting"]
[null,"Pers = personenwagens op daarvoor bestemde"]
[null,"          openbare plaatsen"]
[null,"Vracht = vrachtwagens op daarvoor bestemde"]
[null,"          parkeerplaatsen (middel- en zwaar vrachtverkeer)"]
[null,"Motor = geparkeerde motoren op openbare plaatsen"]
[null,"Obstakel / overig = obstakels of overige voertuigen"]
[null,"          geparkeerd op openbare plaatsen"]
[null,"Fout pers = personenwagens die fout geparkeerd staan"]
[null,"Fout vracht = vrachtwagens die fout geparkeerd staan"]
[null,"E-wagen = geparkeerde elektrisch voertuig bij een"]
[null,"          elektrisch oplaadpunt"]
[null,"Invalide = personenwagens en motoren op voor"]
[null,"          invalide personen bestemde parkeerplaats"]
[null,"Gestalde fietsen = alle gestalde fietsen op de"]
[null,"          daarvoor bestemde parkeerplaatsen"]

{"sheet":"46.Geel-Oost","index":42,"n_rows":54,"n_cols":26,"rows_kept":54,"cut":false,"hidden":false,"merged":[[4,3,5,12],[4,16,5,16],[15,3,16,12]]}
[]
[null,"PARKEERONDERZOEK",null,"CARPOOLPARKINGS EN P+R PARKINGS"]
[null,46,null,{"$f":"B8 & \" - \"& TEXT(VLOOKUP(B3,Coordinaten!$A$2:$G$95,7,0),\"dddd dd mmmm jjjj\")","v":"Carpool parking Geel-Oost, Laakdal - di 10 & do 12 oktober 2023"}]
[null,{"$f":"VLOOKUP(B3,Coordinaten!$A$2:$G$95,6,0)","v":"51.106646, 5.018691"}]
[null,null,null,"BEZETTING  ",null,null,null,null,null,null,null,null,null,null,null,null,"OPMERKINGEN"]
[]
[null,"Onderzoeksgebied",null,"Datum","Geregistreerd tussen","Pers","Vracht","Motor","Obstakel / overig","Fout   pers","Fout Vracht","Totaal","E-wagen\nplaats","Invalidenplaats","Gestalde fietsen",null,null,null,null,null,{"$f":"F7","v":"Pers"},"Vracht","Motor","Obstakel / overig","Fout   pers","Fout Vracht"]
[null,{"$f":"VLOOKUP(B3,Coordinaten!$A$2:$G$95,3,0)&\", \"&VLOOKUP(B3,Coordinaten!$A$2:$G$95,5,0)","v":"Carpool parking Geel-Oost, Laakdal"},null,{"$f":"_xlfn.XLOOKUP($B$3,Bezetting_1!$A$2:$A$90,Bezetting_1!C$2:C$90,,0)","v":"2023-10-12"},{"$f":"_xlfn.XLOOKUP($B$3,Bezetting_1!$A$2:$A$90,Bezetting_1!D$2:D$90,,0)","v":"09:00 - 16:00u"},{"$f":"_xlfn.XLOOKUP($B$3,Bezetting_1!$A$2:$A$90,Bezetting_1!E$2:E$90,,0)","v":30},{"$f":"_xlfn.XLOOKUP($B$3,Bezetting_1!$A$2:$A$90,Bezetting_1!F$2:F$90,,0)","v":0},{"$f":"_xlfn.XLOOKUP($B$3,Bezetting_1!$A$2:$A$90,Bezetting_1!G$2:G$90,,0)","v":0},{"$f":"_xlfn.XLOOKUP($B$3,Bezetting_1!$A$2:$A$90,Bezetting_1!H$2:H$90,,0)","v":0},{"$f":"_xlfn.XLOOKUP($B$3,Bezetting_1!$A$2:$A$90,Bezetting_1!I$2:I$90,,0)","v":0},{"$f":"_xlfn.XLOOKUP($B$3,Bezetting_1!$A$2:$A$90,Bezetting_1!J$2:J$90,,0)","v":0},{"$f":"_xlfn.XLOOKUP($B$3,Bezetting_1!$A$2:$A$90,Bezetting_1!K$2:K$90,,0)","v":30},{"$f":"_xlfn.XLOOKUP($B$3,Bezetting_1!$A$2:$A$90,Bezetting_1!L$2:L$90,,0)","v":0},{"$f":"_xlfn.XLOOKUP($B$3,Bezetting_1!$A$2:$A$90,Bezetting_1!M$2:M$90,,0)","v":0},{"$f":"_xlfn.XLOOKUP($B$3,Bezetting_1!$A$2:$A$90,Bezetting_1!N$2:N$90,,0)","v":0},null,{"$f":"_xlfn.XLOOKUP($B$3,Bezetting_1!$A$2:$A$90,Bezetting_1!P$2:P$90,,0)","v":"Electrische laadpunten in aanbouw"},null,{"$f":"D8","v":"2023-10-12"},{"$f":"E8","v":"09:00 - 16:00u"},{"$f":"IF(F8=0,NA(),F8/$L8)","v":1},{"$f":"IF(G8=0,NA(),G8/$L8)","v":{"$error":"#N/A"}},{"$f":"IF(H8=0,NA(),H8/$L8)","v":{"$error":"#N/A"}},{"$error":"#N/A"},{"$error":"#N/A"},{"$error":"#N/A"}]
[null,{"$f":"\"Nabij kruispunt: \"&VLOOKUP(B3,Coordinaten!$A$2:$L$95,4,0)","v":"Nabij kruispunt: N174 / A13"},null,null,null,{"$f":"IF(F8=0,\"-\",F8/$L$8)","v":1},{"$f":"IF(G8=0,\"-\",G8/$L$8)","v":"-"},"-","-","-","-",1,null,null,null,null,{"$f":"_xlfn.XLOOKUP($B$3,Bezetting_1!$A$2:$A$90,Bezetting_1!Q$2:Q$90,,0)","v":0},null,{"$f":"D10","v":"2023-10-10"},{"$f":"E10","v":"19:00 - 02:00u"},{"$f":"IF(F10=0,NA(),F10/$L10)","v":0.83333333333333337},{"$f":"IF(G10=0,NA(),G10/$L10)","v":{"$error":"#N/A"}},{"$error":"#N/A"},0.16666666666666666,{"$error":"#N/A"},{"$error":"#N/A"}]
[null,null,null,{"$f":"_xlfn.XLOOKUP($B$3,Bezetting_2!$A$2:$A$90,Bezetting_2!C$2:C$90,,0)","v":"2023-10-10"},{"$f":"_xlfn.XLOOKUP($B$3,Bezetting_2!$A$2:$A$90,Bezetting_2!D$2:D$90,,0)","v":"19:00 - 02:00u"},{"$f":"_xlfn.XLOOKUP($B$3,Bezetting_2!$A$2:$A$90,Bezetting_2!E$2:E$90,,0)","v":10},{"$f":"_xlfn.XLOOKUP($B$3,Bezetting_2!$A$2:$A$90,Bezetting_2!F$2:F$90,,0)","v":0},{"$f":"_xlfn.XLOOKUP($B$3,Bezetting_2!$A$2:$A$90,Bezetting_2!G$2:G$90,,0)","v":0},{"$f":"_xlfn.XLOOKUP($B$3,Bezetting_2!$A$2:$A$90,Bezetting_2!H$2:H$90,,0)","v":2},{"$f":"_xlfn.XLOOKUP($B$3,Bezetting_2!$A$2:$A$90,Bezetting_2!I$2:I$90,,0)","v":0},{"$f":"_xlfn.XLOOKUP($B$3,Bezetting_2!$A$2:$A$90,Bezetting_2!J$2:J$90,,0)","v":0},{"$f":"_xlfn.XLOOKUP($B$3,Bezetting_2!$A$2:$A$90,Bezetting_2!K$2:K$90,,0)","v":12},{"$f":"_xlfn.XLOOKUP($B$3,Bezetting_2!$A$2:$A$90,Bezetting_2!L$2:L$90,,0)","v":0},{"$f":"_xlfn.XLOOKUP($B$3,Bezetting_2!$A$2:$A$90,Bezetting_2!M$2:M$90,,0)","v":0},{"$f":"_xlfn.XLOOKUP($B$3,Bezetting_2!$A$2:$A$90,Bezetting_2!N$2:N$90,,0)","v":0},{"$f":"_xlfn.XLOOKUP($B$3,Bezetting_2!$A$2:$A$90,Bezetting_2!O$2:O$90,,0)","v":0},{"$f":"_xlfn.XLOOKUP($B$3,Bezetting_2!$A$2:$A$90,Bezetting_2!P$2:P$90,,0)","v":"Overig: zandhoop"}]
[null,"Meting",null,null,null,{"$f":"IF(F10=0,\"-\",F10/$L$10)","v":0.83333333333333337},{"$f":"IF(G10=0,\"-\",G10/$L$10)","v":"-"},"-",0.16666666666666666,"-","-",1,null,null,null,null,{"$f":"_xlfn.XLOOKUP($B$3,Bezetting_2!$A$2:$A$90,Bezetting_2!Q$2:Q$90,,0)","v":0}]
[null,{"$f":"\"Meetperiode: \"&TEXT(VLOOKUP(B3,Coordinaten!$A:$G,7,0),\"dddd dd mmmm jjjj\")","v":"Meetperiode: di 10 & do 12 oktober 2023"}]
[null,"Methodiek: Parkeerdrukmeting met waarnemers"]
[null,"In opdracht van: Vlaamse overheid"]
[null,"Uitgevoerd door: Dufec"]
[null,null,null,"VERDELING NAAR CATEGORIE"]
[null,"Locatie"]
[null,{"$f":"IF(B4=\"\",\"\",HYPERLINK(\"http://www.googlemaps.com/?q=\"&B4,\"Lat/Long: \"&B4))","v":"Lat/Long: 51.106646, 5.018691"}]
[]
[null,null,null,null,null,null,null,null,null,null,null,null,null,null,null,"Legenda"]
[null,null,null,null,null,null,null,null,null,null,null,null,null,null,null,null,"Personenwagen"]
[null,null,null,null,null,null,null,null,null,null,null,null,null,null,null,null,"Vracht"]
[null,null,null,null,null,null,null,null,null,null,null,null,null,null,null,null,"Motor"]
[null,null,null,null,null,null,null,null,null,null,null,null,null,null,null,null,"Obstakel / overig"]
[null,null,null,null,null,null,null,null,null,null,null,null,null,null,null,null,"Fout personenwagen"]
[null,null,null,null,null,null,null,null,null,null,null,null,null,null,null,null,"Fout Vracht"]
[]
[]
[]
[]
[]
[]
[]
[]
[]
[]
[]
[]
[null,"Toelichting"]
[null,"Pers = personenwagens op daarvoor bestemde"]
[null,"          openbare plaatsen"]
[null,"Vracht = vrachtwagens op daarvoor bestemde"]
[null,"          parkeerplaatsen (middel- en zwaar vrachtverkeer)"]
[null,"Motor = geparkeerde motoren op openbare plaatsen"]
[null,"Obstakel / overig = obstakels of overige voertuigen"]
[null,"          geparkeerd op openbare plaatsen"]
[null,"Fout pers = personenwagens die fout geparkeerd staan"]
[null,"Fout vracht = vrachtwagens die fout geparkeerd staan"]
[null,"E-wagen = geparkeerde elektrisch voertuig bij een"]
[null,"          elektrisch oplaadpunt"]
[null,"Invalide = personenwagens en motoren op voor"]
[null,"          invalide personen bestemde parkeerplaats"]
[null,"Gestalde fietsen = alle gestalde fietsen op de"]
[null,"          daarvoor bestemde parkeerplaatsen"]

{"sheet":"47.Lille","index":43,"n_rows":54,"n_cols":26,"rows_kept":54,"cut":false,"hidden":false,"merged":[[4,3,5,12],[4,16,5,16],[15,3,16,12]]}
[]
[null,"PARKEERONDERZOEK",null,"CARPOOLPARKINGS EN P+R PARKINGS"]
[null,47,null,{"$f":"B8 & \" - \"& TEXT(VLOOKUP(B3,Coordinaten!$A$2:$G$95,7,0),\"dddd dd mmmm jjjj\")","v":"Carpool parking Lille, Lille - di 10 & do 12 oktober 2023"}]
[null,{"$f":"VLOOKUP(B3,Coordinaten!$A$2:$G$95,6,0)","v":"51.254780, 4.807767"}]
[null,null,null,"BEZETTING  ",null,null,null,null,null,null,null,null,null,null,null,null,"OPMERKINGEN"]
[]
[null,"Onderzoeksgebied",null,"Datum","Geregistreerd tussen","Pers","Vracht","Motor","Obstakel / overig","Fout   pers","Fout Vracht","Totaal","E-wagen\nplaats","Invalidenplaats","Gestalde fietsen",null,null,null,null,null,{"$f":"F7","v":"Pers"},"Vracht","Motor","Obstakel / overig","Fout   pers","Fout Vracht"]
[null,{"$f":"VLOOKUP(B3,Coordinaten!$A$2:$G$95,3,0)&\", \"&VLOOKUP(B3,Coordinaten!$A$2:$G$95,5,0)","v":"Carpool parking Lille, Lille"},null,{"$f":"_xlfn.XLOOKUP($B$3,Bezetting_1!$A$2:$A$90,Bezetting_1!C$2:C$90,,0)","v":"2023-10-12"},{"$f":"_xlfn.XLOOKUP($B$3,Bezetting_1!$A$2:$A$90,Bezetting_1!D$2:D$90,,0)","v":"09:00 - 16:00u"},{"$f":"_xlfn.XLOOKUP($B$3,Bezetting_1!$A$2:$A$90,Bezetting_1!E$2:E$90,,0)","v":58},{"$f":"_xlfn.XLOOKUP($B$3,Bezetting_1!$A$2:$A$90,Bezetting_1!F$2:F$90,,0)","v":0},{"$f":"_xlfn.XLOOKUP($B$3,Bezetting_1!$A$2:$A$90,Bezetting_1!G$2:G$90,,0)","v":0},{"$f":"_xlfn.XLOOKUP($B$3,Bezetting_1!$A$2:$A$90,Bezetting_1!H$2:H$90,,0)","v":1},{"$f":"_xlfn.XLOOKUP($B$3,Bezetting_1!$A$2:$A$90,Bezetting_1!I$2:I$90,,0)","v":0},{"$f":"_xlfn.XLOOKUP($B$3,Bezetting_1!$A$2:$A$90,Bezetting_1!J$2:J$90,,0)","v":0},{"$f":"_xlfn.XLOOKUP($B$3,Bezetting_1!$A$2:$A$90,Bezetting_1!K$2:K$90,,0)","v":59},{"$f":"_xlfn.XLOOKUP($B$3,Bezetting_1!$A$2:$A$90,Bezetting_1!L$2:L$90,,0)","v":0},{"$f":"_xlfn.XLOOKUP($B$3,Bezetting_1!$A$2:$A$90,Bezetting_1!M$2:M$90,,0)","v":0},{"$f":"_xlfn.XLOOKUP($B$3,Bezetting_1!$A$2:$A$90,Bezetting_1!N$2:N$90,,0)","v":7},null,{"$f":"_xlfn.XLOOKUP($B$3,Bezetting_1!$A$2:$A$90,Bezetting_1!P$2:P$90,,0)","v":"Overig: aanhanger"},null,{"$f":"D8","v":"2023-10-12"},{"$f":"E8","v":"09:00 - 16:00u"},{"$f":"IF(F8=0,NA(),F8/$L8)","v":0.98305084745762716},{"$f":"IF(G8=0,NA(),G8/$L8)","v":{"$error":"#N/A"}},{"$f":"IF(H8=0,NA(),H8/$L8)","v":{"$error":"#N/A"}},1.6949152542372881E-2,{"$error":"#N/A"},{"$error":"#N/A"}]
[null,{"$f":"\"Nabij kruispunt: \"&VLOOKUP(B3,Coordinaten!$A$2:$L$95,4,0)","v":"Nabij kruispunt: N153 / A21"},null,null,null,{"$f":"IF(F8=0,\"-\",F8/$L$8)","v":0.98305084745762716},{"$f":"IF(G8=0,\"-\",G8/$L$8)","v":"-"},"-",1.6949152542372881E-2,"-","-",1,null,null,null,null,{"$f":"_xlfn.XLOOKUP($B$3,Bezetting_1!$A$2:$A$90,Bezetting_1!Q$2:Q$90,,0)","v":0},null,{"$f":"D10","v":"2023-10-10"},{"$f":"E10","v":"19:00 - 02:00u"},{"$f":"IF(F10=0,NA(),F10/$L10)","v":0.94736842105263153},{"$f":"IF(G10=0,NA(),G10/$L10)","v":{"$error":"#N/A"}},{"$error":"#N/A"},{"$error":"#N/A"},{"$error":"#N/A"},5.2631578947368418E-2]
[null,null,null,{"$f":"_xlfn.XLOOKUP($B$3,Bezetting_2!$A$2:$A$90,Bezetting_2!C$2:C$90,,0)","v":"2023-10-10"},{"$f":"_xlfn.XLOOKUP($B$3,Bezetting_2!$A$2:$A$90,Bezetting_2!D$2:D$90,,0)","v":"19:00 - 02:00u"},{"$f":"_xlfn.XLOOKUP($B$3,Bezetting_2!$A$2:$A$90,Bezetting_2!E$2:E$90,,0)","v":18},{"$f":"_xlfn.XLOOKUP($B$3,Bezetting_2!$A$2:$A$90,Bezetting_2!F$2:F$90,,0)","v":0},{"$f":"_xlfn.XLOOKUP($B$3,Bezetting_2!$A$2:$A$90,Bezetting_2!G$2:G$90,,0)","v":0},{"$f":"_xlfn.XLOOKUP($B$3,Bezetting_2!$A$2:$A$90,Bezetting_2!H$2:H$90,,0)","v":0},{"$f":"_xlfn.XLOOKUP($B$3,Bezetting_2!$A$2:$A$90,Bezetting_2!I$2:I$90,,0)","v":0},{"$f":"_xlfn.XLOOKUP($B$3,Bezetting_2!$A$2:$A$90,Bezetting_2!J$2:J$90,,0)","v":1},{"$f":"_xlfn.XLOOKUP($B$3,Bezetting_2!$A$2:$A$90,Bezetting_2!K$2:K$90,,0)","v":19},{"$f":"_xlfn.XLOOKUP($B$3,Bezetting_2!$A$2:$A$90,Bezetting_2!L$2:L$90,,0)","v":0},{"$f":"_xlfn.XLOOKUP($B$3,Bezetting_2!$A$2:$A$90,Bezetting_2!M$2:M$90,,0)","v":0},{"$f":"_xlfn.XLOOKUP($B$3,Bezetting_2!$A$2:$A$90,Bezetting_2!N$2:N$90,,0)","v":1},{"$f":"_xlfn.XLOOKUP($B$3,Bezetting_2!$A$2:$A$90,Bezetting_2!O$2:O$90,,0)","v":0},{"$f":"_xlfn.XLOOKUP($B$3,Bezetting_2!$A$2:$A$90,Bezetting_2!P$2:P$90,,0)","v":"Fout vracht: op 8 plaatsen"}]
[null,"Meting",null,null,null,{"$f":"IF(F10=0,\"-\",F10/$L$10)","v":0.94736842105263153},{"$f":"IF(G10=0,\"-\",G10/$L$10)","v":"-"},"-","-","-",5.2631578947368418E-2,1,null,null,null,null,{"$f":"_xlfn.XLOOKUP($B$3,Bezetting_2!$A$2:$A$90,Bezetting_2!Q$2:Q$90,,0)","v":0}]
[null,{"$f":"\"Meetperiode: \"&TEXT(VLOOKUP(B3,Coordinaten!$A:$G,7,0),\"dddd dd mmmm jjjj\")","v":"Meetperiode: di 10 & do 12 oktober 2023"}]
[null,"Methodiek: Parkeerdrukmeting met waarnemers"]
[null,"In opdracht van: Vlaamse overheid"]
[null,"Uitgevoerd door: Dufec"]
[null,null,null,"VERDELING NAAR CATEGORIE"]
[null,"Locatie"]
[null,{"$f":"IF(B4=\"\",\"\",HYPERLINK(\"http://www.googlemaps.com/?q=\"&B4,\"Lat/Long: \"&B4))","v":"Lat/Long: 51.254780, 4.807767"}]
[]
[null,null,null,null,null,null,null,null,null,null,null,null,null,null,null,"Legenda"]
[null,null,null,null,null,null,null,null,null,null,null,null,null,null,null,null,"Personenwagen"]
[null,null,null,null,null,null,null,null,null,null,null,null,null,null,null,null,"Vracht"]
[null,null,null,null,null,null,null,null,null,null,null,null,null,null,null,null,"Motor"]
[null,null,null,null,null,null,null,null,null,null,null,null,null,null,null,null,"Obstakel / overig"]
[null,null,null,null,null,null,null,null,null,null,null,null,null,null,null,null,"Fout personenwagen"]
[null,null,null,null,null,null,null,null,null,null,null,null,null,null,null,null,"Fout Vracht"]
[]
[]
[]
[]
[]
[]
[]
[]
[]
[]
[]
[]
[null,"Toelichting"]
[null,"Pers = personenwagens op daarvoor bestemde"]
[null,"          openbare plaatsen"]
[null,"Vracht = vrachtwagens op daarvoor bestemde"]
[null,"          parkeerplaatsen (middel- en zwaar vrachtverkeer)"]
[null,"Motor = geparkeerde motoren op openbare plaatsen"]
[null,"Obstakel / overig = obstakels of overige voertuigen"]
[null,"          geparkeerd op openbare plaatsen"]
[null,"Fout pers = personenwagens die fout geparkeerd staan"]
[null,"Fout vracht = vrachtwagens die fout geparkeerd staan"]
[null,"E-wagen = geparkeerde elektrisch voertuig bij een"]
[null,"          elektrisch oplaadpunt"]
[null,"Invalide = personenwagens en motoren op voor"]
[null,"          invalide personen bestemde parkeerplaats"]
[null,"Gestalde fietsen = alle gestalde fietsen op de"]
[null,"          daarvoor bestemde parkeerplaatsen"]

{"sheet":"48.Oelegem-West","index":44,"n_rows":54,"n_cols":26,"rows_kept":54,"cut":false,"hidden":false,"merged":[[4,3,5,12],[4,16,5,16],[15,3,16,12]]}
[]
[null,"PARKEERONDERZOEK",null,"CARPOOLPARKINGS EN P+R PARKINGS"]
[null,48,null,{"$f":"B8 & \" - \"& TEXT(VLOOKUP(B3,Coordinaten!$A$2:$G$95,7,0),\"dddd dd mmmm jjjj\")","v":"Carpool parking Oelegem-West, Ranst - di 10 & do 12 oktober 2023"}]
[null,{"$f":"VLOOKUP(B3,Coordinaten!$A$2:$G$95,6,0)","v":"51.212044, 4.623777"}]
[null,null,null,"BEZETTING  ",null,null,null,null,null,null,null,null,null,null,null,null,"OPMERKINGEN"]
[]
[null,"Onderzoeksgebied",null,"Datum","Geregistreerd tussen","Pers","Vracht","Motor","Obstakel / overig","Fout   pers","Fout Vracht","Totaal","E-wagen\nplaats","Invalidenplaats","Gestalde fietsen",null,null,null,null,null,{"$f":"F7","v":"Pers"},"Vracht","Motor","Obstakel / overig","Fout   pers","Fout Vracht"]
[null,{"$f":"VLOOKUP(B3,Coordinaten!$A$2:$G$95,3,0)&\", \"&VLOOKUP(B3,Coordinaten!$A$2:$G$95,5,0)","v":"Carpool parking Oelegem-West, Ranst"},null,{"$f":"_xlfn.XLOOKUP($B$3,Bezetting_1!$A$2:$A$90,Bezetting_1!C$2:C$90,,0)","v":"2023-10-12"},{"$f":"_xlfn.XLOOKUP($B$3,Bezetting_1!$A$2:$A$90,Bezetting_1!D$2:D$90,,0)","v":"09:00 - 16:00u"},{"$f":"_xlfn.XLOOKUP($B$3,Bezetting_1!$A$2:$A$90,Bezetting_1!E$2:E$90,,0)","v":8},{"$f":"_xlfn.XLOOKUP($B$3,Bezetting_1!$A$2:$A$90,Bezetting_1!F$2:F$90,,0)","v":0},{"$f":"_xlfn.XLOOKUP($B$3,Bezetting_1!$A$2:$A$90,Bezetting_1!G$2:G$90,,0)","v":0},{"$f":"_xlfn.XLOOKUP($B$3,Bezetting_1!$A$2:$A$90,Bezetting_1!H$2:H$90,,0)","v":0},{"$f":"_xlfn.XLOOKUP($B$3,Bezetting_1!$A$2:$A$90,Bezetting_1!I$2:I$90,,0)","v":1},{"$f":"_xlfn.XLOOKUP($B$3,Bezetting_1!$A$2:$A$90,Bezetting_1!J$2:J$90,,0)","v":0},{"$f":"_xlfn.XLOOKUP($B$3,Bezetting_1!$A$2:$A$90,Bezetting_1!K$2:K$90,,0)","v":9},{"$f":"_xlfn.XLOOKUP($B$3,Bezetting_1!$A$2:$A$90,Bezetting_1!L$2:L$90,,0)","v":1},{"$f":"_xlfn.XLOOKUP($B$3,Bezetting_1!$A$2:$A$90,Bezetting_1!M$2:M$90,,0)","v":0},{"$f":"_xlfn.XLOOKUP($B$3,Bezetting_1!$A$2:$A$90,Bezetting_1!N$2:N$90,,0)","v":0},null,{"$f":"_xlfn.XLOOKUP($B$3,Bezetting_1!$A$2:$A$90,Bezetting_1!P$2:P$90,,0)","v":"Fout: 2 fietsen"},null,{"$f":"D8","v":"2023-10-12"},{"$f":"E8","v":"09:00 - 16:00u"},{"$f":"IF(F8=0,NA(),F8/$L8)","v":0.88888888888888884},{"$f":"IF(G8=0,NA(),G8/$L8)","v":{"$error":"#N/A"}},{"$f":"IF(H8=0,NA(),H8/$L8)","v":{"$error":"#N/A"}},{"$error":"#N/A"},0.1111111111111111,{"$error":"#N/A"}]
[null,{"$f":"\"Nabij kruispunt: \"&VLOOKUP(B3,Coordinaten!$A$2:$L$95,4,0)","v":"Nabij kruispunt: A21 / Zandhovensesteenweg"},null,null,null,{"$f":"IF(F8=0,\"-\",F8/$L$8)","v":0.88888888888888884},{"$f":"IF(G8=0,\"-\",G8/$L$8)","v":"-"},"-","-",0.1111111111111111,"-",1,null,null,null,null,{"$f":"_xlfn.XLOOKUP($B$3,Bezetting_1!$A$2:$A$90,Bezetting_1!Q$2:Q$90,,0)","v":0},null,{"$f":"D10","v":"2023-10-10"},{"$f":"E10","v":"19:00 - 02:00u"},{"$f":"IF(F10=0,NA(),F10/$L10)","v":1},{"$f":"IF(G10=0,NA(),G10/$L10)","v":{"$error":"#N/A"}},{"$error":"#N/A"},{"$error":"#N/A"},{"$error":"#N/A"},{"$error":"#N/A"}]
[null,null,null,{"$f":"_xlfn.XLOOKUP($B$3,Bezetting_2!$A$2:$A$90,Bezetting_2!C$2:C$90,,0)","v":"2023-10-10"},{"$f":"_xlfn.XLOOKUP($B$3,Bezetting_2!$A$2:$A$90,Bezetting_2!D$2:D$90,,0)","v":"19:00 - 02:00u"},{"$f":"_xlfn.XLOOKUP($B$3,Bezetting_2!$A$2:$A$90,Bezetting_2!E$2:E$90,,0)","v":2},{"$f":"_xlfn.XLOOKUP($B$3,Bezetting_2!$A$2:$A$90,Bezetting_2!F$2:F$90,,0)","v":0},{"$f":"_xlfn.XLOOKUP($B$3,Bezetting_2!$A$2:$A$90,Bezetting_2!G$2:G$90,,0)","v":0},{"$f":"_xlfn.XLOOKUP($B$3,Bezetting_2!$A$2:$A$90,Bezetting_2!H$2:H$90,,0)","v":0},{"$f":"_xlfn.XLOOKUP($B$3,Bezetting_2!$A$2:$A$90,Bezetting_2!I$2:I$90,,0)","v":0},{"$f":"_xlfn.XLOOKUP($B$3,Bezetting_2!$A$2:$A$90,Bezetting_2!J$2:J$90,,0)","v":0},{"$f":"_xlfn.XLOOKUP($B$3,Bezetting_2!$A$2:$A$90,Bezetting_2!K$2:K$90,,0)","v":2},{"$f":"_xlfn.XLOOKUP($B$3,Bezetting_2!$A$2:$A$90,Bezetting_2!L$2:L$90,,0)","v":0},{"$f":"_xlfn.XLOOKUP($B$3,Bezetting_2!$A$2:$A$90,Bezetting_2!M$2:M$90,,0)","v":0},{"$f":"_xlfn.XLOOKUP($B$3,Bezetting_2!$A$2:$A$90,Bezetting_2!N$2:N$90,,0)","v":0},{"$f":"_xlfn.XLOOKUP($B$3,Bezetting_2!$A$2:$A$90,Bezetting_2!O$2:O$90,,0)","v":0},{"$f":"_xlfn.XLOOKUP($B$3,Bezetting_2!$A$2:$A$90,Bezetting_2!P$2:P$90,,0)","v":0}]
[null,"Meting",null,null,null,{"$f":"IF(F10=0,\"-\",F10/$L$10)","v":1},{"$f":"IF(G10=0,\"-\",G10/$L$10)","v":"-"},"-","-","-","-",1,null,null,null,null,{"$f":"_xlfn.XLOOKUP($B$3,Bezetting_2!$A$2:$A$90,Bezetting_2!Q$2:Q$90,,0)","v":0}]
[null,{"$f":"\"Meetperiode: \"&TEXT(VLOOKUP(B3,Coordinaten!$A:$G,7,0),\"dddd dd mmmm jjjj\")","v":"Meetperiode: di 10 & do 12 oktober 2023"}]
[null,"Methodiek: Parkeerdrukmeting met waarnemers"]
[null,"In opdracht van: Vlaamse overheid"]
[null,"Uitgevoerd door: Dufec"]
[null,null,null,"VERDELING NAAR CATEGORIE"]
[null,"Locatie"]
[null,{"$f":"IF(B4=\"\",\"\",HYPERLINK(\"http://www.googlemaps.com/?q=\"&B4,\"Lat/Long: \"&B4))","v":"Lat/Long: 51.212044, 4.623777"}]
[]
[null,null,null,null,null,null,null,null,null,null,null,null,null,null,null,"Legenda"]
[null,null,null,null,null,null,null,null,null,null,null,null,null,null,null,null,"Personenwagen"]
[null,null,null,null,null,null,null,null,null,null,null,null,null,null,null,null,"Vracht"]
[null,null,null,null,null,null,null,null,null,null,null,null,null,null,null,null,"Motor"]
[null,null,null,null,null,null,null,null,null,null,null,null,null,null,null,null,"Obstakel / overig"]
[null,null,null,null,null,null,null,null,null,null,null,null,null,null,null,null,"Fout personenwagen"]
[null,null,null,null,null,null,null,null,null,null,null,null,null,null,null,null,"Fout Vracht"]
[]
[]
[]
[]
[]
[]
[]
[]
[]
[]
[]
[]
[null,"Toelichting"]
[null,"Pers = personenwagens op daarvoor bestemde"]
[null,"          openbare plaatsen"]
[null,"Vracht = vrachtwagens op daarvoor bestemde"]
[null,"          parkeerplaatsen (middel- en zwaar vrachtverkeer)"]
[null,"Motor = geparkeerde motoren op openbare plaatsen"]
[null,"Obstakel / overig = obstakels of overige voertuigen"]
[null,"          geparkeerd op openbare plaatsen"]
[null,"Fout pers = personenwagens die fout geparkeerd staan"]
[null,"Fout vracht = vrachtwagens die fout geparkeerd staan"]
[null,"E-wagen = geparkeerde elektrisch voertuig bij een"]
[null,"          elektrisch oplaadpunt"]
[null,"Invalide = personenwagens en motoren op voor"]
[null,"          invalide personen bestemde parkeerplaats"]
[null,"Gestalde fietsen = alle gestalde fietsen op de"]
[null,"          daarvoor bestemde parkeerplaatsen"]

{"sheet":"49.Oelegem-Oost","index":45,"n_rows":54,"n_cols":26,"rows_kept":54,"cut":false,"hidden":false,"merged":[[4,3,5,12],[4,16,5,16],[15,3,16,12]]}
[]
[null,"PARKEERONDERZOEK",null,"CARPOOLPARKINGS EN P+R PARKINGS"]
[null,49,null,{"$f":"B8 & \" - \"& TEXT(VLOOKUP(B3,Coordinaten!$A$2:$G$95,7,0),\"dddd dd mmmm jjjj\")","v":"Carpool parking Oelegem-Oost, Ranst - di 10 & do 12 oktober 2023"}]
[null,{"$f":"VLOOKUP(B3,Coordinaten!$A$2:$G$95,6,0)","v":"51.211693, 4.625380"}]
[null,null,null,"BEZETTING  ",null,null,null,null,null,null,null,null,null,null,null,null,"OPMERKINGEN"]
[]
[null,"Onderzoeksgebied",null,"Datum","Geregistreerd tussen","Pers","Vracht","Motor","Obstakel / overig","Fout   pers","Fout Vracht","Totaal","E-wagen\nplaats","Invalidenplaats","Gestalde fietsen",null,null,null,null,null,{"$f":"F7","v":"Pers"},"Vracht","Motor","Obstakel / overig","Fout   pers","Fout Vracht"]
[null,{"$f":"VLOOKUP(B3,Coordinaten!$A$2:$G$95,3,0)&\", \"&VLOOKUP(B3,Coordinaten!$A$2:$G$95,5,0)","v":"Carpool parking Oelegem-Oost, Ranst"},null,{"$f":"_xlfn.XLOOKUP($B$3,Bezetting_1!$A$2:$A$90,Bezetting_1!C$2:C$90,,0)","v":"2023-10-12"},{"$f":"_xlfn.XLOOKUP($B$3,Bezetting_1!$A$2:$A$90,Bezetting_1!D$2:D$90,,0)","v":"09:00 - 16:00u"},{"$f":"_xlfn.XLOOKUP($B$3,Bezetting_1!$A$2:$A$90,Bezetting_1!E$2:E$90,,0)","v":20},{"$f":"_xlfn.XLOOKUP($B$3,Bezetting_1!$A$2:$A$90,Bezetting_1!F$2:F$90,,0)","v":0},{"$f":"_xlfn.XLOOKUP($B$3,Bezetting_1!$A$2:$A$90,Bezetting_1!G$2:G$90,,0)","v":0},{"$f":"_xlfn.XLOOKUP($B$3,Bezetting_1!$A$2:$A$90,Bezetting_1!H$2:H$90,,0)","v":0},{"$f":"_xlfn.XLOOKUP($B$3,Bezetting_1!$A$2:$A$90,Bezetting_1!I$2:I$90,,0)","v":0},{"$f":"_xlfn.XLOOKUP($B$3,Bezetting_1!$A$2:$A$90,Bezetting_1!J$2:J$90,,0)","v":0},{"$f":"_xlfn.XLOOKUP($B$3,Bezetting_1!$A$2:$A$90,Bezetting_1!K$2:K$90,,0)","v":20},{"$f":"_xlfn.XLOOKUP($B$3,Bezetting_1!$A$2:$A$90,Bezetting_1!L$2:L$90,,0)","v":0},{"$f":"_xlfn.XLOOKUP($B$3,Bezetting_1!$A$2:$A$90,Bezetting_1!M$2:M$90,,0)","v":0},{"$f":"_xlfn.XLOOKUP($B$3,Bezetting_1!$A$2:$A$90,Bezetting_1!N$2:N$90,,0)","v":0},null,{"$f":"_xlfn.XLOOKUP($B$3,Bezetting_1!$A$2:$A$90,Bezetting_1!P$2:P$90,,0)","v":0},null,{"$f":"D8","v":"2023-10-12"},{"$f":"E8","v":"09:00 - 16:00u"},{"$f":"IF(F8=0,NA(),F8/$L8)","v":1},{"$f":"IF(G8=0,NA(),G8/$L8)","v":{"$error":"#N/A"}},{"$f":"IF(H8=0,NA(),H8/$L8)","v":{"$error":"#N/A"}},{"$error":"#N/A"},{"$error":"#N/A"},{"$error":"#N/A"}]
[null,{"$f":"\"Nabij kruispunt: \"&VLOOKUP(B3,Coordinaten!$A$2:$L$95,4,0)","v":"Nabij kruispunt: A21 / Zandhovensesteenweg"},null,null,null,{"$f":"IF(F8=0,\"-\",F8/$L$8)","v":1},{"$f":"IF(G8=0,\"-\",G8/$L$8)","v":"-"},"-","-","-","-",1,null,null,null,null,{"$f":"_xlfn.XLOOKUP($B$3,Bezetting_1!$A$2:$A$90,Bezetting_1!Q$2:Q$90,,0)","v":0},null,{"$f":"D10","v":"2023-10-10"},{"$f":"E10","v":"19:00 - 02:00u"},{"$f":"IF(F10=0,NA(),F10/$L10)","v":1},{"$f":"IF(G10=0,NA(),G10/$L10)","v":{"$error":"#N/A"}},{"$error":"#N/A"},{"$error":"#N/A"},{"$error":"#N/A"},{"$error":"#N/A"}]
[null,null,null,{"$f":"_xlfn.XLOOKUP($B$3,Bezetting_2!$A$2:$A$90,Bezetting_2!C$2:C$90,,0)","v":"2023-10-10"},{"$f":"_xlfn.XLOOKUP($B$3,Bezetting_2!$A$2:$A$90,Bezetting_2!D$2:D$90,,0)","v":"19:00 - 02:00u"},{"$f":"_xlfn.XLOOKUP($B$3,Bezetting_2!$A$2:$A$90,Bezetting_2!E$2:E$90,,0)","v":5},{"$f":"_xlfn.XLOOKUP($B$3,Bezetting_2!$A$2:$A$90,Bezetting_2!F$2:F$90,,0)","v":0},{"$f":"_xlfn.XLOOKUP($B$3,Bezetting_2!$A$2:$A$90,Bezetting_2!G$2:G$90,,0)","v":0},{"$f":"_xlfn.XLOOKUP($B$3,Bezetting_2!$A$2:$A$90,Bezetting_2!H$2:H$90,,0)","v":0},{"$f":"_xlfn.XLOOKUP($B$3,Bezetting_2!$A$2:$A$90,Bezetting_2!I$2:I$90,,0)","v":0},{"$f":"_xlfn.XLOOKUP($B$3,Bezetting_2!$A$2:$A$90,Bezetting_2!J$2:J$90,,0)","v":0},{"$f":"_xlfn.XLOOKUP($B$3,Bezetting_2!$A$2:$A$90,Bezetting_2!K$2:K$90,,0)","v":5},{"$f":"_xlfn.XLOOKUP($B$3,Bezetting_2!$A$2:$A$90,Bezetting_2!L$2:L$90,,0)","v":0},{"$f":"_xlfn.XLOOKUP($B$3,Bezetting_2!$A$2:$A$90,Bezetting_2!M$2:M$90,,0)","v":0},{"$f":"_xlfn.XLOOKUP($B$3,Bezetting_2!$A$2:$A$90,Bezetting_2!N$2:N$90,,0)","v":0},{"$f":"_xlfn.XLOOKUP($B$3,Bezetting_2!$A$2:$A$90,Bezetting_2!O$2:O$90,,0)","v":0},{"$f":"_xlfn.XLOOKUP($B$3,Bezetting_2!$A$2:$A$90,Bezetting_2!P$2:P$90,,0)","v":0}]
[null,"Meting",null,null,null,{"$f":"IF(F10=0,\"-\",F10/$L$10)","v":1},{"$f":"IF(G10=0,\"-\",G10/$L$10)","v":"-"},"-","-","-","-",1,null,null,null,null,{"$f":"_xlfn.XLOOKUP($B$3,Bezetting_2!$A$2:$A$90,Bezetting_2!Q$2:Q$90,,0)","v":0}]
[null,{"$f":"\"Meetperiode: \"&TEXT(VLOOKUP(B3,Coordinaten!$A:$G,7,0),\"dddd dd mmmm jjjj\")","v":"Meetperiode: di 10 & do 12 oktober 2023"}]
[null,"Methodiek: Parkeerdrukmeting met waarnemers"]
[null,"In opdracht van: Vlaamse overheid"]
[null,"Uitgevoerd door: Dufec"]
[null,null,null,"VERDELING NAAR CATEGORIE"]
[null,"Locatie"]
[null,{"$f":"IF(B4=\"\",\"\",HYPERLINK(\"http://www.googlemaps.com/?q=\"&B4,\"Lat/Long: \"&B4))","v":"Lat/Long: 51.211693, 4.625380"}]
[]
[null,null,null,null,null,null,null,null,null,null,null,null,null,null,null,"Legenda"]
[null,null,null,null,null,null,null,null,null,null,null,null,null,null,null,null,"Personenwagen"]
[null,null,null,null,null,null,null,null,null,null,null,null,null,null,null,null,"Vracht"]
[null,null,null,null,null,null,null,null,null,null,null,null,null,null,null,null,"Motor"]
[null,null,null,null,null,null,null,null,null,null,null,null,null,null,null,null,"Obstakel / overig"]
[null,null,null,null,null,null,null,null,null,null,null,null,null,null,null,null,"Fout personenwagen"]
[null,null,null,null,null,null,null,null,null,null,null,null,null,null,null,null,"Fout Vracht"]
[]
[]
[]
[]
[]
[]
[]
[]
[]
[]
[]
[]
[null,"Toelichting"]
[null,"Pers = personenwagens op daarvoor bestemde"]
[null,"          openbare plaatsen"]
[null,"Vracht = vrachtwagens op daarvoor bestemde"]
[null,"          parkeerplaatsen (middel- en zwaar vrachtverkeer)"]
[null,"Motor = geparkeerde motoren op openbare plaatsen"]
[null,"Obstakel / overig = obstakels of overige voertuigen"]
[null,"          geparkeerd op openbare plaatsen"]
[null,"Fout pers = personenwagens die fout geparkeerd staan"]
[null,"Fout vracht = vrachtwagens die fout geparkeerd staan"]
[null,"E-wagen = geparkeerde elektrisch voertuig bij een"]
[null,"          elektrisch oplaadpunt"]
[null,"Invalide = personenwagens en motoren op voor"]
[null,"          invalide personen bestemde parkeerplaats"]
[null,"Gestalde fietsen = alle gestalde fietsen op de"]
[null,"          daarvoor bestemde parkeerplaatsen"]

{"sheet":"50.Sint Job in 't Goor","index":46,"n_rows":54,"n_cols":26,"rows_kept":54,"cut":false,"hidden":false,"merged":[[4,3,5,12],[4,16,5,16],[15,3,16,12]]}
[]
[null,"PARKEERONDERZOEK",null,"CARPOOLPARKINGS EN P+R PARKINGS"]
[null,50,null,{"$f":"B8 & \" - \"& TEXT(VLOOKUP(B3,Coordinaten!$A$2:$G$95,7,0),\"dddd dd mmmm jjjj\")","v":"P+R parking Sint Job in 't Goor, Brasschaat - di 10 & do 12 oktober 2023"}]
[null,{"$f":"VLOOKUP(B3,Coordinaten!$A$2:$G$95,6,0)","v":"51.309564, 4.555137"}]
[null,null,null,"BEZETTING  ",null,null,null,null,null,null,null,null,null,null,null,null,"OPMERKINGEN"]
[]
[null,"Onderzoeksgebied",null,"Datum","Geregistreerd tussen","Pers","Vracht","Motor","Obstakel / overig","Fout   pers","Fout Vracht","Totaal","E-wagen\nplaats","Invalidenplaats","Gestalde fietsen",null,null,null,null,null,{"$f":"F7","v":"Pers"},"Vracht","Motor","Obstakel / overig","Fout   pers","Fout Vracht"]
[null,{"$f":"VLOOKUP(B3,Coordinaten!$A$2:$G$95,3,0)&\", \"&VLOOKUP(B3,Coordinaten!$A$2:$G$95,5,0)","v":"P+R parking Sint Job in 't Goor, Brasschaat"},null,{"$f":"_xlfn.XLOOKUP($B$3,Bezetting_1!$A$2:$A$90,Bezetting_1!C$2:C$90,,0)","v":"2023-10-10"},{"$f":"_xlfn.XLOOKUP($B$3,Bezetting_1!$A$2:$A$90,Bezetting_1!D$2:D$90,,0)","v":"09:00 - 16:00u"},{"$f":"_xlfn.XLOOKUP($B$3,Bezetting_1!$A$2:$A$90,Bezetting_1!E$2:E$90,,0)","v":60},{"$f":"_xlfn.XLOOKUP($B$3,Bezetting_1!$A$2:$A$90,Bezetting_1!F$2:F$90,,0)","v":4},{"$f":"_xlfn.XLOOKUP($B$3,Bezetting_1!$A$2:$A$90,Bezetting_1!G$2:G$90,,0)","v":1},{"$f":"_xlfn.XLOOKUP($B$3,Bezetting_1!$A$2:$A$90,Bezetting_1!H$2:H$90,,0)","v":4},{"$f":"_xlfn.XLOOKUP($B$3,Bezetting_1!$A$2:$A$90,Bezetting_1!I$2:I$90,,0)","v":0},{"$f":"_xlfn.XLOOKUP($B$3,Bezetting_1!$A$2:$A$90,Bezetting_1!J$2:J$90,,0)","v":3},{"$f":"_xlfn.XLOOKUP($B$3,Bezetting_1!$A$2:$A$90,Bezetting_1!K$2:K$90,,0)","v":72},{"$f":"_xlfn.XLOOKUP($B$3,Bezetting_1!$A$2:$A$90,Bezetting_1!L$2:L$90,,0)","v":0},{"$f":"_xlfn.XLOOKUP($B$3,Bezetting_1!$A$2:$A$90,Bezetting_1!M$2:M$90,,0)","v":0},{"$f":"_xlfn.XLOOKUP($B$3,Bezetting_1!$A$2:$A$90,Bezetting_1!N$2:N$90,,0)","v":15},null,{"$f":"_xlfn.XLOOKUP($B$3,Bezetting_1!$A$2:$A$90,Bezetting_1!P$2:P$90,,0)","v":"Overig: 4x trailer"},null,{"$f":"D8","v":"2023-10-10"},{"$f":"E8","v":"09:00 - 16:00u"},{"$f":"IF(F8=0,NA(),F8/$L8)","v":0.83333333333333337},{"$f":"IF(G8=0,NA(),G8/$L8)","v":5.5555555555555552E-2},{"$f":"IF(H8=0,NA(),H8/$L8)","v":1.3888888888888888E-2},5.5555555555555552E-2,{"$error":"#N/A"},4.1666666666666664E-2]
[null,{"$f":"\"Nabij kruispunt: \"&VLOOKUP(B3,Coordinaten!$A$2:$L$95,4,0)","v":"Nabij kruispunt: N117 / A1"},null,null,null,{"$f":"IF(F8=0,\"-\",F8/$L$8)","v":0.83333333333333337},{"$f":"IF(G8=0,\"-\",G8/$L$8)","v":5.5555555555555552E-2},1.3888888888888888E-2,5.5555555555555552E-2,"-",4.1666666666666664E-2,1,null,null,null,null,{"$f":"_xlfn.XLOOKUP($B$3,Bezetting_1!$A$2:$A$90,Bezetting_1!Q$2:Q$90,,0)","v":"Fout: 2 fietsen"},null,{"$f":"D10","v":"2023-10-10"},{"$f":"E10","v":"19:00 - 02:00u"},{"$f":"IF(F10=0,NA(),F10/$L10)","v":0.72222222222222221},{"$f":"IF(G10=0,NA(),G10/$L10)","v":0.22222222222222221},{"$error":"#N/A"},1.8518518518518517E-2,{"$error":"#N/A"},3.7037037037037035E-2]
[null,null,null,{"$f":"_xlfn.XLOOKUP($B$3,Bezetting_2!$A$2:$A$90,Bezetting_2!C$2:C$90,,0)","v":"2023-10-10"},{"$f":"_xlfn.XLOOKUP($B$3,Bezetting_2!$A$2:$A$90,Bezetting_2!D$2:D$90,,0)","v":"19:00 - 02:00u"},{"$f":"_xlfn.XLOOKUP($B$3,Bezetting_2!$A$2:$A$90,Bezetting_2!E$2:E$90,,0)","v":39},{"$f":"_xlfn.XLOOKUP($B$3,Bezetting_2!$A$2:$A$90,Bezetting_2!F$2:F$90,,0)","v":12},{"$f":"_xlfn.XLOOKUP($B$3,Bezetting_2!$A$2:$A$90,Bezetting_2!G$2:G$90,,0)","v":0},{"$f":"_xlfn.XLOOKUP($B$3,Bezetting_2!$A$2:$A$90,Bezetting_2!H$2:H$90,,0)","v":1},{"$f":"_xlfn.XLOOKUP($B$3,Bezetting_2!$A$2:$A$90,Bezetting_2!I$2:I$90,,0)","v":0},{"$f":"_xlfn.XLOOKUP($B$3,Bezetting_2!$A$2:$A$90,Bezetting_2!J$2:J$90,,0)","v":2},{"$f":"_xlfn.XLOOKUP($B$3,Bezetting_2!$A$2:$A$90,Bezetting_2!K$2:K$90,,0)","v":54},{"$f":"_xlfn.XLOOKUP($B$3,Bezetting_2!$A$2:$A$90,Bezetting_2!L$2:L$90,,0)","v":0},{"$f":"_xlfn.XLOOKUP($B$3,Bezetting_2!$A$2:$A$90,Bezetting_2!M$2:M$90,,0)","v":0},{"$f":"_xlfn.XLOOKUP($B$3,Bezetting_2!$A$2:$A$90,Bezetting_2!N$2:N$90,,0)","v":0},{"$f":"_xlfn.XLOOKUP($B$3,Bezetting_2!$A$2:$A$90,Bezetting_2!O$2:O$90,,0)","v":0},{"$f":"_xlfn.XLOOKUP($B$3,Bezetting_2!$A$2:$A$90,Bezetting_2!P$2:P$90,,0)","v":"Overig: trailer"}]
[null,"Meting",null,null,null,{"$f":"IF(F10=0,\"-\",F10/$L$10)","v":0.72222222222222221},{"$f":"IF(G10=0,\"-\",G10/$L$10)","v":0.22222222222222221},"-",1.8518518518518517E-2,"-",3.7037037037037035E-2,1,null,null,null,null,{"$f":"_xlfn.XLOOKUP($B$3,Bezetting_2!$A$2:$A$90,Bezetting_2!Q$2:Q$90,,0)","v":0}]
[null,{"$f":"\"Meetperiode: \"&TEXT(VLOOKUP(B3,Coordinaten!$A:$G,7,0),\"dddd dd mmmm jjjj\")","v":"Meetperiode: di 10 & do 12 oktober 2023"}]
[null,"Methodiek: Parkeerdrukmeting met waarnemers"]
[null,"In opdracht van: Vlaamse overheid"]
[null,"Uitgevoerd door: Dufec"]
[null,null,null,"VERDELING NAAR CATEGORIE"]
[null,"Locatie"]
[null,{"$f":"IF(B4=\"\",\"\",HYPERLINK(\"http://www.googlemaps.com/?q=\"&B4,\"Lat/Long: \"&B4))","v":"Lat/Long: 51.309564, 4.555137"}]
[]
[null,null,null,null,null,null,null,null,null,null,null,null,null,null,null,"Legenda"]
[null,null,null,null,null,null,null,null,null,null,null,null,null,null,null,null,"Personenwagen"]
[null,null,null,null,null,null,null,null,null,null,null,null,null,null,null,null,"Vracht"]
[null,null,null,null,null,null,null,null,null,null,null,null,null,null,null,null,"Motor"]
[null,null,null,null,null,null,null,null,null,null,null,null,null,null,null,null,"Obstakel / overig"]
[null,null,null,null,null,null,null,null,null,null,null,null,null,null,null,null,"Fout personenwagen"]
[null,null,null,null,null,null,null,null,null,null,null,null,null,null,null,null,"Fout Vracht"]
[]
[]
[]
[]
[]
[]
[]
[]
[]
[]
[]
[]
[null,"Toelichting"]
[null,"Pers = personenwagens op daarvoor bestemde"]
[null,"          openbare plaatsen"]
[null,"Vracht = vrachtwagens op daarvoor bestemde"]
[null,"          parkeerplaatsen (middel- en zwaar vrachtverkeer)"]
[null,"Motor = geparkeerde motoren op openbare plaatsen"]
[null,"Obstakel / overig = obstakels of overige voertuigen"]
[null,"          geparkeerd op openbare plaatsen"]
[null,"Fout pers = personenwagens die fout geparkeerd staan"]
[null,"Fout vracht = vrachtwagens die fout geparkeerd staan"]
[null,"E-wagen = geparkeerde elektrisch voertuig bij een"]
[null,"          elektrisch oplaadpunt"]
[null,"Invalide = personenwagens en motoren op voor"]
[null,"          invalide personen bestemde parkeerplaats"]
[null,"Gestalde fietsen = alle gestalde fietsen op de"]
[null,"          daarvoor bestemde parkeerplaatsen"]

{"sheet":"51.Menen","index":47,"n_rows":54,"n_cols":26,"rows_kept":54,"cut":false,"hidden":false,"merged":[[4,3,5,12],[4,16,5,16],[15,3,16,12]]}
[]
[null,"PARKEERONDERZOEK",null,"CARPOOLPARKINGS EN P+R PARKINGS"]
[null,51,null,{"$f":"B8 & \" - \"& TEXT(VLOOKUP(B3,Coordinaten!$A$2:$G$95,7,0),\"dddd dd mmmm jjjj\")","v":"Carpool parking Menen, Menen - di 10 & do 12 oktober 2023"}]
[null,{"$f":"VLOOKUP(B3,Coordinaten!$A$2:$G$95,6,0)","v":"50.817106, 3.125718"}]
[null,null,null,"BEZETTING  ",null,null,null,null,null,null,null,null,null,null,null,null,"OPMERKINGEN"]
[]
[null,"Onderzoeksgebied",null,"Datum","Geregistreerd tussen","Pers","Vracht","Motor","Obstakel / overig","Fout   pers","Fout Vracht","Totaal","E-wagen\nplaats","Invalidenplaats","Gestalde fietsen",null,null,null,null,null,{"$f":"F7","v":"Pers"},"Vracht","Motor","Obstakel / overig","Fout   pers","Fout Vracht"]
[null,{"$f":"VLOOKUP(B3,Coordinaten!$A$2:$G$95,3,0)&\", \"&VLOOKUP(B3,Coordinaten!$A$2:$G$95,5,0)","v":"Carpool parking Menen, Menen"},null,{"$f":"_xlfn.XLOOKUP($B$3,Bezetting_1!$A$2:$A$90,Bezetting_1!C$2:C$90,,0)","v":"2023-10-12"},{"$f":"_xlfn.XLOOKUP($B$3,Bezetting_1!$A$2:$A$90,Bezetting_1!D$2:D$90,,0)","v":"09:00 - 16:00u"},{"$f":"_xlfn.XLOOKUP($B$3,Bezetting_1!$A$2:$A$90,Bezetting_1!E$2:E$90,,0)","v":38},{"$f":"_xlfn.XLOOKUP($B$3,Bezetting_1!$A$2:$A$90,Bezetting_1!F$2:F$90,,0)","v":0},{"$f":"_xlfn.XLOOKUP($B$3,Bezetting_1!$A$2:$A$90,Bezetting_1!G$2:G$90,,0)","v":0},{"$f":"_xlfn.XLOOKUP($B$3,Bezetting_1!$A$2:$A$90,Bezetting_1!H$2:H$90,,0)","v":0},{"$f":"_xlfn.XLOOKUP($B$3,Bezetting_1!$A$2:$A$90,Bezetting_1!I$2:I$90,,0)","v":0},{"$f":"_xlfn.XLOOKUP($B$3,Bezetting_1!$A$2:$A$90,Bezetting_1!J$2:J$90,,0)","v":0},{"$f":"_xlfn.XLOOKUP($B$3,Bezetting_1!$A$2:$A$90,Bezetting_1!K$2:K$90,,0)","v":38},{"$f":"_xlfn.XLOOKUP($B$3,Bezetting_1!$A$2:$A$90,Bezetting_1!L$2:L$90,,0)","v":0},{"$f":"_xlfn.XLOOKUP($B$3,Bezetting_1!$A$2:$A$90,Bezetting_1!M$2:M$90,,0)","v":0},{"$f":"_xlfn.XLOOKUP($B$3,Bezetting_1!$A$2:$A$90,Bezetting_1!N$2:N$90,,0)","v":6},null,{"$f":"_xlfn.XLOOKUP($B$3,Bezetting_1!$A$2:$A$90,Bezetting_1!P$2:P$90,,0)","v":0},null,{"$f":"D8","v":"2023-10-12"},{"$f":"E8","v":"09:00 - 16:00u"},{"$f":"IF(F8=0,NA(),F8/$L8)","v":1},{"$f":"IF(G8=0,NA(),G8/$L8)","v":{"$error":"#N/A"}},{"$f":"IF(H8=0,NA(),H8/$L8)","v":{"$error":"#N/A"}},{"$error":"#N/A"},{"$error":"#N/A"},{"$error":"#N/A"}]
[null,{"$f":"\"Nabij kruispunt: \"&VLOOKUP(B3,Coordinaten!$A$2:$L$95,4,0)","v":"Nabij kruispunt: A19 / N32"},null,null,null,{"$f":"IF(F8=0,\"-\",F8/$L$8)","v":1},{"$f":"IF(G8=0,\"-\",G8/$L$8)","v":"-"},"-","-","-","-",1,null,null,null,null,{"$f":"_xlfn.XLOOKUP($B$3,Bezetting_1!$A$2:$A$90,Bezetting_1!Q$2:Q$90,,0)","v":0},null,{"$f":"D10","v":"2023-10-12"},{"$f":"E10","v":"19:00 - 02:00u"},{"$f":"IF(F10=0,NA(),F10/$L10)","v":1},{"$f":"IF(G10=0,NA(),G10/$L10)","v":{"$error":"#N/A"}},{"$error":"#N/A"},{"$error":"#N/A"},{"$error":"#N/A"},{"$error":"#N/A"}]
[null,null,null,{"$f":"_xlfn.XLOOKUP($B$3,Bezetting_2!$A$2:$A$90,Bezetting_2!C$2:C$90,,0)","v":"2023-10-12"},{"$f":"_xlfn.XLOOKUP($B$3,Bezetting_2!$A$2:$A$90,Bezetting_2!D$2:D$90,,0)","v":"19:00 - 02:00u"},{"$f":"_xlfn.XLOOKUP($B$3,Bezetting_2!$A$2:$A$90,Bezetting_2!E$2:E$90,,0)","v":20},{"$f":"_xlfn.XLOOKUP($B$3,Bezetting_2!$A$2:$A$90,Bezetting_2!F$2:F$90,,0)","v":0},{"$f":"_xlfn.XLOOKUP($B$3,Bezetting_2!$A$2:$A$90,Bezetting_2!G$2:G$90,,0)","v":0},{"$f":"_xlfn.XLOOKUP($B$3,Bezetting_2!$A$2:$A$90,Bezetting_2!H$2:H$90,,0)","v":0},{"$f":"_xlfn.XLOOKUP($B$3,Bezetting_2!$A$2:$A$90,Bezetting_2!I$2:I$90,,0)","v":0},{"$f":"_xlfn.XLOOKUP($B$3,Bezetting_2!$A$2:$A$90,Bezetting_2!J$2:J$90,,0)","v":0},{"$f":"_xlfn.XLOOKUP($B$3,Bezetting_2!$A$2:$A$90,Bezetting_2!K$2:K$90,,0)","v":20},{"$f":"_xlfn.XLOOKUP($B$3,Bezetting_2!$A$2:$A$90,Bezetting_2!L$2:L$90,,0)","v":0},{"$f":"_xlfn.XLOOKUP($B$3,Bezetting_2!$A$2:$A$90,Bezetting_2!M$2:M$90,,0)","v":0},{"$f":"_xlfn.XLOOKUP($B$3,Bezetting_2!$A$2:$A$90,Bezetting_2!N$2:N$90,,0)","v":1},{"$f":"_xlfn.XLOOKUP($B$3,Bezetting_2!$A$2:$A$90,Bezetting_2!O$2:O$90,,0)","v":0},{"$f":"_xlfn.XLOOKUP($B$3,Bezetting_2!$A$2:$A$90,Bezetting_2!P$2:P$90,,0)","v":0}]
[null,"Meting",null,null,null,{"$f":"IF(F10=0,\"-\",F10/$L$10)","v":1},{"$f":"IF(G10=0,\"-\",G10/$L$10)","v":"-"},"-","-","-","-",1,null,null,null,null,{"$f":"_xlfn.XLOOKUP($B$3,Bezetting_2!$A$2:$A$90,Bezetting_2!Q$2:Q$90,,0)","v":0}]
[null,{"$f":"\"Meetperiode: \"&TEXT(VLOOKUP(B3,Coordinaten!$A:$G,7,0),\"dddd dd mmmm jjjj\")","v":"Meetperiode: di 10 & do 12 oktober 2023"}]
[null,"Methodiek: Parkeerdrukmeting met waarnemers"]
[null,"In opdracht van: Vlaamse overheid"]
[null,"Uitgevoerd door: Dufec"]
[null,null,null,"VERDELING NAAR CATEGORIE"]
[null,"Locatie"]
[null,{"$f":"IF(B4=\"\",\"\",HYPERLINK(\"http://www.googlemaps.com/?q=\"&B4,\"Lat/Long: \"&B4))","v":"Lat/Long: 50.817106, 3.125718"}]
[]
[null,null,null,null,null,null,null,null,null,null,null,null,null,null,null,"Legenda"]
[null,null,null,null,null,null,null,null,null,null,null,null,null,null,null,null,"Personenwagen"]
[null,null,null,null,null,null,null,null,null,null,null,null,null,null,null,null,"Vracht"]
[null,null,null,null,null,null,null,null,null,null,null,null,null,null,null,null,"Motor"]
[null,null,null,null,null,null,null,null,null,null,null,null,null,null,null,null,"Obstakel / overig"]
[null,null,null,null,null,null,null,null,null,null,null,null,null,null,null,null,"Fout personenwagen"]
[null,null,null,null,null,null,null,null,null,null,null,null,null,null,null,null,"Fout Vracht"]
[]
[]
[]
[]
[]
[]
[]
[]
[]
[]
[]
[]
[null,"Toelichting"]
[null,"Pers = personenwagens op daarvoor bestemde"]
[null,"          openbare plaatsen"]
[null,"Vracht = vrachtwagens op daarvoor bestemde"]
[null,"          parkeerplaatsen (middel- en zwaar vrachtverkeer)"]
[null,"Motor = geparkeerde motoren op openbare plaatsen"]
[null,"Obstakel / overig = obstakels of overige voertuigen"]
[null,"          geparkeerd op openbare plaatsen"]
[null,"Fout pers = personenwagens die fout geparkeerd staan"]
[null,"Fout vracht = vrachtwagens die fout geparkeerd staan"]
[null,"E-wagen = geparkeerde elektrisch voertuig bij een"]
[null,"          elektrisch oplaadpunt"]
[null,"Invalide = personenwagens en motoren op voor"]
[null,"          invalide personen bestemde parkeerplaats"]
[null,"Gestalde fietsen = alle gestalde fietsen op de"]
[null,"          daarvoor bestemde parkeerplaatsen"]

{"sheet":"52.Deerlijk","index":48,"n_rows":54,"n_cols":26,"rows_kept":54,"cut":false,"hidden":false,"merged":[[4,3,5,12],[4,16,5,16],[15,3,16,12]]}
[]
[null,"PARKEERONDERZOEK",null,"CARPOOLPARKINGS EN P+R PARKINGS"]
[null,52,null,{"$f":"B8 & \" - \"& TEXT(VLOOKUP(B3,Coordinaten!$A$2:$G$95,7,0),\"dddd dd mmmm jjjj\")","v":"Carpool parking Deerlijk, Deerlijk - di 10 & do 12 oktober 2023"}]
[null,{"$f":"VLOOKUP(B3,Coordinaten!$A$2:$G$95,6,0)","v":"50.850190, 3.368235"}]
[null,null,null,"BEZETTING  ",null,null,null,null,null,null,null,null,null,null,null,null,"OPMERKINGEN"]
[]
[null,"Onderzoeksgebied",null,"Datum","Geregistreerd tussen","Pers","Vracht","Motor","Obstakel / overig","Fout   pers","Fout Vracht","Totaal","E-wagen\nplaats","Invalidenplaats","Gestalde fietsen",null,null,null,null,null,{"$f":"F7","v":"Pers"},"Vracht","Motor","Obstakel / overig","Fout   pers","Fout Vracht"]
[null,{"$f":"VLOOKUP(B3,Coordinaten!$A$2:$G$95,3,0)&\", \"&VLOOKUP(B3,Coordinaten!$A$2:$G$95,5,0)","v":"Carpool parking Deerlijk, Deerlijk"},null,{"$f":"_xlfn.XLOOKUP($B$3,Bezetting_1!$A$2:$A$90,Bezetting_1!C$2:C$90,,0)","v":"2023-10-12"},{"$f":"_xlfn.XLOOKUP($B$3,Bezetting_1!$A$2:$A$90,Bezetting_1!D$2:D$90,,0)","v":"09:00 - 16:00u"},{"$f":"_xlfn.XLOOKUP($B$3,Bezetting_1!$A$2:$A$90,Bezetting_1!E$2:E$90,,0)","v":47},{"$f":"_xlfn.XLOOKUP($B$3,Bezetting_1!$A$2:$A$90,Bezetting_1!F$2:F$90,,0)","v":0},{"$f":"_xlfn.XLOOKUP($B$3,Bezetting_1!$A$2:$A$90,Bezetting_1!G$2:G$90,,0)","v":0},{"$f":"_xlfn.XLOOKUP($B$3,Bezetting_1!$A$2:$A$90,Bezetting_1!H$2:H$90,,0)","v":0},{"$f":"_xlfn.XLOOKUP($B$3,Bezetting_1!$A$2:$A$90,Bezetting_1!I$2:I$90,,0)","v":6},{"$f":"_xlfn.XLOOKUP($B$3,Bezetting_1!$A$2:$A$90,Bezetting_1!J$2:J$90,,0)","v":0},{"$f":"_xlfn.XLOOKUP($B$3,Bezetting_1!$A$2:$A$90,Bezetting_1!K$2:K$90,,0)","v":53},{"$f":"_xlfn.XLOOKUP($B$3,Bezetting_1!$A$2:$A$90,Bezetting_1!L$2:L$90,,0)","v":0},{"$f":"_xlfn.XLOOKUP($B$3,Bezetting_1!$A$2:$A$90,Bezetting_1!M$2:M$90,,0)","v":0},{"$f":"_xlfn.XLOOKUP($B$3,Bezetting_1!$A$2:$A$90,Bezetting_1!N$2:N$90,,0)","v":7},null,{"$f":"_xlfn.XLOOKUP($B$3,Bezetting_1!$A$2:$A$90,Bezetting_1!P$2:P$90,,0)","v":0},null,{"$f":"D8","v":"2023-10-12"},{"$f":"E8","v":"09:00 - 16:00u"},{"$f":"IF(F8=0,NA(),F8/$L8)","v":0.8867924528301887},{"$f":"IF(G8=0,NA(),G8/$L8)","v":{"$error":"#N/A"}},{"$f":"IF(H8=0,NA(),H8/$L8)","v":{"$error":"#N/A"}},{"$error":"#N/A"},0.11320754716981132,{"$error":"#N/A"}]
[null,{"$f":"\"Nabij kruispunt: \"&VLOOKUP(B3,Coordinaten!$A$2:$L$95,4,0)","v":"Nabij kruispunt: N36 / Vichtesteenweg"},null,null,null,{"$f":"IF(F8=0,\"-\",F8/$L$8)","v":0.8867924528301887},{"$f":"IF(G8=0,\"-\",G8/$L$8)","v":"-"},"-","-",0.11320754716981132,"-",1,null,null,null,null,{"$f":"_xlfn.XLOOKUP($B$3,Bezetting_1!$A$2:$A$90,Bezetting_1!Q$2:Q$90,,0)","v":0},null,{"$f":"D10","v":"2023-10-12"},{"$f":"E10","v":"19:00 - 02:00u"},{"$f":"IF(F10=0,NA(),F10/$L10)","v":1},{"$f":"IF(G10=0,NA(),G10/$L10)","v":{"$error":"#N/A"}},{"$error":"#N/A"},{"$error":"#N/A"},{"$error":"#N/A"},{"$error":"#N/A"}]
[null,null,null,{"$f":"_xlfn.XLOOKUP($B$3,Bezetting_2!$A$2:$A$90,Bezetting_2!C$2:C$90,,0)","v":"2023-10-12"},{"$f":"_xlfn.XLOOKUP($B$3,Bezetting_2!$A$2:$A$90,Bezetting_2!D$2:D$90,,0)","v":"19:00 - 02:00u"},{"$f":"_xlfn.XLOOKUP($B$3,Bezetting_2!$A$2:$A$90,Bezetting_2!E$2:E$90,,0)","v":25},{"$f":"_xlfn.XLOOKUP($B$3,Bezetting_2!$A$2:$A$90,Bezetting_2!F$2:F$90,,0)","v":0},{"$f":"_xlfn.XLOOKUP($B$3,Bezetting_2!$A$2:$A$90,Bezetting_2!G$2:G$90,,0)","v":0},{"$f":"_xlfn.XLOOKUP($B$3,Bezetting_2!$A$2:$A$90,Bezetting_2!H$2:H$90,,0)","v":0},{"$f":"_xlfn.XLOOKUP($B$3,Bezetting_2!$A$2:$A$90,Bezetting_2!I$2:I$90,,0)","v":0},{"$f":"_xlfn.XLOOKUP($B$3,Bezetting_2!$A$2:$A$90,Bezetting_2!J$2:J$90,,0)","v":0},{"$f":"_xlfn.XLOOKUP($B$3,Bezetting_2!$A$2:$A$90,Bezetting_2!K$2:K$90,,0)","v":25},{"$f":"_xlfn.XLOOKUP($B$3,Bezetting_2!$A$2:$A$90,Bezetting_2!L$2:L$90,,0)","v":0},{"$f":"_xlfn.XLOOKUP($B$3,Bezetting_2!$A$2:$A$90,Bezetting_2!M$2:M$90,,0)","v":0},{"$f":"_xlfn.XLOOKUP($B$3,Bezetting_2!$A$2:$A$90,Bezetting_2!N$2:N$90,,0)","v":0},{"$f":"_xlfn.XLOOKUP($B$3,Bezetting_2!$A$2:$A$90,Bezetting_2!O$2:O$90,,0)","v":0},{"$f":"_xlfn.XLOOKUP($B$3,Bezetting_2!$A$2:$A$90,Bezetting_2!P$2:P$90,,0)","v":0}]
[null,"Meting",null,null,null,{"$f":"IF(F10=0,\"-\",F10/$L$10)","v":1},{"$f":"IF(G10=0,\"-\",G10/$L$10)","v":"-"},"-","-","-","-",1,null,null,null,null,{"$f":"_xlfn.XLOOKUP($B$3,Bezetting_2!$A$2:$A$90,Bezetting_2!Q$2:Q$90,,0)","v":0}]
[null,{"$f":"\"Meetperiode: \"&TEXT(VLOOKUP(B3,Coordinaten!$A:$G,7,0),\"dddd dd mmmm jjjj\")","v":"Meetperiode: di 10 & do 12 oktober 2023"}]
[null,"Methodiek: Parkeerdrukmeting met waarnemers"]
[null,"In opdracht van: Vlaamse overheid"]
[null,"Uitgevoerd door: Dufec"]
[null,null,null,"VERDELING NAAR CATEGORIE"]
[null,"Locatie"]
[null,{"$f":"IF(B4=\"\",\"\",HYPERLINK(\"http://www.googlemaps.com/?q=\"&B4,\"Lat/Long: \"&B4))","v":"Lat/Long: 50.850190, 3.368235"}]
[]
[null,null,null,null,null,null,null,null,null,null,null,null,null,null,null,"Legenda"]
[null,null,null,null,null,null,null,null,null,null,null,null,null,null,null,null,"Personenwagen"]
[null,null,null,null,null,null,null,null,null,null,null,null,null,null,null,null,"Vracht"]
[null,null,null,null,null,null,null,null,null,null,null,null,null,null,null,null,"Motor"]
[null,null,null,null,null,null,null,null,null,null,null,null,null,null,null,null,"Obstakel / overig"]
[null,null,null,null,null,null,null,null,null,null,null,null,null,null,null,null,"Fout personenwagen"]
[null,null,null,null,null,null,null,null,null,null,null,null,null,null,null,null,"Fout Vracht"]
[]
[]
[]
[]
[]
[]
[]
[]
[]
[]
[]
[]
[null,"Toelichting"]
[null,"Pers = personenwagens op daarvoor bestemde"]
[null,"          openbare plaatsen"]
[null,"Vracht = vrachtwagens op daarvoor bestemde"]
[null,"          parkeerplaatsen (middel- en zwaar vrachtverkeer)"]
[null,"Motor = geparkeerde motoren op openbare plaatsen"]
[null,"Obstakel / overig = obstakels of overige voertuigen"]
[null,"          geparkeerd op openbare plaatsen"]
[null,"Fout pers = personenwagens die fout geparkeerd staan"]
[null,"Fout vracht = vrachtwagens die fout geparkeerd staan"]
[null,"E-wagen = geparkeerde elektrisch voertuig bij een"]
[null,"          elektrisch oplaadpunt"]
[null,"Invalide = personenwagens en motoren op voor"]
[null,"          invalide personen bestemde parkeerplaats"]
[null,"Gestalde fietsen = alle gestalde fietsen op de"]
[null,"          daarvoor bestemde parkeerplaatsen"]

{"sheet":"54.E17 Deinze","index":49,"n_rows":54,"n_cols":26,"rows_kept":54,"cut":false,"hidden":false,"merged":[[4,3,5,12],[4,16,5,16],[15,3,16,12]]}
[]
[null,"PARKEERONDERZOEK",null,"CARPOOLPARKINGS EN P+R PARKINGS"]
[null,54,null,{"$f":"B8 & \" - \"& TEXT(VLOOKUP(B3,Coordinaten!$A$2:$G$95,7,0),\"dddd dd mmmm jjjj\")","v":"Carpool parking E17 Deinze, Nazareth - di 10 & do 12 oktober 2023"}]
[null,{"$f":"VLOOKUP(B3,Coordinaten!$A$2:$G$95,6,0)","v":"50.952738, 3.569722"}]
[null,null,null,"BEZETTING  ",null,null,null,null,null,null,null,null,null,null,null,null,"OPMERKINGEN"]
[]
[null,"Onderzoeksgebied",null,"Datum","Geregistreerd tussen","Pers","Vracht","Motor","Obstakel / overig","Fout   pers","Fout Vracht","Totaal","E-wagen\nplaats","Invalidenplaats","Gestalde fietsen",null,null,null,null,null,{"$f":"F7","v":"Pers"},"Vracht","Motor","Obstakel / overig","Fout   pers","Fout Vracht"]
[null,{"$f":"VLOOKUP(B3,Coordinaten!$A$2:$G$95,3,0)&\", \"&VLOOKUP(B3,Coordinaten!$A$2:$G$95,5,0)","v":"Carpool parking E17 Deinze, Nazareth"},null,{"$f":"_xlfn.XLOOKUP($B$3,Bezetting_1!$A$2:$A$90,Bezetting_1!C$2:C$90,,0)","v":"2023-10-12"},{"$f":"_xlfn.XLOOKUP($B$3,Bezetting_1!$A$2:$A$90,Bezetting_1!D$2:D$90,,0)","v":"09:00 - 16:00u"},{"$f":"_xlfn.XLOOKUP($B$3,Bezetting_1!$A$2:$A$90,Bezetting_1!E$2:E$90,,0)","v":33},{"$f":"_xlfn.XLOOKUP($B$3,Bezetting_1!$A$2:$A$90,Bezetting_1!F$2:F$90,,0)","v":0},{"$f":"_xlfn.XLOOKUP($B$3,Bezetting_1!$A$2:$A$90,Bezetting_1!G$2:G$90,,0)","v":0},{"$f":"_xlfn.XLOOKUP($B$3,Bezetting_1!$A$2:$A$90,Bezetting_1!H$2:H$90,,0)","v":0},{"$f":"_xlfn.XLOOKUP($B$3,Bezetting_1!$A$2:$A$90,Bezetting_1!I$2:I$90,,0)","v":0},{"$f":"_xlfn.XLOOKUP($B$3,Bezetting_1!$A$2:$A$90,Bezetting_1!J$2:J$90,,0)","v":0},{"$f":"_xlfn.XLOOKUP($B$3,Bezetting_1!$A$2:$A$90,Bezetting_1!K$2:K$90,,0)","v":33},{"$f":"_xlfn.XLOOKUP($B$3,Bezetting_1!$A$2:$A$90,Bezetting_1!L$2:L$90,,0)","v":0},{"$f":"_xlfn.XLOOKUP($B$3,Bezetting_1!$A$2:$A$90,Bezetting_1!M$2:M$90,,0)","v":0},{"$f":"_xlfn.XLOOKUP($B$3,Bezetting_1!$A$2:$A$90,Bezetting_1!N$2:N$90,,0)","v":0},null,{"$f":"_xlfn.XLOOKUP($B$3,Bezetting_1!$A$2:$A$90,Bezetting_1!P$2:P$90,,0)","v":0},null,{"$f":"D8","v":"2023-10-12"},{"$f":"E8","v":"09:00 - 16:00u"},{"$f":"IF(F8=0,NA(),F8/$L8)","v":1},{"$f":"IF(G8=0,NA(),G8/$L8)","v":{"$error":"#N/A"}},{"$f":"IF(H8=0,NA(),H8/$L8)","v":{"$error":"#N/A"}},{"$error":"#N/A"},{"$error":"#N/A"},{"$error":"#N/A"}]
[null,{"$f":"\"Nabij kruispunt: \"&VLOOKUP(B3,Coordinaten!$A$2:$L$95,4,0)","v":"Nabij kruispunt: N35 / N17"},null,null,null,{"$f":"IF(F8=0,\"-\",F8/$L$8)","v":1},{"$f":"IF(G8=0,\"-\",G8/$L$8)","v":"-"},"-","-","-","-",1,null,null,null,null,{"$f":"_xlfn.XLOOKUP($B$3,Bezetting_1!$A$2:$A$90,Bezetting_1!Q$2:Q$90,,0)","v":0},null,{"$f":"D10","v":"2023-10-12"},{"$f":"E10","v":"19:00 - 02:00u"},{"$f":"IF(F10=0,NA(),F10/$L10)","v":1},{"$f":"IF(G10=0,NA(),G10/$L10)","v":{"$error":"#N/A"}},{"$error":"#N/A"},{"$error":"#N/A"},{"$error":"#N/A"},{"$error":"#N/A"}]
[null,null,null,{"$f":"_xlfn.XLOOKUP($B$3,Bezetting_2!$A$2:$A$90,Bezetting_2!C$2:C$90,,0)","v":"2023-10-12"},{"$f":"_xlfn.XLOOKUP($B$3,Bezetting_2!$A$2:$A$90,Bezetting_2!D$2:D$90,,0)","v":"19:00 - 02:00u"},{"$f":"_xlfn.XLOOKUP($B$3,Bezetting_2!$A$2:$A$90,Bezetting_2!E$2:E$90,,0)","v":30},{"$f":"_xlfn.XLOOKUP($B$3,Bezetting_2!$A$2:$A$90,Bezetting_2!F$2:F$90,,0)","v":0},{"$f":"_xlfn.XLOOKUP($B$3,Bezetting_2!$A$2:$A$90,Bezetting_2!G$2:G$90,,0)","v":0},{"$f":"_xlfn.XLOOKUP($B$3,Bezetting_2!$A$2:$A$90,Bezetting_2!H$2:H$90,,0)","v":0},{"$f":"_xlfn.XLOOKUP($B$3,Bezetting_2!$A$2:$A$90,Bezetting_2!I$2:I$90,,0)","v":0},{"$f":"_xlfn.XLOOKUP($B$3,Bezetting_2!$A$2:$A$90,Bezetting_2!J$2:J$90,,0)","v":0},{"$f":"_xlfn.XLOOKUP($B$3,Bezetting_2!$A$2:$A$90,Bezetting_2!K$2:K$90,,0)","v":30},{"$f":"_xlfn.XLOOKUP($B$3,Bezetting_2!$A$2:$A$90,Bezetting_2!L$2:L$90,,0)","v":0},{"$f":"_xlfn.XLOOKUP($B$3,Bezetting_2!$A$2:$A$90,Bezetting_2!M$2:M$90,,0)","v":0},{"$f":"_xlfn.XLOOKUP($B$3,Bezetting_2!$A$2:$A$90,Bezetting_2!N$2:N$90,,0)","v":3},{"$f":"_xlfn.XLOOKUP($B$3,Bezetting_2!$A$2:$A$90,Bezetting_2!O$2:O$90,,0)","v":0},{"$f":"_xlfn.XLOOKUP($B$3,Bezetting_2!$A$2:$A$90,Bezetting_2!P$2:P$90,,0)","v":0}]
[null,"Meting",null,null,null,{"$f":"IF(F10=0,\"-\",F10/$L$10)","v":1},{"$f":"IF(G10=0,\"-\",G10/$L$10)","v":"-"},"-","-","-","-",1,null,null,null,null,{"$f":"_xlfn.XLOOKUP($B$3,Bezetting_2!$A$2:$A$90,Bezetting_2!Q$2:Q$90,,0)","v":0}]
[null,{"$f":"\"Meetperiode: \"&TEXT(VLOOKUP(B3,Coordinaten!$A:$G,7,0),\"dddd dd mmmm jjjj\")","v":"Meetperiode: di 10 & do 12 oktober 2023"}]
[null,"Methodiek: Parkeerdrukmeting met waarnemers"]
[null,"In opdracht van: Vlaamse overheid"]
[null,"Uitgevoerd door: Dufec"]
[null,null,null,"VERDELING NAAR CATEGORIE"]
[null,"Locatie"]
[null,{"$f":"IF(B4=\"\",\"\",HYPERLINK(\"http://www.googlemaps.com/?q=\"&B4,\"Lat/Long: \"&B4))","v":"Lat/Long: 50.952738, 3.569722"}]
[]
[null,null,null,null,null,null,null,null,null,null,null,null,null,null,null,"Legenda"]
[null,null,null,null,null,null,null,null,null,null,null,null,null,null,null,null,"Personenwagen"]
[null,null,null,null,null,null,null,null,null,null,null,null,null,null,null,null,"Vracht"]
[null,null,null,null,null,null,null,null,null,null,null,null,null,null,null,null,"Motor"]
[null,null,null,null,null,null,null,null,null,null,null,null,null,null,null,null,"Obstakel / overig"]
[null,null,null,null,null,null,null,null,null,null,null,null,null,null,null,null,"Fout personenwagen"]
[null,null,null,null,null,null,null,null,null,null,null,null,null,null,null,null,"Fout Vracht"]
[]
[]
[]
[]
[]
[]
[]
[]
[]
[]
[]
[]
[null,"Toelichting"]
[null,"Pers = personenwagens op daarvoor bestemde"]
[null,"          openbare plaatsen"]
[null,"Vracht = vrachtwagens op daarvoor bestemde"]
[null,"          parkeerplaatsen (middel- en zwaar vrachtverkeer)"]
[null,"Motor = geparkeerde motoren op openbare plaatsen"]
[null,"Obstakel / overig = obstakels of overige voertuigen"]
[null,"          geparkeerd op openbare plaatsen"]
[null,"Fout pers = personenwagens die fout geparkeerd staan"]
[null,"Fout vracht = vrachtwagens die fout geparkeerd staan"]
[null,"E-wagen = geparkeerde elektrisch voertuig bij een"]
[null,"          elektrisch oplaadpunt"]
[null,"Invalide = personenwagens en motoren op voor"]
[null,"          invalide personen bestemde parkeerplaats"]
[null,"Gestalde fietsen = alle gestalde fietsen op de"]
[null,"          daarvoor bestemde parkeerplaatsen"]

{"sheet":"55.Erpe-Mere","index":50,"n_rows":54,"n_cols":26,"rows_kept":54,"cut":false,"hidden":false,"merged":[[4,3,5,12],[4,16,5,16],[15,3,16,12]]}
[]
[null,"PARKEERONDERZOEK",null,"CARPOOLPARKINGS EN P+R PARKINGS"]
[null,55,null,{"$f":"B8 & \" - \"& TEXT(VLOOKUP(B3,Coordinaten!$A$2:$G$95,7,0),\"dddd dd mmmm jjjj\")","v":"Carpool parking Erpe-Mere, Erpe-Mere - di 10 & do 12 oktober 2023"}]
[null,{"$f":"VLOOKUP(B3,Coordinaten!$A$2:$G$95,6,0)","v":"50.927985, 3.958209"}]
[null,null,null,"BEZETTING  ",null,null,null,null,null,null,null,null,null,null,null,null,"OPMERKINGEN"]
[]
[null,"Onderzoeksgebied",null,"Datum","Geregistreerd tussen","Pers","Vracht","Motor","Obstakel / overig","Fout   pers","Fout Vracht","Totaal","E-wagen\nplaats","Invalidenplaats","Gestalde fietsen",null,null,null,null,null,{"$f":"F7","v":"Pers"},"Vracht","Motor","Obstakel / overig","Fout   pers","Fout Vracht"]
[null,{"$f":"VLOOKUP(B3,Coordinaten!$A$2:$G$95,3,0)&\", \"&VLOOKUP(B3,Coordinaten!$A$2:$G$95,5,0)","v":"Carpool parking Erpe-Mere, Erpe-Mere"},null,{"$f":"_xlfn.XLOOKUP($B$3,Bezetting_1!$A$2:$A$90,Bezetting_1!C$2:C$90,,0)","v":"2023-10-12"},{"$f":"_xlfn.XLOOKUP($B$3,Bezetting_1!$A$2:$A$90,Bezetting_1!D$2:D$90,,0)","v":"09:00 - 16:00u"},{"$f":"_xlfn.XLOOKUP($B$3,Bezetting_1!$A$2:$A$90,Bezetting_1!E$2:E$90,,0)","v":94},{"$f":"_xlfn.XLOOKUP($B$3,Bezetting_1!$A$2:$A$90,Bezetting_1!F$2:F$90,,0)","v":0},{"$f":"_xlfn.XLOOKUP($B$3,Bezetting_1!$A$2:$A$90,Bezetting_1!G$2:G$90,,0)","v":0},{"$f":"_xlfn.XLOOKUP($B$3,Bezetting_1!$A$2:$A$90,Bezetting_1!H$2:H$90,,0)","v":0},{"$f":"_xlfn.XLOOKUP($B$3,Bezetting_1!$A$2:$A$90,Bezetting_1!I$2:I$90,,0)","v":0},{"$f":"_xlfn.XLOOKUP($B$3,Bezetting_1!$A$2:$A$90,Bezetting_1!J$2:J$90,,0)","v":0},{"$f":"_xlfn.XLOOKUP($B$3,Bezetting_1!$A$2:$A$90,Bezetting_1!K$2:K$90,,0)","v":94},{"$f":"_xlfn.XLOOKUP($B$3,Bezetting_1!$A$2:$A$90,Bezetting_1!L$2:L$90,,0)","v":4},{"$f":"_xlfn.XLOOKUP($B$3,Bezetting_1!$A$2:$A$90,Bezetting_1!M$2:M$90,,0)","v":0},{"$f":"_xlfn.XLOOKUP($B$3,Bezetting_1!$A$2:$A$90,Bezetting_1!N$2:N$90,,0)","v":1},null,{"$f":"_xlfn.XLOOKUP($B$3,Bezetting_1!$A$2:$A$90,Bezetting_1!P$2:P$90,,0)","v":0},null,{"$f":"D8","v":"2023-10-12"},{"$f":"E8","v":"09:00 - 16:00u"},{"$f":"IF(F8=0,NA(),F8/$L8)","v":1},{"$f":"IF(G8=0,NA(),G8/$L8)","v":{"$error":"#N/A"}},{"$f":"IF(H8=0,NA(),H8/$L8)","v":{"$error":"#N/A"}},{"$error":"#N/A"},{"$error":"#N/A"},{"$error":"#N/A"}]
[null,{"$f":"\"Nabij kruispunt: \"&VLOOKUP(B3,Coordinaten!$A$2:$L$95,4,0)","v":"Nabij kruispunt: N46 / A10"},null,null,null,{"$f":"IF(F8=0,\"-\",F8/$L$8)","v":1},{"$f":"IF(G8=0,\"-\",G8/$L$8)","v":"-"},"-","-","-","-",1,null,null,null,null,{"$f":"_xlfn.XLOOKUP($B$3,Bezetting_1!$A$2:$A$90,Bezetting_1!Q$2:Q$90,,0)","v":0},null,{"$f":"D10","v":"2023-10-12"},{"$f":"E10","v":"19:00 - 02:00u"},{"$f":"IF(F10=0,NA(),F10/$L10)","v":1},{"$f":"IF(G10=0,NA(),G10/$L10)","v":{"$error":"#N/A"}},{"$error":"#N/A"},{"$error":"#N/A"},{"$error":"#N/A"},{"$error":"#N/A"}]
[null,null,null,{"$f":"_xlfn.XLOOKUP($B$3,Bezetting_2!$A$2:$A$90,Bezetting_2!C$2:C$90,,0)","v":"2023-10-12"},{"$f":"_xlfn.XLOOKUP($B$3,Bezetting_2!$A$2:$A$90,Bezetting_2!D$2:D$90,,0)","v":"19:00 - 02:00u"},{"$f":"_xlfn.XLOOKUP($B$3,Bezetting_2!$A$2:$A$90,Bezetting_2!E$2:E$90,,0)","v":36},{"$f":"_xlfn.XLOOKUP($B$3,Bezetting_2!$A$2:$A$90,Bezetting_2!F$2:F$90,,0)","v":0},{"$f":"_xlfn.XLOOKUP($B$3,Bezetting_2!$A$2:$A$90,Bezetting_2!G$2:G$90,,0)","v":0},{"$f":"_xlfn.XLOOKUP($B$3,Bezetting_2!$A$2:$A$90,Bezetting_2!H$2:H$90,,0)","v":0},{"$f":"_xlfn.XLOOKUP($B$3,Bezetting_2!$A$2:$A$90,Bezetting_2!I$2:I$90,,0)","v":0},{"$f":"_xlfn.XLOOKUP($B$3,Bezetting_2!$A$2:$A$90,Bezetting_2!J$2:J$90,,0)","v":0},{"$f":"_xlfn.XLOOKUP($B$3,Bezetting_2!$A$2:$A$90,Bezetting_2!K$2:K$90,,0)","v":36},{"$f":"_xlfn.XLOOKUP($B$3,Bezetting_2!$A$2:$A$90,Bezetting_2!L$2:L$90,,0)","v":0},{"$f":"_xlfn.XLOOKUP($B$3,Bezetting_2!$A$2:$A$90,Bezetting_2!M$2:M$90,,0)","v":0},{"$f":"_xlfn.XLOOKUP($B$3,Bezetting_2!$A$2:$A$90,Bezetting_2!N$2:N$90,,0)","v":0},{"$f":"_xlfn.XLOOKUP($B$3,Bezetting_2!$A$2:$A$90,Bezetting_2!O$2:O$90,,0)","v":0},{"$f":"_xlfn.XLOOKUP($B$3,Bezetting_2!$A$2:$A$90,Bezetting_2!P$2:P$90,,0)","v":0}]
[null,"Meting",null,null,null,{"$f":"IF(F10=0,\"-\",F10/$L$10)","v":1},{"$f":"IF(G10=0,\"-\",G10/$L$10)","v":"-"},"-","-","-","-",1,null,null,null,null,{"$f":"_xlfn.XLOOKUP($B$3,Bezetting_2!$A$2:$A$90,Bezetting_2!Q$2:Q$90,,0)","v":0}]
[null,{"$f":"\"Meetperiode: \"&TEXT(VLOOKUP(B3,Coordinaten!$A:$G,7,0),\"dddd dd mmmm jjjj\")","v":"Meetperiode: di 10 & do 12 oktober 2023"}]
[null,"Methodiek: Parkeerdrukmeting met waarnemers"]
[null,"In opdracht van: Vlaamse overheid"]
[null,"Uitgevoerd door: Dufec"]
[null,null,null,"VERDELING NAAR CATEGORIE"]
[null,"Locatie"]
[null,{"$f":"IF(B4=\"\",\"\",HYPERLINK(\"http://www.googlemaps.com/?q=\"&B4,\"Lat/Long: \"&B4))","v":"Lat/Long: 50.927985, 3.958209"}]
[]
[null,null,null,null,null,null,null,null,null,null,null,null,null,null,null,"Legenda"]
[null,null,null,null,null,null,null,null,null,null,null,null,null,null,null,null,"Personenwagen"]
[null,null,null,null,null,null,null,null,null,null,null,null,null,null,null,null,"Vracht"]
[null,null,null,null,null,null,null,null,null,null,null,null,null,null,null,null,"Motor"]
[null,null,null,null,null,null,null,null,null,null,null,null,null,null,null,null,"Obstakel / overig"]
[null,null,null,null,null,null,null,null,null,null,null,null,null,null,null,null,"Fout personenwagen"]
[null,null,null,null,null,null,null,null,null,null,null,null,null,null,null,null,"Fout Vracht"]
[]
[]
[]
[]
[]
[]
[]
[]
[]
[]
[]
[]
[null,"Toelichting"]
[null,"Pers = personenwagens op daarvoor bestemde"]
[null,"          openbare plaatsen"]
[null,"Vracht = vrachtwagens op daarvoor bestemde"]
[null,"          parkeerplaatsen (middel- en zwaar vrachtverkeer)"]
[null,"Motor = geparkeerde motoren op openbare plaatsen"]
[null,"Obstakel / overig = obstakels of overige voertuigen"]
[null,"          geparkeerd op openbare plaatsen"]
[null,"Fout pers = personenwagens die fout geparkeerd staan"]
[null,"Fout vracht = vrachtwagens die fout geparkeerd staan"]
[null,"E-wagen = geparkeerde elektrisch voertuig bij een"]
[null,"          elektrisch oplaadpunt"]
[null,"Invalide = personenwagens en motoren op voor"]
[null,"          invalide personen bestemde parkeerplaats"]
[null,"Gestalde fietsen = alle gestalde fietsen op de"]
[null,"          daarvoor bestemde parkeerplaatsen"]

{"sheet":"56.Geel-West","index":51,"n_rows":54,"n_cols":26,"rows_kept":54,"cut":false,"hidden":false,"merged":[[4,3,5,12],[4,16,5,16],[15,3,16,12]]}
[]
[null,"PARKEERONDERZOEK",null,"CARPOOLPARKINGS EN P+R PARKINGS"]
[null,56,null,{"$f":"B8 & \" - \"& TEXT(VLOOKUP(B3,Coordinaten!$A$2:$G$95,7,0),\"dddd dd mmmm jjjj\")","v":"Carpool parking Geel-West, Westerlo - di 10 & do 12 oktober 2023"}]
[null,{"$f":"VLOOKUP(B3,Coordinaten!$A$2:$G$95,6,0)","v":"51.133020, 4.940494"}]
[null,null,null,"BEZETTING  ",null,null,null,null,null,null,null,null,null,null,null,null,"OPMERKINGEN"]
[]
[null,"Onderzoeksgebied",null,"Datum","Geregistreerd tussen","Pers","Vracht","Motor","Obstakel / overig","Fout   pers","Fout Vracht","Totaal","E-wagen\nplaats","Invalidenplaats","Gestalde fietsen",null,null,null,null,null,{"$f":"F7","v":"Pers"},"Vracht","Motor","Obstakel / overig","Fout   pers","Fout Vracht"]
[null,{"$f":"VLOOKUP(B3,Coordinaten!$A$2:$G$95,3,0)&\", \"&VLOOKUP(B3,Coordinaten!$A$2:$G$95,5,0)","v":"Carpool parking Geel-West, Westerlo"},null,{"$f":"_xlfn.XLOOKUP($B$3,Bezetting_1!$A$2:$A$90,Bezetting_1!C$2:C$90,,0)","v":"2023-10-12"},{"$f":"_xlfn.XLOOKUP($B$3,Bezetting_1!$A$2:$A$90,Bezetting_1!D$2:D$90,,0)","v":"09:00 - 16:00u"},{"$f":"_xlfn.XLOOKUP($B$3,Bezetting_1!$A$2:$A$90,Bezetting_1!E$2:E$90,,0)","v":77},{"$f":"_xlfn.XLOOKUP($B$3,Bezetting_1!$A$2:$A$90,Bezetting_1!F$2:F$90,,0)","v":5},{"$f":"_xlfn.XLOOKUP($B$3,Bezetting_1!$A$2:$A$90,Bezetting_1!G$2:G$90,,0)","v":0},{"$f":"_xlfn.XLOOKUP($B$3,Bezetting_1!$A$2:$A$90,Bezetting_1!H$2:H$90,,0)","v":1},{"$f":"_xlfn.XLOOKUP($B$3,Bezetting_1!$A$2:$A$90,Bezetting_1!I$2:I$90,,0)","v":3},{"$f":"_xlfn.XLOOKUP($B$3,Bezetting_1!$A$2:$A$90,Bezetting_1!J$2:J$90,,0)","v":0},{"$f":"_xlfn.XLOOKUP($B$3,Bezetting_1!$A$2:$A$90,Bezetting_1!K$2:K$90,,0)","v":86},{"$f":"_xlfn.XLOOKUP($B$3,Bezetting_1!$A$2:$A$90,Bezetting_1!L$2:L$90,,0)","v":1},{"$f":"_xlfn.XLOOKUP($B$3,Bezetting_1!$A$2:$A$90,Bezetting_1!M$2:M$90,,0)","v":0},{"$f":"_xlfn.XLOOKUP($B$3,Bezetting_1!$A$2:$A$90,Bezetting_1!N$2:N$90,,0)","v":2},null,{"$f":"_xlfn.XLOOKUP($B$3,Bezetting_1!$A$2:$A$90,Bezetting_1!P$2:P$90,,0)","v":"Overig: aanhanger"},null,{"$f":"D8","v":"2023-10-12"},{"$f":"E8","v":"09:00 - 16:00u"},{"$f":"IF(F8=0,NA(),F8/$L8)","v":0.89534883720930236},{"$f":"IF(G8=0,NA(),G8/$L8)","v":5.8139534883720929E-2},{"$f":"IF(H8=0,NA(),H8/$L8)","v":{"$error":"#N/A"}},1.1627906976744186E-2,3.4883720930232558E-2,{"$error":"#N/A"}]
[null,{"$f":"\"Nabij kruispunt: \"&VLOOKUP(B3,Coordinaten!$A$2:$L$95,4,0)","v":"Nabij kruispunt: N19 / Bell-Telephonelaan"},null,null,null,{"$f":"IF(F8=0,\"-\",F8/$L$8)","v":0.89534883720930236},{"$f":"IF(G8=0,\"-\",G8/$L$8)","v":5.8139534883720929E-2},"-",1.1627906976744186E-2,3.4883720930232558E-2,"-",1,null,null,null,null,{"$f":"_xlfn.XLOOKUP($B$3,Bezetting_1!$A$2:$A$90,Bezetting_1!Q$2:Q$90,,0)","v":0},null,{"$f":"D10","v":"2023-10-10"},{"$f":"E10","v":"19:00 - 02:00u"},{"$f":"IF(F10=0,NA(),F10/$L10)","v":1},{"$f":"IF(G10=0,NA(),G10/$L10)","v":{"$error":"#N/A"}},{"$error":"#N/A"},{"$error":"#N/A"},{"$error":"#N/A"},{"$error":"#N/A"}]
[null,null,null,{"$f":"_xlfn.XLOOKUP($B$3,Bezetting_2!$A$2:$A$90,Bezetting_2!C$2:C$90,,0)","v":"2023-10-10"},{"$f":"_xlfn.XLOOKUP($B$3,Bezetting_2!$A$2:$A$90,Bezetting_2!D$2:D$90,,0)","v":"19:00 - 02:00u"},{"$f":"_xlfn.XLOOKUP($B$3,Bezetting_2!$A$2:$A$90,Bezetting_2!E$2:E$90,,0)","v":27},{"$f":"_xlfn.XLOOKUP($B$3,Bezetting_2!$A$2:$A$90,Bezetting_2!F$2:F$90,,0)","v":0},{"$f":"_xlfn.XLOOKUP($B$3,Bezetting_2!$A$2:$A$90,Bezetting_2!G$2:G$90,,0)","v":0},{"$f":"_xlfn.XLOOKUP($B$3,Bezetting_2!$A$2:$A$90,Bezetting_2!H$2:H$90,,0)","v":0},{"$f":"_xlfn.XLOOKUP($B$3,Bezetting_2!$A$2:$A$90,Bezetting_2!I$2:I$90,,0)","v":0},{"$f":"_xlfn.XLOOKUP($B$3,Bezetting_2!$A$2:$A$90,Bezetting_2!J$2:J$90,,0)","v":0},{"$f":"_xlfn.XLOOKUP($B$3,Bezetting_2!$A$2:$A$90,Bezetting_2!K$2:K$90,,0)","v":27},{"$f":"_xlfn.XLOOKUP($B$3,Bezetting_2!$A$2:$A$90,Bezetting_2!L$2:L$90,,0)","v":0},{"$f":"_xlfn.XLOOKUP($B$3,Bezetting_2!$A$2:$A$90,Bezetting_2!M$2:M$90,,0)","v":0},{"$f":"_xlfn.XLOOKUP($B$3,Bezetting_2!$A$2:$A$90,Bezetting_2!N$2:N$90,,0)","v":2},{"$f":"_xlfn.XLOOKUP($B$3,Bezetting_2!$A$2:$A$90,Bezetting_2!O$2:O$90,,0)","v":0},{"$f":"_xlfn.XLOOKUP($B$3,Bezetting_2!$A$2:$A$90,Bezetting_2!P$2:P$90,,0)","v":0}]
[null,"Meting",null,null,null,{"$f":"IF(F10=0,\"-\",F10/$L$10)","v":1},{"$f":"IF(G10=0,\"-\",G10/$L$10)","v":"-"},"-","-","-","-",1,null,null,null,null,{"$f":"_xlfn.XLOOKUP($B$3,Bezetting_2!$A$2:$A$90,Bezetting_2!Q$2:Q$90,,0)","v":0}]
[null,{"$f":"\"Meetperiode: \"&TEXT(VLOOKUP(B3,Coordinaten!$A:$G,7,0),\"dddd dd mmmm jjjj\")","v":"Meetperiode: di 10 & do 12 oktober 2023"}]
[null,"Methodiek: Parkeerdrukmeting met waarnemers"]
[null,"In opdracht van: Vlaamse overheid"]
[null,"Uitgevoerd door: Dufec"]
[null,null,null,"VERDELING NAAR CATEGORIE"]
[null,"Locatie"]
[null,{"$f":"IF(B4=\"\",\"\",HYPERLINK(\"http://www.googlemaps.com/?q=\"&B4,\"Lat/Long: \"&B4))","v":"Lat/Long: 51.133020, 4.940494"}]
[]
[null,null,null,null,null,null,null,null,null,null,null,null,null,null,null,"Legenda"]
[null,null,null,null,null,null,null,null,null,null,null,null,null,null,null,null,"Personenwagen"]
[null,null,null,null,null,null,null,null,null,null,null,null,null,null,null,null,"Vracht"]
[null,null,null,null,null,null,null,null,null,null,null,null,null,null,null,null,"Motor"]
[null,null,null,null,null,null,null,null,null,null,null,null,null,null,null,null,"Obstakel / overig"]
[null,null,null,null,null,null,null,null,null,null,null,null,null,null,null,null,"Fout personenwagen"]
[null,null,null,null,null,null,null,null,null,null,null,null,null,null,null,null,"Fout Vracht"]
[]
[]
[]
[]
[]
[]
[]
[]
[]
[]
[]
[]
[null,"Toelichting"]
[null,"Pers = personenwagens op daarvoor bestemde"]
[null,"          openbare plaatsen"]
[null,"Vracht = vrachtwagens op daarvoor bestemde"]
[null,"          parkeerplaatsen (middel- en zwaar vrachtverkeer)"]
[null,"Motor = geparkeerde motoren op openbare plaatsen"]
[null,"Obstakel / overig = obstakels of overige voertuigen"]
[null,"          geparkeerd op openbare plaatsen"]
[null,"Fout pers = personenwagens die fout geparkeerd staan"]
[null,"Fout vracht = vrachtwagens die fout geparkeerd staan"]
[null,"E-wagen = geparkeerde elektrisch voertuig bij een"]
[null,"          elektrisch oplaadpunt"]
[null,"Invalide = personenwagens en motoren op voor"]
[null,"          invalide personen bestemde parkeerplaats"]
[null,"Gestalde fietsen = alle gestalde fietsen op de"]
[null,"          daarvoor bestemde parkeerplaatsen"]

{"sheet":"57.Veurne","index":52,"n_rows":54,"n_cols":26,"rows_kept":54,"cut":false,"hidden":false,"merged":[[4,3,5,12],[4,16,5,16],[15,3,16,12]]}
[]
[null,"PARKEERONDERZOEK",null,"CARPOOLPARKINGS EN P+R PARKINGS"]
[null,57,null,{"$f":"B8 & \" - \"& TEXT(VLOOKUP(B3,Coordinaten!$A$2:$G$95,7,0),\"dddd dd mmmm jjjj\")","v":"Carpool parking Veurne, Veurne - di 10 & do 12 oktober 2023"}]
[null,{"$f":"VLOOKUP(B3,Coordinaten!$A$2:$G$95,6,0)","v":"51.070372, 2.656499"}]
[null,null,null,"BEZETTING  ",null,null,null,null,null,null,null,null,null,null,null,null,"OPMERKINGEN"]
[]
[null,"Onderzoeksgebied",null,"Datum","Geregistreerd tussen","Pers","Vracht","Motor","Obstakel / overig","Fout   pers","Fout Vracht","Totaal","E-wagen\nplaats","Invalidenplaats","Gestalde fietsen",null,null,null,null,null,{"$f":"F7","v":"Pers"},"Vracht","Motor","Obstakel / overig","Fout   pers","Fout Vracht"]
[null,{"$f":"VLOOKUP(B3,Coordinaten!$A$2:$G$95,3,0)&\", \"&VLOOKUP(B3,Coordinaten!$A$2:$G$95,5,0)","v":"Carpool parking Veurne, Veurne"},null,{"$f":"_xlfn.XLOOKUP($B$3,Bezetting_1!$A$2:$A$90,Bezetting_1!C$2:C$90,,0)","v":"2023-10-10"},{"$f":"_xlfn.XLOOKUP($B$3,Bezetting_1!$A$2:$A$90,Bezetting_1!D$2:D$90,,0)","v":"09:00 - 16:00u"},{"$f":"_xlfn.XLOOKUP($B$3,Bezetting_1!$A$2:$A$90,Bezetting_1!E$2:E$90,,0)","v":21},{"$f":"_xlfn.XLOOKUP($B$3,Bezetting_1!$A$2:$A$90,Bezetting_1!F$2:F$90,,0)","v":0},{"$f":"_xlfn.XLOOKUP($B$3,Bezetting_1!$A$2:$A$90,Bezetting_1!G$2:G$90,,0)","v":0},{"$f":"_xlfn.XLOOKUP($B$3,Bezetting_1!$A$2:$A$90,Bezetting_1!H$2:H$90,,0)","v":0},{"$f":"_xlfn.XLOOKUP($B$3,Bezetting_1!$A$2:$A$90,Bezetting_1!I$2:I$90,,0)","v":0},{"$f":"_xlfn.XLOOKUP($B$3,Bezetting_1!$A$2:$A$90,Bezetting_1!J$2:J$90,,0)","v":0},{"$f":"_xlfn.XLOOKUP($B$3,Bezetting_1!$A$2:$A$90,Bezetting_1!K$2:K$90,,0)","v":21},{"$f":"_xlfn.XLOOKUP($B$3,Bezetting_1!$A$2:$A$90,Bezetting_1!L$2:L$90,,0)","v":0},{"$f":"_xlfn.XLOOKUP($B$3,Bezetting_1!$A$2:$A$90,Bezetting_1!M$2:M$90,,0)","v":0},{"$f":"_xlfn.XLOOKUP($B$3,Bezetting_1!$A$2:$A$90,Bezetting_1!N$2:N$90,,0)","v":0},null,{"$f":"_xlfn.XLOOKUP($B$3,Bezetting_1!$A$2:$A$90,Bezetting_1!P$2:P$90,,0)","v":0},null,{"$f":"D8","v":"2023-10-10"},{"$f":"E8","v":"09:00 - 16:00u"},{"$f":"IF(F8=0,NA(),F8/$L8)","v":1},{"$f":"IF(G8=0,NA(),G8/$L8)","v":{"$error":"#N/A"}},{"$f":"IF(H8=0,NA(),H8/$L8)","v":{"$error":"#N/A"}},{"$error":"#N/A"},{"$error":"#N/A"},{"$error":"#N/A"}]
[null,{"$f":"\"Nabij kruispunt: \"&VLOOKUP(B3,Coordinaten!$A$2:$L$95,4,0)","v":"Nabij kruispunt: N39 / N8"},null,null,null,{"$f":"IF(F8=0,\"-\",F8/$L$8)","v":1},{"$f":"IF(G8=0,\"-\",G8/$L$8)","v":"-"},"-","-","-","-",1,null,null,null,null,{"$f":"_xlfn.XLOOKUP($B$3,Bezetting_1!$A$2:$A$90,Bezetting_1!Q$2:Q$90,,0)","v":0},null,{"$f":"D10","v":"2023-10-10"},{"$f":"E10","v":"19:00 - 02:00u"},{"$f":"IF(F10=0,NA(),F10/$L10)","v":0.30769230769230771},{"$f":"IF(G10=0,NA(),G10/$L10)","v":{"$error":"#N/A"}},{"$error":"#N/A"},0.69230769230769229,{"$error":"#N/A"},{"$error":"#N/A"}]
[null,null,null,{"$f":"_xlfn.XLOOKUP($B$3,Bezetting_2!$A$2:$A$90,Bezetting_2!C$2:C$90,,0)","v":"2023-10-10"},{"$f":"_xlfn.XLOOKUP($B$3,Bezetting_2!$A$2:$A$90,Bezetting_2!D$2:D$90,,0)","v":"19:00 - 02:00u"},{"$f":"_xlfn.XLOOKUP($B$3,Bezetting_2!$A$2:$A$90,Bezetting_2!E$2:E$90,,0)","v":4},{"$f":"_xlfn.XLOOKUP($B$3,Bezetting_2!$A$2:$A$90,Bezetting_2!F$2:F$90,,0)","v":0},{"$f":"_xlfn.XLOOKUP($B$3,Bezetting_2!$A$2:$A$90,Bezetting_2!G$2:G$90,,0)","v":0},{"$f":"_xlfn.XLOOKUP($B$3,Bezetting_2!$A$2:$A$90,Bezetting_2!H$2:H$90,,0)","v":9},{"$f":"_xlfn.XLOOKUP($B$3,Bezetting_2!$A$2:$A$90,Bezetting_2!I$2:I$90,,0)","v":0},{"$f":"_xlfn.XLOOKUP($B$3,Bezetting_2!$A$2:$A$90,Bezetting_2!J$2:J$90,,0)","v":0},{"$f":"_xlfn.XLOOKUP($B$3,Bezetting_2!$A$2:$A$90,Bezetting_2!K$2:K$90,,0)","v":13},{"$f":"_xlfn.XLOOKUP($B$3,Bezetting_2!$A$2:$A$90,Bezetting_2!L$2:L$90,,0)","v":0},{"$f":"_xlfn.XLOOKUP($B$3,Bezetting_2!$A$2:$A$90,Bezetting_2!M$2:M$90,,0)","v":0},{"$f":"_xlfn.XLOOKUP($B$3,Bezetting_2!$A$2:$A$90,Bezetting_2!N$2:N$90,,0)","v":0},{"$f":"_xlfn.XLOOKUP($B$3,Bezetting_2!$A$2:$A$90,Bezetting_2!O$2:O$90,,0)","v":0},{"$f":"_xlfn.XLOOKUP($B$3,Bezetting_2!$A$2:$A$90,Bezetting_2!P$2:P$90,,0)","v":"Overig: verkeersborden 'verboden te parkeren'"}]
[null,"Meting",null,null,null,{"$f":"IF(F10=0,\"-\",F10/$L$10)","v":0.30769230769230771},{"$f":"IF(G10=0,\"-\",G10/$L$10)","v":"-"},"-",0.69230769230769229,"-","-",1,null,null,null,null,{"$f":"_xlfn.XLOOKUP($B$3,Bezetting_2!$A$2:$A$90,Bezetting_2!Q$2:Q$90,,0)","v":"Fout: 1 fiets"}]
[null,{"$f":"\"Meetperiode: \"&TEXT(VLOOKUP(B3,Coordinaten!$A:$G,7,0),\"dddd dd mmmm jjjj\")","v":"Meetperiode: di 10 & do 12 oktober 2023"}]
[null,"Methodiek: Parkeerdrukmeting met waarnemers"]
[null,"In opdracht van: Vlaamse overheid"]
[null,"Uitgevoerd door: Dufec"]
[null,null,null,"VERDELING NAAR CATEGORIE"]
[null,"Locatie"]
[null,{"$f":"IF(B4=\"\",\"\",HYPERLINK(\"http://www.googlemaps.com/?q=\"&B4,\"Lat/Long: \"&B4))","v":"Lat/Long: 51.070372, 2.656499"}]
[]
[null,null,null,null,null,null,null,null,null,null,null,null,null,null,null,"Legenda"]
[null,null,null,null,null,null,null,null,null,null,null,null,null,null,null,null,"Personenwagen"]
[null,null,null,null,null,null,null,null,null,null,null,null,null,null,null,null,"Vracht"]
[null,null,null,null,null,null,null,null,null,null,null,null,null,null,null,null,"Motor"]
[null,null,null,null,null,null,null,null,null,null,null,null,null,null,null,null,"Obstakel / overig"]
[null,null,null,null,null,null,null,null,null,null,null,null,null,null,null,null,"Fout personenwagen"]
[null,null,null,null,null,null,null,null,null,null,null,null,null,null,null,null,"Fout Vracht"]
[]
[]
[]
[]
[]
[]
[]
[]
[]
[]
[]
[]
[null,"Toelichting"]
[null,"Pers = personenwagens op daarvoor bestemde"]
[null,"          openbare plaatsen"]
[null,"Vracht = vrachtwagens op daarvoor bestemde"]
[null,"          parkeerplaatsen (middel- en zwaar vrachtverkeer)"]
[null,"Motor = geparkeerde motoren op openbare plaatsen"]
[null,"Obstakel / overig = obstakels of overige voertuigen"]
[null,"          geparkeerd op openbare plaatsen"]
[null,"Fout pers = personenwagens die fout geparkeerd staan"]
[null,"Fout vracht = vrachtwagens die fout geparkeerd staan"]
[null,"E-wagen = geparkeerde elektrisch voertuig bij een"]
[null,"          elektrisch oplaadpunt"]
[null,"Invalide = personenwagens en motoren op voor"]
[null,"          invalide personen bestemde parkeerplaats"]
[null,"Gestalde fietsen = alle gestalde fietsen op de"]
[null,"          daarvoor bestemde parkeerplaatsen"]

{"sheet":"58.Oudenburg","index":53,"n_rows":54,"n_cols":26,"rows_kept":54,"cut":false,"hidden":false,"merged":[[4,3,5,12],[4,16,5,16],[15,3,16,12]]}
[]
[null,"PARKEERONDERZOEK",null,"CARPOOLPARKINGS EN P+R PARKINGS"]
[null,58,null,{"$f":"B8 & \" - \"& TEXT(VLOOKUP(B3,Coordinaten!$A$2:$G$95,7,0),\"dddd dd mmmm jjjj\")","v":"Carpool parking Oudenburg, Oudenburg - di 10 & do 12 oktober 2023"}]
[null,{"$f":"VLOOKUP(B3,Coordinaten!$A$2:$G$95,6,0)","v":"51.200906, 3.007635"}]
[null,null,null,"BEZETTING  ",null,null,null,null,null,null,null,null,null,null,null,null,"OPMERKINGEN"]
[]
[null,"Onderzoeksgebied",null,"Datum","Geregistreerd tussen","Pers","Vracht","Motor","Obstakel / overig","Fout   pers","Fout Vracht","Totaal","E-wagen\nplaats","Invalidenplaats","Gestalde fietsen",null,null,null,null,null,{"$f":"F7","v":"Pers"},"Vracht","Motor","Obstakel / overig","Fout   pers","Fout Vracht"]
[null,{"$f":"VLOOKUP(B3,Coordinaten!$A$2:$G$95,3,0)&\", \"&VLOOKUP(B3,Coordinaten!$A$2:$G$95,5,0)","v":"Carpool parking Oudenburg, Oudenburg"},null,{"$f":"_xlfn.XLOOKUP($B$3,Bezetting_1!$A$2:$A$90,Bezetting_1!C$2:C$90,,0)","v":"2023-10-10"},{"$f":"_xlfn.XLOOKUP($B$3,Bezetting_1!$A$2:$A$90,Bezetting_1!D$2:D$90,,0)","v":"09:00 - 16:00u"},{"$f":"_xlfn.XLOOKUP($B$3,Bezetting_1!$A$2:$A$90,Bezetting_1!E$2:E$90,,0)","v":17},{"$f":"_xlfn.XLOOKUP($B$3,Bezetting_1!$A$2:$A$90,Bezetting_1!F$2:F$90,,0)","v":0},{"$f":"_xlfn.XLOOKUP($B$3,Bezetting_1!$A$2:$A$90,Bezetting_1!G$2:G$90,,0)","v":0},{"$f":"_xlfn.XLOOKUP($B$3,Bezetting_1!$A$2:$A$90,Bezetting_1!H$2:H$90,,0)","v":0},{"$f":"_xlfn.XLOOKUP($B$3,Bezetting_1!$A$2:$A$90,Bezetting_1!I$2:I$90,,0)","v":0},{"$f":"_xlfn.XLOOKUP($B$3,Bezetting_1!$A$2:$A$90,Bezetting_1!J$2:J$90,,0)","v":0},{"$f":"_xlfn.XLOOKUP($B$3,Bezetting_1!$A$2:$A$90,Bezetting_1!K$2:K$90,,0)","v":17},{"$f":"_xlfn.XLOOKUP($B$3,Bezetting_1!$A$2:$A$90,Bezetting_1!L$2:L$90,,0)","v":0},{"$f":"_xlfn.XLOOKUP($B$3,Bezetting_1!$A$2:$A$90,Bezetting_1!M$2:M$90,,0)","v":1},{"$f":"_xlfn.XLOOKUP($B$3,Bezetting_1!$A$2:$A$90,Bezetting_1!N$2:N$90,,0)","v":0},null,{"$f":"_xlfn.XLOOKUP($B$3,Bezetting_1!$A$2:$A$90,Bezetting_1!P$2:P$90,,0)","v":0},null,{"$f":"D8","v":"2023-10-10"},{"$f":"E8","v":"09:00 - 16:00u"},{"$f":"IF(F8=0,NA(),F8/$L8)","v":1},{"$f":"IF(G8=0,NA(),G8/$L8)","v":{"$error":"#N/A"}},{"$f":"IF(H8=0,NA(),H8/$L8)","v":{"$error":"#N/A"}},{"$error":"#N/A"},{"$error":"#N/A"},{"$error":"#N/A"}]
[null,{"$f":"\"Nabij kruispunt: \"&VLOOKUP(B3,Coordinaten!$A$2:$L$95,4,0)","v":"Nabij kruispunt: N358 / A10"},null,null,null,{"$f":"IF(F8=0,\"-\",F8/$L$8)","v":1},{"$f":"IF(G8=0,\"-\",G8/$L$8)","v":"-"},"-","-","-","-",1,null,null,null,null,{"$f":"_xlfn.XLOOKUP($B$3,Bezetting_1!$A$2:$A$90,Bezetting_1!Q$2:Q$90,,0)","v":0},null,{"$f":"D10","v":"2023-10-10"},{"$f":"E10","v":"19:00 - 02:00u"},{"$f":"IF(F10=0,NA(),F10/$L10)","v":1},{"$f":"IF(G10=0,NA(),G10/$L10)","v":{"$error":"#N/A"}},{"$error":"#N/A"},{"$error":"#N/A"},{"$error":"#N/A"},{"$error":"#N/A"}]
[null,null,null,{"$f":"_xlfn.XLOOKUP($B$3,Bezetting_2!$A$2:$A$90,Bezetting_2!C$2:C$90,,0)","v":"2023-10-10"},{"$f":"_xlfn.XLOOKUP($B$3,Bezetting_2!$A$2:$A$90,Bezetting_2!D$2:D$90,,0)","v":"19:00 - 02:00u"},{"$f":"_xlfn.XLOOKUP($B$3,Bezetting_2!$A$2:$A$90,Bezetting_2!E$2:E$90,,0)","v":2},{"$f":"_xlfn.XLOOKUP($B$3,Bezetting_2!$A$2:$A$90,Bezetting_2!F$2:F$90,,0)","v":0},{"$f":"_xlfn.XLOOKUP($B$3,Bezetting_2!$A$2:$A$90,Bezetting_2!G$2:G$90,,0)","v":0},{"$f":"_xlfn.XLOOKUP($B$3,Bezetting_2!$A$2:$A$90,Bezetting_2!H$2:H$90,,0)","v":0},{"$f":"_xlfn.XLOOKUP($B$3,Bezetting_2!$A$2:$A$90,Bezetting_2!I$2:I$90,,0)","v":0},{"$f":"_xlfn.XLOOKUP($B$3,Bezetting_2!$A$2:$A$90,Bezetting_2!J$2:J$90,,0)","v":0},{"$f":"_xlfn.XLOOKUP($B$3,Bezetting_2!$A$2:$A$90,Bezetting_2!K$2:K$90,,0)","v":2},{"$f":"_xlfn.XLOOKUP($B$3,Bezetting_2!$A$2:$A$90,Bezetting_2!L$2:L$90,,0)","v":0},{"$f":"_xlfn.XLOOKUP($B$3,Bezetting_2!$A$2:$A$90,Bezetting_2!M$2:M$90,,0)","v":0},{"$f":"_xlfn.XLOOKUP($B$3,Bezetting_2!$A$2:$A$90,Bezetting_2!N$2:N$90,,0)","v":0},{"$f":"_xlfn.XLOOKUP($B$3,Bezetting_2!$A$2:$A$90,Bezetting_2!O$2:O$90,,0)","v":0},{"$f":"_xlfn.XLOOKUP($B$3,Bezetting_2!$A$2:$A$90,Bezetting_2!P$2:P$90,,0)","v":0}]
[null,"Meting",null,null,null,{"$f":"IF(F10=0,\"-\",F10/$L$10)","v":1},{"$f":"IF(G10=0,\"-\",G10/$L$10)","v":"-"},"-","-","-","-",1,null,null,null,null,{"$f":"_xlfn.XLOOKUP($B$3,Bezetting_2!$A$2:$A$90,Bezetting_2!Q$2:Q$90,,0)","v":0}]
[null,{"$f":"\"Meetperiode: \"&TEXT(VLOOKUP(B3,Coordinaten!$A:$G,7,0),\"dddd dd mmmm jjjj\")","v":"Meetperiode: di 10 & do 12 oktober 2023"}]
[null,"Methodiek: Parkeerdrukmeting met waarnemers"]
[null,"In opdracht van: Vlaamse overheid"]
[null,"Uitgevoerd door: Dufec"]
[null,null,null,"VERDELING NAAR CATEGORIE"]
[null,"Locatie"]
[null,{"$f":"IF(B4=\"\",\"\",HYPERLINK(\"http://www.googlemaps.com/?q=\"&B4,\"Lat/Long: \"&B4))","v":"Lat/Long: 51.200906, 3.007635"}]
[]
[null,null,null,null,null,null,null,null,null,null,null,null,null,null,null,"Legenda"]
[null,null,null,null,null,null,null,null,null,null,null,null,null,null,null,null,"Personenwagen"]
[null,null,null,null,null,null,null,null,null,null,null,null,null,null,null,null,"Vracht"]
[null,null,null,null,null,null,null,null,null,null,null,null,null,null,null,null,"Motor"]
[null,null,null,null,null,null,null,null,null,null,null,null,null,null,null,null,"Obstakel / overig"]
[null,null,null,null,null,null,null,null,null,null,null,null,null,null,null,null,"Fout personenwagen"]
[null,null,null,null,null,null,null,null,null,null,null,null,null,null,null,null,"Fout Vracht"]
[]
[]
[]
[]
[]
[]
[]
[]
[]
[]
[]
[]
[null,"Toelichting"]
[null,"Pers = personenwagens op daarvoor bestemde"]
[null,"          openbare plaatsen"]
[null,"Vracht = vrachtwagens op daarvoor bestemde"]
[null,"          parkeerplaatsen (middel- en zwaar vrachtverkeer)"]
[null,"Motor = geparkeerde motoren op openbare plaatsen"]
[null,"Obstakel / overig = obstakels of overige voertuigen"]
[null,"          geparkeerd op openbare plaatsen"]
[null,"Fout pers = personenwagens die fout geparkeerd staan"]
[null,"Fout vracht = vrachtwagens die fout geparkeerd staan"]
[null,"E-wagen = geparkeerde elektrisch voertuig bij een"]
[null,"          elektrisch oplaadpunt"]
[null,"Invalide = personenwagens en motoren op voor"]
[null,"          invalide personen bestemde parkeerplaats"]
[null,"Gestalde fietsen = alle gestalde fietsen op de"]
[null,"          daarvoor bestemde parkeerplaatsen"]

{"sheet":"59.Middelkerke","index":54,"n_rows":54,"n_cols":26,"rows_kept":54,"cut":false,"hidden":false,"merged":[[4,3,5,12],[4,16,5,16],[15,3,16,12]]}
[]
[null,"PARKEERONDERZOEK",null,"CARPOOLPARKINGS EN P+R PARKINGS"]
[null,59,null,{"$f":"B8 & \" - \"& TEXT(VLOOKUP(B3,Coordinaten!$A$2:$G$95,7,0),\"dddd dd mmmm jjjj\")","v":"Carpool parking Middelkerke, Middelkerke - di 10 & do 12 oktober 2023"}]
[null,{"$f":"VLOOKUP(B3,Coordinaten!$A$2:$G$95,6,0)","v":"51.139750, 2.862593"}]
[null,null,null,"BEZETTING  ",null,null,null,null,null,null,null,null,null,null,null,null,"OPMERKINGEN"]
[]
[null,"Onderzoeksgebied",null,"Datum","Geregistreerd tussen","Pers","Vracht","Motor","Obstakel / overig","Fout   pers","Fout Vracht","Totaal","E-wagen\nplaats","Invalidenplaats","Gestalde fietsen",null,null,null,null,null,{"$f":"F7","v":"Pers"},"Vracht","Motor","Obstakel / overig","Fout   pers","Fout Vracht"]
[null,{"$f":"VLOOKUP(B3,Coordinaten!$A$2:$G$95,3,0)&\", \"&VLOOKUP(B3,Coordinaten!$A$2:$G$95,5,0)","v":"Carpool parking Middelkerke, Middelkerke"},null,{"$f":"_xlfn.XLOOKUP($B$3,Bezetting_1!$A$2:$A$90,Bezetting_1!C$2:C$90,,0)","v":"2023-10-10"},{"$f":"_xlfn.XLOOKUP($B$3,Bezetting_1!$A$2:$A$90,Bezetting_1!D$2:D$90,,0)","v":"09:00 - 16:00u"},{"$f":"_xlfn.XLOOKUP($B$3,Bezetting_1!$A$2:$A$90,Bezetting_1!E$2:E$90,,0)","v":11},{"$f":"_xlfn.XLOOKUP($B$3,Bezetting_1!$A$2:$A$90,Bezetting_1!F$2:F$90,,0)","v":0},{"$f":"_xlfn.XLOOKUP($B$3,Bezetting_1!$A$2:$A$90,Bezetting_1!G$2:G$90,,0)","v":0},{"$f":"_xlfn.XLOOKUP($B$3,Bezetting_1!$A$2:$A$90,Bezetting_1!H$2:H$90,,0)","v":0},{"$f":"_xlfn.XLOOKUP($B$3,Bezetting_1!$A$2:$A$90,Bezetting_1!I$2:I$90,,0)","v":0},{"$f":"_xlfn.XLOOKUP($B$3,Bezetting_1!$A$2:$A$90,Bezetting_1!J$2:J$90,,0)","v":0},{"$f":"_xlfn.XLOOKUP($B$3,Bezetting_1!$A$2:$A$90,Bezetting_1!K$2:K$90,,0)","v":11},{"$f":"_xlfn.XLOOKUP($B$3,Bezetting_1!$A$2:$A$90,Bezetting_1!L$2:L$90,,0)","v":0},{"$f":"_xlfn.XLOOKUP($B$3,Bezetting_1!$A$2:$A$90,Bezetting_1!M$2:M$90,,0)","v":0},{"$f":"_xlfn.XLOOKUP($B$3,Bezetting_1!$A$2:$A$90,Bezetting_1!N$2:N$90,,0)","v":1},null,{"$f":"_xlfn.XLOOKUP($B$3,Bezetting_1!$A$2:$A$90,Bezetting_1!P$2:P$90,,0)","v":0},null,{"$f":"D8","v":"2023-10-10"},{"$f":"E8","v":"09:00 - 16:00u"},{"$f":"IF(F8=0,NA(),F8/$L8)","v":1},{"$f":"IF(G8=0,NA(),G8/$L8)","v":{"$error":"#N/A"}},{"$f":"IF(H8=0,NA(),H8/$L8)","v":{"$error":"#N/A"}},{"$error":"#N/A"},{"$error":"#N/A"},{"$error":"#N/A"}]
[null,{"$f":"\"Nabij kruispunt: \"&VLOOKUP(B3,Coordinaten!$A$2:$L$95,4,0)","v":"Nabij kruispunt: N369 / A18"},null,null,null,{"$f":"IF(F8=0,\"-\",F8/$L$8)","v":1},{"$f":"IF(G8=0,\"-\",G8/$L$8)","v":"-"},"-","-","-","-",1,null,null,null,null,{"$f":"_xlfn.XLOOKUP($B$3,Bezetting_1!$A$2:$A$90,Bezetting_1!Q$2:Q$90,,0)","v":0},null,{"$f":"D10","v":"2023-10-10"},{"$f":"E10","v":"19:00 - 02:00u"},{"$f":"IF(F10=0,NA(),F10/$L10)","v":0.83333333333333337},{"$f":"IF(G10=0,NA(),G10/$L10)","v":{"$error":"#N/A"}},{"$error":"#N/A"},{"$error":"#N/A"},0.16666666666666666,{"$error":"#N/A"}]
[null,null,null,{"$f":"_xlfn.XLOOKUP($B$3,Bezetting_2!$A$2:$A$90,Bezetting_2!C$2:C$90,,0)","v":"2023-10-10"},{"$f":"_xlfn.XLOOKUP($B$3,Bezetting_2!$A$2:$A$90,Bezetting_2!D$2:D$90,,0)","v":"19:00 - 02:00u"},{"$f":"_xlfn.XLOOKUP($B$3,Bezetting_2!$A$2:$A$90,Bezetting_2!E$2:E$90,,0)","v":5},{"$f":"_xlfn.XLOOKUP($B$3,Bezetting_2!$A$2:$A$90,Bezetting_2!F$2:F$90,,0)","v":0},{"$f":"_xlfn.XLOOKUP($B$3,Bezetting_2!$A$2:$A$90,Bezetting_2!G$2:G$90,,0)","v":0},{"$f":"_xlfn.XLOOKUP($B$3,Bezetting_2!$A$2:$A$90,Bezetting_2!H$2:H$90,,0)","v":0},{"$f":"_xlfn.XLOOKUP($B$3,Bezetting_2!$A$2:$A$90,Bezetting_2!I$2:I$90,,0)","v":1},{"$f":"_xlfn.XLOOKUP($B$3,Bezetting_2!$A$2:$A$90,Bezetting_2!J$2:J$90,,0)","v":0},{"$f":"_xlfn.XLOOKUP($B$3,Bezetting_2!$A$2:$A$90,Bezetting_2!K$2:K$90,,0)","v":6},{"$f":"_xlfn.XLOOKUP($B$3,Bezetting_2!$A$2:$A$90,Bezetting_2!L$2:L$90,,0)","v":0},{"$f":"_xlfn.XLOOKUP($B$3,Bezetting_2!$A$2:$A$90,Bezetting_2!M$2:M$90,,0)","v":0},{"$f":"_xlfn.XLOOKUP($B$3,Bezetting_2!$A$2:$A$90,Bezetting_2!N$2:N$90,,0)","v":1},{"$f":"_xlfn.XLOOKUP($B$3,Bezetting_2!$A$2:$A$90,Bezetting_2!O$2:O$90,,0)","v":0},{"$f":"_xlfn.XLOOKUP($B$3,Bezetting_2!$A$2:$A$90,Bezetting_2!P$2:P$90,,0)","v":0}]
[null,"Meting",null,null,null,{"$f":"IF(F10=0,\"-\",F10/$L$10)","v":0.83333333333333337},{"$f":"IF(G10=0,\"-\",G10/$L$10)","v":"-"},"-","-",0.16666666666666666,"-",1,null,null,null,null,{"$f":"_xlfn.XLOOKUP($B$3,Bezetting_2!$A$2:$A$90,Bezetting_2!Q$2:Q$90,,0)","v":0}]
[null,{"$f":"\"Meetperiode: \"&TEXT(VLOOKUP(B3,Coordinaten!$A:$G,7,0),\"dddd dd mmmm jjjj\")","v":"Meetperiode: di 10 & do 12 oktober 2023"}]
[null,"Methodiek: Parkeerdrukmeting met waarnemers"]
[null,"In opdracht van: Vlaamse overheid"]
[null,"Uitgevoerd door: Dufec"]
[null,null,null,"VERDELING NAAR CATEGORIE"]
[null,"Locatie"]
[null,{"$f":"IF(B4=\"\",\"\",HYPERLINK(\"http://www.googlemaps.com/?q=\"&B4,\"Lat/Long: \"&B4))","v":"Lat/Long: 51.139750, 2.862593"}]
[]
[null,null,null,null,null,null,null,null,null,null,null,null,null,null,null,"Legenda"]
[null,null,null,null,null,null,null,null,null,null,null,null,null,null,null,null,"Personenwagen"]
[null,null,null,null,null,null,null,null,null,null,null,null,null,null,null,null,"Vracht"]
[null,null,null,null,null,null,null,null,null,null,null,null,null,null,null,null,"Motor"]
[null,null,null,null,null,null,null,null,null,null,null,null,null,null,null,null,"Obstakel / overig"]
[null,null,null,null,null,null,null,null,null,null,null,null,null,null,null,null,"Fout personenwagen"]
[null,null,null,null,null,null,null,null,null,null,null,null,null,null,null,null,"Fout Vracht"]
[]
[]
[]
[]
[]
[]
[]
[]
[]
[]
[]
[]
[null,"Toelichting"]
[null,"Pers = personenwagens op daarvoor bestemde"]
[null,"          openbare plaatsen"]
[null,"Vracht = vrachtwagens op daarvoor bestemde"]
[null,"          parkeerplaatsen (middel- en zwaar vrachtverkeer)"]
[null,"Motor = geparkeerde motoren op openbare plaatsen"]
[null,"Obstakel / overig = obstakels of overige voertuigen"]
[null,"          geparkeerd op openbare plaatsen"]
[null,"Fout pers = personenwagens die fout geparkeerd staan"]
[null,"Fout vracht = vrachtwagens die fout geparkeerd staan"]
[null,"E-wagen = geparkeerde elektrisch voertuig bij een"]
[null,"          elektrisch oplaadpunt"]
[null,"Invalide = personenwagens en motoren op voor"]
[null,"          invalide personen bestemde parkeerplaats"]
[null,"Gestalde fietsen = alle gestalde fietsen op de"]
[null,"          daarvoor bestemde parkeerplaatsen"]

{"sheet":"60.Loenhout","index":55,"n_rows":54,"n_cols":26,"rows_kept":54,"cut":false,"hidden":false,"merged":[[4,3,5,12],[4,16,5,16],[15,3,16,12]]}
[]
[null,"PARKEERONDERZOEK",null,"CARPOOLPARKINGS EN P+R PARKINGS"]
[null,60,null,{"$f":"B8 & \" - \"& TEXT(VLOOKUP(B3,Coordinaten!$A$2:$G$95,7,0),\"dddd dd mmmm jjjj\")","v":"P+R parking Loenhout, Wuustwezel - di 10 & do 12 oktober 2023"}]
[null,{"$f":"VLOOKUP(B3,Coordinaten!$A$2:$G$95,6,0)","v":"51.397419, 4.689008"}]
[null,null,null,"BEZETTING  ",null,null,null,null,null,null,null,null,null,null,null,null,"OPMERKINGEN"]
[]
[null,"Onderzoeksgebied",null,"Datum","Geregistreerd tussen","Pers","Vracht","Motor","Obstakel / overig","Fout   pers","Fout Vracht","Totaal","E-wagen\nplaats","Invalidenplaats","Gestalde fietsen",null,null,null,null,null,{"$f":"F7","v":"Pers"},"Vracht","Motor","Obstakel / overig","Fout   pers","Fout Vracht"]
[null,{"$f":"VLOOKUP(B3,Coordinaten!$A$2:$G$95,3,0)&\", \"&VLOOKUP(B3,Coordinaten!$A$2:$G$95,5,0)","v":"P+R parking Loenhout, Wuustwezel"},null,{"$f":"_xlfn.XLOOKUP($B$3,Bezetting_1!$A$2:$A$90,Bezetting_1!C$2:C$90,,0)","v":"2023-10-10"},{"$f":"_xlfn.XLOOKUP($B$3,Bezetting_1!$A$2:$A$90,Bezetting_1!D$2:D$90,,0)","v":"09:00 - 16:00u"},{"$f":"_xlfn.XLOOKUP($B$3,Bezetting_1!$A$2:$A$90,Bezetting_1!E$2:E$90,,0)","v":21},{"$f":"_xlfn.XLOOKUP($B$3,Bezetting_1!$A$2:$A$90,Bezetting_1!F$2:F$90,,0)","v":0},{"$f":"_xlfn.XLOOKUP($B$3,Bezetting_1!$A$2:$A$90,Bezetting_1!G$2:G$90,,0)","v":0},{"$f":"_xlfn.XLOOKUP($B$3,Bezetting_1!$A$2:$A$90,Bezetting_1!H$2:H$90,,0)","v":0},{"$f":"_xlfn.XLOOKUP($B$3,Bezetting_1!$A$2:$A$90,Bezetting_1!I$2:I$90,,0)","v":0},{"$f":"_xlfn.XLOOKUP($B$3,Bezetting_1!$A$2:$A$90,Bezetting_1!J$2:J$90,,0)","v":0},{"$f":"_xlfn.XLOOKUP($B$3,Bezetting_1!$A$2:$A$90,Bezetting_1!K$2:K$90,,0)","v":21},{"$f":"_xlfn.XLOOKUP($B$3,Bezetting_1!$A$2:$A$90,Bezetting_1!L$2:L$90,,0)","v":1},{"$f":"_xlfn.XLOOKUP($B$3,Bezetting_1!$A$2:$A$90,Bezetting_1!M$2:M$90,,0)","v":0},{"$f":"_xlfn.XLOOKUP($B$3,Bezetting_1!$A$2:$A$90,Bezetting_1!N$2:N$90,,0)","v":0},null,{"$f":"_xlfn.XLOOKUP($B$3,Bezetting_1!$A$2:$A$90,Bezetting_1!P$2:P$90,,0)","v":0},null,{"$f":"D8","v":"2023-10-10"},{"$f":"E8","v":"09:00 - 16:00u"},{"$f":"IF(F8=0,NA(),F8/$L8)","v":1},{"$f":"IF(G8=0,NA(),G8/$L8)","v":{"$error":"#N/A"}},{"$f":"IF(H8=0,NA(),H8/$L8)","v":{"$error":"#N/A"}},{"$error":"#N/A"},{"$error":"#N/A"},{"$error":"#N/A"}]
[null,{"$f":"\"Nabij kruispunt: \"&VLOOKUP(B3,Coordinaten!$A$2:$L$95,4,0)","v":"Nabij kruispunt: N144 / Hollandseweg"},null,null,null,{"$f":"IF(F8=0,\"-\",F8/$L$8)","v":1},{"$f":"IF(G8=0,\"-\",G8/$L$8)","v":"-"},"-","-","-","-",1,null,null,null,null,{"$f":"_xlfn.XLOOKUP($B$3,Bezetting_1!$A$2:$A$90,Bezetting_1!Q$2:Q$90,,0)","v":0},null,{"$f":"D10","v":"2023-10-10"},{"$f":"E10","v":"19:00 - 02:00u"},{"$f":"IF(F10=0,NA(),F10/$L10)","v":1},{"$f":"IF(G10=0,NA(),G10/$L10)","v":{"$error":"#N/A"}},{"$error":"#N/A"},{"$error":"#N/A"},{"$error":"#N/A"},{"$error":"#N/A"}]
[null,null,null,{"$f":"_xlfn.XLOOKUP($B$3,Bezetting_2!$A$2:$A$90,Bezetting_2!C$2:C$90,,0)","v":"2023-10-10"},{"$f":"_xlfn.XLOOKUP($B$3,Bezetting_2!$A$2:$A$90,Bezetting_2!D$2:D$90,,0)","v":"19:00 - 02:00u"},{"$f":"_xlfn.XLOOKUP($B$3,Bezetting_2!$A$2:$A$90,Bezetting_2!E$2:E$90,,0)","v":28},{"$f":"_xlfn.XLOOKUP($B$3,Bezetting_2!$A$2:$A$90,Bezetting_2!F$2:F$90,,0)","v":0},{"$f":"_xlfn.XLOOKUP($B$3,Bezetting_2!$A$2:$A$90,Bezetting_2!G$2:G$90,,0)","v":0},{"$f":"_xlfn.XLOOKUP($B$3,Bezetting_2!$A$2:$A$90,Bezetting_2!H$2:H$90,,0)","v":0},{"$f":"_xlfn.XLOOKUP($B$3,Bezetting_2!$A$2:$A$90,Bezetting_2!I$2:I$90,,0)","v":0},{"$f":"_xlfn.XLOOKUP($B$3,Bezetting_2!$A$2:$A$90,Bezetting_2!J$2:J$90,,0)","v":0},{"$f":"_xlfn.XLOOKUP($B$3,Bezetting_2!$A$2:$A$90,Bezetting_2!K$2:K$90,,0)","v":28},{"$f":"_xlfn.XLOOKUP($B$3,Bezetting_2!$A$2:$A$90,Bezetting_2!L$2:L$90,,0)","v":0},{"$f":"_xlfn.XLOOKUP($B$3,Bezetting_2!$A$2:$A$90,Bezetting_2!M$2:M$90,,0)","v":0},{"$f":"_xlfn.XLOOKUP($B$3,Bezetting_2!$A$2:$A$90,Bezetting_2!N$2:N$90,,0)","v":0},{"$f":"_xlfn.XLOOKUP($B$3,Bezetting_2!$A$2:$A$90,Bezetting_2!O$2:O$90,,0)","v":0},{"$f":"_xlfn.XLOOKUP($B$3,Bezetting_2!$A$2:$A$90,Bezetting_2!P$2:P$90,,0)","v":0}]
[null,"Meting",null,null,null,{"$f":"IF(F10=0,\"-\",F10/$L$10)","v":1},{"$f":"IF(G10=0,\"-\",G10/$L$10)","v":"-"},"-","-","-","-",1,null,null,null,null,{"$f":"_xlfn.XLOOKUP($B$3,Bezetting_2!$A$2:$A$90,Bezetting_2!Q$2:Q$90,,0)","v":0}]
[null,{"$f":"\"Meetperiode: \"&TEXT(VLOOKUP(B3,Coordinaten!$A:$G,7,0),\"dddd dd mmmm jjjj\")","v":"Meetperiode: di 10 & do 12 oktober 2023"}]
[null,"Methodiek: Parkeerdrukmeting met waarnemers"]
[null,"In opdracht van: Vlaamse overheid"]
[null,"Uitgevoerd door: Dufec"]
[null,null,null,"VERDELING NAAR CATEGORIE"]
[null,"Locatie"]
[null,{"$f":"IF(B4=\"\",\"\",HYPERLINK(\"http://www.googlemaps.com/?q=\"&B4,\"Lat/Long: \"&B4))","v":"Lat/Long: 51.397419, 4.689008"}]
[]
[null,null,null,null,null,null,null,null,null,null,null,null,null,null,null,"Legenda"]
[null,null,null,null,null,null,null,null,null,null,null,null,null,null,null,null,"Personenwagen"]
[null,null,null,null,null,null,null,null,null,null,null,null,null,null,null,null,"Vracht"]
[null,null,null,null,null,null,null,null,null,null,null,null,null,null,null,null,"Motor"]
[null,null,null,null,null,null,null,null,null,null,null,null,null,null,null,null,"Obstakel / overig"]
[null,null,null,null,null,null,null,null,null,null,null,null,null,null,null,null,"Fout personenwagen"]
[null,null,null,null,null,null,null,null,null,null,null,null,null,null,null,null,"Fout Vracht"]
[]
[]
[]
[]
[]
[]
[]
[]
[]
[]
[]
[]
[null,"Toelichting"]
[null,"Pers = personenwagens op daarvoor bestemde"]
[null,"          openbare plaatsen"]
[null,"Vracht = vrachtwagens op daarvoor bestemde"]
[null,"          parkeerplaatsen (middel- en zwaar vrachtverkeer)"]
[null,"Motor = geparkeerde motoren op openbare plaatsen"]
[null,"Obstakel / overig = obstakels of overige voertuigen"]
[null,"          geparkeerd op openbare plaatsen"]
[null,"Fout pers = personenwagens die fout geparkeerd staan"]
[null,"Fout vracht = vrachtwagens die fout geparkeerd staan"]
[null,"E-wagen = geparkeerde elektrisch voertuig bij een"]
[null,"          elektrisch oplaadpunt"]
[null,"Invalide = personenwagens en motoren op voor"]
[null,"          invalide personen bestemde parkeerplaats"]
[null,"Gestalde fietsen = alle gestalde fietsen op de"]
[null,"          daarvoor bestemde parkeerplaatsen"]

{"sheet":"61.Meise","index":56,"n_rows":54,"n_cols":26,"rows_kept":54,"cut":false,"hidden":false,"merged":[[4,3,5,12],[4,16,5,16],[15,3,16,12]]}
[]
[null,"PARKEERONDERZOEK",null,"CARPOOLPARKINGS EN P+R PARKINGS"]
[null,61,null,{"$f":"B8 & \" - \"& TEXT(VLOOKUP(B3,Coordinaten!$A$2:$G$95,7,0),\"dddd dd mmmm jjjj\")","v":"P+R parking Meise, Meise - di 10 & do 12 oktober 2023"}]
[null,{"$f":"VLOOKUP(B3,Coordinaten!$A$2:$G$95,6,0)","v":"50.934686, 4.330993"}]
[null,null,null,"BEZETTING  ",null,null,null,null,null,null,null,null,null,null,null,null,"OPMERKINGEN"]
[]
[null,"Onderzoeksgebied",null,"Datum","Geregistreerd tussen","Pers","Vracht","Motor","Obstakel / overig","Fout   pers","Fout Vracht","Totaal","E-wagen\nplaats","Invalidenplaats","Gestalde fietsen",null,null,null,null,null,{"$f":"F7","v":"Pers"},"Vracht","Motor","Obstakel / overig","Fout   pers","Fout Vracht"]
[null,{"$f":"VLOOKUP(B3,Coordinaten!$A$2:$G$95,3,0)&\", \"&VLOOKUP(B3,Coordinaten!$A$2:$G$95,5,0)","v":"P+R parking Meise, Meise"},null,{"$f":"_xlfn.XLOOKUP($B$3,Bezetting_1!$A$2:$A$90,Bezetting_1!C$2:C$90,,0)","v":"2023-10-12"},{"$f":"_xlfn.XLOOKUP($B$3,Bezetting_1!$A$2:$A$90,Bezetting_1!D$2:D$90,,0)","v":"09:00 - 16:00u"},{"$f":"_xlfn.XLOOKUP($B$3,Bezetting_1!$A$2:$A$90,Bezetting_1!E$2:E$90,,0)","v":40},{"$f":"_xlfn.XLOOKUP($B$3,Bezetting_1!$A$2:$A$90,Bezetting_1!F$2:F$90,,0)","v":0},{"$f":"_xlfn.XLOOKUP($B$3,Bezetting_1!$A$2:$A$90,Bezetting_1!G$2:G$90,,0)","v":0},{"$f":"_xlfn.XLOOKUP($B$3,Bezetting_1!$A$2:$A$90,Bezetting_1!H$2:H$90,,0)","v":12},{"$f":"_xlfn.XLOOKUP($B$3,Bezetting_1!$A$2:$A$90,Bezetting_1!I$2:I$90,,0)","v":0},{"$f":"_xlfn.XLOOKUP($B$3,Bezetting_1!$A$2:$A$90,Bezetting_1!J$2:J$90,,0)","v":0},{"$f":"_xlfn.XLOOKUP($B$3,Bezetting_1!$A$2:$A$90,Bezetting_1!K$2:K$90,,0)","v":52},{"$f":"_xlfn.XLOOKUP($B$3,Bezetting_1!$A$2:$A$90,Bezetting_1!L$2:L$90,,0)","v":0},{"$f":"_xlfn.XLOOKUP($B$3,Bezetting_1!$A$2:$A$90,Bezetting_1!M$2:M$90,,0)","v":0},{"$f":"_xlfn.XLOOKUP($B$3,Bezetting_1!$A$2:$A$90,Bezetting_1!N$2:N$90,,0)","v":0},null,{"$f":"_xlfn.XLOOKUP($B$3,Bezetting_1!$A$2:$A$90,Bezetting_1!P$2:P$90,,0)","v":"Overig: 1x aanhanger 9x bus, 2x touringcar"},null,{"$f":"D8","v":"2023-10-12"},{"$f":"E8","v":"09:00 - 16:00u"},{"$f":"IF(F8=0,NA(),F8/$L8)","v":0.76923076923076927},{"$f":"IF(G8=0,NA(),G8/$L8)","v":{"$error":"#N/A"}},{"$f":"IF(H8=0,NA(),H8/$L8)","v":{"$error":"#N/A"}},0.23076923076923078,{"$error":"#N/A"},{"$error":"#N/A"}]
[null,{"$f":"\"Nabij kruispunt: \"&VLOOKUP(B3,Coordinaten!$A$2:$L$95,4,0)","v":"Nabij kruispunt: N227 / A12"},null,null,null,{"$f":"IF(F8=0,\"-\",F8/$L$8)","v":0.76923076923076927},{"$f":"IF(G8=0,\"-\",G8/$L$8)","v":"-"},"-",0.23076923076923078,"-","-",1,null,null,null,null,{"$f":"_xlfn.XLOOKUP($B$3,Bezetting_1!$A$2:$A$90,Bezetting_1!Q$2:Q$90,,0)","v":0},null,{"$f":"D10","v":"2023-10-12"},{"$f":"E10","v":"19:00 - 02:00u"},{"$f":"IF(F10=0,NA(),F10/$L10)","v":0.38181818181818183},{"$f":"IF(G10=0,NA(),G10/$L10)","v":0.18181818181818182},{"$error":"#N/A"},1.8181818181818181E-2,3.6363636363636362E-2,0.38181818181818183]
[null,null,null,{"$f":"_xlfn.XLOOKUP($B$3,Bezetting_2!$A$2:$A$90,Bezetting_2!C$2:C$90,,0)","v":"2023-10-12"},{"$f":"_xlfn.XLOOKUP($B$3,Bezetting_2!$A$2:$A$90,Bezetting_2!D$2:D$90,,0)","v":"19:00 - 02:00u"},{"$f":"_xlfn.XLOOKUP($B$3,Bezetting_2!$A$2:$A$90,Bezetting_2!E$2:E$90,,0)","v":21},{"$f":"_xlfn.XLOOKUP($B$3,Bezetting_2!$A$2:$A$90,Bezetting_2!F$2:F$90,,0)","v":10},{"$f":"_xlfn.XLOOKUP($B$3,Bezetting_2!$A$2:$A$90,Bezetting_2!G$2:G$90,,0)","v":0},{"$f":"_xlfn.XLOOKUP($B$3,Bezetting_2!$A$2:$A$90,Bezetting_2!H$2:H$90,,0)","v":1},{"$f":"_xlfn.XLOOKUP($B$3,Bezetting_2!$A$2:$A$90,Bezetting_2!I$2:I$90,,0)","v":2},{"$f":"_xlfn.XLOOKUP($B$3,Bezetting_2!$A$2:$A$90,Bezetting_2!J$2:J$90,,0)","v":21},{"$f":"_xlfn.XLOOKUP($B$3,Bezetting_2!$A$2:$A$90,Bezetting_2!K$2:K$90,,0)","v":55},{"$f":"_xlfn.XLOOKUP($B$3,Bezetting_2!$A$2:$A$90,Bezetting_2!L$2:L$90,,0)","v":0},{"$f":"_xlfn.XLOOKUP($B$3,Bezetting_2!$A$2:$A$90,Bezetting_2!M$2:M$90,,0)","v":0},{"$f":"_xlfn.XLOOKUP($B$3,Bezetting_2!$A$2:$A$90,Bezetting_2!N$2:N$90,,0)","v":0},{"$f":"_xlfn.XLOOKUP($B$3,Bezetting_2!$A$2:$A$90,Bezetting_2!O$2:O$90,,0)","v":0},{"$f":"_xlfn.XLOOKUP($B$3,Bezetting_2!$A$2:$A$90,Bezetting_2!P$2:P$90,,0)","v":"Overig: 1x aanhanger"}]
[null,"Meting",null,null,null,{"$f":"IF(F10=0,\"-\",F10/$L$10)","v":0.38181818181818183},{"$f":"IF(G10=0,\"-\",G10/$L$10)","v":0.18181818181818182},"-",1.8181818181818181E-2,3.6363636363636362E-2,0.38181818181818183,1,null,null,null,null,{"$f":"_xlfn.XLOOKUP($B$3,Bezetting_2!$A$2:$A$90,Bezetting_2!Q$2:Q$90,,0)","v":0}]
[null,{"$f":"\"Meetperiode: \"&TEXT(VLOOKUP(B3,Coordinaten!$A:$G,7,0),\"dddd dd mmmm jjjj\")","v":"Meetperiode: di 10 & do 12 oktober 2023"}]
[null,"Methodiek: Parkeerdrukmeting met waarnemers"]
[null,"In opdracht van: Vlaamse overheid"]
[null,"Uitgevoerd door: Dufec"]
[null,null,null,"VERDELING NAAR CATEGORIE"]
[null,"Locatie"]
[null,{"$f":"IF(B4=\"\",\"\",HYPERLINK(\"http://www.googlemaps.com/?q=\"&B4,\"Lat/Long: \"&B4))","v":"Lat/Long: 50.934686, 4.330993"}]
[]
[null,null,null,null,null,null,null,null,null,null,null,null,null,null,null,"Legenda"]
[null,null,null,null,null,null,null,null,null,null,null,null,null,null,null,null,"Personenwagen"]
[null,null,null,null,null,null,null,null,null,null,null,null,null,null,null,null,"Vracht"]
[null,null,null,null,null,null,null,null,null,null,null,null,null,null,null,null,"Motor"]
[null,null,null,null,null,null,null,null,null,null,null,null,null,null,null,null,"Obstakel / overig"]
[null,null,null,null,null,null,null,null,null,null,null,null,null,null,null,null,"Fout personenwagen"]
[null,null,null,null,null,null,null,null,null,null,null,null,null,null,null,null,"Fout Vracht"]
[]
[]
[]
[]
[]
[]
[]
[]
[]
[]
[]
[]
[null,"Toelichting"]
[null,"Pers = personenwagens op daarvoor bestemde"]
[null,"          openbare plaatsen"]
[null,"Vracht = vrachtwagens op daarvoor bestemde"]
[null,"          parkeerplaatsen (middel- en zwaar vrachtverkeer)"]
[null,"Motor = geparkeerde motoren op openbare plaatsen"]
[null,"Obstakel / overig = obstakels of overige voertuigen"]
[null,"          geparkeerd op openbare plaatsen"]
[null,"Fout pers = personenwagens die fout geparkeerd staan"]
[null,"Fout vracht = vrachtwagens die fout geparkeerd staan"]
[null,"E-wagen = geparkeerde elektrisch voertuig bij een"]
[null,"          elektrisch oplaadpunt"]
[null,"Invalide = personenwagens en motoren op voor"]
[null,"          invalide personen bestemde parkeerplaats"]
[null,"Gestalde fietsen = alle gestalde fietsen op de"]
[null,"          daarvoor bestemde parkeerplaatsen"]

{"sheet":"62.Nieuwpoort","index":57,"n_rows":54,"n_cols":26,"rows_kept":54,"cut":false,"hidden":false,"merged":[[4,3,5,12],[4,16,5,16],[15,3,16,12]]}
[]
[null,"PARKEERONDERZOEK",null,"CARPOOLPARKINGS EN P+R PARKINGS"]
[null,62,null,{"$f":"B8 & \" - \"& TEXT(VLOOKUP(B3,Coordinaten!$A$2:$G$95,7,0),\"dddd dd mmmm jjjj\")","v":"Carpool parking Nieuwpoort, Nieuwpoort - di 10 & do 12 oktober 2023"}]
[null,{"$f":"VLOOKUP(B3,Coordinaten!$A$2:$G$95,6,0)","v":"51.109593, 2.757978"}]
[null,null,null,"BEZETTING  ",null,null,null,null,null,null,null,null,null,null,null,null,"OPMERKINGEN"]
[]
[null,"Onderzoeksgebied",null,"Datum","Geregistreerd tussen","Pers","Vracht","Motor","Obstakel / overig","Fout   pers","Fout Vracht","Totaal","E-wagen\nplaats","Invalidenplaats","Gestalde fietsen",null,null,null,null,null,{"$f":"F7","v":"Pers"},"Vracht","Motor","Obstakel / overig","Fout   pers","Fout Vracht"]
[null,{"$f":"VLOOKUP(B3,Coordinaten!$A$2:$G$95,3,0)&\", \"&VLOOKUP(B3,Coordinaten!$A$2:$G$95,5,0)","v":"Carpool parking Nieuwpoort, Nieuwpoort"},null,{"$f":"_xlfn.XLOOKUP($B$3,Bezetting_1!$A$2:$A$90,Bezetting_1!C$2:C$90,,0)","v":"2023-10-10"},{"$f":"_xlfn.XLOOKUP($B$3,Bezetting_1!$A$2:$A$90,Bezetting_1!D$2:D$90,,0)","v":"09:00 - 16:00u"},{"$f":"_xlfn.XLOOKUP($B$3,Bezetting_1!$A$2:$A$90,Bezetting_1!E$2:E$90,,0)","v":19},{"$f":"_xlfn.XLOOKUP($B$3,Bezetting_1!$A$2:$A$90,Bezetting_1!F$2:F$90,,0)","v":3},{"$f":"_xlfn.XLOOKUP($B$3,Bezetting_1!$A$2:$A$90,Bezetting_1!G$2:G$90,,0)","v":0},{"$f":"_xlfn.XLOOKUP($B$3,Bezetting_1!$A$2:$A$90,Bezetting_1!H$2:H$90,,0)","v":0},{"$f":"_xlfn.XLOOKUP($B$3,Bezetting_1!$A$2:$A$90,Bezetting_1!I$2:I$90,,0)","v":1},{"$f":"_xlfn.XLOOKUP($B$3,Bezetting_1!$A$2:$A$90,Bezetting_1!J$2:J$90,,0)","v":0},{"$f":"_xlfn.XLOOKUP($B$3,Bezetting_1!$A$2:$A$90,Bezetting_1!K$2:K$90,,0)","v":23},{"$f":"_xlfn.XLOOKUP($B$3,Bezetting_1!$A$2:$A$90,Bezetting_1!L$2:L$90,,0)","v":0},{"$f":"_xlfn.XLOOKUP($B$3,Bezetting_1!$A$2:$A$90,Bezetting_1!M$2:M$90,,0)","v":0},{"$f":"_xlfn.XLOOKUP($B$3,Bezetting_1!$A$2:$A$90,Bezetting_1!N$2:N$90,,0)","v":0},null,{"$f":"_xlfn.XLOOKUP($B$3,Bezetting_1!$A$2:$A$90,Bezetting_1!P$2:P$90,,0)","v":0},null,{"$f":"D8","v":"2023-10-10"},{"$f":"E8","v":"09:00 - 16:00u"},{"$f":"IF(F8=0,NA(),F8/$L8)","v":0.82608695652173914},{"$f":"IF(G8=0,NA(),G8/$L8)","v":0.13043478260869565},{"$f":"IF(H8=0,NA(),H8/$L8)","v":{"$error":"#N/A"}},{"$error":"#N/A"},4.3478260869565216E-2,{"$error":"#N/A"}]
[null,{"$f":"\"Nabij kruispunt: \"&VLOOKUP(B3,Coordinaten!$A$2:$L$95,4,0)","v":"Nabij kruispunt: N355 / A18"},null,null,null,{"$f":"IF(F8=0,\"-\",F8/$L$8)","v":0.82608695652173914},{"$f":"IF(G8=0,\"-\",G8/$L$8)","v":0.13043478260869565},"-","-",4.3478260869565216E-2,"-",1,null,null,null,null,{"$f":"_xlfn.XLOOKUP($B$3,Bezetting_1!$A$2:$A$90,Bezetting_1!Q$2:Q$90,,0)","v":0},null,{"$f":"D10","v":"2023-10-10"},{"$f":"E10","v":"19:00 - 02:00u"},{"$f":"IF(F10=0,NA(),F10/$L10)","v":0.66666666666666663},{"$f":"IF(G10=0,NA(),G10/$L10)","v":0.1111111111111111},{"$error":"#N/A"},0.22222222222222221,{"$error":"#N/A"},{"$error":"#N/A"}]
[null,null,null,{"$f":"_xlfn.XLOOKUP($B$3,Bezetting_2!$A$2:$A$90,Bezetting_2!C$2:C$90,,0)","v":"2023-10-10"},{"$f":"_xlfn.XLOOKUP($B$3,Bezetting_2!$A$2:$A$90,Bezetting_2!D$2:D$90,,0)","v":"19:00 - 02:00u"},{"$f":"_xlfn.XLOOKUP($B$3,Bezetting_2!$A$2:$A$90,Bezetting_2!E$2:E$90,,0)","v":6},{"$f":"_xlfn.XLOOKUP($B$3,Bezetting_2!$A$2:$A$90,Bezetting_2!F$2:F$90,,0)","v":1},{"$f":"_xlfn.XLOOKUP($B$3,Bezetting_2!$A$2:$A$90,Bezetting_2!G$2:G$90,,0)","v":0},{"$f":"_xlfn.XLOOKUP($B$3,Bezetting_2!$A$2:$A$90,Bezetting_2!H$2:H$90,,0)","v":2},{"$f":"_xlfn.XLOOKUP($B$3,Bezetting_2!$A$2:$A$90,Bezetting_2!I$2:I$90,,0)","v":0},{"$f":"_xlfn.XLOOKUP($B$3,Bezetting_2!$A$2:$A$90,Bezetting_2!J$2:J$90,,0)","v":0},{"$f":"_xlfn.XLOOKUP($B$3,Bezetting_2!$A$2:$A$90,Bezetting_2!K$2:K$90,,0)","v":9},{"$f":"_xlfn.XLOOKUP($B$3,Bezetting_2!$A$2:$A$90,Bezetting_2!L$2:L$90,,0)","v":2},{"$f":"_xlfn.XLOOKUP($B$3,Bezetting_2!$A$2:$A$90,Bezetting_2!M$2:M$90,,0)","v":0},{"$f":"_xlfn.XLOOKUP($B$3,Bezetting_2!$A$2:$A$90,Bezetting_2!N$2:N$90,,0)","v":0},{"$f":"_xlfn.XLOOKUP($B$3,Bezetting_2!$A$2:$A$90,Bezetting_2!O$2:O$90,,0)","v":0},{"$f":"_xlfn.XLOOKUP($B$3,Bezetting_2!$A$2:$A$90,Bezetting_2!P$2:P$90,,0)","v":"Overig: Vuilnisbakken"}]
[null,"Meting",null,null,null,{"$f":"IF(F10=0,\"-\",F10/$L$10)","v":0.66666666666666663},{"$f":"IF(G10=0,\"-\",G10/$L$10)","v":0.1111111111111111},"-",0.22222222222222221,"-","-",1,null,null,null,null,{"$f":"_xlfn.XLOOKUP($B$3,Bezetting_2!$A$2:$A$90,Bezetting_2!Q$2:Q$90,,0)","v":0}]
[null,{"$f":"\"Meetperiode: \"&TEXT(VLOOKUP(B3,Coordinaten!$A:$G,7,0),\"dddd dd mmmm jjjj\")","v":"Meetperiode: di 10 & do 12 oktober 2023"}]
[null,"Methodiek: Parkeerdrukmeting met waarnemers"]
[null,"In opdracht van: Vlaamse overheid"]
[null,"Uitgevoerd door: Dufec"]
[null,null,null,"VERDELING NAAR CATEGORIE"]
[null,"Locatie"]
[null,{"$f":"IF(B4=\"\",\"\",HYPERLINK(\"http://www.googlemaps.com/?q=\"&B4,\"Lat/Long: \"&B4))","v":"Lat/Long: 51.109593, 2.757978"}]
[]
[null,null,null,null,null,null,null,null,null,null,null,null,null,null,null,"Legenda"]
[null,null,null,null,null,null,null,null,null,null,null,null,null,null,null,null,"Personenwagen"]
[null,null,null,null,null,null,null,null,null,null,null,null,null,null,null,null,"Vracht"]
[null,null,null,null,null,null,null,null,null,null,null,null,null,null,null,null,"Motor"]
[null,null,null,null,null,null,null,null,null,null,null,null,null,null,null,null,"Obstakel / overig"]
[null,null,null,null,null,null,null,null,null,null,null,null,null,null,null,null,"Fout personenwagen"]
[null,null,null,null,null,null,null,null,null,null,null,null,null,null,null,null,"Fout Vracht"]
[]
[]
[]
[]
[]
[]
[]
[]
[]
[]
[]
[]
[null,"Toelichting"]
[null,"Pers = personenwagens op daarvoor bestemde"]
[null,"          openbare plaatsen"]
[null,"Vracht = vrachtwagens op daarvoor bestemde"]
[null,"          parkeerplaatsen (middel- en zwaar vrachtverkeer)"]
[null,"Motor = geparkeerde motoren op openbare plaatsen"]
[null,"Obstakel / overig = obstakels of overige voertuigen"]
[null,"          geparkeerd op openbare plaatsen"]
[null,"Fout pers = personenwagens die fout geparkeerd staan"]
[null,"Fout vracht = vrachtwagens die fout geparkeerd staan"]
[null,"E-wagen = geparkeerde elektrisch voertuig bij een"]
[null,"          elektrisch oplaadpunt"]
[null,"Invalide = personenwagens en motoren op voor"]
[null,"          invalide personen bestemde parkeerplaats"]
[null,"Gestalde fietsen = alle gestalde fietsen op de"]
[null,"          daarvoor bestemde parkeerplaatsen"]

{"sheet":"63.Lichtervelde","index":58,"n_rows":54,"n_cols":26,"rows_kept":54,"cut":false,"hidden":false,"merged":[[4,3,5,12],[4,16,5,16],[15,3,16,12]]}
[]
[null,"PARKEERONDERZOEK",null,"CARPOOLPARKINGS EN P+R PARKINGS"]
[null,63,null,{"$f":"B8 & \" - \"& TEXT(VLOOKUP(B3,Coordinaten!$A$2:$G$95,7,0),\"dddd dd mmmm jjjj\")","v":"Carpool parking Lichtervelde, Lichtervelde - di 10 & do 12 oktober 2023"}]
[null,{"$f":"VLOOKUP(B3,Coordinaten!$A$2:$G$95,6,0)","v":"51.011285, 3.167382"}]
[null,null,null,"BEZETTING  ",null,null,null,null,null,null,null,null,null,null,null,null,"OPMERKINGEN"]
[]
[null,"Onderzoeksgebied",null,"Datum","Geregistreerd tussen","Pers","Vracht","Motor","Obstakel / overig","Fout   pers","Fout Vracht","Totaal","E-wagen\nplaats","Invalidenplaats","Gestalde fietsen",null,null,null,null,null,{"$f":"F7","v":"Pers"},"Vracht","Motor","Obstakel / overig","Fout   pers","Fout Vracht"]
[null,{"$f":"VLOOKUP(B3,Coordinaten!$A$2:$G$95,3,0)&\", \"&VLOOKUP(B3,Coordinaten!$A$2:$G$95,5,0)","v":"Carpool parking Lichtervelde, Lichtervelde"},null,{"$f":"_xlfn.XLOOKUP($B$3,Bezetting_1!$A$2:$A$90,Bezetting_1!C$2:C$90,,0)","v":"2023-10-12"},{"$f":"_xlfn.XLOOKUP($B$3,Bezetting_1!$A$2:$A$90,Bezetting_1!D$2:D$90,,0)","v":"09:00 - 16:00u"},{"$f":"_xlfn.XLOOKUP($B$3,Bezetting_1!$A$2:$A$90,Bezetting_1!E$2:E$90,,0)","v":65},{"$f":"_xlfn.XLOOKUP($B$3,Bezetting_1!$A$2:$A$90,Bezetting_1!F$2:F$90,,0)","v":0},{"$f":"_xlfn.XLOOKUP($B$3,Bezetting_1!$A$2:$A$90,Bezetting_1!G$2:G$90,,0)","v":0},{"$f":"_xlfn.XLOOKUP($B$3,Bezetting_1!$A$2:$A$90,Bezetting_1!H$2:H$90,,0)","v":0},{"$f":"_xlfn.XLOOKUP($B$3,Bezetting_1!$A$2:$A$90,Bezetting_1!I$2:I$90,,0)","v":2},{"$f":"_xlfn.XLOOKUP($B$3,Bezetting_1!$A$2:$A$90,Bezetting_1!J$2:J$90,,0)","v":0},{"$f":"_xlfn.XLOOKUP($B$3,Bezetting_1!$A$2:$A$90,Bezetting_1!K$2:K$90,,0)","v":67},{"$f":"_xlfn.XLOOKUP($B$3,Bezetting_1!$A$2:$A$90,Bezetting_1!L$2:L$90,,0)","v":0},{"$f":"_xlfn.XLOOKUP($B$3,Bezetting_1!$A$2:$A$90,Bezetting_1!M$2:M$90,,0)","v":0},{"$f":"_xlfn.XLOOKUP($B$3,Bezetting_1!$A$2:$A$90,Bezetting_1!N$2:N$90,,0)","v":0},null,{"$f":"_xlfn.XLOOKUP($B$3,Bezetting_1!$A$2:$A$90,Bezetting_1!P$2:P$90,,0)","v":"Fout pers: in parkeerplaats voor vracht"},null,{"$f":"D8","v":"2023-10-12"},{"$f":"E8","v":"09:00 - 16:00u"},{"$f":"IF(F8=0,NA(),F8/$L8)","v":0.97014925373134331},{"$f":"IF(G8=0,NA(),G8/$L8)","v":{"$error":"#N/A"}},{"$f":"IF(H8=0,NA(),H8/$L8)","v":{"$error":"#N/A"}},{"$error":"#N/A"},2.9850746268656716E-2,{"$error":"#N/A"}]
[null,{"$f":"\"Nabij kruispunt: \"&VLOOKUP(B3,Coordinaten!$A$2:$L$95,4,0)","v":"Nabij kruispunt: N35 / A17"},null,null,null,{"$f":"IF(F8=0,\"-\",F8/$L$8)","v":0.97014925373134331},{"$f":"IF(G8=0,\"-\",G8/$L$8)","v":"-"},"-","-",2.9850746268656716E-2,"-",1,null,null,null,null,{"$f":"_xlfn.XLOOKUP($B$3,Bezetting_1!$A$2:$A$90,Bezetting_1!Q$2:Q$90,,0)","v":0},null,{"$f":"D10","v":"2023-10-12"},{"$f":"E10","v":"19:00 - 02:00u"},{"$f":"IF(F10=0,NA(),F10/$L10)","v":0.89655172413793105},{"$f":"IF(G10=0,NA(),G10/$L10)","v":0.10344827586206896},{"$error":"#N/A"},{"$error":"#N/A"},{"$error":"#N/A"},{"$error":"#N/A"}]
[null,null,null,{"$f":"_xlfn.XLOOKUP($B$3,Bezetting_2!$A$2:$A$90,Bezetting_2!C$2:C$90,,0)","v":"2023-10-12"},{"$f":"_xlfn.XLOOKUP($B$3,Bezetting_2!$A$2:$A$90,Bezetting_2!D$2:D$90,,0)","v":"19:00 - 02:00u"},{"$f":"_xlfn.XLOOKUP($B$3,Bezetting_2!$A$2:$A$90,Bezetting_2!E$2:E$90,,0)","v":26},{"$f":"_xlfn.XLOOKUP($B$3,Bezetting_2!$A$2:$A$90,Bezetting_2!F$2:F$90,,0)","v":3},{"$f":"_xlfn.XLOOKUP($B$3,Bezetting_2!$A$2:$A$90,Bezetting_2!G$2:G$90,,0)","v":0},{"$f":"_xlfn.XLOOKUP($B$3,Bezetting_2!$A$2:$A$90,Bezetting_2!H$2:H$90,,0)","v":0},{"$f":"_xlfn.XLOOKUP($B$3,Bezetting_2!$A$2:$A$90,Bezetting_2!I$2:I$90,,0)","v":0},{"$f":"_xlfn.XLOOKUP($B$3,Bezetting_2!$A$2:$A$90,Bezetting_2!J$2:J$90,,0)","v":0},{"$f":"_xlfn.XLOOKUP($B$3,Bezetting_2!$A$2:$A$90,Bezetting_2!K$2:K$90,,0)","v":29},{"$f":"_xlfn.XLOOKUP($B$3,Bezetting_2!$A$2:$A$90,Bezetting_2!L$2:L$90,,0)","v":0},{"$f":"_xlfn.XLOOKUP($B$3,Bezetting_2!$A$2:$A$90,Bezetting_2!M$2:M$90,,0)","v":0},{"$f":"_xlfn.XLOOKUP($B$3,Bezetting_2!$A$2:$A$90,Bezetting_2!N$2:N$90,,0)","v":1},{"$f":"_xlfn.XLOOKUP($B$3,Bezetting_2!$A$2:$A$90,Bezetting_2!O$2:O$90,,0)","v":0},{"$f":"_xlfn.XLOOKUP($B$3,Bezetting_2!$A$2:$A$90,Bezetting_2!P$2:P$90,,0)","v":0}]
[null,"Meting",null,null,null,{"$f":"IF(F10=0,\"-\",F10/$L$10)","v":0.89655172413793105},{"$f":"IF(G10=0,\"-\",G10/$L$10)","v":0.10344827586206896},"-","-","-","-",1,null,null,null,null,{"$f":"_xlfn.XLOOKUP($B$3,Bezetting_2!$A$2:$A$90,Bezetting_2!Q$2:Q$90,,0)","v":0}]
[null,{"$f":"\"Meetperiode: \"&TEXT(VLOOKUP(B3,Coordinaten!$A:$G,7,0),\"dddd dd mmmm jjjj\")","v":"Meetperiode: di 10 & do 12 oktober 2023"}]
[null,"Methodiek: Parkeerdrukmeting met waarnemers"]
[null,"In opdracht van: Vlaamse overheid"]
[null,"Uitgevoerd door: Dufec"]
[null,null,null,"VERDELING NAAR CATEGORIE"]
[null,"Locatie"]
[null,{"$f":"IF(B4=\"\",\"\",HYPERLINK(\"http://www.googlemaps.com/?q=\"&B4,\"Lat/Long: \"&B4))","v":"Lat/Long: 51.011285, 3.167382"}]
[]
[null,null,null,null,null,null,null,null,null,null,null,null,null,null,null,"Legenda"]
[null,null,null,null,null,null,null,null,null,null,null,null,null,null,null,null,"Personenwagen"]
[null,null,null,null,null,null,null,null,null,null,null,null,null,null,null,null,"Vracht"]
[null,null,null,null,null,null,null,null,null,null,null,null,null,null,null,null,"Motor"]
[null,null,null,null,null,null,null,null,null,null,null,null,null,null,null,null,"Obstakel / overig"]
[null,null,null,null,null,null,null,null,null,null,null,null,null,null,null,null,"Fout personenwagen"]
[null,null,null,null,null,null,null,null,null,null,null,null,null,null,null,null,"Fout Vracht"]
[]
[]
[]
[]
[]
[]
[]
[]
[]
[]
[]
[]
[null,"Toelichting"]
[null,"Pers = personenwagens op daarvoor bestemde"]
[null,"          openbare plaatsen"]
[null,"Vracht = vrachtwagens op daarvoor bestemde"]
[null,"          parkeerplaatsen (middel- en zwaar vrachtverkeer)"]
[null,"Motor = geparkeerde motoren op openbare plaatsen"]
[null,"Obstakel / overig = obstakels of overige voertuigen"]
[null,"          geparkeerd op openbare plaatsen"]
[null,"Fout pers = personenwagens die fout geparkeerd staan"]
[null,"Fout vracht = vrachtwagens die fout geparkeerd staan"]
[null,"E-wagen = geparkeerde elektrisch voertuig bij een"]
[null,"          elektrisch oplaadpunt"]
[null,"Invalide = personenwagens en motoren op voor"]
[null,"          invalide personen bestemde parkeerplaats"]
[null,"Gestalde fietsen = alle gestalde fietsen op de"]
[null,"          daarvoor bestemde parkeerplaatsen"]

{"sheet":"64.Kortrijk-Oost","index":59,"n_rows":54,"n_cols":26,"rows_kept":54,"cut":false,"hidden":false,"merged":[[4,3,5,12],[4,16,5,16],[15,3,16,12]]}
[]
[null,"PARKEERONDERZOEK",null,"CARPOOLPARKINGS EN P+R PARKINGS"]
[null,64,null,{"$f":"B8 & \" - \"& TEXT(VLOOKUP(B3,Coordinaten!$A$2:$G$95,7,0),\"dddd dd mmmm jjjj\")","v":"Carpool parking Kortrijk-Oost, Kortrijk - di 10 & do 12 oktober 2023"}]
[null,{"$f":"VLOOKUP(B3,Coordinaten!$A$2:$G$95,6,0)","v":"50.817455, 3.299312"}]
[null,null,null,"BEZETTING  ",null,null,null,null,null,null,null,null,null,null,null,null,"OPMERKINGEN"]
[]
[null,"Onderzoeksgebied",null,"Datum","Geregistreerd tussen","Pers","Vracht","Motor","Obstakel / overig","Fout   pers","Fout Vracht","Totaal","E-wagen\nplaats","Invalidenplaats","Gestalde fietsen",null,null,null,null,null,{"$f":"F7","v":"Pers"},"Vracht","Motor","Obstakel / overig","Fout   pers","Fout Vracht"]
[null,{"$f":"VLOOKUP(B3,Coordinaten!$A$2:$G$95,3,0)&\", \"&VLOOKUP(B3,Coordinaten!$A$2:$G$95,5,0)","v":"Carpool parking Kortrijk-Oost, Kortrijk"},null,{"$f":"_xlfn.XLOOKUP($B$3,Bezetting_1!$A$2:$A$90,Bezetting_1!C$2:C$90,,0)","v":"2023-10-12"},{"$f":"_xlfn.XLOOKUP($B$3,Bezetting_1!$A$2:$A$90,Bezetting_1!D$2:D$90,,0)","v":"09:00 - 16:00u"},{"$f":"_xlfn.XLOOKUP($B$3,Bezetting_1!$A$2:$A$90,Bezetting_1!E$2:E$90,,0)","v":75},{"$f":"_xlfn.XLOOKUP($B$3,Bezetting_1!$A$2:$A$90,Bezetting_1!F$2:F$90,,0)","v":0},{"$f":"_xlfn.XLOOKUP($B$3,Bezetting_1!$A$2:$A$90,Bezetting_1!G$2:G$90,,0)","v":0},{"$f":"_xlfn.XLOOKUP($B$3,Bezetting_1!$A$2:$A$90,Bezetting_1!H$2:H$90,,0)","v":0},{"$f":"_xlfn.XLOOKUP($B$3,Bezetting_1!$A$2:$A$90,Bezetting_1!I$2:I$90,,0)","v":0},{"$f":"_xlfn.XLOOKUP($B$3,Bezetting_1!$A$2:$A$90,Bezetting_1!J$2:J$90,,0)","v":0},{"$f":"_xlfn.XLOOKUP($B$3,Bezetting_1!$A$2:$A$90,Bezetting_1!K$2:K$90,,0)","v":75},{"$f":"_xlfn.XLOOKUP($B$3,Bezetting_1!$A$2:$A$90,Bezetting_1!L$2:L$90,,0)","v":0},{"$f":"_xlfn.XLOOKUP($B$3,Bezetting_1!$A$2:$A$90,Bezetting_1!M$2:M$90,,0)","v":0},{"$f":"_xlfn.XLOOKUP($B$3,Bezetting_1!$A$2:$A$90,Bezetting_1!N$2:N$90,,0)","v":6},null,{"$f":"_xlfn.XLOOKUP($B$3,Bezetting_1!$A$2:$A$90,Bezetting_1!P$2:P$90,,0)","v":0},null,{"$f":"D8","v":"2023-10-12"},{"$f":"E8","v":"09:00 - 16:00u"},{"$f":"IF(F8=0,NA(),F8/$L8)","v":1},{"$f":"IF(G8=0,NA(),G8/$L8)","v":{"$error":"#N/A"}},{"$f":"IF(H8=0,NA(),H8/$L8)","v":{"$error":"#N/A"}},{"$error":"#N/A"},{"$error":"#N/A"},{"$error":"#N/A"}]
[null,{"$f":"\"Nabij kruispunt: \"&VLOOKUP(B3,Coordinaten!$A$2:$L$95,4,0)","v":"Nabij kruispunt: N8 / A14"},null,null,null,{"$f":"IF(F8=0,\"-\",F8/$L$8)","v":1},{"$f":"IF(G8=0,\"-\",G8/$L$8)","v":"-"},"-","-","-","-",1,null,null,null,null,{"$f":"_xlfn.XLOOKUP($B$3,Bezetting_1!$A$2:$A$90,Bezetting_1!Q$2:Q$90,,0)","v":0},null,{"$f":"D10","v":"2023-10-12"},{"$f":"E10","v":"19:00 - 02:00u"},{"$f":"IF(F10=0,NA(),F10/$L10)","v":1},{"$f":"IF(G10=0,NA(),G10/$L10)","v":{"$error":"#N/A"}},{"$error":"#N/A"},{"$error":"#N/A"},{"$error":"#N/A"},{"$error":"#N/A"}]
[null,null,null,{"$f":"_xlfn.XLOOKUP($B$3,Bezetting_2!$A$2:$A$90,Bezetting_2!C$2:C$90,,0)","v":"2023-10-12"},{"$f":"_xlfn.XLOOKUP($B$3,Bezetting_2!$A$2:$A$90,Bezetting_2!D$2:D$90,,0)","v":"19:00 - 02:00u"},{"$f":"_xlfn.XLOOKUP($B$3,Bezetting_2!$A$2:$A$90,Bezetting_2!E$2:E$90,,0)","v":63},{"$f":"_xlfn.XLOOKUP($B$3,Bezetting_2!$A$2:$A$90,Bezetting_2!F$2:F$90,,0)","v":0},{"$f":"_xlfn.XLOOKUP($B$3,Bezetting_2!$A$2:$A$90,Bezetting_2!G$2:G$90,,0)","v":0},{"$f":"_xlfn.XLOOKUP($B$3,Bezetting_2!$A$2:$A$90,Bezetting_2!H$2:H$90,,0)","v":0},{"$f":"_xlfn.XLOOKUP($B$3,Bezetting_2!$A$2:$A$90,Bezetting_2!I$2:I$90,,0)","v":0},{"$f":"_xlfn.XLOOKUP($B$3,Bezetting_2!$A$2:$A$90,Bezetting_2!J$2:J$90,,0)","v":0},{"$f":"_xlfn.XLOOKUP($B$3,Bezetting_2!$A$2:$A$90,Bezetting_2!K$2:K$90,,0)","v":63},{"$f":"_xlfn.XLOOKUP($B$3,Bezetting_2!$A$2:$A$90,Bezetting_2!L$2:L$90,,0)","v":0},{"$f":"_xlfn.XLOOKUP($B$3,Bezetting_2!$A$2:$A$90,Bezetting_2!M$2:M$90,,0)","v":0},{"$f":"_xlfn.XLOOKUP($B$3,Bezetting_2!$A$2:$A$90,Bezetting_2!N$2:N$90,,0)","v":10},{"$f":"_xlfn.XLOOKUP($B$3,Bezetting_2!$A$2:$A$90,Bezetting_2!O$2:O$90,,0)","v":0},{"$f":"_xlfn.XLOOKUP($B$3,Bezetting_2!$A$2:$A$90,Bezetting_2!P$2:P$90,,0)","v":0}]
[null,"Meting",null,null,null,{"$f":"IF(F10=0,\"-\",F10/$L$10)","v":1},{"$f":"IF(G10=0,\"-\",G10/$L$10)","v":"-"},"-","-","-","-",1,null,null,null,null,{"$f":"_xlfn.XLOOKUP($B$3,Bezetting_2!$A$2:$A$90,Bezetting_2!Q$2:Q$90,,0)","v":0}]
[null,{"$f":"\"Meetperiode: \"&TEXT(VLOOKUP(B3,Coordinaten!$A:$G,7,0),\"dddd dd mmmm jjjj\")","v":"Meetperiode: di 10 & do 12 oktober 2023"}]
[null,"Methodiek: Parkeerdrukmeting met waarnemers"]
[null,"In opdracht van: Vlaamse overheid"]
[null,"Uitgevoerd door: Dufec"]
[null,null,null,"VERDELING NAAR CATEGORIE"]
[null,"Locatie"]
[null,{"$f":"IF(B4=\"\",\"\",HYPERLINK(\"http://www.googlemaps.com/?q=\"&B4,\"Lat/Long: \"&B4))","v":"Lat/Long: 50.817455, 3.299312"}]
[]
[null,null,null,null,null,null,null,null,null,null,null,null,null,null,null,"Legenda"]
[null,null,null,null,null,null,null,null,null,null,null,null,null,null,null,null,"Personenwagen"]
[null,null,null,null,null,null,null,null,null,null,null,null,null,null,null,null,"Vracht"]
[null,null,null,null,null,null,null,null,null,null,null,null,null,null,null,null,"Motor"]
[null,null,null,null,null,null,null,null,null,null,null,null,null,null,null,null,"Obstakel / overig"]
[null,null,null,null,null,null,null,null,null,null,null,null,null,null,null,null,"Fout personenwagen"]
[null,null,null,null,null,null,null,null,null,null,null,null,null,null,null,null,"Fout Vracht"]
[]
[]
[]
[]
[]
[]
[]
[]
[]
[]
[]
[]
[null,"Toelichting"]
[null,"Pers = personenwagens op daarvoor bestemde"]
[null,"          openbare plaatsen"]
[null,"Vracht = vrachtwagens op daarvoor bestemde"]
[null,"          parkeerplaatsen (middel- en zwaar vrachtverkeer)"]
[null,"Motor = geparkeerde motoren op openbare plaatsen"]
[null,"Obstakel / overig = obstakels of overige voertuigen"]
[null,"          geparkeerd op openbare plaatsen"]
[null,"Fout pers = personenwagens die fout geparkeerd staan"]
[null,"Fout vracht = vrachtwagens die fout geparkeerd staan"]
[null,"E-wagen = geparkeerde elektrisch voertuig bij een"]
[null,"          elektrisch oplaadpunt"]
[null,"Invalide = personenwagens en motoren op voor"]
[null,"          invalide personen bestemde parkeerplaats"]
[null,"Gestalde fietsen = alle gestalde fietsen op de"]
[null,"          daarvoor bestemde parkeerplaatsen"]

{"sheet":"65.Loppem","index":60,"n_rows":54,"n_cols":26,"rows_kept":54,"cut":false,"hidden":false,"merged":[[4,3,5,12],[4,16,5,16],[15,3,16,12]]}
[]
[null,"PARKEERONDERZOEK",null,"CARPOOLPARKINGS EN P+R PARKINGS"]
[null,65,null,{"$f":"B8 & \" - \"& TEXT(VLOOKUP(B3,Coordinaten!$A$2:$G$95,7,0),\"dddd dd mmmm jjjj\")","v":"P+R parking Loppem, Zedelgem - di 10 & do 12 oktober 2023"}]
[null,{"$f":"VLOOKUP(B3,Coordinaten!$A$2:$G$95,6,0)","v":"51.162436, 3.192146"}]
[null,null,null,"BEZETTING  ",null,null,null,null,null,null,null,null,null,null,null,null,"OPMERKINGEN"]
[]
[null,"Onderzoeksgebied",null,"Datum","Geregistreerd tussen","Pers","Vracht","Motor","Obstakel / overig","Fout   pers","Fout Vracht","Totaal","E-wagen\nplaats","Invalidenplaats","Gestalde fietsen",null,null,null,null,null,{"$f":"F7","v":"Pers"},"Vracht","Motor","Obstakel / overig","Fout   pers","Fout Vracht"]
[null,{"$f":"VLOOKUP(B3,Coordinaten!$A$2:$G$95,3,0)&\", \"&VLOOKUP(B3,Coordinaten!$A$2:$G$95,5,0)","v":"P+R parking Loppem, Zedelgem"},null,{"$f":"_xlfn.XLOOKUP($B$3,Bezetting_1!$A$2:$A$90,Bezetting_1!C$2:C$90,,0)","v":"2023-10-10"},{"$f":"_xlfn.XLOOKUP($B$3,Bezetting_1!$A$2:$A$90,Bezetting_1!D$2:D$90,,0)","v":"09:00 - 16:00u"},{"$f":"_xlfn.XLOOKUP($B$3,Bezetting_1!$A$2:$A$90,Bezetting_1!E$2:E$90,,0)","v":69},{"$f":"_xlfn.XLOOKUP($B$3,Bezetting_1!$A$2:$A$90,Bezetting_1!F$2:F$90,,0)","v":0},{"$f":"_xlfn.XLOOKUP($B$3,Bezetting_1!$A$2:$A$90,Bezetting_1!G$2:G$90,,0)","v":2},{"$f":"_xlfn.XLOOKUP($B$3,Bezetting_1!$A$2:$A$90,Bezetting_1!H$2:H$90,,0)","v":0},{"$f":"_xlfn.XLOOKUP($B$3,Bezetting_1!$A$2:$A$90,Bezetting_1!I$2:I$90,,0)","v":6},{"$f":"_xlfn.XLOOKUP($B$3,Bezetting_1!$A$2:$A$90,Bezetting_1!J$2:J$90,,0)","v":0},{"$f":"_xlfn.XLOOKUP($B$3,Bezetting_1!$A$2:$A$90,Bezetting_1!K$2:K$90,,0)","v":77},{"$f":"_xlfn.XLOOKUP($B$3,Bezetting_1!$A$2:$A$90,Bezetting_1!L$2:L$90,,0)","v":0},{"$f":"_xlfn.XLOOKUP($B$3,Bezetting_1!$A$2:$A$90,Bezetting_1!M$2:M$90,,0)","v":0},{"$f":"_xlfn.XLOOKUP($B$3,Bezetting_1!$A$2:$A$90,Bezetting_1!N$2:N$90,,0)","v":2},null,{"$f":"_xlfn.XLOOKUP($B$3,Bezetting_1!$A$2:$A$90,Bezetting_1!P$2:P$90,,0)","v":0},null,{"$f":"D8","v":"2023-10-10"},{"$f":"E8","v":"09:00 - 16:00u"},{"$f":"IF(F8=0,NA(),F8/$L8)","v":0.89610389610389607},{"$f":"IF(G8=0,NA(),G8/$L8)","v":{"$error":"#N/A"}},{"$f":"IF(H8=0,NA(),H8/$L8)","v":2.5974025974025976E-2},{"$error":"#N/A"},7.792207792207792E-2,{"$error":"#N/A"}]
[null,{"$f":"\"Nabij kruispunt: \"&VLOOKUP(B3,Coordinaten!$A$2:$L$95,4,0)","v":"Nabij kruispunt: N397 / E40"},null,null,null,{"$f":"IF(F8=0,\"-\",F8/$L$8)","v":0.89610389610389607},{"$f":"IF(G8=0,\"-\",G8/$L$8)","v":"-"},2.5974025974025976E-2,"-",7.792207792207792E-2,"-",1,null,null,null,null,{"$f":"_xlfn.XLOOKUP($B$3,Bezetting_1!$A$2:$A$90,Bezetting_1!Q$2:Q$90,,0)","v":0},null,{"$f":"D10","v":"2023-10-10"},{"$f":"E10","v":"19:00 - 02:00u"},{"$f":"IF(F10=0,NA(),F10/$L10)","v":0.92307692307692313},{"$f":"IF(G10=0,NA(),G10/$L10)","v":{"$error":"#N/A"}},{"$error":"#N/A"},3.8461538461538464E-2,3.8461538461538464E-2,{"$error":"#N/A"}]
[null,null,null,{"$f":"_xlfn.XLOOKUP($B$3,Bezetting_2!$A$2:$A$90,Bezetting_2!C$2:C$90,,0)","v":"2023-10-10"},{"$f":"_xlfn.XLOOKUP($B$3,Bezetting_2!$A$2:$A$90,Bezetting_2!D$2:D$90,,0)","v":"19:00 - 02:00u"},{"$f":"_xlfn.XLOOKUP($B$3,Bezetting_2!$A$2:$A$90,Bezetting_2!E$2:E$90,,0)","v":24},{"$f":"_xlfn.XLOOKUP($B$3,Bezetting_2!$A$2:$A$90,Bezetting_2!F$2:F$90,,0)","v":0},{"$f":"_xlfn.XLOOKUP($B$3,Bezetting_2!$A$2:$A$90,Bezetting_2!G$2:G$90,,0)","v":0},{"$f":"_xlfn.XLOOKUP($B$3,Bezetting_2!$A$2:$A$90,Bezetting_2!H$2:H$90,,0)","v":1},{"$f":"_xlfn.XLOOKUP($B$3,Bezetting_2!$A$2:$A$90,Bezetting_2!I$2:I$90,,0)","v":1},{"$f":"_xlfn.XLOOKUP($B$3,Bezetting_2!$A$2:$A$90,Bezetting_2!J$2:J$90,,0)","v":0},{"$f":"_xlfn.XLOOKUP($B$3,Bezetting_2!$A$2:$A$90,Bezetting_2!K$2:K$90,,0)","v":26},{"$f":"_xlfn.XLOOKUP($B$3,Bezetting_2!$A$2:$A$90,Bezetting_2!L$2:L$90,,0)","v":0},{"$f":"_xlfn.XLOOKUP($B$3,Bezetting_2!$A$2:$A$90,Bezetting_2!M$2:M$90,,0)","v":0},{"$f":"_xlfn.XLOOKUP($B$3,Bezetting_2!$A$2:$A$90,Bezetting_2!N$2:N$90,,0)","v":1},{"$f":"_xlfn.XLOOKUP($B$3,Bezetting_2!$A$2:$A$90,Bezetting_2!O$2:O$90,,0)","v":0},{"$f":"_xlfn.XLOOKUP($B$3,Bezetting_2!$A$2:$A$90,Bezetting_2!P$2:P$90,,0)","v":"Overig: trailer"}]
[null,"Meting",null,null,null,{"$f":"IF(F10=0,\"-\",F10/$L$10)","v":0.92307692307692313},{"$f":"IF(G10=0,\"-\",G10/$L$10)","v":"-"},"-",3.8461538461538464E-2,3.8461538461538464E-2,"-",1,null,null,null,null,{"$f":"_xlfn.XLOOKUP($B$3,Bezetting_2!$A$2:$A$90,Bezetting_2!Q$2:Q$90,,0)","v":0}]
[null,{"$f":"\"Meetperiode: \"&TEXT(VLOOKUP(B3,Coordinaten!$A:$G,7,0),\"dddd dd mmmm jjjj\")","v":"Meetperiode: di 10 & do 12 oktober 2023"}]
[null,"Methodiek: Parkeerdrukmeting met waarnemers"]
[null,"In opdracht van: Vlaamse overheid"]
[null,"Uitgevoerd door: Dufec"]
[null,null,null,"VERDELING NAAR CATEGORIE"]
[null,"Locatie"]
[null,{"$f":"IF(B4=\"\",\"\",HYPERLINK(\"http://www.googlemaps.com/?q=\"&B4,\"Lat/Long: \"&B4))","v":"Lat/Long: 51.162436, 3.192146"}]
[]
[null,null,null,null,null,null,null,null,null,null,null,null,null,null,null,"Legenda"]
[null,null,null,null,null,null,null,null,null,null,null,null,null,null,null,null,"Personenwagen"]
[null,null,null,null,null,null,null,null,null,null,null,null,null,null,null,null,"Vracht"]
[null,null,null,null,null,null,null,null,null,null,null,null,null,null,null,null,"Motor"]
[null,null,null,null,null,null,null,null,null,null,null,null,null,null,null,null,"Obstakel / overig"]
[null,null,null,null,null,null,null,null,null,null,null,null,null,null,null,null,"Fout personenwagen"]
[null,null,null,null,null,null,null,null,null,null,null,null,null,null,null,null,"Fout Vracht"]
[]
[]
[]
[]
[]
[]
[]
[]
[]
[]
[]
[]
[null,"Toelichting"]
[null,"Pers = personenwagens op daarvoor bestemde"]
[null,"          openbare plaatsen"]
[null,"Vracht = vrachtwagens op daarvoor bestemde"]
[null,"          parkeerplaatsen (middel- en zwaar vrachtverkeer)"]
[null,"Motor = geparkeerde motoren op openbare plaatsen"]
[null,"Obstakel / overig = obstakels of overige voertuigen"]
[null,"          geparkeerd op openbare plaatsen"]
[null,"Fout pers = personenwagens die fout geparkeerd staan"]
[null,"Fout vracht = vrachtwagens die fout geparkeerd staan"]
[null,"E-wagen = geparkeerde elektrisch voertuig bij een"]
[null,"          elektrisch oplaadpunt"]
[null,"Invalide = personenwagens en motoren op voor"]
[null,"          invalide personen bestemde parkeerplaats"]
[null,"Gestalde fietsen = alle gestalde fietsen op de"]
[null,"          daarvoor bestemde parkeerplaatsen"]

{"sheet":"66.Jabbeke-Oost","index":61,"n_rows":54,"n_cols":26,"rows_kept":54,"cut":false,"hidden":false,"merged":[[4,3,5,12],[4,16,5,16],[15,3,16,12]]}
[]
[null,"PARKEERONDERZOEK",null,"CARPOOLPARKINGS EN P+R PARKINGS"]
[null,66,null,{"$f":"B8 & \" - \"& TEXT(VLOOKUP(B3,Coordinaten!$A$2:$G$95,7,0),\"dddd dd mmmm jjjj\")","v":"Carpool parking Jabbeke-Oost, Jabbeke - di 10 & do 12 oktober 2023"}]
[null,{"$f":"VLOOKUP(B3,Coordinaten!$A$2:$G$95,6,0)","v":"51.180310, 3.113845"}]
[null,null,null,"BEZETTING  ",null,null,null,null,null,null,null,null,null,null,null,null,"OPMERKINGEN"]
[]
[null,"Onderzoeksgebied",null,"Datum","Geregistreerd tussen","Pers","Vracht","Motor","Obstakel / overig","Fout   pers","Fout Vracht","Totaal","E-wagen\nplaats","Invalidenplaats","Gestalde fietsen",null,null,null,null,null,{"$f":"F7","v":"Pers"},"Vracht","Motor","Obstakel / overig","Fout   pers","Fout Vracht"]
[null,{"$f":"VLOOKUP(B3,Coordinaten!$A$2:$G$95,3,0)&\", \"&VLOOKUP(B3,Coordinaten!$A$2:$G$95,5,0)","v":"Carpool parking Jabbeke-Oost, Jabbeke"},null,{"$f":"_xlfn.XLOOKUP($B$3,Bezetting_1!$A$2:$A$90,Bezetting_1!C$2:C$90,,0)","v":"2023-10-10"},{"$f":"_xlfn.XLOOKUP($B$3,Bezetting_1!$A$2:$A$90,Bezetting_1!D$2:D$90,,0)","v":"09:00 - 16:00u"},{"$f":"_xlfn.XLOOKUP($B$3,Bezetting_1!$A$2:$A$90,Bezetting_1!E$2:E$90,,0)","v":23},{"$f":"_xlfn.XLOOKUP($B$3,Bezetting_1!$A$2:$A$90,Bezetting_1!F$2:F$90,,0)","v":12},{"$f":"_xlfn.XLOOKUP($B$3,Bezetting_1!$A$2:$A$90,Bezetting_1!G$2:G$90,,0)","v":0},{"$f":"_xlfn.XLOOKUP($B$3,Bezetting_1!$A$2:$A$90,Bezetting_1!H$2:H$90,,0)","v":0},{"$f":"_xlfn.XLOOKUP($B$3,Bezetting_1!$A$2:$A$90,Bezetting_1!I$2:I$90,,0)","v":0},{"$f":"_xlfn.XLOOKUP($B$3,Bezetting_1!$A$2:$A$90,Bezetting_1!J$2:J$90,,0)","v":0},{"$f":"_xlfn.XLOOKUP($B$3,Bezetting_1!$A$2:$A$90,Bezetting_1!K$2:K$90,,0)","v":35},{"$f":"_xlfn.XLOOKUP($B$3,Bezetting_1!$A$2:$A$90,Bezetting_1!L$2:L$90,,0)","v":0},{"$f":"_xlfn.XLOOKUP($B$3,Bezetting_1!$A$2:$A$90,Bezetting_1!M$2:M$90,,0)","v":0},{"$f":"_xlfn.XLOOKUP($B$3,Bezetting_1!$A$2:$A$90,Bezetting_1!N$2:N$90,,0)","v":0},null,{"$f":"_xlfn.XLOOKUP($B$3,Bezetting_1!$A$2:$A$90,Bezetting_1!P$2:P$90,,0)","v":0},null,{"$f":"D8","v":"2023-10-10"},{"$f":"E8","v":"09:00 - 16:00u"},{"$f":"IF(F8=0,NA(),F8/$L8)","v":0.65714285714285714},{"$f":"IF(G8=0,NA(),G8/$L8)","v":0.34285714285714286},{"$f":"IF(H8=0,NA(),H8/$L8)","v":{"$error":"#N/A"}},{"$error":"#N/A"},{"$error":"#N/A"},{"$error":"#N/A"}]
[null,{"$f":"\"Nabij kruispunt: \"&VLOOKUP(B3,Coordinaten!$A$2:$L$95,4,0)","v":"Nabij kruispunt: N376 / Vlamingveld"},null,null,null,{"$f":"IF(F8=0,\"-\",F8/$L$8)","v":0.65714285714285714},{"$f":"IF(G8=0,\"-\",G8/$L$8)","v":0.34285714285714286},"-","-","-","-",1,null,null,null,null,{"$f":"_xlfn.XLOOKUP($B$3,Bezetting_1!$A$2:$A$90,Bezetting_1!Q$2:Q$90,,0)","v":0},null,{"$f":"D10","v":"2023-10-10"},{"$f":"E10","v":"19:00 - 02:00u"},{"$f":"IF(F10=0,NA(),F10/$L10)","v":0.42105263157894735},{"$f":"IF(G10=0,NA(),G10/$L10)","v":0.44736842105263158},{"$error":"#N/A"},{"$error":"#N/A"},{"$error":"#N/A"},0.13157894736842105]
[null,null,null,{"$f":"_xlfn.XLOOKUP($B$3,Bezetting_2!$A$2:$A$90,Bezetting_2!C$2:C$90,,0)","v":"2023-10-10"},{"$f":"_xlfn.XLOOKUP($B$3,Bezetting_2!$A$2:$A$90,Bezetting_2!D$2:D$90,,0)","v":"19:00 - 02:00u"},{"$f":"_xlfn.XLOOKUP($B$3,Bezetting_2!$A$2:$A$90,Bezetting_2!E$2:E$90,,0)","v":16},{"$f":"_xlfn.XLOOKUP($B$3,Bezetting_2!$A$2:$A$90,Bezetting_2!F$2:F$90,,0)","v":17},{"$f":"_xlfn.XLOOKUP($B$3,Bezetting_2!$A$2:$A$90,Bezetting_2!G$2:G$90,,0)","v":0},{"$f":"_xlfn.XLOOKUP($B$3,Bezetting_2!$A$2:$A$90,Bezetting_2!H$2:H$90,,0)","v":0},{"$f":"_xlfn.XLOOKUP($B$3,Bezetting_2!$A$2:$A$90,Bezetting_2!I$2:I$90,,0)","v":0},{"$f":"_xlfn.XLOOKUP($B$3,Bezetting_2!$A$2:$A$90,Bezetting_2!J$2:J$90,,0)","v":5},{"$f":"_xlfn.XLOOKUP($B$3,Bezetting_2!$A$2:$A$90,Bezetting_2!K$2:K$90,,0)","v":38},{"$f":"_xlfn.XLOOKUP($B$3,Bezetting_2!$A$2:$A$90,Bezetting_2!L$2:L$90,,0)","v":0},{"$f":"_xlfn.XLOOKUP($B$3,Bezetting_2!$A$2:$A$90,Bezetting_2!M$2:M$90,,0)","v":0},{"$f":"_xlfn.XLOOKUP($B$3,Bezetting_2!$A$2:$A$90,Bezetting_2!N$2:N$90,,0)","v":0},{"$f":"_xlfn.XLOOKUP($B$3,Bezetting_2!$A$2:$A$90,Bezetting_2!O$2:O$90,,0)","v":0},{"$f":"_xlfn.XLOOKUP($B$3,Bezetting_2!$A$2:$A$90,Bezetting_2!P$2:P$90,,0)","v":0}]
[null,"Meting",null,null,null,{"$f":"IF(F10=0,\"-\",F10/$L$10)","v":0.42105263157894735},{"$f":"IF(G10=0,\"-\",G10/$L$10)","v":0.44736842105263158},"-","-","-",0.13157894736842105,1,null,null,null,null,{"$f":"_xlfn.XLOOKUP($B$3,Bezetting_2!$A$2:$A$90,Bezetting_2!Q$2:Q$90,,0)","v":0}]
[null,{"$f":"\"Meetperiode: \"&TEXT(VLOOKUP(B3,Coordinaten!$A:$G,7,0),\"dddd dd mmmm jjjj\")","v":"Meetperiode: di 10 & do 12 oktober 2023"}]
[null,"Methodiek: Parkeerdrukmeting met waarnemers"]
[null,"In opdracht van: Vlaamse overheid"]
[null,"Uitgevoerd door: Dufec"]
[null,null,null,"VERDELING NAAR CATEGORIE"]
[null,"Locatie"]
[null,{"$f":"IF(B4=\"\",\"\",HYPERLINK(\"http://www.googlemaps.com/?q=\"&B4,\"Lat/Long: \"&B4))","v":"Lat/Long: 51.180310, 3.113845"}]
[]
[null,null,null,null,null,null,null,null,null,null,null,null,null,null,null,"Legenda"]
[null,null,null,null,null,null,null,null,null,null,null,null,null,null,null,null,"Personenwagen"]
[null,null,null,null,null,null,null,null,null,null,null,null,null,null,null,null,"Vracht"]
[null,null,null,null,null,null,null,null,null,null,null,null,null,null,null,null,"Motor"]
[null,null,null,null,null,null,null,null,null,null,null,null,null,null,null,null,"Obstakel / overig"]
[null,null,null,null,null,null,null,null,null,null,null,null,null,null,null,null,"Fout personenwagen"]
[null,null,null,null,null,null,null,null,null,null,null,null,null,null,null,null,"Fout Vracht"]
[]
[]
[]
[]
[]
[]
[]
[]
[]
[]
[]
[]
[null,"Toelichting"]
[null,"Pers = personenwagens op daarvoor bestemde"]
[null,"          openbare plaatsen"]
[null,"Vracht = vrachtwagens op daarvoor bestemde"]
[null,"          parkeerplaatsen (middel- en zwaar vrachtverkeer)"]
[null,"Motor = geparkeerde motoren op openbare plaatsen"]
[null,"Obstakel / overig = obstakels of overige voertuigen"]
[null,"          geparkeerd op openbare plaatsen"]
[null,"Fout pers = personenwagens die fout geparkeerd staan"]
[null,"Fout vracht = vrachtwagens die fout geparkeerd staan"]
[null,"E-wagen = geparkeerde elektrisch voertuig bij een"]
[null,"          elektrisch oplaadpunt"]
[null,"Invalide = personenwagens en motoren op voor"]
[null,"          invalide personen bestemde parkeerplaats"]
[null,"Gestalde fietsen = alle gestalde fietsen op de"]
[null,"          daarvoor bestemde parkeerplaatsen"]

{"sheet":"67.Waregem","index":62,"n_rows":54,"n_cols":26,"rows_kept":54,"cut":false,"hidden":false,"merged":[[4,3,5,12],[4,16,5,16],[15,3,16,12]]}
[]
[null,"PARKEERONDERZOEK",null,"CARPOOLPARKINGS EN P+R PARKINGS"]
[null,67,null,{"$f":"B8 & \" - \"& TEXT(VLOOKUP(B3,Coordinaten!$A$2:$G$95,7,0),\"dddd dd mmmm jjjj\")","v":"Carpool parking Waregem, Waregem - di 10 & do 12 oktober 2023"}]
[null,{"$f":"VLOOKUP(B3,Coordinaten!$A$2:$G$95,6,0)","v":"50.873938, 3.441505"}]
[null,null,null,"BEZETTING  ",null,null,null,null,null,null,null,null,null,null,null,null,"OPMERKINGEN"]
[]
[null,"Onderzoeksgebied",null,"Datum","Geregistreerd tussen","Pers","Vracht","Motor","Obstakel / overig","Fout   pers","Fout Vracht","Totaal","E-wagen\nplaats","Invalidenplaats","Gestalde fietsen",null,null,null,null,null,{"$f":"F7","v":"Pers"},"Vracht","Motor","Obstakel / overig","Fout   pers","Fout Vracht"]
[null,{"$f":"VLOOKUP(B3,Coordinaten!$A$2:$G$95,3,0)&\", \"&VLOOKUP(B3,Coordinaten!$A$2:$G$95,5,0)","v":"Carpool parking Waregem, Waregem"},null,{"$f":"_xlfn.XLOOKUP($B$3,Bezetting_1!$A$2:$A$90,Bezetting_1!C$2:C$90,,0)","v":"2023-10-12"},{"$f":"_xlfn.XLOOKUP($B$3,Bezetting_1!$A$2:$A$90,Bezetting_1!D$2:D$90,,0)","v":"09:00 - 16:00u"},{"$f":"_xlfn.XLOOKUP($B$3,Bezetting_1!$A$2:$A$90,Bezetting_1!E$2:E$90,,0)","v":49},{"$f":"_xlfn.XLOOKUP($B$3,Bezetting_1!$A$2:$A$90,Bezetting_1!F$2:F$90,,0)","v":0},{"$f":"_xlfn.XLOOKUP($B$3,Bezetting_1!$A$2:$A$90,Bezetting_1!G$2:G$90,,0)","v":0},{"$f":"_xlfn.XLOOKUP($B$3,Bezetting_1!$A$2:$A$90,Bezetting_1!H$2:H$90,,0)","v":0},{"$f":"_xlfn.XLOOKUP($B$3,Bezetting_1!$A$2:$A$90,Bezetting_1!I$2:I$90,,0)","v":0},{"$f":"_xlfn.XLOOKUP($B$3,Bezetting_1!$A$2:$A$90,Bezetting_1!J$2:J$90,,0)","v":0},{"$f":"_xlfn.XLOOKUP($B$3,Bezetting_1!$A$2:$A$90,Bezetting_1!K$2:K$90,,0)","v":49},{"$f":"_xlfn.XLOOKUP($B$3,Bezetting_1!$A$2:$A$90,Bezetting_1!L$2:L$90,,0)","v":0},{"$f":"_xlfn.XLOOKUP($B$3,Bezetting_1!$A$2:$A$90,Bezetting_1!M$2:M$90,,0)","v":0},{"$f":"_xlfn.XLOOKUP($B$3,Bezetting_1!$A$2:$A$90,Bezetting_1!N$2:N$90,,0)","v":1},null,{"$f":"_xlfn.XLOOKUP($B$3,Bezetting_1!$A$2:$A$90,Bezetting_1!P$2:P$90,,0)","v":0},null,{"$f":"D8","v":"2023-10-12"},{"$f":"E8","v":"09:00 - 16:00u"},{"$f":"IF(F8=0,NA(),F8/$L8)","v":1},{"$f":"IF(G8=0,NA(),G8/$L8)","v":{"$error":"#N/A"}},{"$f":"IF(H8=0,NA(),H8/$L8)","v":{"$error":"#N/A"}},{"$error":"#N/A"},{"$error":"#N/A"},{"$error":"#N/A"}]
[null,{"$f":"\"Nabij kruispunt: \"&VLOOKUP(B3,Coordinaten!$A$2:$L$95,4,0)","v":"Nabij kruispunt: N357 / Franklin Rooseveltlaan"},null,null,null,{"$f":"IF(F8=0,\"-\",F8/$L$8)","v":1},{"$f":"IF(G8=0,\"-\",G8/$L$8)","v":"-"},"-","-","-","-",1,null,null,null,null,{"$f":"_xlfn.XLOOKUP($B$3,Bezetting_1!$A$2:$A$90,Bezetting_1!Q$2:Q$90,,0)","v":0},null,{"$f":"D10","v":"2023-10-12"},{"$f":"E10","v":"19:00 - 02:00u"},{"$f":"IF(F10=0,NA(),F10/$L10)","v":1},{"$f":"IF(G10=0,NA(),G10/$L10)","v":{"$error":"#N/A"}},{"$error":"#N/A"},{"$error":"#N/A"},{"$error":"#N/A"},{"$error":"#N/A"}]
[null,null,null,{"$f":"_xlfn.XLOOKUP($B$3,Bezetting_2!$A$2:$A$90,Bezetting_2!C$2:C$90,,0)","v":"2023-10-12"},{"$f":"_xlfn.XLOOKUP($B$3,Bezetting_2!$A$2:$A$90,Bezetting_2!D$2:D$90,,0)","v":"19:00 - 02:00u"},{"$f":"_xlfn.XLOOKUP($B$3,Bezetting_2!$A$2:$A$90,Bezetting_2!E$2:E$90,,0)","v":38},{"$f":"_xlfn.XLOOKUP($B$3,Bezetting_2!$A$2:$A$90,Bezetting_2!F$2:F$90,,0)","v":0},{"$f":"_xlfn.XLOOKUP($B$3,Bezetting_2!$A$2:$A$90,Bezetting_2!G$2:G$90,,0)","v":0},{"$f":"_xlfn.XLOOKUP($B$3,Bezetting_2!$A$2:$A$90,Bezetting_2!H$2:H$90,,0)","v":0},{"$f":"_xlfn.XLOOKUP($B$3,Bezetting_2!$A$2:$A$90,Bezetting_2!I$2:I$90,,0)","v":0},{"$f":"_xlfn.XLOOKUP($B$3,Bezetting_2!$A$2:$A$90,Bezetting_2!J$2:J$90,,0)","v":0},{"$f":"_xlfn.XLOOKUP($B$3,Bezetting_2!$A$2:$A$90,Bezetting_2!K$2:K$90,,0)","v":38},{"$f":"_xlfn.XLOOKUP($B$3,Bezetting_2!$A$2:$A$90,Bezetting_2!L$2:L$90,,0)","v":0},{"$f":"_xlfn.XLOOKUP($B$3,Bezetting_2!$A$2:$A$90,Bezetting_2!M$2:M$90,,0)","v":1},{"$f":"_xlfn.XLOOKUP($B$3,Bezetting_2!$A$2:$A$90,Bezetting_2!N$2:N$90,,0)","v":1},{"$f":"_xlfn.XLOOKUP($B$3,Bezetting_2!$A$2:$A$90,Bezetting_2!O$2:O$90,,0)","v":0},{"$f":"_xlfn.XLOOKUP($B$3,Bezetting_2!$A$2:$A$90,Bezetting_2!P$2:P$90,,0)","v":0}]
[null,"Meting",null,null,null,{"$f":"IF(F10=0,\"-\",F10/$L$10)","v":1},{"$f":"IF(G10=0,\"-\",G10/$L$10)","v":"-"},"-","-","-","-",1,null,null,null,null,{"$f":"_xlfn.XLOOKUP($B$3,Bezetting_2!$A$2:$A$90,Bezetting_2!Q$2:Q$90,,0)","v":0}]
[null,{"$f":"\"Meetperiode: \"&TEXT(VLOOKUP(B3,Coordinaten!$A:$G,7,0),\"dddd dd mmmm jjjj\")","v":"Meetperiode: di 10 & do 12 oktober 2023"}]
[null,"Methodiek: Parkeerdrukmeting met waarnemers"]
[null,"In opdracht van: Vlaamse overheid"]
[null,"Uitgevoerd door: Dufec"]
[null,null,null,"VERDELING NAAR CATEGORIE"]
[null,"Locatie"]
[null,{"$f":"IF(B4=\"\",\"\",HYPERLINK(\"http://www.googlemaps.com/?q=\"&B4,\"Lat/Long: \"&B4))","v":"Lat/Long: 50.873938, 3.441505"}]
[]
[null,null,null,null,null,null,null,null,null,null,null,null,null,null,null,"Legenda"]
[null,null,null,null,null,null,null,null,null,null,null,null,null,null,null,null,"Personenwagen"]
[null,null,null,null,null,null,null,null,null,null,null,null,null,null,null,null,"Vracht"]
[null,null,null,null,null,null,null,null,null,null,null,null,null,null,null,null,"Motor"]
[null,null,null,null,null,null,null,null,null,null,null,null,null,null,null,null,"Obstakel / overig"]
[null,null,null,null,null,null,null,null,null,null,null,null,null,null,null,null,"Fout personenwagen"]
[null,null,null,null,null,null,null,null,null,null,null,null,null,null,null,null,"Fout Vracht"]
[]
[]
[]
[]
[]
[]
[]
[]
[]
[]
[]
[]
[null,"Toelichting"]
[null,"Pers = personenwagens op daarvoor bestemde"]
[null,"          openbare plaatsen"]
[null,"Vracht = vrachtwagens op daarvoor bestemde"]
[null,"          parkeerplaatsen (middel- en zwaar vrachtverkeer)"]
[null,"Motor = geparkeerde motoren op openbare plaatsen"]
[null,"Obstakel / overig = obstakels of overige voertuigen"]
[null,"          geparkeerd op openbare plaatsen"]
[null,"Fout pers = personenwagens die fout geparkeerd staan"]
[null,"Fout vracht = vrachtwagens die fout geparkeerd staan"]
[null,"E-wagen = geparkeerde elektrisch voertuig bij een"]
[null,"          elektrisch oplaadpunt"]
[null,"Invalide = personenwagens en motoren op voor"]
[null,"          invalide personen bestemde parkeerplaats"]
[null,"Gestalde fietsen = alle gestalde fietsen op de"]
[null,"          daarvoor bestemde parkeerplaatsen"]

{"sheet":"68.Zandvoorde","index":63,"n_rows":54,"n_cols":26,"rows_kept":54,"cut":false,"hidden":false,"merged":[[4,3,5,12],[4,16,5,16],[15,3,16,12]]}
[]
[null,"PARKEERONDERZOEK",null,"CARPOOLPARKINGS EN P+R PARKINGS"]
[null,68,null,{"$f":"B8 & \" - \"& TEXT(VLOOKUP(B3,Coordinaten!$A$2:$G$95,7,0),\"dddd dd mmmm jjjj\")","v":"Carpool parking Zandvoorde, Oostende - di 10 & do 12 oktober 2023"}]
[null,{"$f":"VLOOKUP(B3,Coordinaten!$A$2:$G$95,6,0)","v":"51.204204, 2.976173"}]
[null,null,null,"BEZETTING  ",null,null,null,null,null,null,null,null,null,null,null,null,"OPMERKINGEN"]
[]
[null,"Onderzoeksgebied",null,"Datum","Geregistreerd tussen","Pers","Vracht","Motor","Obstakel / overig","Fout   pers","Fout Vracht","Totaal","E-wagen\nplaats","Invalidenplaats","Gestalde fietsen",null,null,null,null,null,{"$f":"F7","v":"Pers"},"Vracht","Motor","Obstakel / overig","Fout   pers","Fout Vracht"]
[null,{"$f":"VLOOKUP(B3,Coordinaten!$A$2:$G$95,3,0)&\", \"&VLOOKUP(B3,Coordinaten!$A$2:$G$95,5,0)","v":"Carpool parking Zandvoorde, Oostende"},null,{"$f":"_xlfn.XLOOKUP($B$3,Bezetting_1!$A$2:$A$90,Bezetting_1!C$2:C$90,,0)","v":"2023-10-10"},{"$f":"_xlfn.XLOOKUP($B$3,Bezetting_1!$A$2:$A$90,Bezetting_1!D$2:D$90,,0)","v":"09:00 - 16:00u"},{"$f":"_xlfn.XLOOKUP($B$3,Bezetting_1!$A$2:$A$90,Bezetting_1!E$2:E$90,,0)","v":3},{"$f":"_xlfn.XLOOKUP($B$3,Bezetting_1!$A$2:$A$90,Bezetting_1!F$2:F$90,,0)","v":0},{"$f":"_xlfn.XLOOKUP($B$3,Bezetting_1!$A$2:$A$90,Bezetting_1!G$2:G$90,,0)","v":0},{"$f":"_xlfn.XLOOKUP($B$3,Bezetting_1!$A$2:$A$90,Bezetting_1!H$2:H$90,,0)","v":0},{"$f":"_xlfn.XLOOKUP($B$3,Bezetting_1!$A$2:$A$90,Bezetting_1!I$2:I$90,,0)","v":0},{"$f":"_xlfn.XLOOKUP($B$3,Bezetting_1!$A$2:$A$90,Bezetting_1!J$2:J$90,,0)","v":0},{"$f":"_xlfn.XLOOKUP($B$3,Bezetting_1!$A$2:$A$90,Bezetting_1!K$2:K$90,,0)","v":3},{"$f":"_xlfn.XLOOKUP($B$3,Bezetting_1!$A$2:$A$90,Bezetting_1!L$2:L$90,,0)","v":0},{"$f":"_xlfn.XLOOKUP($B$3,Bezetting_1!$A$2:$A$90,Bezetting_1!M$2:M$90,,0)","v":0},{"$f":"_xlfn.XLOOKUP($B$3,Bezetting_1!$A$2:$A$90,Bezetting_1!N$2:N$90,,0)","v":0},null,{"$f":"_xlfn.XLOOKUP($B$3,Bezetting_1!$A$2:$A$90,Bezetting_1!P$2:P$90,,0)","v":0},null,{"$f":"D8","v":"2023-10-10"},{"$f":"E8","v":"09:00 - 16:00u"},{"$f":"IF(F8=0,NA(),F8/$L8)","v":1},{"$f":"IF(G8=0,NA(),G8/$L8)","v":{"$error":"#N/A"}},{"$f":"IF(H8=0,NA(),H8/$L8)","v":{"$error":"#N/A"}},{"$error":"#N/A"},{"$error":"#N/A"},{"$error":"#N/A"}]
[null,{"$f":"\"Nabij kruispunt: \"&VLOOKUP(B3,Coordinaten!$A$2:$L$95,4,0)","v":"Nabij kruispunt: A10 / Kasteelstraat"},null,null,null,{"$f":"IF(F8=0,\"-\",F8/$L$8)","v":1},{"$f":"IF(G8=0,\"-\",G8/$L$8)","v":"-"},"-","-","-","-",1,null,null,null,null,{"$f":"_xlfn.XLOOKUP($B$3,Bezetting_1!$A$2:$A$90,Bezetting_1!Q$2:Q$90,,0)","v":0},null,{"$f":"D10","v":"2023-10-10"},{"$f":"E10","v":"19:00 - 02:00u"},{"$f":"IF(F10=0,NA(),F10/$L10)","v":0.75},{"$f":"IF(G10=0,NA(),G10/$L10)","v":{"$error":"#N/A"}},{"$error":"#N/A"},0.25,{"$error":"#N/A"},{"$error":"#N/A"}]
[null,null,null,{"$f":"_xlfn.XLOOKUP($B$3,Bezetting_2!$A$2:$A$90,Bezetting_2!C$2:C$90,,0)","v":"2023-10-10"},{"$f":"_xlfn.XLOOKUP($B$3,Bezetting_2!$A$2:$A$90,Bezetting_2!D$2:D$90,,0)","v":"19:00 - 02:00u"},{"$f":"_xlfn.XLOOKUP($B$3,Bezetting_2!$A$2:$A$90,Bezetting_2!E$2:E$90,,0)","v":3},{"$f":"_xlfn.XLOOKUP($B$3,Bezetting_2!$A$2:$A$90,Bezetting_2!F$2:F$90,,0)","v":0},{"$f":"_xlfn.XLOOKUP($B$3,Bezetting_2!$A$2:$A$90,Bezetting_2!G$2:G$90,,0)","v":0},{"$f":"_xlfn.XLOOKUP($B$3,Bezetting_2!$A$2:$A$90,Bezetting_2!H$2:H$90,,0)","v":1},{"$f":"_xlfn.XLOOKUP($B$3,Bezetting_2!$A$2:$A$90,Bezetting_2!I$2:I$90,,0)","v":0},{"$f":"_xlfn.XLOOKUP($B$3,Bezetting_2!$A$2:$A$90,Bezetting_2!J$2:J$90,,0)","v":0},{"$f":"_xlfn.XLOOKUP($B$3,Bezetting_2!$A$2:$A$90,Bezetting_2!K$2:K$90,,0)","v":4},{"$f":"_xlfn.XLOOKUP($B$3,Bezetting_2!$A$2:$A$90,Bezetting_2!L$2:L$90,,0)","v":0},{"$f":"_xlfn.XLOOKUP($B$3,Bezetting_2!$A$2:$A$90,Bezetting_2!M$2:M$90,,0)","v":0},{"$f":"_xlfn.XLOOKUP($B$3,Bezetting_2!$A$2:$A$90,Bezetting_2!N$2:N$90,,0)","v":0},{"$f":"_xlfn.XLOOKUP($B$3,Bezetting_2!$A$2:$A$90,Bezetting_2!O$2:O$90,,0)","v":0},{"$f":"_xlfn.XLOOKUP($B$3,Bezetting_2!$A$2:$A$90,Bezetting_2!P$2:P$90,,0)","v":"Overig: e-scooter"}]
[null,"Meting",null,null,null,{"$f":"IF(F10=0,\"-\",F10/$L$10)","v":0.75},{"$f":"IF(G10=0,\"-\",G10/$L$10)","v":"-"},"-",0.25,"-","-",1,null,null,null,null,{"$f":"_xlfn.XLOOKUP($B$3,Bezetting_2!$A$2:$A$90,Bezetting_2!Q$2:Q$90,,0)","v":0}]
[null,{"$f":"\"Meetperiode: \"&TEXT(VLOOKUP(B3,Coordinaten!$A:$G,7,0),\"dddd dd mmmm jjjj\")","v":"Meetperiode: di 10 & do 12 oktober 2023"}]
[null,"Methodiek: Parkeerdrukmeting met waarnemers"]
[null,"In opdracht van: Vlaamse overheid"]
[null,"Uitgevoerd door: Dufec"]
[null,null,null,"VERDELING NAAR CATEGORIE"]
[null,"Locatie"]
[null,{"$f":"IF(B4=\"\",\"\",HYPERLINK(\"http://www.googlemaps.com/?q=\"&B4,\"Lat/Long: \"&B4))","v":"Lat/Long: 51.204204, 2.976173"}]
[]
[null,null,null,null,null,null,null,null,null,null,null,null,null,null,null,"Legenda"]
[null,null,null,null,null,null,null,null,null,null,null,null,null,null,null,null,"Personenwagen"]
[null,null,null,null,null,null,null,null,null,null,null,null,null,null,null,null,"Vracht"]
[null,null,null,null,null,null,null,null,null,null,null,null,null,null,null,null,"Motor"]
[null,null,null,null,null,null,null,null,null,null,null,null,null,null,null,null,"Obstakel / overig"]
[null,null,null,null,null,null,null,null,null,null,null,null,null,null,null,null,"Fout personenwagen"]
[null,null,null,null,null,null,null,null,null,null,null,null,null,null,null,null,"Fout Vracht"]
[]
[]
[]
[]
[]
[]
[]
[]
[]
[]
[]
[]
[null,"Toelichting"]
[null,"Pers = personenwagens op daarvoor bestemde"]
[null,"          openbare plaatsen"]
[null,"Vracht = vrachtwagens op daarvoor bestemde"]
[null,"          parkeerplaatsen (middel- en zwaar vrachtverkeer)"]
[null,"Motor = geparkeerde motoren op openbare plaatsen"]
[null,"Obstakel / overig = obstakels of overige voertuigen"]
[null,"          geparkeerd op openbare plaatsen"]
[null,"Fout pers = personenwagens die fout geparkeerd staan"]
[null,"Fout vracht = vrachtwagens die fout geparkeerd staan"]
[null,"E-wagen = geparkeerde elektrisch voertuig bij een"]
[null,"          elektrisch oplaadpunt"]
[null,"Invalide = personenwagens en motoren op voor"]
[null,"          invalide personen bestemde parkeerplaats"]
[null,"Gestalde fietsen = alle gestalde fietsen op de"]
[null,"          daarvoor bestemde parkeerplaatsen"]

{"sheet":"69.Beernem","index":64,"n_rows":54,"n_cols":26,"rows_kept":54,"cut":false,"hidden":false,"merged":[[4,3,5,12],[4,16,5,16],[15,3,16,12]]}
[]
[null,"PARKEERONDERZOEK",null,"CARPOOLPARKINGS EN P+R PARKINGS"]
[null,69,null,{"$f":"B8 & \" - \"& TEXT(VLOOKUP(B3,Coordinaten!$A$2:$G$95,7,0),\"dddd dd mmmm jjjj\")","v":"Carpool parking Beernem, Beernem - di 10 & do 12 oktober 2023"}]
[null,{"$f":"VLOOKUP(B3,Coordinaten!$A$2:$G$95,6,0)","v":"51.120332, 3.324059"}]
[null,null,null,"BEZETTING  ",null,null,null,null,null,null,null,null,null,null,null,null,"OPMERKINGEN"]
[]
[null,"Onderzoeksgebied",null,"Datum","Geregistreerd tussen","Pers","Vracht","Motor","Obstakel / overig","Fout   pers","Fout Vracht","Totaal","E-wagen\nplaats","Invalidenplaats","Gestalde fietsen",null,null,null,null,null,{"$f":"F7","v":"Pers"},"Vracht","Motor","Obstakel / overig","Fout   pers","Fout Vracht"]
[null,{"$f":"VLOOKUP(B3,Coordinaten!$A$2:$G$95,3,0)&\", \"&VLOOKUP(B3,Coordinaten!$A$2:$G$95,5,0)","v":"Carpool parking Beernem, Beernem"},null,{"$f":"_xlfn.XLOOKUP($B$3,Bezetting_1!$A$2:$A$90,Bezetting_1!C$2:C$90,,0)","v":"2023-10-10"},{"$f":"_xlfn.XLOOKUP($B$3,Bezetting_1!$A$2:$A$90,Bezetting_1!D$2:D$90,,0)","v":"09:00 - 16:00u"},{"$f":"_xlfn.XLOOKUP($B$3,Bezetting_1!$A$2:$A$90,Bezetting_1!E$2:E$90,,0)","v":23},{"$f":"_xlfn.XLOOKUP($B$3,Bezetting_1!$A$2:$A$90,Bezetting_1!F$2:F$90,,0)","v":0},{"$f":"_xlfn.XLOOKUP($B$3,Bezetting_1!$A$2:$A$90,Bezetting_1!G$2:G$90,,0)","v":0},{"$f":"_xlfn.XLOOKUP($B$3,Bezetting_1!$A$2:$A$90,Bezetting_1!H$2:H$90,,0)","v":20},{"$f":"_xlfn.XLOOKUP($B$3,Bezetting_1!$A$2:$A$90,Bezetting_1!I$2:I$90,,0)","v":0},{"$f":"_xlfn.XLOOKUP($B$3,Bezetting_1!$A$2:$A$90,Bezetting_1!J$2:J$90,,0)","v":0},{"$f":"_xlfn.XLOOKUP($B$3,Bezetting_1!$A$2:$A$90,Bezetting_1!K$2:K$90,,0)","v":43},{"$f":"_xlfn.XLOOKUP($B$3,Bezetting_1!$A$2:$A$90,Bezetting_1!L$2:L$90,,0)","v":0},{"$f":"_xlfn.XLOOKUP($B$3,Bezetting_1!$A$2:$A$90,Bezetting_1!M$2:M$90,,0)","v":0},{"$f":"_xlfn.XLOOKUP($B$3,Bezetting_1!$A$2:$A$90,Bezetting_1!N$2:N$90,,0)","v":0},null,{"$f":"_xlfn.XLOOKUP($B$3,Bezetting_1!$A$2:$A$90,Bezetting_1!P$2:P$90,,0)","v":"Overig: werkzaamheden"},null,{"$f":"D8","v":"2023-10-10"},{"$f":"E8","v":"09:00 - 16:00u"},{"$f":"IF(F8=0,NA(),F8/$L8)","v":0.53488372093023251},{"$f":"IF(G8=0,NA(),G8/$L8)","v":{"$error":"#N/A"}},{"$f":"IF(H8=0,NA(),H8/$L8)","v":{"$error":"#N/A"}},0.46511627906976744,{"$error":"#N/A"},{"$error":"#N/A"}]
[null,{"$f":"\"Nabij kruispunt: \"&VLOOKUP(B3,Coordinaten!$A$2:$L$95,4,0)","v":"Nabij kruispunt: N370 / A10"},null,null,null,{"$f":"IF(F8=0,\"-\",F8/$L$8)","v":0.53488372093023251},{"$f":"IF(G8=0,\"-\",G8/$L$8)","v":"-"},"-",0.46511627906976744,"-","-",1,null,null,null,null,{"$f":"_xlfn.XLOOKUP($B$3,Bezetting_1!$A$2:$A$90,Bezetting_1!Q$2:Q$90,,0)","v":0},null,{"$f":"D10","v":"2023-10-10"},{"$f":"E10","v":"19:00 - 02:00u"},{"$f":"IF(F10=0,NA(),F10/$L10)","v":0.48717948717948717},{"$f":"IF(G10=0,NA(),G10/$L10)","v":{"$error":"#N/A"}},{"$error":"#N/A"},0.51282051282051277,{"$error":"#N/A"},{"$error":"#N/A"}]
[null,null,null,{"$f":"_xlfn.XLOOKUP($B$3,Bezetting_2!$A$2:$A$90,Bezetting_2!C$2:C$90,,0)","v":"2023-10-10"},{"$f":"_xlfn.XLOOKUP($B$3,Bezetting_2!$A$2:$A$90,Bezetting_2!D$2:D$90,,0)","v":"19:00 - 02:00u"},{"$f":"_xlfn.XLOOKUP($B$3,Bezetting_2!$A$2:$A$90,Bezetting_2!E$2:E$90,,0)","v":19},{"$f":"_xlfn.XLOOKUP($B$3,Bezetting_2!$A$2:$A$90,Bezetting_2!F$2:F$90,,0)","v":0},{"$f":"_xlfn.XLOOKUP($B$3,Bezetting_2!$A$2:$A$90,Bezetting_2!G$2:G$90,,0)","v":0},{"$f":"_xlfn.XLOOKUP($B$3,Bezetting_2!$A$2:$A$90,Bezetting_2!H$2:H$90,,0)","v":20},{"$f":"_xlfn.XLOOKUP($B$3,Bezetting_2!$A$2:$A$90,Bezetting_2!I$2:I$90,,0)","v":0},{"$f":"_xlfn.XLOOKUP($B$3,Bezetting_2!$A$2:$A$90,Bezetting_2!J$2:J$90,,0)","v":0},{"$f":"_xlfn.XLOOKUP($B$3,Bezetting_2!$A$2:$A$90,Bezetting_2!K$2:K$90,,0)","v":39},{"$f":"_xlfn.XLOOKUP($B$3,Bezetting_2!$A$2:$A$90,Bezetting_2!L$2:L$90,,0)","v":0},{"$f":"_xlfn.XLOOKUP($B$3,Bezetting_2!$A$2:$A$90,Bezetting_2!M$2:M$90,,0)","v":0},{"$f":"_xlfn.XLOOKUP($B$3,Bezetting_2!$A$2:$A$90,Bezetting_2!N$2:N$90,,0)","v":0},{"$f":"_xlfn.XLOOKUP($B$3,Bezetting_2!$A$2:$A$90,Bezetting_2!O$2:O$90,,0)","v":0},{"$f":"_xlfn.XLOOKUP($B$3,Bezetting_2!$A$2:$A$90,Bezetting_2!P$2:P$90,,0)","v":"Overig: werkzaamheden"}]
[null,"Meting",null,null,null,{"$f":"IF(F10=0,\"-\",F10/$L$10)","v":0.48717948717948717},{"$f":"IF(G10=0,\"-\",G10/$L$10)","v":"-"},"-",0.51282051282051277,"-","-",1,null,null,null,null,{"$f":"_xlfn.XLOOKUP($B$3,Bezetting_2!$A$2:$A$90,Bezetting_2!Q$2:Q$90,,0)","v":0}]
[null,{"$f":"\"Meetperiode: \"&TEXT(VLOOKUP(B3,Coordinaten!$A:$G,7,0),\"dddd dd mmmm jjjj\")","v":"Meetperiode: di 10 & do 12 oktober 2023"}]
[null,"Methodiek: Parkeerdrukmeting met waarnemers"]
[null,"In opdracht van: Vlaamse overheid"]
[null,"Uitgevoerd door: Dufec"]
[null,null,null,"VERDELING NAAR CATEGORIE"]
[null,"Locatie"]
[null,{"$f":"IF(B4=\"\",\"\",HYPERLINK(\"http://www.googlemaps.com/?q=\"&B4,\"Lat/Long: \"&B4))","v":"Lat/Long: 51.120332, 3.324059"}]
[]
[null,null,null,null,null,null,null,null,null,null,null,null,null,null,null,"Legenda"]
[null,null,null,null,null,null,null,null,null,null,null,null,null,null,null,null,"Personenwagen"]
[null,null,null,null,null,null,null,null,null,null,null,null,null,null,null,null,"Vracht"]
[null,null,null,null,null,null,null,null,null,null,null,null,null,null,null,null,"Motor"]
[null,null,null,null,null,null,null,null,null,null,null,null,null,null,null,null,"Obstakel / overig"]
[null,null,null,null,null,null,null,null,null,null,null,null,null,null,null,null,"Fout personenwagen"]
[null,null,null,null,null,null,null,null,null,null,null,null,null,null,null,null,"Fout Vracht"]
[]
[]
[]
[]
[]
[]
[]
[]
[]
[]
[]
[]
[null,"Toelichting"]
[null,"Pers = personenwagens op daarvoor bestemde"]
[null,"          openbare plaatsen"]
[null,"Vracht = vrachtwagens op daarvoor bestemde"]
[null,"          parkeerplaatsen (middel- en zwaar vrachtverkeer)"]
[null,"Motor = geparkeerde motoren op openbare plaatsen"]
[null,"Obstakel / overig = obstakels of overige voertuigen"]
[null,"          geparkeerd op openbare plaatsen"]
[null,"Fout pers = personenwagens die fout geparkeerd staan"]
[null,"Fout vracht = vrachtwagens die fout geparkeerd staan"]
[null,"E-wagen = geparkeerde elektrisch voertuig bij een"]
[null,"          elektrisch oplaadpunt"]
[null,"Invalide = personenwagens en motoren op voor"]
[null,"          invalide personen bestemde parkeerplaats"]
[null,"Gestalde fietsen = alle gestalde fietsen op de"]
[null,"          daarvoor bestemde parkeerplaatsen"]

{"sheet":"70.The Loop-Expo","index":65,"n_rows":54,"n_cols":26,"rows_kept":54,"cut":false,"hidden":false,"merged":[[4,3,5,12],[4,16,5,16],[15,3,16,12]]}
[]
[null,"PARKEERONDERZOEK",null,"CARPOOLPARKINGS EN P+R PARKINGS"]
[null,70,null,{"$f":"B8 & \" - \"& TEXT(VLOOKUP(B3,Coordinaten!$A$2:$G$95,7,0),\"dddd dd mmmm jjjj\")","v":"P+R parking The Loop/Expo, Gent - di 10 & do 12 oktober 2023"}]
[null,{"$f":"VLOOKUP(B3,Coordinaten!$A$2:$G$95,6,0)","v":"51.024607, 3.695634"}]
[null,null,null,"BEZETTING  ",null,null,null,null,null,null,null,null,null,null,null,null,"OPMERKINGEN"]
[]
[null,"Onderzoeksgebied",null,"Datum","Geregistreerd tussen","Pers","Vracht","Motor","Obstakel / overig","Fout   pers","Fout Vracht","Totaal","E-wagen\nplaats","Invalidenplaats","Gestalde fietsen",null,null,null,null,null,{"$f":"F7","v":"Pers"},"Vracht","Motor","Obstakel / overig","Fout   pers","Fout Vracht"]
[null,{"$f":"VLOOKUP(B3,Coordinaten!$A$2:$G$95,3,0)&\", \"&VLOOKUP(B3,Coordinaten!$A$2:$G$95,5,0)","v":"P+R parking The Loop/Expo, Gent"},null,{"$f":"_xlfn.XLOOKUP($B$3,Bezetting_1!$A$2:$A$90,Bezetting_1!C$2:C$90,,0)","v":"2023-10-12"},{"$f":"_xlfn.XLOOKUP($B$3,Bezetting_1!$A$2:$A$90,Bezetting_1!D$2:D$90,,0)","v":"09:00 - 16:00u"},{"$f":"_xlfn.XLOOKUP($B$3,Bezetting_1!$A$2:$A$90,Bezetting_1!E$2:E$90,,0)","v":84},{"$f":"_xlfn.XLOOKUP($B$3,Bezetting_1!$A$2:$A$90,Bezetting_1!F$2:F$90,,0)","v":0},{"$f":"_xlfn.XLOOKUP($B$3,Bezetting_1!$A$2:$A$90,Bezetting_1!G$2:G$90,,0)","v":0},{"$f":"_xlfn.XLOOKUP($B$3,Bezetting_1!$A$2:$A$90,Bezetting_1!H$2:H$90,,0)","v":0},{"$f":"_xlfn.XLOOKUP($B$3,Bezetting_1!$A$2:$A$90,Bezetting_1!I$2:I$90,,0)","v":0},{"$f":"_xlfn.XLOOKUP($B$3,Bezetting_1!$A$2:$A$90,Bezetting_1!J$2:J$90,,0)","v":0},{"$f":"_xlfn.XLOOKUP($B$3,Bezetting_1!$A$2:$A$90,Bezetting_1!K$2:K$90,,0)","v":84},{"$f":"_xlfn.XLOOKUP($B$3,Bezetting_1!$A$2:$A$90,Bezetting_1!L$2:L$90,,0)","v":11},{"$f":"_xlfn.XLOOKUP($B$3,Bezetting_1!$A$2:$A$90,Bezetting_1!M$2:M$90,,0)","v":0},{"$f":"_xlfn.XLOOKUP($B$3,Bezetting_1!$A$2:$A$90,Bezetting_1!N$2:N$90,,0)","v":20},null,{"$f":"_xlfn.XLOOKUP($B$3,Bezetting_1!$A$2:$A$90,Bezetting_1!P$2:P$90,,0)","v":0},null,{"$f":"D8","v":"2023-10-12"},{"$f":"E8","v":"09:00 - 16:00u"},{"$f":"IF(F8=0,NA(),F8/$L8)","v":1},{"$f":"IF(G8=0,NA(),G8/$L8)","v":{"$error":"#N/A"}},{"$f":"IF(H8=0,NA(),H8/$L8)","v":{"$error":"#N/A"}},{"$error":"#N/A"},{"$error":"#N/A"},{"$error":"#N/A"}]
[null,{"$f":"\"Nabij kruispunt: \"&VLOOKUP(B3,Coordinaten!$A$2:$L$95,4,0)","v":"Nabij kruispunt: Derbystraat / Hélène Dutrieulaan"},null,null,null,{"$f":"IF(F8=0,\"-\",F8/$L$8)","v":1},{"$f":"IF(G8=0,\"-\",G8/$L$8)","v":"-"},"-","-","-","-",1,null,null,null,null,{"$f":"_xlfn.XLOOKUP($B$3,Bezetting_1!$A$2:$A$90,Bezetting_1!Q$2:Q$90,,0)","v":0},null,{"$f":"D10","v":"2023-10-12"},{"$f":"E10","v":"19:00 - 02:00u"},{"$f":"IF(F10=0,NA(),F10/$L10)","v":1},{"$f":"IF(G10=0,NA(),G10/$L10)","v":{"$error":"#N/A"}},{"$error":"#N/A"},{"$error":"#N/A"},{"$error":"#N/A"},{"$error":"#N/A"}]
[null,null,null,{"$f":"_xlfn.XLOOKUP($B$3,Bezetting_2!$A$2:$A$90,Bezetting_2!C$2:C$90,,0)","v":"2023-10-12"},{"$f":"_xlfn.XLOOKUP($B$3,Bezetting_2!$A$2:$A$90,Bezetting_2!D$2:D$90,,0)","v":"19:00 - 02:00u"},{"$f":"_xlfn.XLOOKUP($B$3,Bezetting_2!$A$2:$A$90,Bezetting_2!E$2:E$90,,0)","v":30},{"$f":"_xlfn.XLOOKUP($B$3,Bezetting_2!$A$2:$A$90,Bezetting_2!F$2:F$90,,0)","v":0},{"$f":"_xlfn.XLOOKUP($B$3,Bezetting_2!$A$2:$A$90,Bezetting_2!G$2:G$90,,0)","v":0},{"$f":"_xlfn.XLOOKUP($B$3,Bezetting_2!$A$2:$A$90,Bezetting_2!H$2:H$90,,0)","v":0},{"$f":"_xlfn.XLOOKUP($B$3,Bezetting_2!$A$2:$A$90,Bezetting_2!I$2:I$90,,0)","v":0},{"$f":"_xlfn.XLOOKUP($B$3,Bezetting_2!$A$2:$A$90,Bezetting_2!J$2:J$90,,0)","v":0},{"$f":"_xlfn.XLOOKUP($B$3,Bezetting_2!$A$2:$A$90,Bezetting_2!K$2:K$90,,0)","v":30},{"$f":"_xlfn.XLOOKUP($B$3,Bezetting_2!$A$2:$A$90,Bezetting_2!L$2:L$90,,0)","v":4},{"$f":"_xlfn.XLOOKUP($B$3,Bezetting_2!$A$2:$A$90,Bezetting_2!M$2:M$90,,0)","v":0},{"$f":"_xlfn.XLOOKUP($B$3,Bezetting_2!$A$2:$A$90,Bezetting_2!N$2:N$90,,0)","v":8},{"$f":"_xlfn.XLOOKUP($B$3,Bezetting_2!$A$2:$A$90,Bezetting_2!O$2:O$90,,0)","v":0},{"$f":"_xlfn.XLOOKUP($B$3,Bezetting_2!$A$2:$A$90,Bezetting_2!P$2:P$90,,0)","v":0}]
[null,"Meting",null,null,null,{"$f":"IF(F10=0,\"-\",F10/$L$10)","v":1},{"$f":"IF(G10=0,\"-\",G10/$L$10)","v":"-"},"-","-","-","-",1,null,null,null,null,{"$f":"_xlfn.XLOOKUP($B$3,Bezetting_2!$A$2:$A$90,Bezetting_2!Q$2:Q$90,,0)","v":0}]
[null,{"$f":"\"Meetperiode: \"&TEXT(VLOOKUP(B3,Coordinaten!$A:$G,7,0),\"dddd dd mmmm jjjj\")","v":"Meetperiode: di 10 & do 12 oktober 2023"}]
[null,"Methodiek: Parkeerdrukmeting met waarnemers"]
[null,"In opdracht van: Vlaamse overheid"]
[null,"Uitgevoerd door: Dufec"]
[null,null,null,"VERDELING NAAR CATEGORIE"]
[null,"Locatie"]
[null,{"$f":"IF(B4=\"\",\"\",HYPERLINK(\"http://www.googlemaps.com/?q=\"&B4,\"Lat/Long: \"&B4))","v":"Lat/Long: 51.024607, 3.695634"}]
[]
[null,null,null,null,null,null,null,null,null,null,null,null,null,null,null,"Legenda"]
[null,null,null,null,null,null,null,null,null,null,null,null,null,null,null,null,"Personenwagen"]
[null,null,null,null,null,null,null,null,null,null,null,null,null,null,null,null,"Vracht"]
[null,null,null,null,null,null,null,null,null,null,null,null,null,null,null,null,"Motor"]
[null,null,null,null,null,null,null,null,null,null,null,null,null,null,null,null,"Obstakel / overig"]
[null,null,null,null,null,null,null,null,null,null,null,null,null,null,null,null,"Fout personenwagen"]
[null,null,null,null,null,null,null,null,null,null,null,null,null,null,null,null,"Fout Vracht"]
[]
[]
[]
[]
[]
[]
[]
[]
[]
[]
[]
[]
[null,"Toelichting"]
[null,"Pers = personenwagens op daarvoor bestemde"]
[null,"          openbare plaatsen"]
[null,"Vracht = vrachtwagens op daarvoor bestemde"]
[null,"          parkeerplaatsen (middel- en zwaar vrachtverkeer)"]
[null,"Motor = geparkeerde motoren op openbare plaatsen"]
[null,"Obstakel / overig = obstakels of overige voertuigen"]
[null,"          geparkeerd op openbare plaatsen"]
[null,"Fout pers = personenwagens die fout geparkeerd staan"]
[null,"Fout vracht = vrachtwagens die fout geparkeerd staan"]
[null,"E-wagen = geparkeerde elektrisch voertuig bij een"]
[null,"          elektrisch oplaadpunt"]
[null,"Invalide = personenwagens en motoren op voor"]
[null,"          invalide personen bestemde parkeerplaats"]
[null,"Gestalde fietsen = alle gestalde fietsen op de"]
[null,"          daarvoor bestemde parkeerplaatsen"]

{"sheet":"72.Veurne","index":66,"n_rows":54,"n_cols":26,"rows_kept":54,"cut":false,"hidden":false,"merged":[[4,3,5,12],[4,16,5,16],[15,3,16,12]]}
[]
[null,"PARKEERONDERZOEK",null,"CARPOOLPARKINGS EN P+R PARKINGS"]
[null,72,null,{"$f":"B8 & \" - \"& TEXT(VLOOKUP(B3,Coordinaten!$A$2:$G$95,7,0),\"dddd dd mmmm jjjj\")","v":"Carpool parking Veurne, Veurne - di 10 & do 12 oktober 2023"}]
[null,{"$f":"VLOOKUP(B3,Coordinaten!$A$2:$G$95,6,0)","v":"51.057349, 2.667068"}]
[null,null,null,"BEZETTING  ",null,null,null,null,null,null,null,null,null,null,null,null,"OPMERKINGEN"]
[]
[null,"Onderzoeksgebied",null,"Datum","Geregistreerd tussen","Pers","Vracht","Motor","Obstakel / overig","Fout   pers","Fout Vracht","Totaal","E-wagen\nplaats","Invalidenplaats","Gestalde fietsen",null,null,null,null,null,{"$f":"F7","v":"Pers"},"Vracht","Motor","Obstakel / overig","Fout   pers","Fout Vracht"]
[null,{"$f":"VLOOKUP(B3,Coordinaten!$A$2:$G$95,3,0)&\", \"&VLOOKUP(B3,Coordinaten!$A$2:$G$95,5,0)","v":"Carpool parking Veurne, Veurne"},null,{"$f":"_xlfn.XLOOKUP($B$3,Bezetting_1!$A$2:$A$90,Bezetting_1!C$2:C$90,,0)","v":"2023-10-10"},{"$f":"_xlfn.XLOOKUP($B$3,Bezetting_1!$A$2:$A$90,Bezetting_1!D$2:D$90,,0)","v":"09:00 - 16:00u"},{"$f":"_xlfn.XLOOKUP($B$3,Bezetting_1!$A$2:$A$90,Bezetting_1!E$2:E$90,,0)","v":17},{"$f":"_xlfn.XLOOKUP($B$3,Bezetting_1!$A$2:$A$90,Bezetting_1!F$2:F$90,,0)","v":0},{"$f":"_xlfn.XLOOKUP($B$3,Bezetting_1!$A$2:$A$90,Bezetting_1!G$2:G$90,,0)","v":0},{"$f":"_xlfn.XLOOKUP($B$3,Bezetting_1!$A$2:$A$90,Bezetting_1!H$2:H$90,,0)","v":0},{"$f":"_xlfn.XLOOKUP($B$3,Bezetting_1!$A$2:$A$90,Bezetting_1!I$2:I$90,,0)","v":0},{"$f":"_xlfn.XLOOKUP($B$3,Bezetting_1!$A$2:$A$90,Bezetting_1!J$2:J$90,,0)","v":0},{"$f":"_xlfn.XLOOKUP($B$3,Bezetting_1!$A$2:$A$90,Bezetting_1!K$2:K$90,,0)","v":17},{"$f":"_xlfn.XLOOKUP($B$3,Bezetting_1!$A$2:$A$90,Bezetting_1!L$2:L$90,,0)","v":0},{"$f":"_xlfn.XLOOKUP($B$3,Bezetting_1!$A$2:$A$90,Bezetting_1!M$2:M$90,,0)","v":0},{"$f":"_xlfn.XLOOKUP($B$3,Bezetting_1!$A$2:$A$90,Bezetting_1!N$2:N$90,,0)","v":0},null,{"$f":"_xlfn.XLOOKUP($B$3,Bezetting_1!$A$2:$A$90,Bezetting_1!P$2:P$90,,0)","v":0},null,{"$f":"D8","v":"2023-10-10"},{"$f":"E8","v":"09:00 - 16:00u"},{"$f":"IF(F8=0,NA(),F8/$L8)","v":1},{"$f":"IF(G8=0,NA(),G8/$L8)","v":{"$error":"#N/A"}},{"$f":"IF(H8=0,NA(),H8/$L8)","v":{"$error":"#N/A"}},{"$error":"#N/A"},{"$error":"#N/A"},{"$error":"#N/A"}]
[null,{"$f":"\"Nabij kruispunt: \"&VLOOKUP(B3,Coordinaten!$A$2:$L$95,4,0)","v":"Nabij kruispunt: N8 / A18"},null,null,null,{"$f":"IF(F8=0,\"-\",F8/$L$8)","v":1},{"$f":"IF(G8=0,\"-\",G8/$L$8)","v":"-"},"-","-","-","-",1,null,null,null,null,{"$f":"_xlfn.XLOOKUP($B$3,Bezetting_1!$A$2:$A$90,Bezetting_1!Q$2:Q$90,,0)","v":0},null,{"$f":"D10","v":"2023-10-10"},{"$f":"E10","v":"19:00 - 02:00u"},{"$f":"IF(F10=0,NA(),F10/$L10)","v":1},{"$f":"IF(G10=0,NA(),G10/$L10)","v":{"$error":"#N/A"}},{"$error":"#N/A"},{"$error":"#N/A"},{"$error":"#N/A"},{"$error":"#N/A"}]
[null,null,null,{"$f":"_xlfn.XLOOKUP($B$3,Bezetting_2!$A$2:$A$90,Bezetting_2!C$2:C$90,,0)","v":"2023-10-10"},{"$f":"_xlfn.XLOOKUP($B$3,Bezetting_2!$A$2:$A$90,Bezetting_2!D$2:D$90,,0)","v":"19:00 - 02:00u"},{"$f":"_xlfn.XLOOKUP($B$3,Bezetting_2!$A$2:$A$90,Bezetting_2!E$2:E$90,,0)","v":3},{"$f":"_xlfn.XLOOKUP($B$3,Bezetting_2!$A$2:$A$90,Bezetting_2!F$2:F$90,,0)","v":0},{"$f":"_xlfn.XLOOKUP($B$3,Bezetting_2!$A$2:$A$90,Bezetting_2!G$2:G$90,,0)","v":0},{"$f":"_xlfn.XLOOKUP($B$3,Bezetting_2!$A$2:$A$90,Bezetting_2!H$2:H$90,,0)","v":0},{"$f":"_xlfn.XLOOKUP($B$3,Bezetting_2!$A$2:$A$90,Bezetting_2!I$2:I$90,,0)","v":0},{"$f":"_xlfn.XLOOKUP($B$3,Bezetting_2!$A$2:$A$90,Bezetting_2!J$2:J$90,,0)","v":0},{"$f":"_xlfn.XLOOKUP($B$3,Bezetting_2!$A$2:$A$90,Bezetting_2!K$2:K$90,,0)","v":3},{"$f":"_xlfn.XLOOKUP($B$3,Bezetting_2!$A$2:$A$90,Bezetting_2!L$2:L$90,,0)","v":0},{"$f":"_xlfn.XLOOKUP($B$3,Bezetting_2!$A$2:$A$90,Bezetting_2!M$2:M$90,,0)","v":0},{"$f":"_xlfn.XLOOKUP($B$3,Bezetting_2!$A$2:$A$90,Bezetting_2!N$2:N$90,,0)","v":0},{"$f":"_xlfn.XLOOKUP($B$3,Bezetting_2!$A$2:$A$90,Bezetting_2!O$2:O$90,,0)","v":0},{"$f":"_xlfn.XLOOKUP($B$3,Bezetting_2!$A$2:$A$90,Bezetting_2!P$2:P$90,,0)","v":"Fout: 1 fiets"}]
[null,"Meting",null,null,null,{"$f":"IF(F10=0,\"-\",F10/$L$10)","v":1},{"$f":"IF(G10=0,\"-\",G10/$L$10)","v":"-"},"-","-","-","-",1,null,null,null,null,{"$f":"_xlfn.XLOOKUP($B$3,Bezetting_2!$A$2:$A$90,Bezetting_2!Q$2:Q$90,,0)","v":0}]
[null,{"$f":"\"Meetperiode: \"&TEXT(VLOOKUP(B3,Coordinaten!$A:$G,7,0),\"dddd dd mmmm jjjj\")","v":"Meetperiode: di 10 & do 12 oktober 2023"}]
[null,"Methodiek: Parkeerdrukmeting met waarnemers"]
[null,"In opdracht van: Vlaamse overheid"]
[null,"Uitgevoerd door: Dufec"]
[null,null,null,"VERDELING NAAR CATEGORIE"]
[null,"Locatie"]
[null,{"$f":"IF(B4=\"\",\"\",HYPERLINK(\"http://www.googlemaps.com/?q=\"&B4,\"Lat/Long: \"&B4))","v":"Lat/Long: 51.057349, 2.667068"}]
[]
[null,null,null,null,null,null,null,null,null,null,null,null,null,null,null,"Legenda"]
[null,null,null,null,null,null,null,null,null,null,null,null,null,null,null,null,"Personenwagen"]
[null,null,null,null,null,null,null,null,null,null,null,null,null,null,null,null,"Vracht"]
[null,null,null,null,null,null,null,null,null,null,null,null,null,null,null,null,"Motor"]
[null,null,null,null,null,null,null,null,null,null,null,null,null,null,null,null,"Obstakel / overig"]
[null,null,null,null,null,null,null,null,null,null,null,null,null,null,null,null,"Fout personenwagen"]
[null,null,null,null,null,null,null,null,null,null,null,null,null,null,null,null,"Fout Vracht"]
[]
[]
[]
[]
[]
[]
[]
[]
[]
[]
[]
[]
[null,"Toelichting"]
[null,"Pers = personenwagens op daarvoor bestemde"]
[null,"          openbare plaatsen"]
[null,"Vracht = vrachtwagens op daarvoor bestemde"]
[null,"          parkeerplaatsen (middel- en zwaar vrachtverkeer)"]
[null,"Motor = geparkeerde motoren op openbare plaatsen"]
[null,"Obstakel / overig = obstakels of overige voertuigen"]
[null,"          geparkeerd op openbare plaatsen"]
[null,"Fout pers = personenwagens die fout geparkeerd staan"]
[null,"Fout vracht = vrachtwagens die fout geparkeerd staan"]
[null,"E-wagen = geparkeerde elektrisch voertuig bij een"]
[null,"          elektrisch oplaadpunt"]
[null,"Invalide = personenwagens en motoren op voor"]
[null,"          invalide personen bestemde parkeerplaats"]
[null,"Gestalde fietsen = alle gestalde fietsen op de"]
[null,"          daarvoor bestemde parkeerplaatsen"]

{"sheet":"73.Jabbeke-West","index":67,"n_rows":54,"n_cols":26,"rows_kept":54,"cut":false,"hidden":false,"merged":[[4,3,5,12],[4,16,5,16],[15,3,16,12]]}
[]
[null,"PARKEERONDERZOEK",null,"CARPOOLPARKINGS EN P+R PARKINGS"]
[null,73,null,{"$f":"B8 & \" - \"& TEXT(VLOOKUP(B3,Coordinaten!$A$2:$G$95,7,0),\"dddd dd mmmm jjjj\")","v":"Carpool parking Jabbeke-West, Jabbeke - di 10 & do 12 oktober 2023"}]
[null,{"$f":"VLOOKUP(B3,Coordinaten!$A$2:$G$95,6,0)","v":"51.187549, 3.093136"}]
[null,null,null,"BEZETTING  ",null,null,null,null,null,null,null,null,null,null,null,null,"OPMERKINGEN"]
[]
[null,"Onderzoeksgebied",null,"Datum","Geregistreerd tussen","Pers","Vracht","Motor","Obstakel / overig","Fout   pers","Fout Vracht","Totaal","E-wagen\nplaats","Invalidenplaats","Gestalde fietsen",null,null,null,null,null,{"$f":"F7","v":"Pers"},"Vracht","Motor","Obstakel / overig","Fout   pers","Fout Vracht"]
[null,{"$f":"VLOOKUP(B3,Coordinaten!$A$2:$G$95,3,0)&\", \"&VLOOKUP(B3,Coordinaten!$A$2:$G$95,5,0)","v":"Carpool parking Jabbeke-West, Jabbeke"},null,{"$f":"_xlfn.XLOOKUP($B$3,Bezetting_1!$A$2:$A$90,Bezetting_1!C$2:C$90,,0)","v":"2023-10-10"},{"$f":"_xlfn.XLOOKUP($B$3,Bezetting_1!$A$2:$A$90,Bezetting_1!D$2:D$90,,0)","v":"09:00 - 16:00u"},{"$f":"_xlfn.XLOOKUP($B$3,Bezetting_1!$A$2:$A$90,Bezetting_1!E$2:E$90,,0)","v":19},{"$f":"_xlfn.XLOOKUP($B$3,Bezetting_1!$A$2:$A$90,Bezetting_1!F$2:F$90,,0)","v":0},{"$f":"_xlfn.XLOOKUP($B$3,Bezetting_1!$A$2:$A$90,Bezetting_1!G$2:G$90,,0)","v":0},{"$f":"_xlfn.XLOOKUP($B$3,Bezetting_1!$A$2:$A$90,Bezetting_1!H$2:H$90,,0)","v":0},{"$f":"_xlfn.XLOOKUP($B$3,Bezetting_1!$A$2:$A$90,Bezetting_1!I$2:I$90,,0)","v":1},{"$f":"_xlfn.XLOOKUP($B$3,Bezetting_1!$A$2:$A$90,Bezetting_1!J$2:J$90,,0)","v":0},{"$f":"_xlfn.XLOOKUP($B$3,Bezetting_1!$A$2:$A$90,Bezetting_1!K$2:K$90,,0)","v":20},{"$f":"_xlfn.XLOOKUP($B$3,Bezetting_1!$A$2:$A$90,Bezetting_1!L$2:L$90,,0)","v":0},{"$f":"_xlfn.XLOOKUP($B$3,Bezetting_1!$A$2:$A$90,Bezetting_1!M$2:M$90,,0)","v":0},{"$f":"_xlfn.XLOOKUP($B$3,Bezetting_1!$A$2:$A$90,Bezetting_1!N$2:N$90,,0)","v":0},null,{"$f":"_xlfn.XLOOKUP($B$3,Bezetting_1!$A$2:$A$90,Bezetting_1!P$2:P$90,,0)","v":0},null,{"$f":"D8","v":"2023-10-10"},{"$f":"E8","v":"09:00 - 16:00u"},{"$f":"IF(F8=0,NA(),F8/$L8)","v":0.95},{"$f":"IF(G8=0,NA(),G8/$L8)","v":{"$error":"#N/A"}},{"$f":"IF(H8=0,NA(),H8/$L8)","v":{"$error":"#N/A"}},{"$error":"#N/A"},0.05,{"$error":"#N/A"}]
[null,{"$f":"\"Nabij kruispunt: \"&VLOOKUP(B3,Coordinaten!$A$2:$L$95,4,0)","v":"Nabij kruispunt: N377 / A10"},null,null,null,{"$f":"IF(F8=0,\"-\",F8/$L$8)","v":0.95},{"$f":"IF(G8=0,\"-\",G8/$L$8)","v":"-"},"-","-",0.05,"-",1,null,null,null,null,{"$f":"_xlfn.XLOOKUP($B$3,Bezetting_1!$A$2:$A$90,Bezetting_1!Q$2:Q$90,,0)","v":0},null,{"$f":"D10","v":"2023-10-10"},{"$f":"E10","v":"19:00 - 02:00u"},{"$f":"IF(F10=0,NA(),F10/$L10)","v":1},{"$f":"IF(G10=0,NA(),G10/$L10)","v":{"$error":"#N/A"}},{"$error":"#N/A"},{"$error":"#N/A"},{"$error":"#N/A"},{"$error":"#N/A"}]
[null,null,null,{"$f":"_xlfn.XLOOKUP($B$3,Bezetting_2!$A$2:$A$90,Bezetting_2!C$2:C$90,,0)","v":"2023-10-10"},{"$f":"_xlfn.XLOOKUP($B$3,Bezetting_2!$A$2:$A$90,Bezetting_2!D$2:D$90,,0)","v":"19:00 - 02:00u"},{"$f":"_xlfn.XLOOKUP($B$3,Bezetting_2!$A$2:$A$90,Bezetting_2!E$2:E$90,,0)","v":3},{"$f":"_xlfn.XLOOKUP($B$3,Bezetting_2!$A$2:$A$90,Bezetting_2!F$2:F$90,,0)","v":0},{"$f":"_xlfn.XLOOKUP($B$3,Bezetting_2!$A$2:$A$90,Bezetting_2!G$2:G$90,,0)","v":0},{"$f":"_xlfn.XLOOKUP($B$3,Bezetting_2!$A$2:$A$90,Bezetting_2!H$2:H$90,,0)","v":0},{"$f":"_xlfn.XLOOKUP($B$3,Bezetting_2!$A$2:$A$90,Bezetting_2!I$2:I$90,,0)","v":0},{"$f":"_xlfn.XLOOKUP($B$3,Bezetting_2!$A$2:$A$90,Bezetting_2!J$2:J$90,,0)","v":0},{"$f":"_xlfn.XLOOKUP($B$3,Bezetting_2!$A$2:$A$90,Bezetting_2!K$2:K$90,,0)","v":3},{"$f":"_xlfn.XLOOKUP($B$3,Bezetting_2!$A$2:$A$90,Bezetting_2!L$2:L$90,,0)","v":0},{"$f":"_xlfn.XLOOKUP($B$3,Bezetting_2!$A$2:$A$90,Bezetting_2!M$2:M$90,,0)","v":0},{"$f":"_xlfn.XLOOKUP($B$3,Bezetting_2!$A$2:$A$90,Bezetting_2!N$2:N$90,,0)","v":0},{"$f":"_xlfn.XLOOKUP($B$3,Bezetting_2!$A$2:$A$90,Bezetting_2!O$2:O$90,,0)","v":0},{"$f":"_xlfn.XLOOKUP($B$3,Bezetting_2!$A$2:$A$90,Bezetting_2!P$2:P$90,,0)","v":0}]
[null,"Meting",null,null,null,{"$f":"IF(F10=0,\"-\",F10/$L$10)","v":1},{"$f":"IF(G10=0,\"-\",G10/$L$10)","v":"-"},"-","-","-","-",1,null,null,null,null,{"$f":"_xlfn.XLOOKUP($B$3,Bezetting_2!$A$2:$A$90,Bezetting_2!Q$2:Q$90,,0)","v":0}]
[null,{"$f":"\"Meetperiode: \"&TEXT(VLOOKUP(B3,Coordinaten!$A:$G,7,0),\"dddd dd mmmm jjjj\")","v":"Meetperiode: di 10 & do 12 oktober 2023"}]
[null,"Methodiek: Parkeerdrukmeting met waarnemers"]
[null,"In opdracht van: Vlaamse overheid"]
[null,"Uitgevoerd door: Dufec"]
[null,null,null,"VERDELING NAAR CATEGORIE"]
[null,"Locatie"]
[null,{"$f":"IF(B4=\"\",\"\",HYPERLINK(\"http://www.googlemaps.com/?q=\"&B4,\"Lat/Long: \"&B4))","v":"Lat/Long: 51.187549, 3.093136"}]
[]
[null,null,null,null,null,null,null,null,null,null,null,null,null,null,null,"Legenda"]
[null,null,null,null,null,null,null,null,null,null,null,null,null,null,null,null,"Personenwagen"]
[null,null,null,null,null,null,null,null,null,null,null,null,null,null,null,null,"Vracht"]
[null,null,null,null,null,null,null,null,null,null,null,null,null,null,null,null,"Motor"]
[null,null,null,null,null,null,null,null,null,null,null,null,null,null,null,null,"Obstakel / overig"]
[null,null,null,null,null,null,null,null,null,null,null,null,null,null,null,null,"Fout personenwagen"]
[null,null,null,null,null,null,null,null,null,null,null,null,null,null,null,null,"Fout Vracht"]
[]
[]
[]
[]
[]
[]
[]
[]
[]
[]
[]
[]
[null,"Toelichting"]
[null,"Pers = personenwagens op daarvoor bestemde"]
[null,"          openbare plaatsen"]
[null,"Vracht = vrachtwagens op daarvoor bestemde"]
[null,"          parkeerplaatsen (middel- en zwaar vrachtverkeer)"]
[null,"Motor = geparkeerde motoren op openbare plaatsen"]
[null,"Obstakel / overig = obstakels of overige voertuigen"]
[null,"          geparkeerd op openbare plaatsen"]
[null,"Fout pers = personenwagens die fout geparkeerd staan"]
[null,"Fout vracht = vrachtwagens die fout geparkeerd staan"]
[null,"E-wagen = geparkeerde elektrisch voertuig bij een"]
[null,"          elektrisch oplaadpunt"]
[null,"Invalide = personenwagens en motoren op voor"]
[null,"          invalide personen bestemde parkeerplaats"]
[null,"Gestalde fietsen = alle gestalde fietsen op de"]
[null,"          daarvoor bestemde parkeerplaatsen"]

{"sheet":"74.Melsele","index":68,"n_rows":54,"n_cols":26,"rows_kept":54,"cut":false,"hidden":false,"merged":[[4,3,5,12],[4,16,5,16],[15,3,16,12]]}
[]
[null,"PARKEERONDERZOEK",null,"CARPOOLPARKINGS EN P+R PARKINGS"]
[null,74,null,{"$f":"B8 & \" - \"& TEXT(VLOOKUP(B3,Coordinaten!$A$2:$G$95,7,0),\"dddd dd mmmm jjjj\")","v":"P+R parking Melsele, Beveren - di 10 & do 12 oktober 2023"}]
[null,{"$f":"VLOOKUP(B3,Coordinaten!$A$2:$G$95,6,0)","v":"51.218385, 4.305929"}]
[null,null,null,"BEZETTING  ",null,null,null,null,null,null,null,null,null,null,null,null,"OPMERKINGEN"]
[]
[null,"Onderzoeksgebied",null,"Datum","Geregistreerd tussen","Pers","Vracht","Motor","Obstakel / overig","Fout   pers","Fout Vracht","Totaal","E-wagen\nplaats","Invalidenplaats","Gestalde fietsen",null,null,null,null,null,{"$f":"F7","v":"Pers"},"Vracht","Motor","Obstakel / overig","Fout   pers","Fout Vracht"]
[null,{"$f":"VLOOKUP(B3,Coordinaten!$A$2:$G$95,3,0)&\", \"&VLOOKUP(B3,Coordinaten!$A$2:$G$95,5,0)","v":"P+R parking Melsele, Beveren"},null,{"$f":"_xlfn.XLOOKUP($B$3,Bezetting_1!$A$2:$A$90,Bezetting_1!C$2:C$90,,0)","v":"2023-10-10"},{"$f":"_xlfn.XLOOKUP($B$3,Bezetting_1!$A$2:$A$90,Bezetting_1!D$2:D$90,,0)","v":"09:00 - 16:00u"},{"$f":"_xlfn.XLOOKUP($B$3,Bezetting_1!$A$2:$A$90,Bezetting_1!E$2:E$90,,0)","v":143},{"$f":"_xlfn.XLOOKUP($B$3,Bezetting_1!$A$2:$A$90,Bezetting_1!F$2:F$90,,0)","v":0},{"$f":"_xlfn.XLOOKUP($B$3,Bezetting_1!$A$2:$A$90,Bezetting_1!G$2:G$90,,0)","v":0},{"$f":"_xlfn.XLOOKUP($B$3,Bezetting_1!$A$2:$A$90,Bezetting_1!H$2:H$90,,0)","v":10},{"$f":"_xlfn.XLOOKUP($B$3,Bezetting_1!$A$2:$A$90,Bezetting_1!I$2:I$90,,0)","v":0},{"$f":"_xlfn.XLOOKUP($B$3,Bezetting_1!$A$2:$A$90,Bezetting_1!J$2:J$90,,0)","v":0},{"$f":"_xlfn.XLOOKUP($B$3,Bezetting_1!$A$2:$A$90,Bezetting_1!K$2:K$90,,0)","v":153},{"$f":"_xlfn.XLOOKUP($B$3,Bezetting_1!$A$2:$A$90,Bezetting_1!L$2:L$90,,0)","v":0},{"$f":"_xlfn.XLOOKUP($B$3,Bezetting_1!$A$2:$A$90,Bezetting_1!M$2:M$90,,0)","v":3},{"$f":"_xlfn.XLOOKUP($B$3,Bezetting_1!$A$2:$A$90,Bezetting_1!N$2:N$90,,0)","v":136},null,{"$f":"_xlfn.XLOOKUP($B$3,Bezetting_1!$A$2:$A$90,Bezetting_1!P$2:P$90,,0)","v":"Overig: werkzaamheden"},null,{"$f":"D8","v":"2023-10-10"},{"$f":"E8","v":"09:00 - 16:00u"},{"$f":"IF(F8=0,NA(),F8/$L8)","v":0.934640522875817},{"$f":"IF(G8=0,NA(),G8/$L8)","v":{"$error":"#N/A"}},{"$f":"IF(H8=0,NA(),H8/$L8)","v":{"$error":"#N/A"}},6.535947712418301E-2,{"$error":"#N/A"},{"$error":"#N/A"}]
[null,{"$f":"\"Nabij kruispunt: \"&VLOOKUP(B3,Coordinaten!$A$2:$L$95,4,0)","v":"Nabij kruispunt: N70 / N419"},null,null,null,{"$f":"IF(F8=0,\"-\",F8/$L$8)","v":0.934640522875817},{"$f":"IF(G8=0,\"-\",G8/$L$8)","v":"-"},"-",6.535947712418301E-2,"-","-",1,null,null,null,null,{"$f":"_xlfn.XLOOKUP($B$3,Bezetting_1!$A$2:$A$90,Bezetting_1!Q$2:Q$90,,0)","v":"Fout: 10 fietsen"},null,{"$f":"D10","v":"2023-10-10"},{"$f":"E10","v":"19:00 - 02:00u"},{"$f":"IF(F10=0,NA(),F10/$L10)","v":0.93814432989690721},{"$f":"IF(G10=0,NA(),G10/$L10)","v":{"$error":"#N/A"}},{"$error":"#N/A"},6.1855670103092786E-2,{"$error":"#N/A"},{"$error":"#N/A"}]
[null,null,null,{"$f":"_xlfn.XLOOKUP($B$3,Bezetting_2!$A$2:$A$90,Bezetting_2!C$2:C$90,,0)","v":"2023-10-10"},{"$f":"_xlfn.XLOOKUP($B$3,Bezetting_2!$A$2:$A$90,Bezetting_2!D$2:D$90,,0)","v":"19:00 - 02:00u"},{"$f":"_xlfn.XLOOKUP($B$3,Bezetting_2!$A$2:$A$90,Bezetting_2!E$2:E$90,,0)","v":91},{"$f":"_xlfn.XLOOKUP($B$3,Bezetting_2!$A$2:$A$90,Bezetting_2!F$2:F$90,,0)","v":0},{"$f":"_xlfn.XLOOKUP($B$3,Bezetting_2!$A$2:$A$90,Bezetting_2!G$2:G$90,,0)","v":0},{"$f":"_xlfn.XLOOKUP($B$3,Bezetting_2!$A$2:$A$90,Bezetting_2!H$2:H$90,,0)","v":6},{"$f":"_xlfn.XLOOKUP($B$3,Bezetting_2!$A$2:$A$90,Bezetting_2!I$2:I$90,,0)","v":0},{"$f":"_xlfn.XLOOKUP($B$3,Bezetting_2!$A$2:$A$90,Bezetting_2!J$2:J$90,,0)","v":0},{"$f":"_xlfn.XLOOKUP($B$3,Bezetting_2!$A$2:$A$90,Bezetting_2!K$2:K$90,,0)","v":97},{"$f":"_xlfn.XLOOKUP($B$3,Bezetting_2!$A$2:$A$90,Bezetting_2!L$2:L$90,,0)","v":0},{"$f":"_xlfn.XLOOKUP($B$3,Bezetting_2!$A$2:$A$90,Bezetting_2!M$2:M$90,,0)","v":0},{"$f":"_xlfn.XLOOKUP($B$3,Bezetting_2!$A$2:$A$90,Bezetting_2!N$2:N$90,,0)","v":0},{"$f":"_xlfn.XLOOKUP($B$3,Bezetting_2!$A$2:$A$90,Bezetting_2!O$2:O$90,,0)","v":0},{"$f":"_xlfn.XLOOKUP($B$3,Bezetting_2!$A$2:$A$90,Bezetting_2!P$2:P$90,,0)","v":"Overig: container op 3 plaatsen, hoogwerker op 3 plaatsen"}]
[null,"Meting",null,null,null,{"$f":"IF(F10=0,\"-\",F10/$L$10)","v":0.93814432989690721},{"$f":"IF(G10=0,\"-\",G10/$L$10)","v":"-"},"-",6.1855670103092786E-2,"-","-",1,null,null,null,null,{"$f":"_xlfn.XLOOKUP($B$3,Bezetting_2!$A$2:$A$90,Bezetting_2!Q$2:Q$90,,0)","v":0}]
[null,{"$f":"\"Meetperiode: \"&TEXT(VLOOKUP(B3,Coordinaten!$A:$G,7,0),\"dddd dd mmmm jjjj\")","v":"Meetperiode: di 10 & do 12 oktober 2023"}]
[null,"Methodiek: Parkeerdrukmeting met waarnemers"]
[null,"In opdracht van: Vlaamse overheid"]
[null,"Uitgevoerd door: Dufec"]
[null,null,null,"VERDELING NAAR CATEGORIE"]
[null,"Locatie"]
[null,{"$f":"IF(B4=\"\",\"\",HYPERLINK(\"http://www.googlemaps.com/?q=\"&B4,\"Lat/Long: \"&B4))","v":"Lat/Long: 51.218385, 4.305929"}]
[]
[null,null,null,null,null,null,null,null,null,null,null,null,null,null,null,"Legenda"]
[null,null,null,null,null,null,null,null,null,null,null,null,null,null,null,null,"Personenwagen"]
[null,null,null,null,null,null,null,null,null,null,null,null,null,null,null,null,"Vracht"]
[null,null,null,null,null,null,null,null,null,null,null,null,null,null,null,null,"Motor"]
[null,null,null,null,null,null,null,null,null,null,null,null,null,null,null,null,"Obstakel / overig"]
[null,null,null,null,null,null,null,null,null,null,null,null,null,null,null,null,"Fout personenwagen"]
[null,null,null,null,null,null,null,null,null,null,null,null,null,null,null,null,"Fout Vracht"]
[]
[]
[]
[]
[]
[]
[]
[]
[]
[]
[]
[]
[null,"Toelichting"]
[null,"Pers = personenwagens op daarvoor bestemde"]
[null,"          openbare plaatsen"]
[null,"Vracht = vrachtwagens op daarvoor bestemde"]
[null,"          parkeerplaatsen (middel- en zwaar vrachtverkeer)"]
[null,"Motor = geparkeerde motoren op openbare plaatsen"]
[null,"Obstakel / overig = obstakels of overige voertuigen"]
[null,"          geparkeerd op openbare plaatsen"]
[null,"Fout pers = personenwagens die fout geparkeerd staan"]
[null,"Fout vracht = vrachtwagens die fout geparkeerd staan"]
[null,"E-wagen = geparkeerde elektrisch voertuig bij een"]
[null,"          elektrisch oplaadpunt"]
[null,"Invalide = personenwagens en motoren op voor"]
[null,"          invalide personen bestemde parkeerplaats"]
[null,"Gestalde fietsen = alle gestalde fietsen op de"]
[null,"          daarvoor bestemde parkeerplaatsen"]

{"sheet":"77.Keizershoek","index":69,"n_rows":54,"n_cols":26,"rows_kept":54,"cut":false,"hidden":false,"merged":[[4,3,5,12],[4,16,5,16],[15,3,16,12]]}
[]
[null,"PARKEERONDERZOEK",null,"CARPOOLPARKINGS EN P+R PARKINGS"]
[null,77,null,{"$f":"B8 & \" - \"& TEXT(VLOOKUP(B3,Coordinaten!$A$2:$G$95,7,0),\"dddd dd mmmm jjjj\")","v":"Carpool parking/P+R parking Keizershoek, Antwerpen - di 10 & do 12 oktober 2023"}]
[null,{"$f":"VLOOKUP(B3,Coordinaten!$A$2:$G$95,6,0)","v":"51.258243, 4.461816"}]
[null,null,null,"BEZETTING  ",null,null,null,null,null,null,null,null,null,null,null,null,"OPMERKINGEN"]
[]
[null,"Onderzoeksgebied",null,"Datum","Geregistreerd tussen","Pers","Vracht","Motor","Obstakel / overig","Fout   pers","Fout Vracht","Totaal","E-wagen\nplaats","Invalidenplaats","Gestalde fietsen",null,null,null,null,null,{"$f":"F7","v":"Pers"},"Vracht","Motor","Obstakel / overig","Fout   pers","Fout Vracht"]
[null,{"$f":"VLOOKUP(B3,Coordinaten!$A$2:$G$95,3,0)&\", \"&VLOOKUP(B3,Coordinaten!$A$2:$G$95,5,0)","v":"Carpool parking/P+R parking Keizershoek, Antwerpen"},null,{"$f":"_xlfn.XLOOKUP($B$3,Bezetting_1!$A$2:$A$90,Bezetting_1!C$2:C$90,,0)","v":"2023-10-10"},{"$f":"_xlfn.XLOOKUP($B$3,Bezetting_1!$A$2:$A$90,Bezetting_1!D$2:D$90,,0)","v":"09:00 - 16:00u"},{"$f":"_xlfn.XLOOKUP($B$3,Bezetting_1!$A$2:$A$90,Bezetting_1!E$2:E$90,,0)","v":79},{"$f":"_xlfn.XLOOKUP($B$3,Bezetting_1!$A$2:$A$90,Bezetting_1!F$2:F$90,,0)","v":0},{"$f":"_xlfn.XLOOKUP($B$3,Bezetting_1!$A$2:$A$90,Bezetting_1!G$2:G$90,,0)","v":1},{"$f":"_xlfn.XLOOKUP($B$3,Bezetting_1!$A$2:$A$90,Bezetting_1!H$2:H$90,,0)","v":0},{"$f":"_xlfn.XLOOKUP($B$3,Bezetting_1!$A$2:$A$90,Bezetting_1!I$2:I$90,,0)","v":0},{"$f":"_xlfn.XLOOKUP($B$3,Bezetting_1!$A$2:$A$90,Bezetting_1!J$2:J$90,,0)","v":0},{"$f":"_xlfn.XLOOKUP($B$3,Bezetting_1!$A$2:$A$90,Bezetting_1!K$2:K$90,,0)","v":80},{"$f":"_xlfn.XLOOKUP($B$3,Bezetting_1!$A$2:$A$90,Bezetting_1!L$2:L$90,,0)","v":0},{"$f":"_xlfn.XLOOKUP($B$3,Bezetting_1!$A$2:$A$90,Bezetting_1!M$2:M$90,,0)","v":2},{"$f":"_xlfn.XLOOKUP($B$3,Bezetting_1!$A$2:$A$90,Bezetting_1!N$2:N$90,,0)","v":37},null,{"$f":"_xlfn.XLOOKUP($B$3,Bezetting_1!$A$2:$A$90,Bezetting_1!P$2:P$90,,0)","v":"Is een parkeergarage"},null,{"$f":"D8","v":"2023-10-10"},{"$f":"E8","v":"09:00 - 16:00u"},{"$f":"IF(F8=0,NA(),F8/$L8)","v":0.98750000000000004},{"$f":"IF(G8=0,NA(),G8/$L8)","v":{"$error":"#N/A"}},{"$f":"IF(H8=0,NA(),H8/$L8)","v":1.2500000000000001E-2},{"$error":"#N/A"},{"$error":"#N/A"},{"$error":"#N/A"}]
[null,{"$f":"\"Nabij kruispunt: \"&VLOOKUP(B3,Coordinaten!$A$2:$L$95,4,0)","v":"Nabij kruispunt: N1 / Horstebaan"},null,null,null,{"$f":"IF(F8=0,\"-\",F8/$L$8)","v":0.98750000000000004},{"$f":"IF(G8=0,\"-\",G8/$L$8)","v":"-"},1.2500000000000001E-2,"-","-","-",1,null,null,null,null,{"$f":"_xlfn.XLOOKUP($B$3,Bezetting_1!$A$2:$A$90,Bezetting_1!Q$2:Q$90,,0)","v":0},null,{"$f":"D10","v":"2023-11-07"},{"$f":"E10","v":"19:00 - 02:00u"},{"$f":"IF(F10=0,NA(),F10/$L10)","v":0.98837209302325579},{"$f":"IF(G10=0,NA(),G10/$L10)","v":{"$error":"#N/A"}},1.1627906976744186E-2,{"$error":"#N/A"},{"$error":"#N/A"},{"$error":"#N/A"}]
[null,null,null,{"$f":"_xlfn.XLOOKUP($B$3,Bezetting_2!$A$2:$A$90,Bezetting_2!C$2:C$90,,0)","v":"2023-11-07"},{"$f":"_xlfn.XLOOKUP($B$3,Bezetting_2!$A$2:$A$90,Bezetting_2!D$2:D$90,,0)","v":"19:00 - 02:00u"},{"$f":"_xlfn.XLOOKUP($B$3,Bezetting_2!$A$2:$A$90,Bezetting_2!E$2:E$90,,0)","v":85},{"$f":"_xlfn.XLOOKUP($B$3,Bezetting_2!$A$2:$A$90,Bezetting_2!F$2:F$90,,0)","v":0},{"$f":"_xlfn.XLOOKUP($B$3,Bezetting_2!$A$2:$A$90,Bezetting_2!G$2:G$90,,0)","v":1},{"$f":"_xlfn.XLOOKUP($B$3,Bezetting_2!$A$2:$A$90,Bezetting_2!H$2:H$90,,0)","v":0},{"$f":"_xlfn.XLOOKUP($B$3,Bezetting_2!$A$2:$A$90,Bezetting_2!I$2:I$90,,0)","v":0},{"$f":"_xlfn.XLOOKUP($B$3,Bezetting_2!$A$2:$A$90,Bezetting_2!J$2:J$90,,0)","v":0},{"$f":"_xlfn.XLOOKUP($B$3,Bezetting_2!$A$2:$A$90,Bezetting_2!K$2:K$90,,0)","v":86},{"$f":"_xlfn.XLOOKUP($B$3,Bezetting_2!$A$2:$A$90,Bezetting_2!L$2:L$90,,0)","v":3},{"$f":"_xlfn.XLOOKUP($B$3,Bezetting_2!$A$2:$A$90,Bezetting_2!M$2:M$90,,0)","v":0},{"$f":"_xlfn.XLOOKUP($B$3,Bezetting_2!$A$2:$A$90,Bezetting_2!N$2:N$90,,0)","v":4},{"$f":"_xlfn.XLOOKUP($B$3,Bezetting_2!$A$2:$A$90,Bezetting_2!O$2:O$90,,0)","v":0},{"$f":"_xlfn.XLOOKUP($B$3,Bezetting_2!$A$2:$A$90,Bezetting_2!P$2:P$90,,0)","v":"Is een parkeergarage"}]
[null,"Meting",null,null,null,{"$f":"IF(F10=0,\"-\",F10/$L$10)","v":0.98837209302325579},{"$f":"IF(G10=0,\"-\",G10/$L$10)","v":"-"},1.1627906976744186E-2,"-","-","-",1,null,null,null,null,{"$f":"_xlfn.XLOOKUP($B$3,Bezetting_2!$A$2:$A$90,Bezetting_2!Q$2:Q$90,,0)","v":"Deze sectie is op 7-nov ingehaald"}]
[null,{"$f":"\"Meetperiode: \"&TEXT(VLOOKUP(B3,Coordinaten!$A:$G,7,0),\"dddd dd mmmm jjjj\")","v":"Meetperiode: di 10 & do 12 oktober 2023"}]
[null,"Methodiek: Parkeerdrukmeting met waarnemers"]
[null,"In opdracht van: Vlaamse overheid"]
[null,"Uitgevoerd door: Dufec"]
[null,null,null,"VERDELING NAAR CATEGORIE"]
[null,"Locatie"]
[null,{"$f":"IF(B4=\"\",\"\",HYPERLINK(\"http://www.googlemaps.com/?q=\"&B4,\"Lat/Long: \"&B4))","v":"Lat/Long: 51.258243, 4.461816"}]
[]
[null,null,null,null,null,null,null,null,null,null,null,null,null,null,null,"Legenda"]
[null,null,null,null,null,null,null,null,null,null,null,null,null,null,null,null,"Personenwagen"]
[null,null,null,null,null,null,null,null,null,null,null,null,null,null,null,null,"Vracht"]
[null,null,null,null,null,null,null,null,null,null,null,null,null,null,null,null,"Motor"]
[null,null,null,null,null,null,null,null,null,null,null,null,null,null,null,null,"Obstakel / overig"]
[null,null,null,null,null,null,null,null,null,null,null,null,null,null,null,null,"Fout personenwagen"]
[null,null,null,null,null,null,null,null,null,null,null,null,null,null,null,null,"Fout Vracht"]
[]
[]
[]
[]
[]
[]
[]
[]
[]
[]
[]
[]
[null,"Toelichting"]
[null,"Pers = personenwagens op daarvoor bestemde"]
[null,"          openbare plaatsen"]
[null,"Vracht = vrachtwagens op daarvoor bestemde"]
[null,"          parkeerplaatsen (middel- en zwaar vrachtverkeer)"]
[null,"Motor = geparkeerde motoren op openbare plaatsen"]
[null,"Obstakel / overig = obstakels of overige voertuigen"]
[null,"          geparkeerd op openbare plaatsen"]
[null,"Fout pers = personenwagens die fout geparkeerd staan"]
[null,"Fout vracht = vrachtwagens die fout geparkeerd staan"]
[null,"E-wagen = geparkeerde elektrisch voertuig bij een"]
[null,"          elektrisch oplaadpunt"]
[null,"Invalide = personenwagens en motoren op voor"]
[null,"          invalide personen bestemde parkeerplaats"]
[null,"Gestalde fietsen = alle gestalde fietsen op de"]
[null,"          daarvoor bestemde parkeerplaatsen"]

{"sheet":"78.Blancefloerlaan","index":70,"n_rows":54,"n_cols":26,"rows_kept":54,"cut":false,"hidden":false,"merged":[[4,3,5,12],[4,16,5,16],[15,3,16,12]]}
[]
[null,"PARKEERONDERZOEK",null,"CARPOOLPARKINGS EN P+R PARKINGS"]
[null,78,null,{"$f":"B8 & \" - \"& TEXT(VLOOKUP(B3,Coordinaten!$A$2:$G$95,7,0),\"dddd dd mmmm jjjj\")","v":"Carpool parking Blancefloerlaan, Antwerpen - di 10 & do 12 oktober 2023"}]
[null,{"$f":"VLOOKUP(B3,Coordinaten!$A$2:$G$95,6,0)","v":"51.219428, 4.347431"}]
[null,null,null,"BEZETTING  ",null,null,null,null,null,null,null,null,null,null,null,null,"OPMERKINGEN"]
[]
[null,"Onderzoeksgebied",null,"Datum","Geregistreerd tussen","Pers","Vracht","Motor","Obstakel / overig","Fout   pers","Fout Vracht","Totaal","E-wagen\nplaats","Invalidenplaats","Gestalde fietsen",null,null,null,null,null,{"$f":"F7","v":"Pers"},"Vracht","Motor","Obstakel / overig","Fout   pers","Fout Vracht"]
[null,{"$f":"VLOOKUP(B3,Coordinaten!$A$2:$G$95,3,0)&\", \"&VLOOKUP(B3,Coordinaten!$A$2:$G$95,5,0)","v":"Carpool parking Blancefloerlaan, Antwerpen"},null,{"$f":"_xlfn.XLOOKUP($B$3,Bezetting_1!$A$2:$A$90,Bezetting_1!C$2:C$90,,0)","v":"2023-10-10"},{"$f":"_xlfn.XLOOKUP($B$3,Bezetting_1!$A$2:$A$90,Bezetting_1!D$2:D$90,,0)","v":"09:00 - 16:00u"},{"$f":"_xlfn.XLOOKUP($B$3,Bezetting_1!$A$2:$A$90,Bezetting_1!E$2:E$90,,0)","v":24},{"$f":"_xlfn.XLOOKUP($B$3,Bezetting_1!$A$2:$A$90,Bezetting_1!F$2:F$90,,0)","v":0},{"$f":"_xlfn.XLOOKUP($B$3,Bezetting_1!$A$2:$A$90,Bezetting_1!G$2:G$90,,0)","v":0},{"$f":"_xlfn.XLOOKUP($B$3,Bezetting_1!$A$2:$A$90,Bezetting_1!H$2:H$90,,0)","v":0},{"$f":"_xlfn.XLOOKUP($B$3,Bezetting_1!$A$2:$A$90,Bezetting_1!I$2:I$90,,0)","v":0},{"$f":"_xlfn.XLOOKUP($B$3,Bezetting_1!$A$2:$A$90,Bezetting_1!J$2:J$90,,0)","v":0},{"$f":"_xlfn.XLOOKUP($B$3,Bezetting_1!$A$2:$A$90,Bezetting_1!K$2:K$90,,0)","v":24},{"$f":"_xlfn.XLOOKUP($B$3,Bezetting_1!$A$2:$A$90,Bezetting_1!L$2:L$90,,0)","v":0},{"$f":"_xlfn.XLOOKUP($B$3,Bezetting_1!$A$2:$A$90,Bezetting_1!M$2:M$90,,0)","v":0},{"$f":"_xlfn.XLOOKUP($B$3,Bezetting_1!$A$2:$A$90,Bezetting_1!N$2:N$90,,0)","v":0},null,{"$f":"_xlfn.XLOOKUP($B$3,Bezetting_1!$A$2:$A$90,Bezetting_1!P$2:P$90,,0)","v":0},null,{"$f":"D8","v":"2023-10-10"},{"$f":"E8","v":"09:00 - 16:00u"},{"$f":"IF(F8=0,NA(),F8/$L8)","v":1},{"$f":"IF(G8=0,NA(),G8/$L8)","v":{"$error":"#N/A"}},{"$f":"IF(H8=0,NA(),H8/$L8)","v":{"$error":"#N/A"}},{"$error":"#N/A"},{"$error":"#N/A"},{"$error":"#N/A"}]
[null,{"$f":"\"Nabij kruispunt: \"&VLOOKUP(B3,Coordinaten!$A$2:$L$95,4,0)","v":"Nabij kruispunt: R1 / N70"},null,null,null,{"$f":"IF(F8=0,\"-\",F8/$L$8)","v":1},{"$f":"IF(G8=0,\"-\",G8/$L$8)","v":"-"},"-","-","-","-",1,null,null,null,null,{"$f":"_xlfn.XLOOKUP($B$3,Bezetting_1!$A$2:$A$90,Bezetting_1!Q$2:Q$90,,0)","v":0},null,{"$f":"D10","v":"2023-10-10"},{"$f":"E10","v":"19:00 - 02:00u"},{"$f":"IF(F10=0,NA(),F10/$L10)","v":0.95},{"$f":"IF(G10=0,NA(),G10/$L10)","v":{"$error":"#N/A"}},{"$error":"#N/A"},{"$error":"#N/A"},0.05,{"$error":"#N/A"}]
[null,null,null,{"$f":"_xlfn.XLOOKUP($B$3,Bezetting_2!$A$2:$A$90,Bezetting_2!C$2:C$90,,0)","v":"2023-10-10"},{"$f":"_xlfn.XLOOKUP($B$3,Bezetting_2!$A$2:$A$90,Bezetting_2!D$2:D$90,,0)","v":"19:00 - 02:00u"},{"$f":"_xlfn.XLOOKUP($B$3,Bezetting_2!$A$2:$A$90,Bezetting_2!E$2:E$90,,0)","v":38},{"$f":"_xlfn.XLOOKUP($B$3,Bezetting_2!$A$2:$A$90,Bezetting_2!F$2:F$90,,0)","v":0},{"$f":"_xlfn.XLOOKUP($B$3,Bezetting_2!$A$2:$A$90,Bezetting_2!G$2:G$90,,0)","v":0},{"$f":"_xlfn.XLOOKUP($B$3,Bezetting_2!$A$2:$A$90,Bezetting_2!H$2:H$90,,0)","v":0},{"$f":"_xlfn.XLOOKUP($B$3,Bezetting_2!$A$2:$A$90,Bezetting_2!I$2:I$90,,0)","v":2},{"$f":"_xlfn.XLOOKUP($B$3,Bezetting_2!$A$2:$A$90,Bezetting_2!J$2:J$90,,0)","v":0},{"$f":"_xlfn.XLOOKUP($B$3,Bezetting_2!$A$2:$A$90,Bezetting_2!K$2:K$90,,0)","v":40},{"$f":"_xlfn.XLOOKUP($B$3,Bezetting_2!$A$2:$A$90,Bezetting_2!L$2:L$90,,0)","v":0},{"$f":"_xlfn.XLOOKUP($B$3,Bezetting_2!$A$2:$A$90,Bezetting_2!M$2:M$90,,0)","v":0},{"$f":"_xlfn.XLOOKUP($B$3,Bezetting_2!$A$2:$A$90,Bezetting_2!N$2:N$90,,0)","v":0},{"$f":"_xlfn.XLOOKUP($B$3,Bezetting_2!$A$2:$A$90,Bezetting_2!O$2:O$90,,0)","v":0},{"$f":"_xlfn.XLOOKUP($B$3,Bezetting_2!$A$2:$A$90,Bezetting_2!P$2:P$90,,0)","v":0}]
[null,"Meting",null,null,null,{"$f":"IF(F10=0,\"-\",F10/$L$10)","v":0.95},{"$f":"IF(G10=0,\"-\",G10/$L$10)","v":"-"},"-","-",0.05,"-",1,null,null,null,null,{"$f":"_xlfn.XLOOKUP($B$3,Bezetting_2!$A$2:$A$90,Bezetting_2!Q$2:Q$90,,0)","v":0}]
[null,{"$f":"\"Meetperiode: \"&TEXT(VLOOKUP(B3,Coordinaten!$A:$G,7,0),\"dddd dd mmmm jjjj\")","v":"Meetperiode: di 10 & do 12 oktober 2023"}]
[null,"Methodiek: Parkeerdrukmeting met waarnemers"]
[null,"In opdracht van: Vlaamse overheid"]
[null,"Uitgevoerd door: Dufec"]
[null,null,null,"VERDELING NAAR CATEGORIE"]
[null,"Locatie"]
[null,{"$f":"IF(B4=\"\",\"\",HYPERLINK(\"http://www.googlemaps.com/?q=\"&B4,\"Lat/Long: \"&B4))","v":"Lat/Long: 51.219428, 4.347431"}]
[]
[null,null,null,null,null,null,null,null,null,null,null,null,null,null,null,"Legenda"]
[null,null,null,null,null,null,null,null,null,null,null,null,null,null,null,null,"Personenwagen"]
[null,null,null,null,null,null,null,null,null,null,null,null,null,null,null,null,"Vracht"]
[null,null,null,null,null,null,null,null,null,null,null,null,null,null,null,null,"Motor"]
[null,null,null,null,null,null,null,null,null,null,null,null,null,null,null,null,"Obstakel / overig"]
[null,null,null,null,null,null,null,null,null,null,null,null,null,null,null,null,"Fout personenwagen"]
[null,null,null,null,null,null,null,null,null,null,null,null,null,null,null,null,"Fout Vracht"]
[]
[]
[]
[]
[]
[]
[]
[]
[]
[]
[]
[]
[null,"Toelichting"]
[null,"Pers = personenwagens op daarvoor bestemde"]
[null,"          openbare plaatsen"]
[null,"Vracht = vrachtwagens op daarvoor bestemde"]
[null,"          parkeerplaatsen (middel- en zwaar vrachtverkeer)"]
[null,"Motor = geparkeerde motoren op openbare plaatsen"]
[null,"Obstakel / overig = obstakels of overige voertuigen"]
[null,"          geparkeerd op openbare plaatsen"]
[null,"Fout pers = personenwagens die fout geparkeerd staan"]
[null,"Fout vracht = vrachtwagens die fout geparkeerd staan"]
[null,"E-wagen = geparkeerde elektrisch voertuig bij een"]
[null,"          elektrisch oplaadpunt"]
[null,"Invalide = personenwagens en motoren op voor"]
[null,"          invalide personen bestemde parkeerplaats"]
[null,"Gestalde fietsen = alle gestalde fietsen op de"]
[null,"          daarvoor bestemde parkeerplaatsen"]

{"sheet":"80.Gentbrugge","index":71,"n_rows":54,"n_cols":26,"rows_kept":54,"cut":false,"hidden":false,"merged":[[4,3,5,12],[4,16,5,16],[15,3,16,12]]}
[]
[null,"PARKEERONDERZOEK",null,"CARPOOLPARKINGS EN P+R PARKINGS"]
[null,80,null,{"$f":"B8 & \" - \"& TEXT(VLOOKUP(B3,Coordinaten!$A$2:$G$95,7,0),\"dddd dd mmmm jjjj\")","v":"P+R parking Gentbrugge, Gent - di 10 & do 12 oktober 2023"}]
[null,{"$f":"VLOOKUP(B3,Coordinaten!$A$2:$G$95,6,0)","v":"51.033488, 3.756221"}]
[null,null,null,"BEZETTING  ",null,null,null,null,null,null,null,null,null,null,null,null,"OPMERKINGEN"]
[]
[null,"Onderzoeksgebied",null,"Datum","Geregistreerd tussen","Pers","Vracht","Motor","Obstakel / overig","Fout   pers","Fout Vracht","Totaal","E-wagen\nplaats","Invalidenplaats","Gestalde fietsen",null,null,null,null,null,{"$f":"F7","v":"Pers"},"Vracht","Motor","Obstakel / overig","Fout   pers","Fout Vracht"]
[null,{"$f":"VLOOKUP(B3,Coordinaten!$A$2:$G$95,3,0)&\", \"&VLOOKUP(B3,Coordinaten!$A$2:$G$95,5,0)","v":"P+R parking Gentbrugge, Gent"},null,{"$f":"_xlfn.XLOOKUP($B$3,Bezetting_1!$A$2:$A$90,Bezetting_1!C$2:C$90,,0)","v":"2023-10-12"},{"$f":"_xlfn.XLOOKUP($B$3,Bezetting_1!$A$2:$A$90,Bezetting_1!D$2:D$90,,0)","v":"09:00 - 16:00u"},{"$f":"_xlfn.XLOOKUP($B$3,Bezetting_1!$A$2:$A$90,Bezetting_1!E$2:E$90,,0)","v":16},{"$f":"_xlfn.XLOOKUP($B$3,Bezetting_1!$A$2:$A$90,Bezetting_1!F$2:F$90,,0)","v":0},{"$f":"_xlfn.XLOOKUP($B$3,Bezetting_1!$A$2:$A$90,Bezetting_1!G$2:G$90,,0)","v":0},{"$f":"_xlfn.XLOOKUP($B$3,Bezetting_1!$A$2:$A$90,Bezetting_1!H$2:H$90,,0)","v":0},{"$f":"_xlfn.XLOOKUP($B$3,Bezetting_1!$A$2:$A$90,Bezetting_1!I$2:I$90,,0)","v":0},{"$f":"_xlfn.XLOOKUP($B$3,Bezetting_1!$A$2:$A$90,Bezetting_1!J$2:J$90,,0)","v":0},{"$f":"_xlfn.XLOOKUP($B$3,Bezetting_1!$A$2:$A$90,Bezetting_1!K$2:K$90,,0)","v":16},{"$f":"_xlfn.XLOOKUP($B$3,Bezetting_1!$A$2:$A$90,Bezetting_1!L$2:L$90,,0)","v":1},{"$f":"_xlfn.XLOOKUP($B$3,Bezetting_1!$A$2:$A$90,Bezetting_1!M$2:M$90,,0)","v":0},{"$f":"_xlfn.XLOOKUP($B$3,Bezetting_1!$A$2:$A$90,Bezetting_1!N$2:N$90,,0)","v":0},null,{"$f":"_xlfn.XLOOKUP($B$3,Bezetting_1!$A$2:$A$90,Bezetting_1!P$2:P$90,,0)","v":0},null,{"$f":"D8","v":"2023-10-12"},{"$f":"E8","v":"09:00 - 16:00u"},{"$f":"IF(F8=0,NA(),F8/$L8)","v":1},{"$f":"IF(G8=0,NA(),G8/$L8)","v":{"$error":"#N/A"}},{"$f":"IF(H8=0,NA(),H8/$L8)","v":{"$error":"#N/A"}},{"$error":"#N/A"},{"$error":"#N/A"},{"$error":"#N/A"}]
[null,{"$f":"\"Nabij kruispunt: \"&VLOOKUP(B3,Coordinaten!$A$2:$L$95,4,0)","v":"Nabij kruispunt: N9 / A14"},null,null,null,{"$f":"IF(F8=0,\"-\",F8/$L$8)","v":1},{"$f":"IF(G8=0,\"-\",G8/$L$8)","v":"-"},"-","-","-","-",1,null,null,null,null,{"$f":"_xlfn.XLOOKUP($B$3,Bezetting_1!$A$2:$A$90,Bezetting_1!Q$2:Q$90,,0)","v":0},null,{"$f":"D10","v":"2023-11-07"},{"$f":"E10","v":"19:00 - 02:00u"},{"$f":"IF(F10=0,NA(),F10/$L10)","v":1},{"$f":"IF(G10=0,NA(),G10/$L10)","v":{"$error":"#N/A"}},{"$error":"#N/A"},{"$error":"#N/A"},{"$error":"#N/A"},{"$error":"#N/A"}]
[null,null,null,{"$f":"_xlfn.XLOOKUP($B$3,Bezetting_2!$A$2:$A$90,Bezetting_2!C$2:C$90,,0)","v":"2023-11-07"},{"$f":"_xlfn.XLOOKUP($B$3,Bezetting_2!$A$2:$A$90,Bezetting_2!D$2:D$90,,0)","v":"19:00 - 02:00u"},{"$f":"_xlfn.XLOOKUP($B$3,Bezetting_2!$A$2:$A$90,Bezetting_2!E$2:E$90,,0)","v":10},{"$f":"_xlfn.XLOOKUP($B$3,Bezetting_2!$A$2:$A$90,Bezetting_2!F$2:F$90,,0)","v":0},{"$f":"_xlfn.XLOOKUP($B$3,Bezetting_2!$A$2:$A$90,Bezetting_2!G$2:G$90,,0)","v":0},{"$f":"_xlfn.XLOOKUP($B$3,Bezetting_2!$A$2:$A$90,Bezetting_2!H$2:H$90,,0)","v":0},{"$f":"_xlfn.XLOOKUP($B$3,Bezetting_2!$A$2:$A$90,Bezetting_2!I$2:I$90,,0)","v":0},{"$f":"_xlfn.XLOOKUP($B$3,Bezetting_2!$A$2:$A$90,Bezetting_2!J$2:J$90,,0)","v":0},{"$f":"_xlfn.XLOOKUP($B$3,Bezetting_2!$A$2:$A$90,Bezetting_2!K$2:K$90,,0)","v":10},{"$f":"_xlfn.XLOOKUP($B$3,Bezetting_2!$A$2:$A$90,Bezetting_2!L$2:L$90,,0)","v":0},{"$f":"_xlfn.XLOOKUP($B$3,Bezetting_2!$A$2:$A$90,Bezetting_2!M$2:M$90,,0)","v":0},{"$f":"_xlfn.XLOOKUP($B$3,Bezetting_2!$A$2:$A$90,Bezetting_2!N$2:N$90,,0)","v":0},{"$f":"_xlfn.XLOOKUP($B$3,Bezetting_2!$A$2:$A$90,Bezetting_2!O$2:O$90,,0)","v":0},{"$f":"_xlfn.XLOOKUP($B$3,Bezetting_2!$A$2:$A$90,Bezetting_2!P$2:P$90,,0)","v":"Parkeerplaats word deels verbouwd"}]
[null,"Meting",null,null,null,{"$f":"IF(F10=0,\"-\",F10/$L$10)","v":1},{"$f":"IF(G10=0,\"-\",G10/$L$10)","v":"-"},"-","-","-","-",1,null,null,null,null,{"$f":"_xlfn.XLOOKUP($B$3,Bezetting_2!$A$2:$A$90,Bezetting_2!Q$2:Q$90,,0)","v":"Deze sectie is op 7-nov ingehaald"}]
[null,{"$f":"\"Meetperiode: \"&TEXT(VLOOKUP(B3,Coordinaten!$A:$G,7,0),\"dddd dd mmmm jjjj\")","v":"Meetperiode: di 10 & do 12 oktober 2023"}]
[null,"Methodiek: Parkeerdrukmeting met waarnemers"]
[null,"In opdracht van: Vlaamse overheid"]
[null,"Uitgevoerd door: Dufec"]
[null,null,null,"VERDELING NAAR CATEGORIE"]
[null,"Locatie"]
[null,{"$f":"IF(B4=\"\",\"\",HYPERLINK(\"http://www.googlemaps.com/?q=\"&B4,\"Lat/Long: \"&B4))","v":"Lat/Long: 51.033488, 3.756221"}]
[]
[null,null,null,null,null,null,null,null,null,null,null,null,null,null,null,"Legenda"]
[null,null,null,null,null,null,null,null,null,null,null,null,null,null,null,null,"Personenwagen"]
[null,null,null,null,null,null,null,null,null,null,null,null,null,null,null,null,"Vracht"]
[null,null,null,null,null,null,null,null,null,null,null,null,null,null,null,null,"Motor"]
[null,null,null,null,null,null,null,null,null,null,null,null,null,null,null,null,"Obstakel / overig"]
[]
[null,null,null,null,null,null,null,null,null,null,null,null,null,null,null,null,"Fout Vracht"]
[]
[]
[]
[]
[]
[]
[]
[]
[]
[]
[]
[]
[null,"Toelichting"]
[null,"Pers = personenwagens op daarvoor bestemde"]
[null,"          openbare plaatsen"]
[null,"Vracht = vrachtwagens op daarvoor bestemde"]
[null,"          parkeerplaatsen (middel- en zwaar vrachtverkeer)"]
[null,"Motor = geparkeerde motoren op openbare plaatsen"]
[null,"Obstakel / overig = obstakels of overige voertuigen"]
[null,"          geparkeerd op openbare plaatsen"]
[null,"Fout pers = personenwagens die fout geparkeerd staan"]
[null,"Fout vracht = vrachtwagens die fout geparkeerd staan"]
[null,"E-wagen = geparkeerde elektrisch voertuig bij een"]
[null,"          elektrisch oplaadpunt"]
[null,"Invalide = personenwagens en motoren op voor"]
[null,"          invalide personen bestemde parkeerplaats"]
[null,"Gestalde fietsen = alle gestalde fietsen op de"]
[null,"          daarvoor bestemde parkeerplaatsen"]

{"sheet":"82.Vuntcomplex","index":72,"n_rows":54,"n_cols":26,"rows_kept":54,"cut":false,"hidden":false,"merged":[[4,3,5,12],[4,16,5,16],[15,3,16,12]]}
[]
[null,"PARKEERONDERZOEK",null,"CARPOOLPARKINGS EN P+R PARKINGS"]
[null,82,null,{"$f":"B8 & \" - \"& TEXT(VLOOKUP(B3,Coordinaten!$A$2:$G$95,7,0),\"dddd dd mmmm jjjj\")","v":"Carpool parking Vuntcomplex, Leuven - di 10 & do 12 oktober 2023"}]
[null,{"$f":"VLOOKUP(B3,Coordinaten!$A$2:$G$95,6,0)","v":"50.906947, 4.716171"}]
[null,null,null,"BEZETTING  ",null,null,null,null,null,null,null,null,null,null,null,null,"OPMERKINGEN"]
[]
[null,"Onderzoeksgebied",null,"Datum","Geregistreerd tussen","Pers","Vracht","Motor","Obstakel / overig","Fout   pers","Fout Vracht","Totaal","E-wagen\nplaats","Invalidenplaats","Gestalde fietsen",null,null,null,null,null,{"$f":"F7","v":"Pers"},"Vracht","Motor","Obstakel / overig","Fout   pers","Fout Vracht"]
[null,{"$f":"VLOOKUP(B3,Coordinaten!$A$2:$G$95,3,0)&\", \"&VLOOKUP(B3,Coordinaten!$A$2:$G$95,5,0)","v":"Carpool parking Vuntcomplex, Leuven"},null,{"$f":"_xlfn.XLOOKUP($B$3,Bezetting_1!$A$2:$A$90,Bezetting_1!C$2:C$90,,0)","v":"2023-10-10"},{"$f":"_xlfn.XLOOKUP($B$3,Bezetting_1!$A$2:$A$90,Bezetting_1!D$2:D$90,,0)","v":"09:00 - 16:00u"},{"$f":"_xlfn.XLOOKUP($B$3,Bezetting_1!$A$2:$A$90,Bezetting_1!E$2:E$90,,0)","v":21},{"$f":"_xlfn.XLOOKUP($B$3,Bezetting_1!$A$2:$A$90,Bezetting_1!F$2:F$90,,0)","v":0},{"$f":"_xlfn.XLOOKUP($B$3,Bezetting_1!$A$2:$A$90,Bezetting_1!G$2:G$90,,0)","v":0},{"$f":"_xlfn.XLOOKUP($B$3,Bezetting_1!$A$2:$A$90,Bezetting_1!H$2:H$90,,0)","v":0},{"$f":"_xlfn.XLOOKUP($B$3,Bezetting_1!$A$2:$A$90,Bezetting_1!I$2:I$90,,0)","v":0},{"$f":"_xlfn.XLOOKUP($B$3,Bezetting_1!$A$2:$A$90,Bezetting_1!J$2:J$90,,0)","v":0},{"$f":"_xlfn.XLOOKUP($B$3,Bezetting_1!$A$2:$A$90,Bezetting_1!K$2:K$90,,0)","v":21},{"$f":"_xlfn.XLOOKUP($B$3,Bezetting_1!$A$2:$A$90,Bezetting_1!L$2:L$90,,0)","v":0},{"$f":"_xlfn.XLOOKUP($B$3,Bezetting_1!$A$2:$A$90,Bezetting_1!M$2:M$90,,0)","v":0},{"$f":"_xlfn.XLOOKUP($B$3,Bezetting_1!$A$2:$A$90,Bezetting_1!N$2:N$90,,0)","v":12},null,{"$f":"_xlfn.XLOOKUP($B$3,Bezetting_1!$A$2:$A$90,Bezetting_1!P$2:P$90,,0)","v":0},null,{"$f":"D8","v":"2023-10-10"},{"$f":"E8","v":"09:00 - 16:00u"},{"$f":"IF(F8=0,NA(),F8/$L8)","v":1},{"$f":"IF(G8=0,NA(),G8/$L8)","v":{"$error":"#N/A"}},{"$f":"IF(H8=0,NA(),H8/$L8)","v":{"$error":"#N/A"}},{"$error":"#N/A"},{"$error":"#N/A"},{"$error":"#N/A"}]
[null,{"$f":"\"Nabij kruispunt: \"&VLOOKUP(B3,Coordinaten!$A$2:$L$95,4,0)","v":"Nabij kruispunt: A2 / Vuntcomplex"},null,null,null,{"$f":"IF(F8=0,\"-\",F8/$L$8)","v":1},{"$f":"IF(G8=0,\"-\",G8/$L$8)","v":"-"},"-","-","-","-",1,null,null,null,null,{"$f":"_xlfn.XLOOKUP($B$3,Bezetting_1!$A$2:$A$90,Bezetting_1!Q$2:Q$90,,0)","v":0},null,{"$f":"D10","v":"2023-10-10"},{"$f":"E10","v":"19:00 - 02:00u"},{"$f":"IF(F10=0,NA(),F10/$L10)","v":0.9375},{"$f":"IF(G10=0,NA(),G10/$L10)","v":{"$error":"#N/A"}},{"$error":"#N/A"},{"$error":"#N/A"},{"$error":"#N/A"},6.25E-2]
[null,null,null,{"$f":"_xlfn.XLOOKUP($B$3,Bezetting_2!$A$2:$A$90,Bezetting_2!C$2:C$90,,0)","v":"2023-10-10"},{"$f":"_xlfn.XLOOKUP($B$3,Bezetting_2!$A$2:$A$90,Bezetting_2!D$2:D$90,,0)","v":"19:00 - 02:00u"},{"$f":"_xlfn.XLOOKUP($B$3,Bezetting_2!$A$2:$A$90,Bezetting_2!E$2:E$90,,0)","v":15},{"$f":"_xlfn.XLOOKUP($B$3,Bezetting_2!$A$2:$A$90,Bezetting_2!F$2:F$90,,0)","v":0},{"$f":"_xlfn.XLOOKUP($B$3,Bezetting_2!$A$2:$A$90,Bezetting_2!G$2:G$90,,0)","v":0},{"$f":"_xlfn.XLOOKUP($B$3,Bezetting_2!$A$2:$A$90,Bezetting_2!H$2:H$90,,0)","v":0},{"$f":"_xlfn.XLOOKUP($B$3,Bezetting_2!$A$2:$A$90,Bezetting_2!I$2:I$90,,0)","v":0},{"$f":"_xlfn.XLOOKUP($B$3,Bezetting_2!$A$2:$A$90,Bezetting_2!J$2:J$90,,0)","v":1},{"$f":"_xlfn.XLOOKUP($B$3,Bezetting_2!$A$2:$A$90,Bezetting_2!K$2:K$90,,0)","v":16},{"$f":"_xlfn.XLOOKUP($B$3,Bezetting_2!$A$2:$A$90,Bezetting_2!L$2:L$90,,0)","v":0},{"$f":"_xlfn.XLOOKUP($B$3,Bezetting_2!$A$2:$A$90,Bezetting_2!M$2:M$90,,0)","v":0},{"$f":"_xlfn.XLOOKUP($B$3,Bezetting_2!$A$2:$A$90,Bezetting_2!N$2:N$90,,0)","v":2},{"$f":"_xlfn.XLOOKUP($B$3,Bezetting_2!$A$2:$A$90,Bezetting_2!O$2:O$90,,0)","v":0},{"$f":"_xlfn.XLOOKUP($B$3,Bezetting_2!$A$2:$A$90,Bezetting_2!P$2:P$90,,0)","v":"Fout vracht: op 3 plaatsen"}]
[null,"Meting",null,null,null,{"$f":"IF(F10=0,\"-\",F10/$L$10)","v":0.9375},{"$f":"IF(G10=0,\"-\",G10/$L$10)","v":"-"},"-","-","-",6.25E-2,1,null,null,null,null,{"$f":"_xlfn.XLOOKUP($B$3,Bezetting_2!$A$2:$A$90,Bezetting_2!Q$2:Q$90,,0)","v":0}]
[null,{"$f":"\"Meetperiode: \"&TEXT(VLOOKUP(B3,Coordinaten!$A:$G,7,0),\"dddd dd mmmm jjjj\")","v":"Meetperiode: di 10 & do 12 oktober 2023"}]
[null,"Methodiek: Parkeerdrukmeting met waarnemers"]
[null,"In opdracht van: Vlaamse overheid"]
[null,"Uitgevoerd door: Dufec"]
[null,null,null,"VERDELING NAAR CATEGORIE"]
[null,"Locatie"]
[null,{"$f":"IF(B4=\"\",\"\",HYPERLINK(\"http://www.googlemaps.com/?q=\"&B4,\"Lat/Long: \"&B4))","v":"Lat/Long: 50.906947, 4.716171"}]
[]
[null,null,null,null,null,null,null,null,null,null,null,null,null,null,null,"Legenda"]
[null,null,null,null,null,null,null,null,null,null,null,null,null,null,null,null,"Personenwagen"]
[null,null,null,null,null,null,null,null,null,null,null,null,null,null,null,null,"Vracht"]
[null,null,null,null,null,null,null,null,null,null,null,null,null,null,null,null,"Motor"]
[null,null,null,null,null,null,null,null,null,null,null,null,null,null,null,null,"Obstakel / overig"]
[null,null,null,null,null,null,null,null,null,null,null,null,null,null,null,null,"Fout personenwagen"]
[null,null,null,null,null,null,null,null,null,null,null,null,null,null,null,null,"Fout Vracht"]
[]
[]
[]
[]
[]
[]
[]
[]
[]
[]
[]
[]
[null,"Toelichting"]
[null,"Pers = personenwagens op daarvoor bestemde"]
[null,"          openbare plaatsen"]
[null,"Vracht = vrachtwagens op daarvoor bestemde"]
[null,"          parkeerplaatsen (middel- en zwaar vrachtverkeer)"]
[null,"Motor = geparkeerde motoren op openbare plaatsen"]
[null,"Obstakel / overig = obstakels of overige voertuigen"]
[null,"          geparkeerd op openbare plaatsen"]
[null,"Fout pers = personenwagens die fout geparkeerd staan"]
[null,"Fout vracht = vrachtwagens die fout geparkeerd staan"]
[null,"E-wagen = geparkeerde elektrisch voertuig bij een"]
[null,"          elektrisch oplaadpunt"]
[null,"Invalide = personenwagens en motoren op voor"]
[null,"          invalide personen bestemde parkeerplaats"]
[null,"Gestalde fietsen = alle gestalde fietsen op de"]
[null,"          daarvoor bestemde parkeerplaatsen"]

{"sheet":"83.Sterrebeek","index":73,"n_rows":54,"n_cols":26,"rows_kept":54,"cut":false,"hidden":false,"merged":[[4,3,5,12],[4,16,5,16],[15,3,16,12]]}
[]
[null,"PARKEERONDERZOEK",null,"CARPOOLPARKINGS EN P+R PARKINGS"]
[null,83,null,{"$f":"B8 & \" - \"& TEXT(VLOOKUP(B3,Coordinaten!$A$2:$G$95,7,0),\"dddd dd mmmm jjjj\")","v":"Carpool parking Sterrebeek, Zaventem - di 10 & do 12 oktober 2023"}]
[null,{"$f":"VLOOKUP(B3,Coordinaten!$A$2:$G$95,6,0)","v":"50.871388, 4.510603"}]
[null,null,null,"BEZETTING  ",null,null,null,null,null,null,null,null,null,null,null,null,"OPMERKINGEN"]
[]
[null,"Onderzoeksgebied",null,"Datum","Geregistreerd tussen","Pers","Vracht","Motor","Obstakel / overig","Fout   pers","Fout Vracht","Totaal","E-wagen\nplaats","Invalidenplaats","Gestalde fietsen",null,null,null,null,null,{"$f":"F7","v":"Pers"},"Vracht","Motor","Obstakel / overig","Fout   pers","Fout Vracht"]
[null,{"$f":"VLOOKUP(B3,Coordinaten!$A$2:$G$95,3,0)&\", \"&VLOOKUP(B3,Coordinaten!$A$2:$G$95,5,0)","v":"Carpool parking Sterrebeek, Zaventem"},null,{"$f":"_xlfn.XLOOKUP($B$3,Bezetting_1!$A$2:$A$90,Bezetting_1!C$2:C$90,,0)","v":"2023-10-12"},{"$f":"_xlfn.XLOOKUP($B$3,Bezetting_1!$A$2:$A$90,Bezetting_1!D$2:D$90,,0)","v":"09:00 - 16:00u"},{"$f":"_xlfn.XLOOKUP($B$3,Bezetting_1!$A$2:$A$90,Bezetting_1!E$2:E$90,,0)","v":21},{"$f":"_xlfn.XLOOKUP($B$3,Bezetting_1!$A$2:$A$90,Bezetting_1!F$2:F$90,,0)","v":0},{"$f":"_xlfn.XLOOKUP($B$3,Bezetting_1!$A$2:$A$90,Bezetting_1!G$2:G$90,,0)","v":0},{"$f":"_xlfn.XLOOKUP($B$3,Bezetting_1!$A$2:$A$90,Bezetting_1!H$2:H$90,,0)","v":0},{"$f":"_xlfn.XLOOKUP($B$3,Bezetting_1!$A$2:$A$90,Bezetting_1!I$2:I$90,,0)","v":0},{"$f":"_xlfn.XLOOKUP($B$3,Bezetting_1!$A$2:$A$90,Bezetting_1!J$2:J$90,,0)","v":0},{"$f":"_xlfn.XLOOKUP($B$3,Bezetting_1!$A$2:$A$90,Bezetting_1!K$2:K$90,,0)","v":21},{"$f":"_xlfn.XLOOKUP($B$3,Bezetting_1!$A$2:$A$90,Bezetting_1!L$2:L$90,,0)","v":0},{"$f":"_xlfn.XLOOKUP($B$3,Bezetting_1!$A$2:$A$90,Bezetting_1!M$2:M$90,,0)","v":0},{"$f":"_xlfn.XLOOKUP($B$3,Bezetting_1!$A$2:$A$90,Bezetting_1!N$2:N$90,,0)","v":0},null,{"$f":"_xlfn.XLOOKUP($B$3,Bezetting_1!$A$2:$A$90,Bezetting_1!P$2:P$90,,0)","v":0},null,{"$f":"D8","v":"2023-10-12"},{"$f":"E8","v":"09:00 - 16:00u"},{"$f":"IF(F8=0,NA(),F8/$L8)","v":1},{"$f":"IF(G8=0,NA(),G8/$L8)","v":{"$error":"#N/A"}},{"$f":"IF(H8=0,NA(),H8/$L8)","v":{"$error":"#N/A"}},{"$error":"#N/A"},{"$error":"#N/A"},{"$error":"#N/A"}]
[null,{"$f":"\"Nabij kruispunt: \"&VLOOKUP(B3,Coordinaten!$A$2:$L$95,4,0)","v":"Nabij kruispunt: N227 / A3"},null,null,null,{"$f":"IF(F8=0,\"-\",F8/$L$8)","v":1},{"$f":"IF(G8=0,\"-\",G8/$L$8)","v":"-"},"-","-","-","-",1,null,null,null,null,{"$f":"_xlfn.XLOOKUP($B$3,Bezetting_1!$A$2:$A$90,Bezetting_1!Q$2:Q$90,,0)","v":0},null,{"$f":"D10","v":"2023-10-12"},{"$f":"E10","v":"19:00 - 02:00u"},{"$f":"IF(F10=0,NA(),F10/$L10)","v":0.75},{"$f":"IF(G10=0,NA(),G10/$L10)","v":{"$error":"#N/A"}},{"$error":"#N/A"},0.25,{"$error":"#N/A"},{"$error":"#N/A"}]
[null,null,null,{"$f":"_xlfn.XLOOKUP($B$3,Bezetting_2!$A$2:$A$90,Bezetting_2!C$2:C$90,,0)","v":"2023-10-12"},{"$f":"_xlfn.XLOOKUP($B$3,Bezetting_2!$A$2:$A$90,Bezetting_2!D$2:D$90,,0)","v":"19:00 - 02:00u"},{"$f":"_xlfn.XLOOKUP($B$3,Bezetting_2!$A$2:$A$90,Bezetting_2!E$2:E$90,,0)","v":18},{"$f":"_xlfn.XLOOKUP($B$3,Bezetting_2!$A$2:$A$90,Bezetting_2!F$2:F$90,,0)","v":0},{"$f":"_xlfn.XLOOKUP($B$3,Bezetting_2!$A$2:$A$90,Bezetting_2!G$2:G$90,,0)","v":0},{"$f":"_xlfn.XLOOKUP($B$3,Bezetting_2!$A$2:$A$90,Bezetting_2!H$2:H$90,,0)","v":6},{"$f":"_xlfn.XLOOKUP($B$3,Bezetting_2!$A$2:$A$90,Bezetting_2!I$2:I$90,,0)","v":0},{"$f":"_xlfn.XLOOKUP($B$3,Bezetting_2!$A$2:$A$90,Bezetting_2!J$2:J$90,,0)","v":0},{"$f":"_xlfn.XLOOKUP($B$3,Bezetting_2!$A$2:$A$90,Bezetting_2!K$2:K$90,,0)","v":24},{"$f":"_xlfn.XLOOKUP($B$3,Bezetting_2!$A$2:$A$90,Bezetting_2!L$2:L$90,,0)","v":0},{"$f":"_xlfn.XLOOKUP($B$3,Bezetting_2!$A$2:$A$90,Bezetting_2!M$2:M$90,,0)","v":0},{"$f":"_xlfn.XLOOKUP($B$3,Bezetting_2!$A$2:$A$90,Bezetting_2!N$2:N$90,,0)","v":0},{"$f":"_xlfn.XLOOKUP($B$3,Bezetting_2!$A$2:$A$90,Bezetting_2!O$2:O$90,,0)","v":0},{"$f":"_xlfn.XLOOKUP($B$3,Bezetting_2!$A$2:$A$90,Bezetting_2!P$2:P$90,,0)","v":"Overig: 5x hekkken, 1x bakstenen"}]
[null,"Meting",null,null,null,{"$f":"IF(F10=0,\"-\",F10/$L$10)","v":0.75},{"$f":"IF(G10=0,\"-\",G10/$L$10)","v":"-"},"-",0.25,"-","-",1,null,null,null,null,{"$f":"_xlfn.XLOOKUP($B$3,Bezetting_2!$A$2:$A$90,Bezetting_2!Q$2:Q$90,,0)","v":0}]
[null,{"$f":"\"Meetperiode: \"&TEXT(VLOOKUP(B3,Coordinaten!$A:$G,7,0),\"dddd dd mmmm jjjj\")","v":"Meetperiode: di 10 & do 12 oktober 2023"}]
[null,"Methodiek: Parkeerdrukmeting met waarnemers"]
[null,"In opdracht van: Vlaamse overheid"]
[null,"Uitgevoerd door: Dufec"]
[null,null,null,"VERDELING NAAR CATEGORIE"]
[null,"Locatie"]
[null,{"$f":"IF(B4=\"\",\"\",HYPERLINK(\"http://www.googlemaps.com/?q=\"&B4,\"Lat/Long: \"&B4))","v":"Lat/Long: 50.871388, 4.510603"}]
[]
[null,null,null,null,null,null,null,null,null,null,null,null,null,null,null,"Legenda"]
[null,null,null,null,null,null,null,null,null,null,null,null,null,null,null,null,"Personenwagen"]
[null,null,null,null,null,null,null,null,null,null,null,null,null,null,null,null,"Vracht"]
[null,null,null,null,null,null,null,null,null,null,null,null,null,null,null,null,"Motor"]
[null,null,null,null,null,null,null,null,null,null,null,null,null,null,null,null,"Obstakel / overig"]
[null,null,null,null,null,null,null,null,null,null,null,null,null,null,null,null,"Fout personenwagen"]
[null,null,null,null,null,null,null,null,null,null,null,null,null,null,null,null,"Fout Vracht"]
[]
[]
[]
[]
[]
[]
[]
[]
[]
[]
[]
[]
[null,"Toelichting"]
[null,"Pers = personenwagens op daarvoor bestemde"]
[null,"          openbare plaatsen"]
[null,"Vracht = vrachtwagens op daarvoor bestemde"]
[null,"          parkeerplaatsen (middel- en zwaar vrachtverkeer)"]
[null,"Motor = geparkeerde motoren op openbare plaatsen"]
[null,"Obstakel / overig = obstakels of overige voertuigen"]
[null,"          geparkeerd op openbare plaatsen"]
[null,"Fout pers = personenwagens die fout geparkeerd staan"]
[null,"Fout vracht = vrachtwagens die fout geparkeerd staan"]
[null,"E-wagen = geparkeerde elektrisch voertuig bij een"]
[null,"          elektrisch oplaadpunt"]
[null,"Invalide = personenwagens en motoren op voor"]
[null,"          invalide personen bestemde parkeerplaats"]
[null,"Gestalde fietsen = alle gestalde fietsen op de"]
[null,"          daarvoor bestemde parkeerplaatsen"]

{"sheet":"84.Halle-Rattenput","index":74,"n_rows":54,"n_cols":26,"rows_kept":54,"cut":false,"hidden":false,"merged":[[4,3,5,12],[4,16,5,16],[15,3,16,12]]}
[]
[null,"PARKEERONDERZOEK",null,"CARPOOLPARKINGS EN P+R PARKINGS"]
[null,84,null,{"$f":"B8 & \" - \"& TEXT(VLOOKUP(B3,Coordinaten!$A$2:$G$95,7,0),\"dddd dd mmmm jjjj\")","v":"Carpool parking Halle-Rattenput, Halle - di 10 & do 12 oktober 2023"}]
[null,{"$f":"VLOOKUP(B3,Coordinaten!$A$2:$G$95,6,0)","v":"50.723963, 4.227925"}]
[null,null,null,"BEZETTING  ",null,null,null,null,null,null,null,null,null,null,null,null,"OPMERKINGEN"]
[]
[null,"Onderzoeksgebied",null,"Datum","Geregistreerd tussen","Pers","Vracht","Motor","Obstakel / overig","Fout   pers","Fout Vracht","Totaal","E-wagen\nplaats","Invalidenplaats","Gestalde fietsen",null,null,null,null,null,{"$f":"F7","v":"Pers"},"Vracht","Motor","Obstakel / overig","Fout   pers","Fout Vracht"]
[null,{"$f":"VLOOKUP(B3,Coordinaten!$A$2:$G$95,3,0)&\", \"&VLOOKUP(B3,Coordinaten!$A$2:$G$95,5,0)","v":"Carpool parking Halle-Rattenput, Halle"},null,{"$f":"_xlfn.XLOOKUP($B$3,Bezetting_1!$A$2:$A$90,Bezetting_1!C$2:C$90,,0)","v":"2023-10-12"},{"$f":"_xlfn.XLOOKUP($B$3,Bezetting_1!$A$2:$A$90,Bezetting_1!D$2:D$90,,0)","v":"09:00 - 16:00u"},{"$f":"_xlfn.XLOOKUP($B$3,Bezetting_1!$A$2:$A$90,Bezetting_1!E$2:E$90,,0)","v":1},{"$f":"_xlfn.XLOOKUP($B$3,Bezetting_1!$A$2:$A$90,Bezetting_1!F$2:F$90,,0)","v":0},{"$f":"_xlfn.XLOOKUP($B$3,Bezetting_1!$A$2:$A$90,Bezetting_1!G$2:G$90,,0)","v":0},{"$f":"_xlfn.XLOOKUP($B$3,Bezetting_1!$A$2:$A$90,Bezetting_1!H$2:H$90,,0)","v":0},{"$f":"_xlfn.XLOOKUP($B$3,Bezetting_1!$A$2:$A$90,Bezetting_1!I$2:I$90,,0)","v":0},{"$f":"_xlfn.XLOOKUP($B$3,Bezetting_1!$A$2:$A$90,Bezetting_1!J$2:J$90,,0)","v":0},{"$f":"_xlfn.XLOOKUP($B$3,Bezetting_1!$A$2:$A$90,Bezetting_1!K$2:K$90,,0)","v":1},{"$f":"_xlfn.XLOOKUP($B$3,Bezetting_1!$A$2:$A$90,Bezetting_1!L$2:L$90,,0)","v":0},{"$f":"_xlfn.XLOOKUP($B$3,Bezetting_1!$A$2:$A$90,Bezetting_1!M$2:M$90,,0)","v":0},{"$f":"_xlfn.XLOOKUP($B$3,Bezetting_1!$A$2:$A$90,Bezetting_1!N$2:N$90,,0)","v":0},null,{"$f":"_xlfn.XLOOKUP($B$3,Bezetting_1!$A$2:$A$90,Bezetting_1!P$2:P$90,,0)","v":"De carpoolparking wordt verbouwd. Veel vakken niet begaanbaar"},null,{"$f":"D8","v":"2023-10-12"},{"$f":"E8","v":"09:00 - 16:00u"},{"$f":"IF(F8=0,NA(),F8/$L8)","v":1},{"$f":"IF(G8=0,NA(),G8/$L8)","v":{"$error":"#N/A"}},{"$f":"IF(H8=0,NA(),H8/$L8)","v":{"$error":"#N/A"}},{"$error":"#N/A"},{"$error":"#N/A"},{"$error":"#N/A"}]
[null,{"$f":"\"Nabij kruispunt: \"&VLOOKUP(B3,Coordinaten!$A$2:$L$95,4,0)","v":"Nabij kruispunt: N6 / A8"},null,null,null,{"$f":"IF(F8=0,\"-\",F8/$L$8)","v":1},{"$f":"IF(G8=0,\"-\",G8/$L$8)","v":"-"},"-","-","-","-",1,null,null,null,null,{"$f":"_xlfn.XLOOKUP($B$3,Bezetting_1!$A$2:$A$90,Bezetting_1!Q$2:Q$90,,0)","v":0},null,{"$f":"D10","v":"2023-10-12"},{"$f":"E10","v":"19:00 - 02:00u"},{"$f":"IF(F10=0,NA(),F10/$L10)","v":{"$error":"#N/A"}},{"$f":"IF(G10=0,NA(),G10/$L10)","v":{"$error":"#N/A"}},{"$error":"#N/A"},{"$error":"#N/A"},{"$error":"#N/A"},{"$error":"#N/A"}]
[null,null,null,{"$f":"_xlfn.XLOOKUP($B$3,Bezetting_2!$A$2:$A$90,Bezetting_2!C$2:C$90,,0)","v":"2023-10-12"},{"$f":"_xlfn.XLOOKUP($B$3,Bezetting_2!$A$2:$A$90,Bezetting_2!D$2:D$90,,0)","v":"19:00 - 02:00u"},{"$f":"_xlfn.XLOOKUP($B$3,Bezetting_2!$A$2:$A$90,Bezetting_2!E$2:E$90,,0)","v":0},{"$f":"_xlfn.XLOOKUP($B$3,Bezetting_2!$A$2:$A$90,Bezetting_2!F$2:F$90,,0)","v":0},{"$f":"_xlfn.XLOOKUP($B$3,Bezetting_2!$A$2:$A$90,Bezetting_2!G$2:G$90,,0)","v":0},{"$f":"_xlfn.XLOOKUP($B$3,Bezetting_2!$A$2:$A$90,Bezetting_2!H$2:H$90,,0)","v":0},{"$f":"_xlfn.XLOOKUP($B$3,Bezetting_2!$A$2:$A$90,Bezetting_2!I$2:I$90,,0)","v":0},{"$f":"_xlfn.XLOOKUP($B$3,Bezetting_2!$A$2:$A$90,Bezetting_2!J$2:J$90,,0)","v":0},{"$f":"_xlfn.XLOOKUP($B$3,Bezetting_2!$A$2:$A$90,Bezetting_2!K$2:K$90,,0)","v":0},{"$f":"_xlfn.XLOOKUP($B$3,Bezetting_2!$A$2:$A$90,Bezetting_2!L$2:L$90,,0)","v":0},{"$f":"_xlfn.XLOOKUP($B$3,Bezetting_2!$A$2:$A$90,Bezetting_2!M$2:M$90,,0)","v":0},{"$f":"_xlfn.XLOOKUP($B$3,Bezetting_2!$A$2:$A$90,Bezetting_2!N$2:N$90,,0)","v":0},{"$f":"_xlfn.XLOOKUP($B$3,Bezetting_2!$A$2:$A$90,Bezetting_2!O$2:O$90,,0)","v":0},{"$f":"_xlfn.XLOOKUP($B$3,Bezetting_2!$A$2:$A$90,Bezetting_2!P$2:P$90,,0)","v":"De carpoolparking wordt verbouwd. Veel vakken niet begaanbaar"}]
[null,"Meting",null,null,null,{"$f":"IF(F10=0,\"-\",F10/$L$10)","v":"-"},{"$f":"IF(G10=0,\"-\",G10/$L$10)","v":"-"},"-","-","-","-","-",null,null,null,null,{"$f":"_xlfn.XLOOKUP($B$3,Bezetting_2!$A$2:$A$90,Bezetting_2!Q$2:Q$90,,0)","v":0}]
[null,{"$f":"\"Meetperiode: \"&TEXT(VLOOKUP(B3,Coordinaten!$A:$G,7,0),\"dddd dd mmmm jjjj\")","v":"Meetperiode: di 10 & do 12 oktober 2023"}]
[null,"Methodiek: Parkeerdrukmeting met waarnemers"]
[null,"In opdracht van: Vlaamse overheid"]
[null,"Uitgevoerd door: Dufec"]
[null,null,null,"VERDELING NAAR CATEGORIE"]
[null,"Locatie"]
[null,{"$f":"IF(B4=\"\",\"\",HYPERLINK(\"http://www.googlemaps.com/?q=\"&B4,\"Lat/Long: \"&B4))","v":"Lat/Long: 50.723963, 4.227925"}]
[]
[null,null,null,null,null,null,null,null,null,null,null,null,null,null,null,"Legenda"]
[null,null,null,null,null,null,null,null,null,null,null,null,null,null,null,null,"Personenwagen"]
[null,null,null,null,null,null,null,null,null,null,null,null,null,null,null,null,"Vracht"]
[null,null,null,null,null,null,null,null,null,null,null,null,null,null,null,null,"Motor"]
[null,null,null,null,null,null,null,null,null,null,null,null,null,null,null,null,"Obstakel / overig"]
[null,null,null,null,null,null,null,null,null,null,null,null,null,null,null,null,"Fout personenwagen"]
[null,null,null,null,null,null,null,null,null,null,null,null,null,null,null,null,"Fout Vracht"]
[]
[]
[]
[]
[]
[]
[]
[]
[]
[]
[]
[]
[null,"Toelichting"]
[null,"Pers = personenwagens op daarvoor bestemde"]
[null,"          openbare plaatsen"]
[null,"Vracht = vrachtwagens op daarvoor bestemde"]
[null,"          parkeerplaatsen (middel- en zwaar vrachtverkeer)"]
[null,"Motor = geparkeerde motoren op openbare plaatsen"]
[null,"Obstakel / overig = obstakels of overige voertuigen"]
[null,"          geparkeerd op openbare plaatsen"]
[null,"Fout pers = personenwagens die fout geparkeerd staan"]
[null,"Fout vracht = vrachtwagens die fout geparkeerd staan"]
[null,"E-wagen = geparkeerde elektrisch voertuig bij een"]
[null,"          elektrisch oplaadpunt"]
[null,"Invalide = personenwagens en motoren op voor"]
[null,"          invalide personen bestemde parkeerplaats"]
[null,"Gestalde fietsen = alle gestalde fietsen op de"]
[null,"          daarvoor bestemde parkeerplaatsen"]

{"sheet":"85.Strombeek-Bever","index":75,"n_rows":54,"n_cols":26,"rows_kept":54,"cut":false,"hidden":false,"merged":[[4,3,5,12],[4,16,5,16],[15,3,16,12]]}
[]
[null,"PARKEERONDERZOEK",null,"CARPOOLPARKINGS EN P+R PARKINGS"]
[null,85,null,{"$f":"B8 & \" - \"& TEXT(VLOOKUP(B3,Coordinaten!$A$2:$G$95,7,0),\"dddd dd mmmm jjjj\")","v":"Carpool parking Strombeek-Bever, Grimbergen - di 10 & do 12 oktober 2023"}]
[null,{"$f":"VLOOKUP(B3,Coordinaten!$A$2:$G$95,6,0)","v":"50.903140, 4.346976"}]
[null,null,null,"BEZETTING  ",null,null,null,null,null,null,null,null,null,null,null,null,"OPMERKINGEN"]
[]
[null,"Onderzoeksgebied",null,"Datum","Geregistreerd tussen","Pers","Vracht","Motor","Obstakel / overig","Fout   pers","Fout Vracht","Totaal","E-wagen\nplaats","Invalidenplaats","Gestalde fietsen",null,null,null,null,null,{"$f":"F7","v":"Pers"},"Vracht","Motor","Obstakel / overig","Fout   pers","Fout Vracht"]
[null,{"$f":"VLOOKUP(B3,Coordinaten!$A$2:$G$95,3,0)&\", \"&VLOOKUP(B3,Coordinaten!$A$2:$G$95,5,0)","v":"Carpool parking Strombeek-Bever, Grimbergen"},null,{"$f":"_xlfn.XLOOKUP($B$3,Bezetting_1!$A$2:$A$90,Bezetting_1!C$2:C$90,,0)","v":"2023-10-12"},{"$f":"_xlfn.XLOOKUP($B$3,Bezetting_1!$A$2:$A$90,Bezetting_1!D$2:D$90,,0)","v":"09:00 - 16:00u"},{"$f":"_xlfn.XLOOKUP($B$3,Bezetting_1!$A$2:$A$90,Bezetting_1!E$2:E$90,,0)","v":27},{"$f":"_xlfn.XLOOKUP($B$3,Bezetting_1!$A$2:$A$90,Bezetting_1!F$2:F$90,,0)","v":0},{"$f":"_xlfn.XLOOKUP($B$3,Bezetting_1!$A$2:$A$90,Bezetting_1!G$2:G$90,,0)","v":0},{"$f":"_xlfn.XLOOKUP($B$3,Bezetting_1!$A$2:$A$90,Bezetting_1!H$2:H$90,,0)","v":1},{"$f":"_xlfn.XLOOKUP($B$3,Bezetting_1!$A$2:$A$90,Bezetting_1!I$2:I$90,,0)","v":0},{"$f":"_xlfn.XLOOKUP($B$3,Bezetting_1!$A$2:$A$90,Bezetting_1!J$2:J$90,,0)","v":0},{"$f":"_xlfn.XLOOKUP($B$3,Bezetting_1!$A$2:$A$90,Bezetting_1!K$2:K$90,,0)","v":28},{"$f":"_xlfn.XLOOKUP($B$3,Bezetting_1!$A$2:$A$90,Bezetting_1!L$2:L$90,,0)","v":0},{"$f":"_xlfn.XLOOKUP($B$3,Bezetting_1!$A$2:$A$90,Bezetting_1!M$2:M$90,,0)","v":0},{"$f":"_xlfn.XLOOKUP($B$3,Bezetting_1!$A$2:$A$90,Bezetting_1!N$2:N$90,,0)","v":1},null,{"$f":"_xlfn.XLOOKUP($B$3,Bezetting_1!$A$2:$A$90,Bezetting_1!P$2:P$90,,0)","v":"Overig: rollen kabels"},null,{"$f":"D8","v":"2023-10-12"},{"$f":"E8","v":"09:00 - 16:00u"},{"$f":"IF(F8=0,NA(),F8/$L8)","v":0.9642857142857143},{"$f":"IF(G8=0,NA(),G8/$L8)","v":{"$error":"#N/A"}},{"$f":"IF(H8=0,NA(),H8/$L8)","v":{"$error":"#N/A"}},3.5714285714285712E-2,{"$error":"#N/A"},{"$error":"#N/A"}]
[null,{"$f":"\"Nabij kruispunt: \"&VLOOKUP(B3,Coordinaten!$A$2:$L$95,4,0)","v":"Nabij kruispunt: N276 / Nieuwelaan"},null,null,null,{"$f":"IF(F8=0,\"-\",F8/$L$8)","v":0.9642857142857143},{"$f":"IF(G8=0,\"-\",G8/$L$8)","v":"-"},"-",3.5714285714285712E-2,"-","-",1,null,null,null,null,{"$f":"_xlfn.XLOOKUP($B$3,Bezetting_1!$A$2:$A$90,Bezetting_1!Q$2:Q$90,,0)","v":0},null,{"$f":"D10","v":"2023-10-12"},{"$f":"E10","v":"19:00 - 02:00u"},{"$f":"IF(F10=0,NA(),F10/$L10)","v":0.96},{"$f":"IF(G10=0,NA(),G10/$L10)","v":{"$error":"#N/A"}},{"$error":"#N/A"},0.04,{"$error":"#N/A"},{"$error":"#N/A"}]
[null,null,null,{"$f":"_xlfn.XLOOKUP($B$3,Bezetting_2!$A$2:$A$90,Bezetting_2!C$2:C$90,,0)","v":"2023-10-12"},{"$f":"_xlfn.XLOOKUP($B$3,Bezetting_2!$A$2:$A$90,Bezetting_2!D$2:D$90,,0)","v":"19:00 - 02:00u"},{"$f":"_xlfn.XLOOKUP($B$3,Bezetting_2!$A$2:$A$90,Bezetting_2!E$2:E$90,,0)","v":24},{"$f":"_xlfn.XLOOKUP($B$3,Bezetting_2!$A$2:$A$90,Bezetting_2!F$2:F$90,,0)","v":0},{"$f":"_xlfn.XLOOKUP($B$3,Bezetting_2!$A$2:$A$90,Bezetting_2!G$2:G$90,,0)","v":0},{"$f":"_xlfn.XLOOKUP($B$3,Bezetting_2!$A$2:$A$90,Bezetting_2!H$2:H$90,,0)","v":1},{"$f":"_xlfn.XLOOKUP($B$3,Bezetting_2!$A$2:$A$90,Bezetting_2!I$2:I$90,,0)","v":0},{"$f":"_xlfn.XLOOKUP($B$3,Bezetting_2!$A$2:$A$90,Bezetting_2!J$2:J$90,,0)","v":0},{"$f":"_xlfn.XLOOKUP($B$3,Bezetting_2!$A$2:$A$90,Bezetting_2!K$2:K$90,,0)","v":25},{"$f":"_xlfn.XLOOKUP($B$3,Bezetting_2!$A$2:$A$90,Bezetting_2!L$2:L$90,,0)","v":0},{"$f":"_xlfn.XLOOKUP($B$3,Bezetting_2!$A$2:$A$90,Bezetting_2!M$2:M$90,,0)","v":0},{"$f":"_xlfn.XLOOKUP($B$3,Bezetting_2!$A$2:$A$90,Bezetting_2!N$2:N$90,,0)","v":1},{"$f":"_xlfn.XLOOKUP($B$3,Bezetting_2!$A$2:$A$90,Bezetting_2!O$2:O$90,,0)","v":0},{"$f":"_xlfn.XLOOKUP($B$3,Bezetting_2!$A$2:$A$90,Bezetting_2!P$2:P$90,,0)","v":"Overig: rollen kabels"}]
[null,"Meting",null,null,null,{"$f":"IF(F10=0,\"-\",F10/$L$10)","v":0.96},{"$f":"IF(G10=0,\"-\",G10/$L$10)","v":"-"},"-",0.04,"-","-",1,null,null,null,null,{"$f":"_xlfn.XLOOKUP($B$3,Bezetting_2!$A$2:$A$90,Bezetting_2!Q$2:Q$90,,0)","v":0}]
[null,{"$f":"\"Meetperiode: \"&TEXT(VLOOKUP(B3,Coordinaten!$A:$G,7,0),\"dddd dd mmmm jjjj\")","v":"Meetperiode: di 10 & do 12 oktober 2023"}]
[null,"Methodiek: Parkeerdrukmeting met waarnemers"]
[null,"In opdracht van: Vlaamse overheid"]
[null,"Uitgevoerd door: Dufec"]
[null,null,null,"VERDELING NAAR CATEGORIE"]
[null,"Locatie"]
[null,{"$f":"IF(B4=\"\",\"\",HYPERLINK(\"http://www.googlemaps.com/?q=\"&B4,\"Lat/Long: \"&B4))","v":"Lat/Long: 50.903140, 4.346976"}]
[]
[null,null,null,null,null,null,null,null,null,null,null,null,null,null,null,"Legenda"]
[null,null,null,null,null,null,null,null,null,null,null,null,null,null,null,null,"Personenwagen"]
[null,null,null,null,null,null,null,null,null,null,null,null,null,null,null,null,"Vracht"]
[null,null,null,null,null,null,null,null,null,null,null,null,null,null,null,null,"Motor"]
[null,null,null,null,null,null,null,null,null,null,null,null,null,null,null,null,"Obstakel / overig"]
[null,null,null,null,null,null,null,null,null,null,null,null,null,null,null,null,"Fout personenwagen"]
[null,null,null,null,null,null,null,null,null,null,null,null,null,null,null,null,"Fout Vracht"]
[]
[]
[]
[]
[]
[]
[]
[]
[]
[]
[]
[]
[null,"Toelichting"]
[null,"Pers = personenwagens op daarvoor bestemde"]
[null,"          openbare plaatsen"]
[null,"Vracht = vrachtwagens op daarvoor bestemde"]
[null,"          parkeerplaatsen (middel- en zwaar vrachtverkeer)"]
[null,"Motor = geparkeerde motoren op openbare plaatsen"]
[null,"Obstakel / overig = obstakels of overige voertuigen"]
[null,"          geparkeerd op openbare plaatsen"]
[null,"Fout pers = personenwagens die fout geparkeerd staan"]
[null,"Fout vracht = vrachtwagens die fout geparkeerd staan"]
[null,"E-wagen = geparkeerde elektrisch voertuig bij een"]
[null,"          elektrisch oplaadpunt"]
[null,"Invalide = personenwagens en motoren op voor"]
[null,"          invalide personen bestemde parkeerplaats"]
[null,"Gestalde fietsen = alle gestalde fietsen op de"]
[null,"          daarvoor bestemde parkeerplaatsen"]

{"sheet":"87.Affligem","index":76,"n_rows":54,"n_cols":26,"rows_kept":54,"cut":false,"hidden":false,"merged":[[4,3,5,12],[4,16,5,16],[15,3,16,12]]}
[]
[null,"PARKEERONDERZOEK",null,"CARPOOLPARKINGS EN P+R PARKINGS"]
[null,87,null,{"$f":"B8 & \" - \"& TEXT(VLOOKUP(B3,Coordinaten!$A$2:$G$95,7,0),\"dddd dd mmmm jjjj\")","v":"Carpool parking Affligem, Affligem - di 10 & do 12 oktober 2023"}]
[null,{"$f":"VLOOKUP(B3,Coordinaten!$A$2:$G$95,6,0)","v":"50.893622, 4.119238"}]
[null,null,null,"BEZETTING  ",null,null,null,null,null,null,null,null,null,null,null,null,"OPMERKINGEN"]
[]
[null,"Onderzoeksgebied",null,"Datum","Geregistreerd tussen","Pers","Vracht","Motor","Obstakel / overig","Fout   pers","Fout Vracht","Totaal","E-wagen\nplaats","Invalidenplaats","Gestalde fietsen",null,null,null,null,null,{"$f":"F7","v":"Pers"},"Vracht","Motor","Obstakel / overig","Fout   pers","Fout Vracht"]
[null,{"$f":"VLOOKUP(B3,Coordinaten!$A$2:$G$95,3,0)&\", \"&VLOOKUP(B3,Coordinaten!$A$2:$G$95,5,0)","v":"Carpool parking Affligem, Affligem"},null,{"$f":"_xlfn.XLOOKUP($B$3,Bezetting_1!$A$2:$A$90,Bezetting_1!C$2:C$90,,0)","v":"2023-10-12"},{"$f":"_xlfn.XLOOKUP($B$3,Bezetting_1!$A$2:$A$90,Bezetting_1!D$2:D$90,,0)","v":"09:00 - 16:00u"},{"$f":"_xlfn.XLOOKUP($B$3,Bezetting_1!$A$2:$A$90,Bezetting_1!E$2:E$90,,0)","v":50},{"$f":"_xlfn.XLOOKUP($B$3,Bezetting_1!$A$2:$A$90,Bezetting_1!F$2:F$90,,0)","v":0},{"$f":"_xlfn.XLOOKUP($B$3,Bezetting_1!$A$2:$A$90,Bezetting_1!G$2:G$90,,0)","v":0},{"$f":"_xlfn.XLOOKUP($B$3,Bezetting_1!$A$2:$A$90,Bezetting_1!H$2:H$90,,0)","v":0},{"$f":"_xlfn.XLOOKUP($B$3,Bezetting_1!$A$2:$A$90,Bezetting_1!I$2:I$90,,0)","v":0},{"$f":"_xlfn.XLOOKUP($B$3,Bezetting_1!$A$2:$A$90,Bezetting_1!J$2:J$90,,0)","v":0},{"$f":"_xlfn.XLOOKUP($B$3,Bezetting_1!$A$2:$A$90,Bezetting_1!K$2:K$90,,0)","v":50},{"$f":"_xlfn.XLOOKUP($B$3,Bezetting_1!$A$2:$A$90,Bezetting_1!L$2:L$90,,0)","v":0},{"$f":"_xlfn.XLOOKUP($B$3,Bezetting_1!$A$2:$A$90,Bezetting_1!M$2:M$90,,0)","v":0},{"$f":"_xlfn.XLOOKUP($B$3,Bezetting_1!$A$2:$A$90,Bezetting_1!N$2:N$90,,0)","v":0},null,{"$f":"_xlfn.XLOOKUP($B$3,Bezetting_1!$A$2:$A$90,Bezetting_1!P$2:P$90,,0)","v":0},null,{"$f":"D8","v":"2023-10-12"},{"$f":"E8","v":"09:00 - 16:00u"},{"$f":"IF(F8=0,NA(),F8/$L8)","v":1},{"$f":"IF(G8=0,NA(),G8/$L8)","v":{"$error":"#N/A"}},{"$f":"IF(H8=0,NA(),H8/$L8)","v":{"$error":"#N/A"}},{"$error":"#N/A"},{"$error":"#N/A"},{"$error":"#N/A"}]
[null,{"$f":"\"Nabij kruispunt: \"&VLOOKUP(B3,Coordinaten!$A$2:$L$95,4,0)","v":"Nabij kruispunt: N208 / A10"},null,null,null,{"$f":"IF(F8=0,\"-\",F8/$L$8)","v":1},{"$f":"IF(G8=0,\"-\",G8/$L$8)","v":"-"},"-","-","-","-",1,null,null,null,null,{"$f":"_xlfn.XLOOKUP($B$3,Bezetting_1!$A$2:$A$90,Bezetting_1!Q$2:Q$90,,0)","v":0},null,{"$f":"D10","v":"2023-10-12"},{"$f":"E10","v":"19:00 - 02:00u"},{"$f":"IF(F10=0,NA(),F10/$L10)","v":1},{"$f":"IF(G10=0,NA(),G10/$L10)","v":{"$error":"#N/A"}},{"$error":"#N/A"},{"$error":"#N/A"},{"$error":"#N/A"},{"$error":"#N/A"}]
[null,null,null,{"$f":"_xlfn.XLOOKUP($B$3,Bezetting_2!$A$2:$A$90,Bezetting_2!C$2:C$90,,0)","v":"2023-10-12"},{"$f":"_xlfn.XLOOKUP($B$3,Bezetting_2!$A$2:$A$90,Bezetting_2!D$2:D$90,,0)","v":"19:00 - 02:00u"},{"$f":"_xlfn.XLOOKUP($B$3,Bezetting_2!$A$2:$A$90,Bezetting_2!E$2:E$90,,0)","v":21},{"$f":"_xlfn.XLOOKUP($B$3,Bezetting_2!$A$2:$A$90,Bezetting_2!F$2:F$90,,0)","v":0},{"$f":"_xlfn.XLOOKUP($B$3,Bezetting_2!$A$2:$A$90,Bezetting_2!G$2:G$90,,0)","v":0},{"$f":"_xlfn.XLOOKUP($B$3,Bezetting_2!$A$2:$A$90,Bezetting_2!H$2:H$90,,0)","v":0},{"$f":"_xlfn.XLOOKUP($B$3,Bezetting_2!$A$2:$A$90,Bezetting_2!I$2:I$90,,0)","v":0},{"$f":"_xlfn.XLOOKUP($B$3,Bezetting_2!$A$2:$A$90,Bezetting_2!J$2:J$90,,0)","v":0},{"$f":"_xlfn.XLOOKUP($B$3,Bezetting_2!$A$2:$A$90,Bezetting_2!K$2:K$90,,0)","v":21},{"$f":"_xlfn.XLOOKUP($B$3,Bezetting_2!$A$2:$A$90,Bezetting_2!L$2:L$90,,0)","v":0},{"$f":"_xlfn.XLOOKUP($B$3,Bezetting_2!$A$2:$A$90,Bezetting_2!M$2:M$90,,0)","v":0},{"$f":"_xlfn.XLOOKUP($B$3,Bezetting_2!$A$2:$A$90,Bezetting_2!N$2:N$90,,0)","v":0},{"$f":"_xlfn.XLOOKUP($B$3,Bezetting_2!$A$2:$A$90,Bezetting_2!O$2:O$90,,0)","v":0},{"$f":"_xlfn.XLOOKUP($B$3,Bezetting_2!$A$2:$A$90,Bezetting_2!P$2:P$90,,0)","v":0}]
[null,"Meting",null,null,null,{"$f":"IF(F10=0,\"-\",F10/$L$10)","v":1},{"$f":"IF(G10=0,\"-\",G10/$L$10)","v":"-"},"-","-","-","-",1,null,null,null,null,{"$f":"_xlfn.XLOOKUP($B$3,Bezetting_2!$A$2:$A$90,Bezetting_2!Q$2:Q$90,,0)","v":0}]
[null,{"$f":"\"Meetperiode: \"&TEXT(VLOOKUP(B3,Coordinaten!$A:$G,7,0),\"dddd dd mmmm jjjj\")","v":"Meetperiode: di 10 & do 12 oktober 2023"}]
[null,"Methodiek: Parkeerdrukmeting met waarnemers"]
[null,"In opdracht van: Vlaamse overheid"]
[null,"Uitgevoerd door: Dufec"]
[null,null,null,"VERDELING NAAR CATEGORIE"]
[null,"Locatie"]
[null,{"$f":"IF(B4=\"\",\"\",HYPERLINK(\"http://www.googlemaps.com/?q=\"&B4,\"Lat/Long: \"&B4))","v":"Lat/Long: 50.893622, 4.119238"}]
[]
[null,null,null,null,null,null,null,null,null,null,null,null,null,null,null,"Legenda"]
[null,null,null,null,null,null,null,null,null,null,null,null,null,null,null,null,"Personenwagen"]
[null,null,null,null,null,null,null,null,null,null,null,null,null,null,null,null,"Vracht"]
[null,null,null,null,null,null,null,null,null,null,null,null,null,null,null,null,"Motor"]
[null,null,null,null,null,null,null,null,null,null,null,null,null,null,null,null,"Obstakel / overig"]
[null,null,null,null,null,null,null,null,null,null,null,null,null,null,null,null,"Fout personenwagen"]
[null,null,null,null,null,null,null,null,null,null,null,null,null,null,null,null,"Fout Vracht"]
[]
[]
[]
[]
[]
[]
[]
[]
[]
[]
[]
[]
[null,"Toelichting"]
[null,"Pers = personenwagens op daarvoor bestemde"]
[null,"          openbare plaatsen"]
[null,"Vracht = vrachtwagens op daarvoor bestemde"]
[null,"          parkeerplaatsen (middel- en zwaar vrachtverkeer)"]
[null,"Motor = geparkeerde motoren op openbare plaatsen"]
[null,"Obstakel / overig = obstakels of overige voertuigen"]
[null,"          geparkeerd op openbare plaatsen"]
[null,"Fout pers = personenwagens die fout geparkeerd staan"]
[null,"Fout vracht = vrachtwagens die fout geparkeerd staan"]
[null,"E-wagen = geparkeerde elektrisch voertuig bij een"]
[null,"          elektrisch oplaadpunt"]
[null,"Invalide = personenwagens en motoren op voor"]
[null,"          invalide personen bestemde parkeerplaats"]
[null,"Gestalde fietsen = alle gestalde fietsen op de"]
[null,"          daarvoor bestemde parkeerplaatsen"]

{"sheet":"88.Bertem","index":77,"n_rows":54,"n_cols":26,"rows_kept":54,"cut":false,"hidden":false,"merged":[[4,3,5,12],[4,16,5,16],[15,3,16,12]]}
[]
[null,"PARKEERONDERZOEK",null,"CARPOOLPARKINGS EN P+R PARKINGS"]
[null,88,null,{"$f":"B8 & \" - \"& TEXT(VLOOKUP(B3,Coordinaten!$A$2:$G$95,7,0),\"dddd dd mmmm jjjj\")","v":"Carpool parking Bertem, Bertem - di 10 & do 12 oktober 2023"}]
[null,{"$f":"VLOOKUP(B3,Coordinaten!$A$2:$G$95,6,0)","v":"50.861791, 4.613666"}]
[null,null,null,"BEZETTING  ",null,null,null,null,null,null,null,null,null,null,null,null,"OPMERKINGEN"]
[]
[null,"Onderzoeksgebied",null,"Datum","Geregistreerd tussen","Pers","Vracht","Motor","Obstakel / overig","Fout   pers","Fout Vracht","Totaal","E-wagen\nplaats","Invalidenplaats","Gestalde fietsen",null,null,null,null,null,{"$f":"F7","v":"Pers"},"Vracht","Motor","Obstakel / overig","Fout   pers","Fout Vracht"]
[null,{"$f":"VLOOKUP(B3,Coordinaten!$A$2:$G$95,3,0)&\", \"&VLOOKUP(B3,Coordinaten!$A$2:$G$95,5,0)","v":"Carpool parking Bertem, Bertem"},null,{"$f":"_xlfn.XLOOKUP($B$3,Bezetting_1!$A$2:$A$90,Bezetting_1!C$2:C$90,,0)","v":"2023-10-10"},{"$f":"_xlfn.XLOOKUP($B$3,Bezetting_1!$A$2:$A$90,Bezetting_1!D$2:D$90,,0)","v":"09:00 - 16:00u"},{"$f":"_xlfn.XLOOKUP($B$3,Bezetting_1!$A$2:$A$90,Bezetting_1!E$2:E$90,,0)","v":95},{"$f":"_xlfn.XLOOKUP($B$3,Bezetting_1!$A$2:$A$90,Bezetting_1!F$2:F$90,,0)","v":0},{"$f":"_xlfn.XLOOKUP($B$3,Bezetting_1!$A$2:$A$90,Bezetting_1!G$2:G$90,,0)","v":0},{"$f":"_xlfn.XLOOKUP($B$3,Bezetting_1!$A$2:$A$90,Bezetting_1!H$2:H$90,,0)","v":0},{"$f":"_xlfn.XLOOKUP($B$3,Bezetting_1!$A$2:$A$90,Bezetting_1!I$2:I$90,,0)","v":0},{"$f":"_xlfn.XLOOKUP($B$3,Bezetting_1!$A$2:$A$90,Bezetting_1!J$2:J$90,,0)","v":0},{"$f":"_xlfn.XLOOKUP($B$3,Bezetting_1!$A$2:$A$90,Bezetting_1!K$2:K$90,,0)","v":95},{"$f":"_xlfn.XLOOKUP($B$3,Bezetting_1!$A$2:$A$90,Bezetting_1!L$2:L$90,,0)","v":0},{"$f":"_xlfn.XLOOKUP($B$3,Bezetting_1!$A$2:$A$90,Bezetting_1!M$2:M$90,,0)","v":0},{"$f":"_xlfn.XLOOKUP($B$3,Bezetting_1!$A$2:$A$90,Bezetting_1!N$2:N$90,,0)","v":0},null,{"$f":"_xlfn.XLOOKUP($B$3,Bezetting_1!$A$2:$A$90,Bezetting_1!P$2:P$90,,0)","v":"10 elektrische plaatsen in aanbouw"},null,{"$f":"D8","v":"2023-10-10"},{"$f":"E8","v":"09:00 - 16:00u"},{"$f":"IF(F8=0,NA(),F8/$L8)","v":1},{"$f":"IF(G8=0,NA(),G8/$L8)","v":{"$error":"#N/A"}},{"$f":"IF(H8=0,NA(),H8/$L8)","v":{"$error":"#N/A"}},{"$error":"#N/A"},{"$error":"#N/A"},{"$error":"#N/A"}]
[null,{"$f":"\"Nabij kruispunt: \"&VLOOKUP(B3,Coordinaten!$A$2:$L$95,4,0)","v":"Nabij kruispunt: N3 / A3"},null,null,null,{"$f":"IF(F8=0,\"-\",F8/$L$8)","v":1},{"$f":"IF(G8=0,\"-\",G8/$L$8)","v":"-"},"-","-","-","-",1,null,null,null,null,{"$f":"_xlfn.XLOOKUP($B$3,Bezetting_1!$A$2:$A$90,Bezetting_1!Q$2:Q$90,,0)","v":0},null,{"$f":"D10","v":"2023-10-10"},{"$f":"E10","v":"19:00 - 02:00u"},{"$f":"IF(F10=0,NA(),F10/$L10)","v":1},{"$f":"IF(G10=0,NA(),G10/$L10)","v":{"$error":"#N/A"}},{"$error":"#N/A"},{"$error":"#N/A"},{"$error":"#N/A"},{"$error":"#N/A"}]
[null,null,null,{"$f":"_xlfn.XLOOKUP($B$3,Bezetting_2!$A$2:$A$90,Bezetting_2!C$2:C$90,,0)","v":"2023-10-10"},{"$f":"_xlfn.XLOOKUP($B$3,Bezetting_2!$A$2:$A$90,Bezetting_2!D$2:D$90,,0)","v":"19:00 - 02:00u"},{"$f":"_xlfn.XLOOKUP($B$3,Bezetting_2!$A$2:$A$90,Bezetting_2!E$2:E$90,,0)","v":42},{"$f":"_xlfn.XLOOKUP($B$3,Bezetting_2!$A$2:$A$90,Bezetting_2!F$2:F$90,,0)","v":0},{"$f":"_xlfn.XLOOKUP($B$3,Bezetting_2!$A$2:$A$90,Bezetting_2!G$2:G$90,,0)","v":0},{"$f":"_xlfn.XLOOKUP($B$3,Bezetting_2!$A$2:$A$90,Bezetting_2!H$2:H$90,,0)","v":0},{"$f":"_xlfn.XLOOKUP($B$3,Bezetting_2!$A$2:$A$90,Bezetting_2!I$2:I$90,,0)","v":0},{"$f":"_xlfn.XLOOKUP($B$3,Bezetting_2!$A$2:$A$90,Bezetting_2!J$2:J$90,,0)","v":0},{"$f":"_xlfn.XLOOKUP($B$3,Bezetting_2!$A$2:$A$90,Bezetting_2!K$2:K$90,,0)","v":42},{"$f":"_xlfn.XLOOKUP($B$3,Bezetting_2!$A$2:$A$90,Bezetting_2!L$2:L$90,,0)","v":0},{"$f":"_xlfn.XLOOKUP($B$3,Bezetting_2!$A$2:$A$90,Bezetting_2!M$2:M$90,,0)","v":0},{"$f":"_xlfn.XLOOKUP($B$3,Bezetting_2!$A$2:$A$90,Bezetting_2!N$2:N$90,,0)","v":1},{"$f":"_xlfn.XLOOKUP($B$3,Bezetting_2!$A$2:$A$90,Bezetting_2!O$2:O$90,,0)","v":0},{"$f":"_xlfn.XLOOKUP($B$3,Bezetting_2!$A$2:$A$90,Bezetting_2!P$2:P$90,,0)","v":0}]
[null,"Meting",null,null,null,{"$f":"IF(F10=0,\"-\",F10/$L$10)","v":1},{"$f":"IF(G10=0,\"-\",G10/$L$10)","v":"-"},"-","-","-","-",1,null,null,null,null,{"$f":"_xlfn.XLOOKUP($B$3,Bezetting_2!$A$2:$A$90,Bezetting_2!Q$2:Q$90,,0)","v":0}]
[null,{"$f":"\"Meetperiode: \"&TEXT(VLOOKUP(B3,Coordinaten!$A:$G,7,0),\"dddd dd mmmm jjjj\")","v":"Meetperiode: di 10 & do 12 oktober 2023"}]
[null,"Methodiek: Parkeerdrukmeting met waarnemers"]
[null,"In opdracht van: Vlaamse overheid"]
[null,"Uitgevoerd door: Dufec"]
[null,null,null,"VERDELING NAAR CATEGORIE"]
[null,"Locatie"]
[null,{"$f":"IF(B4=\"\",\"\",HYPERLINK(\"http://www.googlemaps.com/?q=\"&B4,\"Lat/Long: \"&B4))","v":"Lat/Long: 50.861791, 4.613666"}]
[]
[null,null,null,null,null,null,null,null,null,null,null,null,null,null,null,"Legenda"]
[null,null,null,null,null,null,null,null,null,null,null,null,null,null,null,null,"Personenwagen"]
[null,null,null,null,null,null,null,null,null,null,null,null,null,null,null,null,"Vracht"]
[null,null,null,null,null,null,null,null,null,null,null,null,null,null,null,null,"Motor"]
[null,null,null,null,null,null,null,null,null,null,null,null,null,null,null,null,"Obstakel / overig"]
[null,null,null,null,null,null,null,null,null,null,null,null,null,null,null,null,"Fout personenwagen"]
[null,null,null,null,null,null,null,null,null,null,null,null,null,null,null,null,"Fout Vracht"]
[]
[]
[]
[]
[]
[]
[]
[]
[]
[]
[]
[]
[null,"Toelichting"]
[null,"Pers = personenwagens op daarvoor bestemde"]
[null,"          openbare plaatsen"]
[null,"Vracht = vrachtwagens op daarvoor bestemde"]
[null,"          parkeerplaatsen (middel- en zwaar vrachtverkeer)"]
[null,"Motor = geparkeerde motoren op openbare plaatsen"]
[null,"Obstakel / overig = obstakels of overige voertuigen"]
[null,"          geparkeerd op openbare plaatsen"]
[null,"Fout pers = personenwagens die fout geparkeerd staan"]
[null,"Fout vracht = vrachtwagens die fout geparkeerd staan"]
[null,"E-wagen = geparkeerde elektrisch voertuig bij een"]
[null,"          elektrisch oplaadpunt"]
[null,"Invalide = personenwagens en motoren op voor"]
[null,"          invalide personen bestemde parkeerplaats"]
[null,"Gestalde fietsen = alle gestalde fietsen op de"]
[null,"          daarvoor bestemde parkeerplaatsen"]

{"sheet":"89.Hoegaarden","index":78,"n_rows":54,"n_cols":26,"rows_kept":54,"cut":false,"hidden":false,"merged":[[4,3,5,12],[4,16,5,16],[15,3,16,12]]}
[]
[null,"PARKEERONDERZOEK",null,"CARPOOLPARKINGS EN P+R PARKINGS"]
[null,89,null,{"$f":"B8 & \" - \"& TEXT(VLOOKUP(B3,Coordinaten!$A$2:$G$95,7,0),\"dddd dd mmmm jjjj\")","v":"Carpool parking Hoegaarden, Hoegaarden - di 10 & do 12 oktober 2023"}]
[null,{"$f":"VLOOKUP(B3,Coordinaten!$A$2:$G$95,6,0)","v":"50.780420, 4.919336"}]
[null,null,null,"BEZETTING  ",null,null,null,null,null,null,null,null,null,null,null,null,"OPMERKINGEN"]
[]
[null,"Onderzoeksgebied",null,"Datum","Geregistreerd tussen","Pers","Vracht","Motor","Obstakel / overig","Fout   pers","Fout Vracht","Totaal","E-wagen\nplaats","Invalidenplaats","Gestalde fietsen",null,null,null,null,null,{"$f":"F7","v":"Pers"},"Vracht","Motor","Obstakel / overig","Fout   pers","Fout Vracht"]
[null,{"$f":"VLOOKUP(B3,Coordinaten!$A$2:$G$95,3,0)&\", \"&VLOOKUP(B3,Coordinaten!$A$2:$G$95,5,0)","v":"Carpool parking Hoegaarden, Hoegaarden"},null,{"$f":"_xlfn.XLOOKUP($B$3,Bezetting_1!$A$2:$A$90,Bezetting_1!C$2:C$90,,0)","v":"2023-10-10"},{"$f":"_xlfn.XLOOKUP($B$3,Bezetting_1!$A$2:$A$90,Bezetting_1!D$2:D$90,,0)","v":"09:00 - 16:00u"},{"$f":"_xlfn.XLOOKUP($B$3,Bezetting_1!$A$2:$A$90,Bezetting_1!E$2:E$90,,0)","v":66},{"$f":"_xlfn.XLOOKUP($B$3,Bezetting_1!$A$2:$A$90,Bezetting_1!F$2:F$90,,0)","v":2},{"$f":"_xlfn.XLOOKUP($B$3,Bezetting_1!$A$2:$A$90,Bezetting_1!G$2:G$90,,0)","v":0},{"$f":"_xlfn.XLOOKUP($B$3,Bezetting_1!$A$2:$A$90,Bezetting_1!H$2:H$90,,0)","v":0},{"$f":"_xlfn.XLOOKUP($B$3,Bezetting_1!$A$2:$A$90,Bezetting_1!I$2:I$90,,0)","v":0},{"$f":"_xlfn.XLOOKUP($B$3,Bezetting_1!$A$2:$A$90,Bezetting_1!J$2:J$90,,0)","v":2},{"$f":"_xlfn.XLOOKUP($B$3,Bezetting_1!$A$2:$A$90,Bezetting_1!K$2:K$90,,0)","v":70},{"$f":"_xlfn.XLOOKUP($B$3,Bezetting_1!$A$2:$A$90,Bezetting_1!L$2:L$90,,0)","v":0},{"$f":"_xlfn.XLOOKUP($B$3,Bezetting_1!$A$2:$A$90,Bezetting_1!M$2:M$90,,0)","v":0},{"$f":"_xlfn.XLOOKUP($B$3,Bezetting_1!$A$2:$A$90,Bezetting_1!N$2:N$90,,0)","v":1},null,{"$f":"_xlfn.XLOOKUP($B$3,Bezetting_1!$A$2:$A$90,Bezetting_1!P$2:P$90,,0)","v":"10 elektrische plaatsen in aanbouw"},null,{"$f":"D8","v":"2023-10-10"},{"$f":"E8","v":"09:00 - 16:00u"},{"$f":"IF(F8=0,NA(),F8/$L8)","v":0.94285714285714284},{"$f":"IF(G8=0,NA(),G8/$L8)","v":2.8571428571428571E-2},{"$f":"IF(H8=0,NA(),H8/$L8)","v":{"$error":"#N/A"}},{"$error":"#N/A"},{"$error":"#N/A"},2.8571428571428571E-2]
[null,{"$f":"\"Nabij kruispunt: \"&VLOOKUP(B3,Coordinaten!$A$2:$L$95,4,0)","v":"Nabij kruispunt: N29 / A3"},null,null,null,{"$f":"IF(F8=0,\"-\",F8/$L$8)","v":0.94285714285714284},{"$f":"IF(G8=0,\"-\",G8/$L$8)","v":2.8571428571428571E-2},"-","-","-",2.8571428571428571E-2,1,null,null,null,null,{"$f":"_xlfn.XLOOKUP($B$3,Bezetting_1!$A$2:$A$90,Bezetting_1!Q$2:Q$90,,0)","v":0},null,{"$f":"D10","v":"2023-10-10"},{"$f":"E10","v":"19:00 - 02:00u"},{"$f":"IF(F10=0,NA(),F10/$L10)","v":0.58620689655172409},{"$f":"IF(G10=0,NA(),G10/$L10)","v":3.4482758620689655E-2},{"$error":"#N/A"},0.10344827586206896,{"$error":"#N/A"},0.27586206896551724]
[null,null,null,{"$f":"_xlfn.XLOOKUP($B$3,Bezetting_2!$A$2:$A$90,Bezetting_2!C$2:C$90,,0)","v":"2023-10-10"},{"$f":"_xlfn.XLOOKUP($B$3,Bezetting_2!$A$2:$A$90,Bezetting_2!D$2:D$90,,0)","v":"19:00 - 02:00u"},{"$f":"_xlfn.XLOOKUP($B$3,Bezetting_2!$A$2:$A$90,Bezetting_2!E$2:E$90,,0)","v":17},{"$f":"_xlfn.XLOOKUP($B$3,Bezetting_2!$A$2:$A$90,Bezetting_2!F$2:F$90,,0)","v":1},{"$f":"_xlfn.XLOOKUP($B$3,Bezetting_2!$A$2:$A$90,Bezetting_2!G$2:G$90,,0)","v":0},{"$f":"_xlfn.XLOOKUP($B$3,Bezetting_2!$A$2:$A$90,Bezetting_2!H$2:H$90,,0)","v":3},{"$f":"_xlfn.XLOOKUP($B$3,Bezetting_2!$A$2:$A$90,Bezetting_2!I$2:I$90,,0)","v":0},{"$f":"_xlfn.XLOOKUP($B$3,Bezetting_2!$A$2:$A$90,Bezetting_2!J$2:J$90,,0)","v":8},{"$f":"_xlfn.XLOOKUP($B$3,Bezetting_2!$A$2:$A$90,Bezetting_2!K$2:K$90,,0)","v":29},{"$f":"_xlfn.XLOOKUP($B$3,Bezetting_2!$A$2:$A$90,Bezetting_2!L$2:L$90,,0)","v":0},{"$f":"_xlfn.XLOOKUP($B$3,Bezetting_2!$A$2:$A$90,Bezetting_2!M$2:M$90,,0)","v":0},{"$f":"_xlfn.XLOOKUP($B$3,Bezetting_2!$A$2:$A$90,Bezetting_2!N$2:N$90,,0)","v":0},{"$f":"_xlfn.XLOOKUP($B$3,Bezetting_2!$A$2:$A$90,Bezetting_2!O$2:O$90,,0)","v":0},{"$f":"_xlfn.XLOOKUP($B$3,Bezetting_2!$A$2:$A$90,Bezetting_2!P$2:P$90,,0)","v":"Overig: 3x oplegger"}]
[null,"Meting",null,null,null,{"$f":"IF(F10=0,\"-\",F10/$L$10)","v":0.58620689655172409},{"$f":"IF(G10=0,\"-\",G10/$L$10)","v":3.4482758620689655E-2},"-",0.10344827586206896,"-",0.27586206896551724,1,null,null,null,null,{"$f":"_xlfn.XLOOKUP($B$3,Bezetting_2!$A$2:$A$90,Bezetting_2!Q$2:Q$90,,0)","v":0}]
[null,{"$f":"\"Meetperiode: \"&TEXT(VLOOKUP(B3,Coordinaten!$A:$G,7,0),\"dddd dd mmmm jjjj\")","v":"Meetperiode: di 10 & do 12 oktober 2023"}]
[null,"Methodiek: Parkeerdrukmeting met waarnemers"]
[null,"In opdracht van: Vlaamse overheid"]
[null,"Uitgevoerd door: Dufec"]
[null,null,null,"VERDELING NAAR CATEGORIE"]
[null,"Locatie"]
[null,{"$f":"IF(B4=\"\",\"\",HYPERLINK(\"http://www.googlemaps.com/?q=\"&B4,\"Lat/Long: \"&B4))","v":"Lat/Long: 50.780420, 4.919336"}]
[]
[null,null,null,null,null,null,null,null,null,null,null,null,null,null,null,"Legenda"]
[null,null,null,null,null,null,null,null,null,null,null,null,null,null,null,null,"Personenwagen"]
[null,null,null,null,null,null,null,null,null,null,null,null,null,null,null,null,"Vracht"]
[null,null,null,null,null,null,null,null,null,null,null,null,null,null,null,null,"Motor"]
[null,null,null,null,null,null,null,null,null,null,null,null,null,null,null,null,"Obstakel / overig"]
[null,null,null,null,null,null,null,null,null,null,null,null,null,null,null,null,"Fout personenwagen"]
[null,null,null,null,null,null,null,null,null,null,null,null,null,null,null,null,"Fout Vracht"]
[]
[]
[]
[]
[]
[]
[]
[]
[]
[]
[]
[]
[null,"Toelichting"]
[null,"Pers = personenwagens op daarvoor bestemde"]
[null,"          openbare plaatsen"]
[null,"Vracht = vrachtwagens op daarvoor bestemde"]
[null,"          parkeerplaatsen (middel- en zwaar vrachtverkeer)"]
[null,"Motor = geparkeerde motoren op openbare plaatsen"]
[null,"Obstakel / overig = obstakels of overige voertuigen"]
[null,"          geparkeerd op openbare plaatsen"]
[null,"Fout pers = personenwagens die fout geparkeerd staan"]
[null,"Fout vracht = vrachtwagens die fout geparkeerd staan"]
[null,"E-wagen = geparkeerde elektrisch voertuig bij een"]
[null,"          elektrisch oplaadpunt"]
[null,"Invalide = personenwagens en motoren op voor"]
[null,"          invalide personen bestemde parkeerplaats"]
[null,"Gestalde fietsen = alle gestalde fietsen op de"]
[null,"          daarvoor bestemde parkeerplaatsen"]

{"sheet":"90.Kampenhout","index":79,"n_rows":54,"n_cols":26,"rows_kept":54,"cut":false,"hidden":false,"merged":[[4,3,5,12],[4,16,5,16],[15,3,16,12]]}
[]
[null,"PARKEERONDERZOEK",null,"CARPOOLPARKINGS EN P+R PARKINGS"]
[null,90,null,{"$f":"B8 & \" - \"& TEXT(VLOOKUP(B3,Coordinaten!$A$2:$G$95,7,0),\"dddd dd mmmm jjjj\")","v":"Carpool parking Kampenhout, Kampenhout - di 10 & do 12 oktober 2023"}]
[null,{"$f":"VLOOKUP(B3,Coordinaten!$A$2:$G$95,6,0)","v":"50.955475, 4.594162"}]
[null,null,null,"BEZETTING  ",null,null,null,null,null,null,null,null,null,null,null,null,"OPMERKINGEN"]
[]
[null,"Onderzoeksgebied",null,"Datum","Geregistreerd tussen","Pers","Vracht","Motor","Obstakel / overig","Fout   pers","Fout Vracht","Totaal","E-wagen\nplaats","Invalidenplaats","Gestalde fietsen",null,null,null,null,null,{"$f":"F7","v":"Pers"},"Vracht","Motor","Obstakel / overig","Fout   pers","Fout Vracht"]
[null,{"$f":"VLOOKUP(B3,Coordinaten!$A$2:$G$95,3,0)&\", \"&VLOOKUP(B3,Coordinaten!$A$2:$G$95,5,0)","v":"Carpool parking Kampenhout, Kampenhout"},null,{"$f":"_xlfn.XLOOKUP($B$3,Bezetting_1!$A$2:$A$90,Bezetting_1!C$2:C$90,,0)","v":"2023-10-10"},{"$f":"_xlfn.XLOOKUP($B$3,Bezetting_1!$A$2:$A$90,Bezetting_1!D$2:D$90,,0)","v":"09:00 - 16:00u"},{"$f":"_xlfn.XLOOKUP($B$3,Bezetting_1!$A$2:$A$90,Bezetting_1!E$2:E$90,,0)","v":9},{"$f":"_xlfn.XLOOKUP($B$3,Bezetting_1!$A$2:$A$90,Bezetting_1!F$2:F$90,,0)","v":0},{"$f":"_xlfn.XLOOKUP($B$3,Bezetting_1!$A$2:$A$90,Bezetting_1!G$2:G$90,,0)","v":0},{"$f":"_xlfn.XLOOKUP($B$3,Bezetting_1!$A$2:$A$90,Bezetting_1!H$2:H$90,,0)","v":0},{"$f":"_xlfn.XLOOKUP($B$3,Bezetting_1!$A$2:$A$90,Bezetting_1!I$2:I$90,,0)","v":0},{"$f":"_xlfn.XLOOKUP($B$3,Bezetting_1!$A$2:$A$90,Bezetting_1!J$2:J$90,,0)","v":0},{"$f":"_xlfn.XLOOKUP($B$3,Bezetting_1!$A$2:$A$90,Bezetting_1!K$2:K$90,,0)","v":9},{"$f":"_xlfn.XLOOKUP($B$3,Bezetting_1!$A$2:$A$90,Bezetting_1!L$2:L$90,,0)","v":0},{"$f":"_xlfn.XLOOKUP($B$3,Bezetting_1!$A$2:$A$90,Bezetting_1!M$2:M$90,,0)","v":0},{"$f":"_xlfn.XLOOKUP($B$3,Bezetting_1!$A$2:$A$90,Bezetting_1!N$2:N$90,,0)","v":5},null,{"$f":"_xlfn.XLOOKUP($B$3,Bezetting_1!$A$2:$A$90,Bezetting_1!P$2:P$90,,0)","v":0},null,{"$f":"D8","v":"2023-10-10"},{"$f":"E8","v":"09:00 - 16:00u"},{"$f":"IF(F8=0,NA(),F8/$L8)","v":1},{"$f":"IF(G8=0,NA(),G8/$L8)","v":{"$error":"#N/A"}},{"$f":"IF(H8=0,NA(),H8/$L8)","v":{"$error":"#N/A"}},{"$error":"#N/A"},{"$error":"#N/A"},{"$error":"#N/A"}]
[null,{"$f":"\"Nabij kruispunt: \"&VLOOKUP(B3,Coordinaten!$A$2:$L$95,4,0)","v":"Nabij kruispunt: N21 / N26"},null,null,null,{"$f":"IF(F8=0,\"-\",F8/$L$8)","v":1},{"$f":"IF(G8=0,\"-\",G8/$L$8)","v":"-"},"-","-","-","-",1,null,null,null,null,{"$f":"_xlfn.XLOOKUP($B$3,Bezetting_1!$A$2:$A$90,Bezetting_1!Q$2:Q$90,,0)","v":0},null,{"$f":"D10","v":"2023-10-10"},{"$f":"E10","v":"19:00 - 02:00u"},{"$f":"IF(F10=0,NA(),F10/$L10)","v":1},{"$f":"IF(G10=0,NA(),G10/$L10)","v":{"$error":"#N/A"}},{"$error":"#N/A"},{"$error":"#N/A"},{"$error":"#N/A"},{"$error":"#N/A"}]
[null,null,null,{"$f":"_xlfn.XLOOKUP($B$3,Bezetting_2!$A$2:$A$90,Bezetting_2!C$2:C$90,,0)","v":"2023-10-10"},{"$f":"_xlfn.XLOOKUP($B$3,Bezetting_2!$A$2:$A$90,Bezetting_2!D$2:D$90,,0)","v":"19:00 - 02:00u"},{"$f":"_xlfn.XLOOKUP($B$3,Bezetting_2!$A$2:$A$90,Bezetting_2!E$2:E$90,,0)","v":5},{"$f":"_xlfn.XLOOKUP($B$3,Bezetting_2!$A$2:$A$90,Bezetting_2!F$2:F$90,,0)","v":0},{"$f":"_xlfn.XLOOKUP($B$3,Bezetting_2!$A$2:$A$90,Bezetting_2!G$2:G$90,,0)","v":0},{"$f":"_xlfn.XLOOKUP($B$3,Bezetting_2!$A$2:$A$90,Bezetting_2!H$2:H$90,,0)","v":0},{"$f":"_xlfn.XLOOKUP($B$3,Bezetting_2!$A$2:$A$90,Bezetting_2!I$2:I$90,,0)","v":0},{"$f":"_xlfn.XLOOKUP($B$3,Bezetting_2!$A$2:$A$90,Bezetting_2!J$2:J$90,,0)","v":0},{"$f":"_xlfn.XLOOKUP($B$3,Bezetting_2!$A$2:$A$90,Bezetting_2!K$2:K$90,,0)","v":5},{"$f":"_xlfn.XLOOKUP($B$3,Bezetting_2!$A$2:$A$90,Bezetting_2!L$2:L$90,,0)","v":0},{"$f":"_xlfn.XLOOKUP($B$3,Bezetting_2!$A$2:$A$90,Bezetting_2!M$2:M$90,,0)","v":0},{"$f":"_xlfn.XLOOKUP($B$3,Bezetting_2!$A$2:$A$90,Bezetting_2!N$2:N$90,,0)","v":1},{"$f":"_xlfn.XLOOKUP($B$3,Bezetting_2!$A$2:$A$90,Bezetting_2!O$2:O$90,,0)","v":0},{"$f":"_xlfn.XLOOKUP($B$3,Bezetting_2!$A$2:$A$90,Bezetting_2!P$2:P$90,,0)","v":0}]
[null,"Meting",null,null,null,{"$f":"IF(F10=0,\"-\",F10/$L$10)","v":1},{"$f":"IF(G10=0,\"-\",G10/$L$10)","v":"-"},"-","-","-","-",1,null,null,null,null,{"$f":"_xlfn.XLOOKUP($B$3,Bezetting_2!$A$2:$A$90,Bezetting_2!Q$2:Q$90,,0)","v":0}]
[null,{"$f":"\"Meetperiode: \"&TEXT(VLOOKUP(B3,Coordinaten!$A:$G,7,0),\"dddd dd mmmm jjjj\")","v":"Meetperiode: di 10 & do 12 oktober 2023"}]
[null,"Methodiek: Parkeerdrukmeting met waarnemers"]
[null,"In opdracht van: Vlaamse overheid"]
[null,"Uitgevoerd door: Dufec"]
[null,null,null,"VERDELING NAAR CATEGORIE"]
[null,"Locatie"]
[null,{"$f":"IF(B4=\"\",\"\",HYPERLINK(\"http://www.googlemaps.com/?q=\"&B4,\"Lat/Long: \"&B4))","v":"Lat/Long: 50.955475, 4.594162"}]
[]
[null,null,null,null,null,null,null,null,null,null,null,null,null,null,null,"Legenda"]
[null,null,null,null,null,null,null,null,null,null,null,null,null,null,null,null,"Personenwagen"]
[null,null,null,null,null,null,null,null,null,null,null,null,null,null,null,null,"Vracht"]
[null,null,null,null,null,null,null,null,null,null,null,null,null,null,null,null,"Motor"]
[null,null,null,null,null,null,null,null,null,null,null,null,null,null,null,null,"Obstakel / overig"]
[null,null,null,null,null,null,null,null,null,null,null,null,null,null,null,null,"Fout personenwagen"]
[null,null,null,null,null,null,null,null,null,null,null,null,null,null,null,null,"Fout Vracht"]
[]
[]
[]
[]
[]
[]
[]
[]
[]
[]
[]
[]
[null,"Toelichting"]
[null,"Pers = personenwagens op daarvoor bestemde"]
[null,"          openbare plaatsen"]
[null,"Vracht = vrachtwagens op daarvoor bestemde"]
[null,"          parkeerplaatsen (middel- en zwaar vrachtverkeer)"]
[null,"Motor = geparkeerde motoren op openbare plaatsen"]
[null,"Obstakel / overig = obstakels of overige voertuigen"]
[null,"          geparkeerd op openbare plaatsen"]
[null,"Fout pers = personenwagens die fout geparkeerd staan"]
[null,"Fout vracht = vrachtwagens die fout geparkeerd staan"]
[null,"E-wagen = geparkeerde elektrisch voertuig bij een"]
[null,"          elektrisch oplaadpunt"]
[null,"Invalide = personenwagens en motoren op voor"]
[null,"          invalide personen bestemde parkeerplaats"]
[null,"Gestalde fietsen = alle gestalde fietsen op de"]
[null,"          daarvoor bestemde parkeerplaatsen"]

{"sheet":"91.Nevele","index":80,"n_rows":54,"n_cols":26,"rows_kept":54,"cut":false,"hidden":false,"merged":[[4,3,5,12],[4,16,5,16],[15,3,16,12]]}
[]
[null,"PARKEERONDERZOEK",null,"CARPOOLPARKINGS EN P+R PARKINGS"]
[null,91,null,{"$f":"B8 & \" - \"& TEXT(VLOOKUP(B3,Coordinaten!$A$2:$G$95,7,0),\"dddd dd mmmm jjjj\")","v":"Carpool parking Nevele, Nevele - di 10 & do 12 oktober 2023"}]
[null,{"$f":"VLOOKUP(B3,Coordinaten!$A$2:$G$95,6,0)","v":"51.056514, 3.527934"}]
[null,null,null,"BEZETTING  ",null,null,null,null,null,null,null,null,null,null,null,null,"OPMERKINGEN"]
[]
[null,"Onderzoeksgebied",null,"Datum","Geregistreerd tussen","Pers","Vracht","Motor","Obstakel / overig","Fout   pers","Fout Vracht","Totaal","E-wagen\nplaats","Invalidenplaats","Gestalde fietsen",null,null,null,null,null,{"$f":"F7","v":"Pers"},"Vracht","Motor","Obstakel / overig","Fout   pers","Fout Vracht"]
[null,{"$f":"VLOOKUP(B3,Coordinaten!$A$2:$G$95,3,0)&\", \"&VLOOKUP(B3,Coordinaten!$A$2:$G$95,5,0)","v":"Carpool parking Nevele, Nevele"},null,{"$f":"_xlfn.XLOOKUP($B$3,Bezetting_1!$A$2:$A$90,Bezetting_1!C$2:C$90,,0)","v":"2023-10-10"},{"$f":"_xlfn.XLOOKUP($B$3,Bezetting_1!$A$2:$A$90,Bezetting_1!D$2:D$90,,0)","v":"09:00 - 16:00u"},{"$f":"_xlfn.XLOOKUP($B$3,Bezetting_1!$A$2:$A$90,Bezetting_1!E$2:E$90,,0)","v":38},{"$f":"_xlfn.XLOOKUP($B$3,Bezetting_1!$A$2:$A$90,Bezetting_1!F$2:F$90,,0)","v":0},{"$f":"_xlfn.XLOOKUP($B$3,Bezetting_1!$A$2:$A$90,Bezetting_1!G$2:G$90,,0)","v":1},{"$f":"_xlfn.XLOOKUP($B$3,Bezetting_1!$A$2:$A$90,Bezetting_1!H$2:H$90,,0)","v":0},{"$f":"_xlfn.XLOOKUP($B$3,Bezetting_1!$A$2:$A$90,Bezetting_1!I$2:I$90,,0)","v":0},{"$f":"_xlfn.XLOOKUP($B$3,Bezetting_1!$A$2:$A$90,Bezetting_1!J$2:J$90,,0)","v":0},{"$f":"_xlfn.XLOOKUP($B$3,Bezetting_1!$A$2:$A$90,Bezetting_1!K$2:K$90,,0)","v":39},{"$f":"_xlfn.XLOOKUP($B$3,Bezetting_1!$A$2:$A$90,Bezetting_1!L$2:L$90,,0)","v":0},{"$f":"_xlfn.XLOOKUP($B$3,Bezetting_1!$A$2:$A$90,Bezetting_1!M$2:M$90,,0)","v":0},{"$f":"_xlfn.XLOOKUP($B$3,Bezetting_1!$A$2:$A$90,Bezetting_1!N$2:N$90,,0)","v":0},null,{"$f":"_xlfn.XLOOKUP($B$3,Bezetting_1!$A$2:$A$90,Bezetting_1!P$2:P$90,,0)","v":0},null,{"$f":"D8","v":"2023-10-10"},{"$f":"E8","v":"09:00 - 16:00u"},{"$f":"IF(F8=0,NA(),F8/$L8)","v":0.97435897435897434},{"$f":"IF(G8=0,NA(),G8/$L8)","v":{"$error":"#N/A"}},{"$f":"IF(H8=0,NA(),H8/$L8)","v":2.564102564102564E-2},{"$error":"#N/A"},{"$error":"#N/A"},{"$error":"#N/A"}]
[null,{"$f":"\"Nabij kruispunt: \"&VLOOKUP(B3,Coordinaten!$A$2:$L$95,4,0)","v":"Nabij kruispunt: N437 / A10"},null,null,null,{"$f":"IF(F8=0,\"-\",F8/$L$8)","v":0.97435897435897434},{"$f":"IF(G8=0,\"-\",G8/$L$8)","v":"-"},2.564102564102564E-2,"-","-","-",1,null,null,null,null,{"$f":"_xlfn.XLOOKUP($B$3,Bezetting_1!$A$2:$A$90,Bezetting_1!Q$2:Q$90,,0)","v":0},null,{"$f":"D10","v":"2023-10-10"},{"$f":"E10","v":"19:00 - 02:00u"},{"$f":"IF(F10=0,NA(),F10/$L10)","v":0.94736842105263153},{"$f":"IF(G10=0,NA(),G10/$L10)","v":{"$error":"#N/A"}},{"$error":"#N/A"},5.2631578947368418E-2,{"$error":"#N/A"},{"$error":"#N/A"}]
[null,null,null,{"$f":"_xlfn.XLOOKUP($B$3,Bezetting_2!$A$2:$A$90,Bezetting_2!C$2:C$90,,0)","v":"2023-10-10"},{"$f":"_xlfn.XLOOKUP($B$3,Bezetting_2!$A$2:$A$90,Bezetting_2!D$2:D$90,,0)","v":"19:00 - 02:00u"},{"$f":"_xlfn.XLOOKUP($B$3,Bezetting_2!$A$2:$A$90,Bezetting_2!E$2:E$90,,0)","v":18},{"$f":"_xlfn.XLOOKUP($B$3,Bezetting_2!$A$2:$A$90,Bezetting_2!F$2:F$90,,0)","v":0},{"$f":"_xlfn.XLOOKUP($B$3,Bezetting_2!$A$2:$A$90,Bezetting_2!G$2:G$90,,0)","v":0},{"$f":"_xlfn.XLOOKUP($B$3,Bezetting_2!$A$2:$A$90,Bezetting_2!H$2:H$90,,0)","v":1},{"$f":"_xlfn.XLOOKUP($B$3,Bezetting_2!$A$2:$A$90,Bezetting_2!I$2:I$90,,0)","v":0},{"$f":"_xlfn.XLOOKUP($B$3,Bezetting_2!$A$2:$A$90,Bezetting_2!J$2:J$90,,0)","v":0},{"$f":"_xlfn.XLOOKUP($B$3,Bezetting_2!$A$2:$A$90,Bezetting_2!K$2:K$90,,0)","v":19},{"$f":"_xlfn.XLOOKUP($B$3,Bezetting_2!$A$2:$A$90,Bezetting_2!L$2:L$90,,0)","v":1},{"$f":"_xlfn.XLOOKUP($B$3,Bezetting_2!$A$2:$A$90,Bezetting_2!M$2:M$90,,0)","v":0},{"$f":"_xlfn.XLOOKUP($B$3,Bezetting_2!$A$2:$A$90,Bezetting_2!N$2:N$90,,0)","v":0},{"$f":"_xlfn.XLOOKUP($B$3,Bezetting_2!$A$2:$A$90,Bezetting_2!O$2:O$90,,0)","v":0},{"$f":"_xlfn.XLOOKUP($B$3,Bezetting_2!$A$2:$A$90,Bezetting_2!P$2:P$90,,0)","v":"Overig: 1x trailer"}]
[null,"Meting",null,null,null,{"$f":"IF(F10=0,\"-\",F10/$L$10)","v":0.94736842105263153},{"$f":"IF(G10=0,\"-\",G10/$L$10)","v":"-"},"-",5.2631578947368418E-2,"-","-",1,null,null,null,null,{"$f":"_xlfn.XLOOKUP($B$3,Bezetting_2!$A$2:$A$90,Bezetting_2!Q$2:Q$90,,0)","v":0}]
[null,{"$f":"\"Meetperiode: \"&TEXT(VLOOKUP(B3,Coordinaten!$A:$G,7,0),\"dddd dd mmmm jjjj\")","v":"Meetperiode: di 10 & do 12 oktober 2023"}]
[null,"Methodiek: Parkeerdrukmeting met waarnemers"]
[null,"In opdracht van: Vlaamse overheid"]
[null,"Uitgevoerd door: Dufec"]
[null,null,null,"VERDELING NAAR CATEGORIE"]
[null,"Locatie"]
[null,{"$f":"IF(B4=\"\",\"\",HYPERLINK(\"http://www.googlemaps.com/?q=\"&B4,\"Lat/Long: \"&B4))","v":"Lat/Long: 51.056514, 3.527934"}]
[]
[null,null,null,null,null,null,null,null,null,null,null,null,null,null,null,"Legenda"]
[null,null,null,null,null,null,null,null,null,null,null,null,null,null,null,null,"Personenwagen"]
[null,null,null,null,null,null,null,null,null,null,null,null,null,null,null,null,"Vracht"]
[null,null,null,null,null,null,null,null,null,null,null,null,null,null,null,null,"Motor"]
[null,null,null,null,null,null,null,null,null,null,null,null,null,null,null,null,"Obstakel / overig"]
[null,null,null,null,null,null,null,null,null,null,null,null,null,null,null,null,"Fout personenwagen"]
[null,null,null,null,null,null,null,null,null,null,null,null,null,null,null,null,"Fout Vracht"]
[]
[]
[]
[]
[]
[]
[]
[]
[]
[]
[]
[]
[null,"Toelichting"]
[null,"Pers = personenwagens op daarvoor bestemde"]
[null,"          openbare plaatsen"]
[null,"Vracht = vrachtwagens op daarvoor bestemde"]
[null,"          parkeerplaatsen (middel- en zwaar vrachtverkeer)"]
[null,"Motor = geparkeerde motoren op openbare plaatsen"]
[null,"Obstakel / overig = obstakels of overige voertuigen"]
[null,"          geparkeerd op openbare plaatsen"]
[null,"Fout pers = personenwagens die fout geparkeerd staan"]
[null,"Fout vracht = vrachtwagens die fout geparkeerd staan"]
[null,"E-wagen = geparkeerde elektrisch voertuig bij een"]
[null,"          elektrisch oplaadpunt"]
[null,"Invalide = personenwagens en motoren op voor"]
[null,"          invalide personen bestemde parkeerplaats"]
[null,"Gestalde fietsen = alle gestalde fietsen op de"]
[null,"          daarvoor bestemde parkeerplaatsen"]

{"sheet":"92.Beerse-Vosselaar","index":81,"n_rows":54,"n_cols":26,"rows_kept":54,"cut":false,"hidden":false,"merged":[[4,3,5,12],[4,16,5,16],[15,3,16,12]]}
[]
[null,"PARKEERONDERZOEK",null,"CARPOOLPARKINGS EN P+R PARKINGS"]
[null,92,null,{"$f":"B8 & \" - \"& TEXT(VLOOKUP(B3,Coordinaten!$A$2:$G$95,7,0),\"dddd dd mmmm jjjj\")","v":"P+R parking Beerse-Vosselaar, Lille - di 10 & do 12 oktober 2023"}]
[null,{"$f":"VLOOKUP(B3,Coordinaten!$A$2:$G$95,6,0)","v":"51.289402, 4.856541"}]
[null,null,null,"BEZETTING  ",null,null,null,null,null,null,null,null,null,null,null,null,"OPMERKINGEN"]
[]
[null,"Onderzoeksgebied",null,"Datum","Geregistreerd tussen","Pers","Vracht","Motor","Obstakel / overig","Fout   pers","Fout Vracht","Totaal","E-wagen\nplaats","Invalidenplaats","Gestalde fietsen",null,null,null,null,null,{"$f":"F7","v":"Pers"},"Vracht","Motor","Obstakel / overig","Fout   pers","Fout Vracht"]
[null,{"$f":"VLOOKUP(B3,Coordinaten!$A$2:$G$95,3,0)&\", \"&VLOOKUP(B3,Coordinaten!$A$2:$G$95,5,0)","v":"P+R parking Beerse-Vosselaar, Lille"},null,{"$f":"_xlfn.XLOOKUP($B$3,Bezetting_1!$A$2:$A$90,Bezetting_1!C$2:C$90,,0)","v":"2023-10-12"},{"$f":"_xlfn.XLOOKUP($B$3,Bezetting_1!$A$2:$A$90,Bezetting_1!D$2:D$90,,0)","v":"09:00 - 16:00u"},{"$f":"_xlfn.XLOOKUP($B$3,Bezetting_1!$A$2:$A$90,Bezetting_1!E$2:E$90,,0)","v":37},{"$f":"_xlfn.XLOOKUP($B$3,Bezetting_1!$A$2:$A$90,Bezetting_1!F$2:F$90,,0)","v":0},{"$f":"_xlfn.XLOOKUP($B$3,Bezetting_1!$A$2:$A$90,Bezetting_1!G$2:G$90,,0)","v":0},{"$f":"_xlfn.XLOOKUP($B$3,Bezetting_1!$A$2:$A$90,Bezetting_1!H$2:H$90,,0)","v":0},{"$f":"_xlfn.XLOOKUP($B$3,Bezetting_1!$A$2:$A$90,Bezetting_1!I$2:I$90,,0)","v":0},{"$f":"_xlfn.XLOOKUP($B$3,Bezetting_1!$A$2:$A$90,Bezetting_1!J$2:J$90,,0)","v":0},{"$f":"_xlfn.XLOOKUP($B$3,Bezetting_1!$A$2:$A$90,Bezetting_1!K$2:K$90,,0)","v":37},{"$f":"_xlfn.XLOOKUP($B$3,Bezetting_1!$A$2:$A$90,Bezetting_1!L$2:L$90,,0)","v":0},{"$f":"_xlfn.XLOOKUP($B$3,Bezetting_1!$A$2:$A$90,Bezetting_1!M$2:M$90,,0)","v":0},{"$f":"_xlfn.XLOOKUP($B$3,Bezetting_1!$A$2:$A$90,Bezetting_1!N$2:N$90,,0)","v":0},null,{"$f":"_xlfn.XLOOKUP($B$3,Bezetting_1!$A$2:$A$90,Bezetting_1!P$2:P$90,,0)","v":0},null,{"$f":"D8","v":"2023-10-12"},{"$f":"E8","v":"09:00 - 16:00u"},{"$f":"IF(F8=0,NA(),F8/$L8)","v":1},{"$f":"IF(G8=0,NA(),G8/$L8)","v":{"$error":"#N/A"}},{"$f":"IF(H8=0,NA(),H8/$L8)","v":{"$error":"#N/A"}},{"$error":"#N/A"},{"$error":"#N/A"},{"$error":"#N/A"}]
[null,{"$f":"\"Nabij kruispunt: \"&VLOOKUP(B3,Coordinaten!$A$2:$L$95,4,0)","v":"Nabij kruispunt: N132 / A21"},null,null,null,{"$f":"IF(F8=0,\"-\",F8/$L$8)","v":1},{"$f":"IF(G8=0,\"-\",G8/$L$8)","v":"-"},"-","-","-","-",1,null,null,null,null,{"$f":"_xlfn.XLOOKUP($B$3,Bezetting_1!$A$2:$A$90,Bezetting_1!Q$2:Q$90,,0)","v":0},null,{"$f":"D10","v":"2023-10-10"},{"$f":"E10","v":"19:00 - 02:00u"},{"$f":"IF(F10=0,NA(),F10/$L10)","v":1},{"$f":"IF(G10=0,NA(),G10/$L10)","v":{"$error":"#N/A"}},{"$error":"#N/A"},{"$error":"#N/A"},{"$error":"#N/A"},{"$error":"#N/A"}]
[null,null,null,{"$f":"_xlfn.XLOOKUP($B$3,Bezetting_2!$A$2:$A$90,Bezetting_2!C$2:C$90,,0)","v":"2023-10-10"},{"$f":"_xlfn.XLOOKUP($B$3,Bezetting_2!$A$2:$A$90,Bezetting_2!D$2:D$90,,0)","v":"19:00 - 02:00u"},{"$f":"_xlfn.XLOOKUP($B$3,Bezetting_2!$A$2:$A$90,Bezetting_2!E$2:E$90,,0)","v":14},{"$f":"_xlfn.XLOOKUP($B$3,Bezetting_2!$A$2:$A$90,Bezetting_2!F$2:F$90,,0)","v":0},{"$f":"_xlfn.XLOOKUP($B$3,Bezetting_2!$A$2:$A$90,Bezetting_2!G$2:G$90,,0)","v":0},{"$f":"_xlfn.XLOOKUP($B$3,Bezetting_2!$A$2:$A$90,Bezetting_2!H$2:H$90,,0)","v":0},{"$f":"_xlfn.XLOOKUP($B$3,Bezetting_2!$A$2:$A$90,Bezetting_2!I$2:I$90,,0)","v":0},{"$f":"_xlfn.XLOOKUP($B$3,Bezetting_2!$A$2:$A$90,Bezetting_2!J$2:J$90,,0)","v":0},{"$f":"_xlfn.XLOOKUP($B$3,Bezetting_2!$A$2:$A$90,Bezetting_2!K$2:K$90,,0)","v":14},{"$f":"_xlfn.XLOOKUP($B$3,Bezetting_2!$A$2:$A$90,Bezetting_2!L$2:L$90,,0)","v":0},{"$f":"_xlfn.XLOOKUP($B$3,Bezetting_2!$A$2:$A$90,Bezetting_2!M$2:M$90,,0)","v":0},{"$f":"_xlfn.XLOOKUP($B$3,Bezetting_2!$A$2:$A$90,Bezetting_2!N$2:N$90,,0)","v":0},{"$f":"_xlfn.XLOOKUP($B$3,Bezetting_2!$A$2:$A$90,Bezetting_2!O$2:O$90,,0)","v":0},{"$f":"_xlfn.XLOOKUP($B$3,Bezetting_2!$A$2:$A$90,Bezetting_2!P$2:P$90,,0)","v":0}]
[null,"Meting",null,null,null,{"$f":"IF(F10=0,\"-\",F10/$L$10)","v":1},{"$f":"IF(G10=0,\"-\",G10/$L$10)","v":"-"},"-","-","-","-",1,null,null,null,null,{"$f":"_xlfn.XLOOKUP($B$3,Bezetting_2!$A$2:$A$90,Bezetting_2!Q$2:Q$90,,0)","v":0}]
[null,{"$f":"\"Meetperiode: \"&TEXT(VLOOKUP(B3,Coordinaten!$A:$G,7,0),\"dddd dd mmmm jjjj\")","v":"Meetperiode: di 10 & do 12 oktober 2023"}]
[null,"Methodiek: Parkeerdrukmeting met waarnemers"]
[null,"In opdracht van: Vlaamse overheid"]
[null,"Uitgevoerd door: Dufec"]
[null,null,null,"VERDELING NAAR CATEGORIE"]
[null,"Locatie"]
[null,{"$f":"IF(B4=\"\",\"\",HYPERLINK(\"http://www.googlemaps.com/?q=\"&B4,\"Lat/Long: \"&B4))","v":"Lat/Long: 51.289402, 4.856541"}]
[]
[null,null,null,null,null,null,null,null,null,null,null,null,null,null,null,"Legenda"]
[null,null,null,null,null,null,null,null,null,null,null,null,null,null,null,null,"Personenwagen"]
[null,null,null,null,null,null,null,null,null,null,null,null,null,null,null,null,"Vracht"]
[null,null,null,null,null,null,null,null,null,null,null,null,null,null,null,null,"Motor"]
[null,null,null,null,null,null,null,null,null,null,null,null,null,null,null,null,"Obstakel / overig"]
[null,null,null,null,null,null,null,null,null,null,null,null,null,null,null,null,"Fout personenwagen"]
[null,null,null,null,null,null,null,null,null,null,null,null,null,null,null,null,"Fout Vracht"]
[]
[]
[]
[]
[]
[]
[]
[]
[]
[]
[]
[]
[null,"Toelichting"]
[null,"Pers = personenwagens op daarvoor bestemde"]
[null,"          openbare plaatsen"]
[null,"Vracht = vrachtwagens op daarvoor bestemde"]
[null,"          parkeerplaatsen (middel- en zwaar vrachtverkeer)"]
[null,"Motor = geparkeerde motoren op openbare plaatsen"]
[null,"Obstakel / overig = obstakels of overige voertuigen"]
[null,"          geparkeerd op openbare plaatsen"]
[null,"Fout pers = personenwagens die fout geparkeerd staan"]
[null,"Fout vracht = vrachtwagens die fout geparkeerd staan"]
[null,"E-wagen = geparkeerde elektrisch voertuig bij een"]
[null,"          elektrisch oplaadpunt"]
[null,"Invalide = personenwagens en motoren op voor"]
[null,"          invalide personen bestemde parkeerplaats"]
[null,"Gestalde fietsen = alle gestalde fietsen op de"]
[null,"          daarvoor bestemde parkeerplaatsen"]

{"sheet":"93.Terlaemen","index":82,"n_rows":54,"n_cols":26,"rows_kept":54,"cut":false,"hidden":false,"merged":[[4,3,5,12],[4,16,5,16],[15,3,16,12]]}
[]
[null,"PARKEERONDERZOEK",null,"CARPOOLPARKINGS EN P+R PARKINGS"]
[null,93,null,{"$f":"B8 & \" - \"& TEXT(VLOOKUP(B3,Coordinaten!$A$2:$G$95,7,0),\"dddd dd mmmm jjjj\")","v":"Carpool parking Terlaemen, Heusden-Zolder - di 10 & do 12 oktober 2023"}]
[null,{"$f":"VLOOKUP(B3,Coordinaten!$A$2:$G$95,6,0)","v":"51.006354, 5.271851"}]
[null,null,null,"BEZETTING  ",null,null,null,null,null,null,null,null,null,null,null,null,"OPMERKINGEN"]
[]
[null,"Onderzoeksgebied",null,"Datum","Geregistreerd tussen","Pers","Vracht","Motor","Obstakel / overig","Fout   pers","Fout Vracht","Totaal","E-wagen\nplaats","Invalidenplaats","Gestalde fietsen",null,null,null,null,null,{"$f":"F7","v":"Pers"},"Vracht","Motor","Obstakel / overig","Fout   pers","Fout Vracht"]
[null,{"$f":"VLOOKUP(B3,Coordinaten!$A$2:$G$95,3,0)&\", \"&VLOOKUP(B3,Coordinaten!$A$2:$G$95,5,0)","v":"Carpool parking Terlaemen, Heusden-Zolder"},null,{"$f":"_xlfn.XLOOKUP($B$3,Bezetting_1!$A$2:$A$90,Bezetting_1!C$2:C$90,,0)","v":"2023-10-12"},{"$f":"_xlfn.XLOOKUP($B$3,Bezetting_1!$A$2:$A$90,Bezetting_1!D$2:D$90,,0)","v":"09:00 - 16:00u"},{"$f":"_xlfn.XLOOKUP($B$3,Bezetting_1!$A$2:$A$90,Bezetting_1!E$2:E$90,,0)","v":33},{"$f":"_xlfn.XLOOKUP($B$3,Bezetting_1!$A$2:$A$90,Bezetting_1!F$2:F$90,,0)","v":0},{"$f":"_xlfn.XLOOKUP($B$3,Bezetting_1!$A$2:$A$90,Bezetting_1!G$2:G$90,,0)","v":0},{"$f":"_xlfn.XLOOKUP($B$3,Bezetting_1!$A$2:$A$90,Bezetting_1!H$2:H$90,,0)","v":0},{"$f":"_xlfn.XLOOKUP($B$3,Bezetting_1!$A$2:$A$90,Bezetting_1!I$2:I$90,,0)","v":0},{"$f":"_xlfn.XLOOKUP($B$3,Bezetting_1!$A$2:$A$90,Bezetting_1!J$2:J$90,,0)","v":0},{"$f":"_xlfn.XLOOKUP($B$3,Bezetting_1!$A$2:$A$90,Bezetting_1!K$2:K$90,,0)","v":33},{"$f":"_xlfn.XLOOKUP($B$3,Bezetting_1!$A$2:$A$90,Bezetting_1!L$2:L$90,,0)","v":0},{"$f":"_xlfn.XLOOKUP($B$3,Bezetting_1!$A$2:$A$90,Bezetting_1!M$2:M$90,,0)","v":1},{"$f":"_xlfn.XLOOKUP($B$3,Bezetting_1!$A$2:$A$90,Bezetting_1!N$2:N$90,,0)","v":1},null,{"$f":"_xlfn.XLOOKUP($B$3,Bezetting_1!$A$2:$A$90,Bezetting_1!P$2:P$90,,0)","v":0},null,{"$f":"D8","v":"2023-10-12"},{"$f":"E8","v":"09:00 - 16:00u"},{"$f":"IF(F8=0,NA(),F8/$L8)","v":1},{"$f":"IF(G8=0,NA(),G8/$L8)","v":{"$error":"#N/A"}},{"$f":"IF(H8=0,NA(),H8/$L8)","v":{"$error":"#N/A"}},{"$error":"#N/A"},{"$error":"#N/A"},{"$error":"#N/A"}]
[null,{"$f":"\"Nabij kruispunt: \"&VLOOKUP(B3,Coordinaten!$A$2:$L$95,4,0)","v":"Nabij kruispunt: N729 / Snelwegstraat"},null,null,null,{"$f":"IF(F8=0,\"-\",F8/$L$8)","v":1},{"$f":"IF(G8=0,\"-\",G8/$L$8)","v":"-"},"-","-","-","-",1,null,null,null,null,{"$f":"_xlfn.XLOOKUP($B$3,Bezetting_1!$A$2:$A$90,Bezetting_1!Q$2:Q$90,,0)","v":0},null,{"$f":"D10","v":"2023-10-10"},{"$f":"E10","v":"19:00 - 02:00u"},{"$f":"IF(F10=0,NA(),F10/$L10)","v":1},{"$f":"IF(G10=0,NA(),G10/$L10)","v":{"$error":"#N/A"}},{"$error":"#N/A"},{"$error":"#N/A"},{"$error":"#N/A"},{"$error":"#N/A"}]
[null,null,null,{"$f":"_xlfn.XLOOKUP($B$3,Bezetting_2!$A$2:$A$90,Bezetting_2!C$2:C$90,,0)","v":"2023-10-10"},{"$f":"_xlfn.XLOOKUP($B$3,Bezetting_2!$A$2:$A$90,Bezetting_2!D$2:D$90,,0)","v":"19:00 - 02:00u"},{"$f":"_xlfn.XLOOKUP($B$3,Bezetting_2!$A$2:$A$90,Bezetting_2!E$2:E$90,,0)","v":9},{"$f":"_xlfn.XLOOKUP($B$3,Bezetting_2!$A$2:$A$90,Bezetting_2!F$2:F$90,,0)","v":0},{"$f":"_xlfn.XLOOKUP($B$3,Bezetting_2!$A$2:$A$90,Bezetting_2!G$2:G$90,,0)","v":0},{"$f":"_xlfn.XLOOKUP($B$3,Bezetting_2!$A$2:$A$90,Bezetting_2!H$2:H$90,,0)","v":0},{"$f":"_xlfn.XLOOKUP($B$3,Bezetting_2!$A$2:$A$90,Bezetting_2!I$2:I$90,,0)","v":0},{"$f":"_xlfn.XLOOKUP($B$3,Bezetting_2!$A$2:$A$90,Bezetting_2!J$2:J$90,,0)","v":0},{"$f":"_xlfn.XLOOKUP($B$3,Bezetting_2!$A$2:$A$90,Bezetting_2!K$2:K$90,,0)","v":9},{"$f":"_xlfn.XLOOKUP($B$3,Bezetting_2!$A$2:$A$90,Bezetting_2!L$2:L$90,,0)","v":0},{"$f":"_xlfn.XLOOKUP($B$3,Bezetting_2!$A$2:$A$90,Bezetting_2!M$2:M$90,,0)","v":0},{"$f":"_xlfn.XLOOKUP($B$3,Bezetting_2!$A$2:$A$90,Bezetting_2!N$2:N$90,,0)","v":0},{"$f":"_xlfn.XLOOKUP($B$3,Bezetting_2!$A$2:$A$90,Bezetting_2!O$2:O$90,,0)","v":0},{"$f":"_xlfn.XLOOKUP($B$3,Bezetting_2!$A$2:$A$90,Bezetting_2!P$2:P$90,,0)","v":0}]
[null,"Meting",null,null,null,{"$f":"IF(F10=0,\"-\",F10/$L$10)","v":1},{"$f":"IF(G10=0,\"-\",G10/$L$10)","v":"-"},"-","-","-","-",1,null,null,null,null,{"$f":"_xlfn.XLOOKUP($B$3,Bezetting_2!$A$2:$A$90,Bezetting_2!Q$2:Q$90,,0)","v":0}]
[null,{"$f":"\"Meetperiode: \"&TEXT(VLOOKUP(B3,Coordinaten!$A:$G,7,0),\"dddd dd mmmm jjjj\")","v":"Meetperiode: di 10 & do 12 oktober 2023"}]
[null,"Methodiek: Parkeerdrukmeting met waarnemers"]
[null,"In opdracht van: Vlaamse overheid"]
[null,"Uitgevoerd door: Dufec"]
[null,null,null,"VERDELING NAAR CATEGORIE"]
[null,"Locatie"]
[null,{"$f":"IF(B4=\"\",\"\",HYPERLINK(\"http://www.googlemaps.com/?q=\"&B4,\"Lat/Long: \"&B4))","v":"Lat/Long: 51.006354, 5.271851"}]
[]
[null,null,null,null,null,null,null,null,null,null,null,null,null,null,null,"Legenda"]
[null,null,null,null,null,null,null,null,null,null,null,null,null,null,null,null,"Personenwagen"]
[null,null,null,null,null,null,null,null,null,null,null,null,null,null,null,null,"Vracht"]
[null,null,null,null,null,null,null,null,null,null,null,null,null,null,null,null,"Motor"]
[null,null,null,null,null,null,null,null,null,null,null,null,null,null,null,null,"Obstakel / overig"]
[null,null,null,null,null,null,null,null,null,null,null,null,null,null,null,null,"Fout personenwagen"]
[null,null,null,null,null,null,null,null,null,null,null,null,null,null,null,null,"Fout Vracht"]
[]
[]
[]
[]
[]
[]
[]
[]
[]
[]
[]
[]
[null,"Toelichting"]
[null,"Pers = personenwagens op daarvoor bestemde"]
[null,"          openbare plaatsen"]
[null,"Vracht = vrachtwagens op daarvoor bestemde"]
[null,"          parkeerplaatsen (middel- en zwaar vrachtverkeer)"]
[null,"Motor = geparkeerde motoren op openbare plaatsen"]
[null,"Obstakel / overig = obstakels of overige voertuigen"]
[null,"          geparkeerd op openbare plaatsen"]
[null,"Fout pers = personenwagens die fout geparkeerd staan"]
[null,"Fout vracht = vrachtwagens die fout geparkeerd staan"]
[null,"E-wagen = geparkeerde elektrisch voertuig bij een"]
[null,"          elektrisch oplaadpunt"]
[null,"Invalide = personenwagens en motoren op voor"]
[null,"          invalide personen bestemde parkeerplaats"]
[null,"Gestalde fietsen = alle gestalde fietsen op de"]
[null,"          daarvoor bestemde parkeerplaatsen"]

{"sheet":"94.Boechout","index":83,"n_rows":54,"n_cols":26,"rows_kept":54,"cut":false,"hidden":false,"merged":[[4,3,5,12],[4,16,5,16],[15,3,16,12]]}
[]
[null,"PARKEERONDERZOEK",null,"CARPOOLPARKINGS EN P+R PARKINGS"]
[null,94,null,{"$f":"B8 & \" - \"& TEXT(VLOOKUP(B3,Coordinaten!$A$2:$G$95,7,0),\"dddd dd mmmm jjjj\")","v":"P+R parking Boechout, Boechout - di 10 & do 12 oktober 2023"}]
[null,{"$f":"VLOOKUP(B3,Coordinaten!$A$2:$G$95,6,0)","v":"51.168563, 4.494312"}]
[null,null,null,"BEZETTING  ",null,null,null,null,null,null,null,null,null,null,null,null,"OPMERKINGEN"]
[]
[null,"Onderzoeksgebied",null,"Datum","Geregistreerd tussen","Pers","Vracht","Motor","Obstakel / overig","Fout   pers","Fout Vracht","Totaal","E-wagen\nplaats","Invalidenplaats","Gestalde fietsen",null,null,null,null,null,{"$f":"F7","v":"Pers"},"Vracht","Motor","Obstakel / overig","Fout   pers","Fout Vracht"]
[null,{"$f":"VLOOKUP(B3,Coordinaten!$A$2:$G$95,3,0)&\", \"&VLOOKUP(B3,Coordinaten!$A$2:$G$95,5,0)","v":"P+R parking Boechout, Boechout"},null,{"$f":"_xlfn.XLOOKUP($B$3,Bezetting_1!$A$2:$A$90,Bezetting_1!C$2:C$90,,0)","v":"2023-10-12"},{"$f":"_xlfn.XLOOKUP($B$3,Bezetting_1!$A$2:$A$90,Bezetting_1!D$2:D$90,,0)","v":"09:00 - 16:00u"},{"$f":"_xlfn.XLOOKUP($B$3,Bezetting_1!$A$2:$A$90,Bezetting_1!E$2:E$90,,0)","v":121},{"$f":"_xlfn.XLOOKUP($B$3,Bezetting_1!$A$2:$A$90,Bezetting_1!F$2:F$90,,0)","v":0},{"$f":"_xlfn.XLOOKUP($B$3,Bezetting_1!$A$2:$A$90,Bezetting_1!G$2:G$90,,0)","v":0},{"$f":"_xlfn.XLOOKUP($B$3,Bezetting_1!$A$2:$A$90,Bezetting_1!H$2:H$90,,0)","v":0},{"$f":"_xlfn.XLOOKUP($B$3,Bezetting_1!$A$2:$A$90,Bezetting_1!I$2:I$90,,0)","v":0},{"$f":"_xlfn.XLOOKUP($B$3,Bezetting_1!$A$2:$A$90,Bezetting_1!J$2:J$90,,0)","v":0},{"$f":"_xlfn.XLOOKUP($B$3,Bezetting_1!$A$2:$A$90,Bezetting_1!K$2:K$90,,0)","v":121},{"$f":"_xlfn.XLOOKUP($B$3,Bezetting_1!$A$2:$A$90,Bezetting_1!L$2:L$90,,0)","v":0},{"$f":"_xlfn.XLOOKUP($B$3,Bezetting_1!$A$2:$A$90,Bezetting_1!M$2:M$90,,0)","v":1},{"$f":"_xlfn.XLOOKUP($B$3,Bezetting_1!$A$2:$A$90,Bezetting_1!N$2:N$90,,0)","v":93},null,{"$f":"_xlfn.XLOOKUP($B$3,Bezetting_1!$A$2:$A$90,Bezetting_1!P$2:P$90,,0)","v":0},null,{"$f":"D8","v":"2023-10-12"},{"$f":"E8","v":"09:00 - 16:00u"},{"$f":"IF(F8=0,NA(),F8/$L8)","v":1},{"$f":"IF(G8=0,NA(),G8/$L8)","v":{"$error":"#N/A"}},{"$f":"IF(H8=0,NA(),H8/$L8)","v":{"$error":"#N/A"}},{"$error":"#N/A"},{"$error":"#N/A"},{"$error":"#N/A"}]
[null,{"$f":"\"Nabij kruispunt: \"&VLOOKUP(B3,Coordinaten!$A$2:$L$95,4,0)","v":"Nabij kruispunt: N10 / Borsbeeksesteenweg"},null,null,null,{"$f":"IF(F8=0,\"-\",F8/$L$8)","v":1},{"$f":"IF(G8=0,\"-\",G8/$L$8)","v":"-"},"-","-","-","-",1,null,null,null,null,{"$f":"_xlfn.XLOOKUP($B$3,Bezetting_1!$A$2:$A$90,Bezetting_1!Q$2:Q$90,,0)","v":0},null,{"$f":"D10","v":"2023-10-12"},{"$f":"E10","v":"19:00 - 02:00u"},{"$f":"IF(F10=0,NA(),F10/$L10)","v":1},{"$f":"IF(G10=0,NA(),G10/$L10)","v":{"$error":"#N/A"}},{"$error":"#N/A"},{"$error":"#N/A"},{"$error":"#N/A"},{"$error":"#N/A"}]
[null,null,null,{"$f":"_xlfn.XLOOKUP($B$3,Bezetting_2!$A$2:$A$90,Bezetting_2!C$2:C$90,,0)","v":"2023-10-12"},{"$f":"_xlfn.XLOOKUP($B$3,Bezetting_2!$A$2:$A$90,Bezetting_2!D$2:D$90,,0)","v":"19:00 - 02:00u"},{"$f":"_xlfn.XLOOKUP($B$3,Bezetting_2!$A$2:$A$90,Bezetting_2!E$2:E$90,,0)","v":68},{"$f":"_xlfn.XLOOKUP($B$3,Bezetting_2!$A$2:$A$90,Bezetting_2!F$2:F$90,,0)","v":0},{"$f":"_xlfn.XLOOKUP($B$3,Bezetting_2!$A$2:$A$90,Bezetting_2!G$2:G$90,,0)","v":0},{"$f":"_xlfn.XLOOKUP($B$3,Bezetting_2!$A$2:$A$90,Bezetting_2!H$2:H$90,,0)","v":0},{"$f":"_xlfn.XLOOKUP($B$3,Bezetting_2!$A$2:$A$90,Bezetting_2!I$2:I$90,,0)","v":0},{"$f":"_xlfn.XLOOKUP($B$3,Bezetting_2!$A$2:$A$90,Bezetting_2!J$2:J$90,,0)","v":0},{"$f":"_xlfn.XLOOKUP($B$3,Bezetting_2!$A$2:$A$90,Bezetting_2!K$2:K$90,,0)","v":68},{"$f":"_xlfn.XLOOKUP($B$3,Bezetting_2!$A$2:$A$90,Bezetting_2!L$2:L$90,,0)","v":0},{"$f":"_xlfn.XLOOKUP($B$3,Bezetting_2!$A$2:$A$90,Bezetting_2!M$2:M$90,,0)","v":1},{"$f":"_xlfn.XLOOKUP($B$3,Bezetting_2!$A$2:$A$90,Bezetting_2!N$2:N$90,,0)","v":77},{"$f":"_xlfn.XLOOKUP($B$3,Bezetting_2!$A$2:$A$90,Bezetting_2!O$2:O$90,,0)","v":0},{"$f":"_xlfn.XLOOKUP($B$3,Bezetting_2!$A$2:$A$90,Bezetting_2!P$2:P$90,,0)","v":"Fout: 1 fiets"}]
[null,"Meting",null,null,null,{"$f":"IF(F10=0,\"-\",F10/$L$10)","v":1},{"$f":"IF(G10=0,\"-\",G10/$L$10)","v":"-"},"-","-","-","-",1,null,null,null,null,{"$f":"_xlfn.XLOOKUP($B$3,Bezetting_2!$A$2:$A$90,Bezetting_2!Q$2:Q$90,,0)","v":0}]
[null,{"$f":"\"Meetperiode: \"&TEXT(VLOOKUP(B3,Coordinaten!$A:$G,7,0),\"dddd dd mmmm jjjj\")","v":"Meetperiode: di 10 & do 12 oktober 2023"}]
[null,"Methodiek: Parkeerdrukmeting met waarnemers"]
[null,"In opdracht van: Vlaamse overheid"]
[null,"Uitgevoerd door: Dufec"]
[null,null,null,"VERDELING NAAR CATEGORIE"]
[null,"Locatie"]
[null,{"$f":"IF(B4=\"\",\"\",HYPERLINK(\"http://www.googlemaps.com/?q=\"&B4,\"Lat/Long: \"&B4))","v":"Lat/Long: 51.168563, 4.494312"}]
[]
[null,null,null,null,null,null,null,null,null,null,null,null,null,null,null,"Legenda"]
[null,null,null,null,null,null,null,null,null,null,null,null,null,null,null,null,"Personenwagen"]
[null,null,null,null,null,null,null,null,null,null,null,null,null,null,null,null,"Vracht"]
[null,null,null,null,null,null,null,null,null,null,null,null,null,null,null,null,"Motor"]
[null,null,null,null,null,null,null,null,null,null,null,null,null,null,null,null,"Obstakel / overig"]
[null,null,null,null,null,null,null,null,null,null,null,null,null,null,null,null,"Fout personenwagen"]
[null,null,null,null,null,null,null,null,null,null,null,null,null,null,null,null,"Fout Vracht"]
[]
[]
[]
[]
[]
[]
[]
[]
[]
[]
[]
[]
[null,"Toelichting"]
[null,"Pers = personenwagens op daarvoor bestemde"]
[null,"          openbare plaatsen"]
[null,"Vracht = vrachtwagens op daarvoor bestemde"]
[null,"          parkeerplaatsen (middel- en zwaar vrachtverkeer)"]
[null,"Motor = geparkeerde motoren op openbare plaatsen"]
[null,"Obstakel / overig = obstakels of overige voertuigen"]
[null,"          geparkeerd op openbare plaatsen"]
[null,"Fout pers = personenwagens die fout geparkeerd staan"]
[null,"Fout vracht = vrachtwagens die fout geparkeerd staan"]
[null,"E-wagen = geparkeerde elektrisch voertuig bij een"]
[null,"          elektrisch oplaadpunt"]
[null,"Invalide = personenwagens en motoren op voor"]
[null,"          invalide personen bestemde parkeerplaats"]
[null,"Gestalde fietsen = alle gestalde fietsen op de"]
[null,"          daarvoor bestemde parkeerplaatsen"]

{"sheet":"95.Aalter","index":84,"n_rows":54,"n_cols":26,"rows_kept":54,"cut":false,"hidden":false,"merged":[[4,3,5,12],[4,16,5,16],[15,3,16,12]]}
[]
[null,"PARKEERONDERZOEK",null,"CARPOOLPARKINGS EN P+R PARKINGS"]
[null,95,null,{"$f":"B8 & \" - \"& TEXT(VLOOKUP(B3,Coordinaten!$A$2:$G$101,7,0),\"dddd d mmmm jjjj\")","v":"Carpool parking Aalter, Aalter - di 10 & do 12 oktober 2023"}]
[null,{"$f":"VLOOKUP(B3,Coordinaten!$A$2:$G$101,6,0)","v":"51.0749724302438, 3.44756033702165"}]
[null,null,null,"BEZETTING  ",null,null,null,null,null,null,null,null,null,null,null,null,"OPMERKINGEN"]
[]
[null,"Onderzoeksgebied",null,"Datum","Geregistreerd tussen","Pers","Vracht","Motor","Obstakel / overig","Fout   pers","Fout Vracht","Totaal","E-wagen\nplaats","Invalidenplaats","Gestalde fietsen",null,null,null,null,null,{"$f":"F7","v":"Pers"},"Vracht","Motor","Obstakel / overig","Fout   pers","Fout Vracht"]
[null,{"$f":"VLOOKUP(B3,Coordinaten!$A$2:$G$101,3,0)&\", \"&VLOOKUP(B3,Coordinaten!$A$2:$G$101,5,0)","v":"Carpool parking Aalter, Aalter"},null,{"$f":"_xlfn.XLOOKUP($B$3,Bezetting_1!$A$2:$A$90,Bezetting_1!C$2:C$90,,0)","v":"2023-10-10"},{"$f":"_xlfn.XLOOKUP($B$3,Bezetting_1!$A$2:$A$90,Bezetting_1!D$2:D$90,,0)","v":"09:00 - 16:00u"},{"$f":"_xlfn.XLOOKUP($B$3,Bezetting_1!$A$2:$A$90,Bezetting_1!E$2:E$90,,0)","v":61},{"$f":"_xlfn.XLOOKUP($B$3,Bezetting_1!$A$2:$A$90,Bezetting_1!F$2:F$90,,0)","v":0},{"$f":"_xlfn.XLOOKUP($B$3,Bezetting_1!$A$2:$A$90,Bezetting_1!G$2:G$90,,0)","v":0},{"$f":"_xlfn.XLOOKUP($B$3,Bezetting_1!$A$2:$A$90,Bezetting_1!H$2:H$90,,0)","v":0},{"$f":"_xlfn.XLOOKUP($B$3,Bezetting_1!$A$2:$A$90,Bezetting_1!I$2:I$90,,0)","v":0},{"$f":"_xlfn.XLOOKUP($B$3,Bezetting_1!$A$2:$A$90,Bezetting_1!J$2:J$90,,0)","v":0},{"$f":"_xlfn.XLOOKUP($B$3,Bezetting_1!$A$2:$A$90,Bezetting_1!K$2:K$90,,0)","v":61},{"$f":"_xlfn.XLOOKUP($B$3,Bezetting_1!$A$2:$A$90,Bezetting_1!L$2:L$90,,0)","v":0},{"$f":"_xlfn.XLOOKUP($B$3,Bezetting_1!$A$2:$A$90,Bezetting_1!M$2:M$90,,0)","v":0},{"$f":"_xlfn.XLOOKUP($B$3,Bezetting_1!$A$2:$A$90,Bezetting_1!N$2:N$90,,0)","v":4},null,{"$f":"_xlfn.XLOOKUP($B$3,Bezetting_1!$A$2:$A$90,Bezetting_1!P$2:P$90,,0)","v":0},null,{"$f":"D8","v":"2023-10-10"},{"$f":"E8","v":"09:00 - 16:00u"},{"$f":"IF(F8=0,NA(),F8/$L8)","v":1},{"$f":"IF(G8=0,NA(),G8/$L8)","v":{"$error":"#N/A"}},{"$f":"IF(H8=0,NA(),H8/$L8)","v":{"$error":"#N/A"}},{"$error":"#N/A"},{"$error":"#N/A"},{"$error":"#N/A"}]
[null,{"$f":"\"Nabij kruispunt: \"&VLOOKUP(B3,Coordinaten!$A$2:$L$101,4,0)","v":"Nabij kruispunt: N37/N409/E40"},null,null,null,{"$f":"IF(F8=0,\"-\",F8/$L$8)","v":1},{"$f":"IF(G8=0,\"-\",G8/$L$8)","v":"-"},"-","-","-","-",1,null,null,null,null,{"$f":"_xlfn.XLOOKUP($B$3,Bezetting_1!$A$2:$A$90,Bezetting_1!Q$2:Q$90,,0)","v":0},null,{"$f":"D10","v":"2023-10-10"},{"$f":"E10","v":"19:00 - 02:00u"},{"$f":"IF(F10=0,NA(),F10/$L10)","v":1},{"$f":"IF(G10=0,NA(),G10/$L10)","v":{"$error":"#N/A"}},{"$error":"#N/A"},{"$error":"#N/A"},{"$error":"#N/A"},{"$error":"#N/A"}]
[null,null,null,{"$f":"_xlfn.XLOOKUP($B$3,Bezetting_2!$A$2:$A$90,Bezetting_2!C$2:C$90,,0)","v":"2023-10-10"},{"$f":"_xlfn.XLOOKUP($B$3,Bezetting_2!$A$2:$A$90,Bezetting_2!D$2:D$90,,0)","v":"19:00 - 02:00u"},{"$f":"_xlfn.XLOOKUP($B$3,Bezetting_2!$A$2:$A$90,Bezetting_2!E$2:E$90,,0)","v":34},{"$f":"_xlfn.XLOOKUP($B$3,Bezetting_2!$A$2:$A$90,Bezetting_2!F$2:F$90,,0)","v":0},{"$f":"_xlfn.XLOOKUP($B$3,Bezetting_2!$A$2:$A$90,Bezetting_2!G$2:G$90,,0)","v":0},{"$f":"_xlfn.XLOOKUP($B$3,Bezetting_2!$A$2:$A$90,Bezetting_2!H$2:H$90,,0)","v":0},{"$f":"_xlfn.XLOOKUP($B$3,Bezetting_2!$A$2:$A$90,Bezetting_2!I$2:I$90,,0)","v":0},{"$f":"_xlfn.XLOOKUP($B$3,Bezetting_2!$A$2:$A$90,Bezetting_2!J$2:J$90,,0)","v":0},{"$f":"_xlfn.XLOOKUP($B$3,Bezetting_2!$A$2:$A$90,Bezetting_2!K$2:K$90,,0)","v":34},{"$f":"_xlfn.XLOOKUP($B$3,Bezetting_2!$A$2:$A$90,Bezetting_2!L$2:L$90,,0)","v":0},{"$f":"_xlfn.XLOOKUP($B$3,Bezetting_2!$A$2:$A$90,Bezetting_2!M$2:M$90,,0)","v":1},{"$f":"_xlfn.XLOOKUP($B$3,Bezetting_2!$A$2:$A$90,Bezetting_2!N$2:N$90,,0)","v":2},{"$f":"_xlfn.XLOOKUP($B$3,Bezetting_2!$A$2:$A$90,Bezetting_2!O$2:O$90,,0)","v":0},{"$f":"_xlfn.XLOOKUP($B$3,Bezetting_2!$A$2:$A$90,Bezetting_2!P$2:P$90,,0)","v":0}]
[null,"Meting",null,null,null,{"$f":"IF(F10=0,\"-\",F10/$L$10)","v":1},{"$f":"IF(G10=0,\"-\",G10/$L$10)","v":"-"},"-","-","-","-",1,null,null,null,null,{"$f":"_xlfn.XLOOKUP($B$3,Bezetting_2!$A$2:$A$90,Bezetting_2!Q$2:Q$90,,0)","v":0}]
[null,{"$f":"\"Meetperiode: \"&TEXT(VLOOKUP(B3,Coordinaten!$A:$G,7,0),\"dddd dd mmmm jjjj\")","v":"Meetperiode: di 10 & do 12 oktober 2023"}]
[null,"Methodiek: Parkeerdrukmeting met waarnemers"]
[null,"In opdracht van: Vlaamse overheid"]
[null,"Uitgevoerd door: Dufec"]
[null,null,null,"VERDELING NAAR CATEGORIE"]
[null,"Locatie"]
[null,{"$f":"IF(B4=\"\",\"\",HYPERLINK(\"http://www.googlemaps.com/?q=\"&B4,\"Lat/Long: \"&B4))","v":"Lat/Long: 51.0749724302438, 3.44756033702165"}]
[]
[null,null,null,null,null,null,null,null,null,null,null,null,null,null,null,"Legenda"]
[null,null,null,null,null,null,null,null,null,null,null,null,null,null,null,null,"Personenwagen"]
[null,null,null,null,null,null,null,null,null,null,null,null,null,null,null,null,"Vracht"]
[null,null,null,null,null,null,null,null,null,null,null,null,null,null,null,null,"Motor"]
[null,null,null,null,null,null,null,null,null,null,null,null,null,null,null,null,"Obstakel / overig"]
[null,null,null,null,null,null,null,null,null,null,null,null,null,null,null,null,"Fout personenwagen"]
[null,null,null,null,null,null,null,null,null,null,null,null,null,null,null,null,"Fout Vracht"]
[]
[]
[]
[]
[]
[]
[]
[]
[]
[]
[]
[]
[null,"Toelichting"]
[null,"Pers = personenwagens op daarvoor bestemde"]
[null,"          openbare plaatsen"]
[null,"Vracht = vrachtwagens op daarvoor bestemde"]
[null,"          parkeerplaatsen (middel- en zwaar vrachtverkeer)"]
[null,"Motor = geparkeerde motoren op openbare plaatsen"]
[null,"Obstakel / overig = obstakels of overige voertuigen"]
[null,"          geparkeerd op openbare plaatsen"]
[null,"Fout pers = personenwagens die fout geparkeerd staan"]
[null,"Fout vracht = vrachtwagens die fout geparkeerd staan"]
[null,"E-wagen = geparkeerde elektrisch voertuig bij een"]
[null,"          elektrisch oplaadpunt"]
[null,"Invalide = personenwagens en motoren op voor"]
[null,"          invalide personen bestemde parkeerplaats"]
[null,"Gestalde fietsen = alle gestalde fietsen op de"]
[null,"          daarvoor bestemde parkeerplaatsen"]

{"sheet":"96.De Pinte","index":85,"n_rows":54,"n_cols":26,"rows_kept":54,"cut":false,"hidden":false,"merged":[[4,3,5,12],[4,16,5,16],[15,3,16,12]]}
[]
[null,"PARKEERONDERZOEK",null,"CARPOOLPARKINGS EN P+R PARKINGS"]
[null,96,null,{"$f":"B8 & \" - \"& TEXT(VLOOKUP(B3,Coordinaten!$A$2:$G$101,7,0),\"dddd d mmmm jjjj\")","v":"Carpool parking De Pinte, De Pinte - di 10 & do 12 oktober 2023"}]
[null,{"$f":"VLOOKUP(B3,Coordinaten!$A$2:$G$101,6,0)","v":"50.9860214680881, 3.67492574904555"}]
[null,null,null,"BEZETTING  ",null,null,null,null,null,null,null,null,null,null,null,null,"OPMERKINGEN"]
[]
[null,"Onderzoeksgebied",null,"Datum","Geregistreerd tussen","Pers","Vracht","Motor","Obstakel / overig","Fout   pers","Fout Vracht","Totaal","E-wagen\nplaats","Invalidenplaats","Gestalde fietsen",null,null,null,null,null,{"$f":"F7","v":"Pers"},"Vracht","Motor","Obstakel / overig","Fout   pers","Fout Vracht"]
[null,{"$f":"VLOOKUP(B3,Coordinaten!$A$2:$G$101,3,0)&\", \"&VLOOKUP(B3,Coordinaten!$A$2:$G$101,5,0)","v":"Carpool parking De Pinte, De Pinte"},null,{"$f":"_xlfn.XLOOKUP($B$3,Bezetting_1!$A$2:$A$90,Bezetting_1!C$2:C$90,,0)","v":"2023-10-12"},{"$f":"_xlfn.XLOOKUP($B$3,Bezetting_1!$A$2:$A$90,Bezetting_1!D$2:D$90,,0)","v":"09:00 - 16:00u"},{"$f":"_xlfn.XLOOKUP($B$3,Bezetting_1!$A$2:$A$90,Bezetting_1!E$2:E$90,,0)","v":65},{"$f":"_xlfn.XLOOKUP($B$3,Bezetting_1!$A$2:$A$90,Bezetting_1!F$2:F$90,,0)","v":0},{"$f":"_xlfn.XLOOKUP($B$3,Bezetting_1!$A$2:$A$90,Bezetting_1!G$2:G$90,,0)","v":0},{"$f":"_xlfn.XLOOKUP($B$3,Bezetting_1!$A$2:$A$90,Bezetting_1!H$2:H$90,,0)","v":0},{"$f":"_xlfn.XLOOKUP($B$3,Bezetting_1!$A$2:$A$90,Bezetting_1!I$2:I$90,,0)","v":4},{"$f":"_xlfn.XLOOKUP($B$3,Bezetting_1!$A$2:$A$90,Bezetting_1!J$2:J$90,,0)","v":0},{"$f":"_xlfn.XLOOKUP($B$3,Bezetting_1!$A$2:$A$90,Bezetting_1!K$2:K$90,,0)","v":69},{"$f":"_xlfn.XLOOKUP($B$3,Bezetting_1!$A$2:$A$90,Bezetting_1!L$2:L$90,,0)","v":0},{"$f":"_xlfn.XLOOKUP($B$3,Bezetting_1!$A$2:$A$90,Bezetting_1!M$2:M$90,,0)","v":0},{"$f":"_xlfn.XLOOKUP($B$3,Bezetting_1!$A$2:$A$90,Bezetting_1!N$2:N$90,,0)","v":0},null,{"$f":"_xlfn.XLOOKUP($B$3,Bezetting_1!$A$2:$A$90,Bezetting_1!P$2:P$90,,0)","v":"Fout pers: geparkeerd op het gras"},null,{"$f":"D8","v":"2023-10-12"},{"$f":"E8","v":"09:00 - 16:00u"},{"$f":"IF(F8=0,NA(),F8/$L8)","v":0.94202898550724634},{"$f":"IF(G8=0,NA(),G8/$L8)","v":{"$error":"#N/A"}},{"$f":"IF(H8=0,NA(),H8/$L8)","v":{"$error":"#N/A"}},{"$error":"#N/A"},5.7971014492753624E-2,{"$error":"#N/A"}]
[null,{"$f":"\"Nabij kruispunt: \"&VLOOKUP(B3,Coordinaten!$A$2:$L$101,4,0)","v":"Nabij kruispunt: E17/N60"},null,null,null,{"$f":"IF(F8=0,\"-\",F8/$L$8)","v":0.94202898550724634},{"$f":"IF(G8=0,\"-\",G8/$L$8)","v":"-"},"-","-",5.7971014492753624E-2,"-",1,null,null,null,null,{"$f":"_xlfn.XLOOKUP($B$3,Bezetting_1!$A$2:$A$90,Bezetting_1!Q$2:Q$90,,0)","v":0},null,{"$f":"D10","v":"2023-10-12"},{"$f":"E10","v":"19:00 - 02:00u"},{"$f":"IF(F10=0,NA(),F10/$L10)","v":0.84615384615384615},{"$f":"IF(G10=0,NA(),G10/$L10)","v":{"$error":"#N/A"}},{"$error":"#N/A"},{"$error":"#N/A"},0.15384615384615385,{"$error":"#N/A"}]
[null,null,null,{"$f":"_xlfn.XLOOKUP($B$3,Bezetting_2!$A$2:$A$90,Bezetting_2!C$2:C$90,,0)","v":"2023-10-12"},{"$f":"_xlfn.XLOOKUP($B$3,Bezetting_2!$A$2:$A$90,Bezetting_2!D$2:D$90,,0)","v":"19:00 - 02:00u"},{"$f":"_xlfn.XLOOKUP($B$3,Bezetting_2!$A$2:$A$90,Bezetting_2!E$2:E$90,,0)","v":44},{"$f":"_xlfn.XLOOKUP($B$3,Bezetting_2!$A$2:$A$90,Bezetting_2!F$2:F$90,,0)","v":0},{"$f":"_xlfn.XLOOKUP($B$3,Bezetting_2!$A$2:$A$90,Bezetting_2!G$2:G$90,,0)","v":0},{"$f":"_xlfn.XLOOKUP($B$3,Bezetting_2!$A$2:$A$90,Bezetting_2!H$2:H$90,,0)","v":0},{"$f":"_xlfn.XLOOKUP($B$3,Bezetting_2!$A$2:$A$90,Bezetting_2!I$2:I$90,,0)","v":8},{"$f":"_xlfn.XLOOKUP($B$3,Bezetting_2!$A$2:$A$90,Bezetting_2!J$2:J$90,,0)","v":0},{"$f":"_xlfn.XLOOKUP($B$3,Bezetting_2!$A$2:$A$90,Bezetting_2!K$2:K$90,,0)","v":52},{"$f":"_xlfn.XLOOKUP($B$3,Bezetting_2!$A$2:$A$90,Bezetting_2!L$2:L$90,,0)","v":0},{"$f":"_xlfn.XLOOKUP($B$3,Bezetting_2!$A$2:$A$90,Bezetting_2!M$2:M$90,,0)","v":0},{"$f":"_xlfn.XLOOKUP($B$3,Bezetting_2!$A$2:$A$90,Bezetting_2!N$2:N$90,,0)","v":0},{"$f":"_xlfn.XLOOKUP($B$3,Bezetting_2!$A$2:$A$90,Bezetting_2!O$2:O$90,,0)","v":0},{"$f":"_xlfn.XLOOKUP($B$3,Bezetting_2!$A$2:$A$90,Bezetting_2!P$2:P$90,,0)","v":"Fout pers: geparkeerd op het gras"}]
[null,"Meting",null,null,null,{"$f":"IF(F10=0,\"-\",F10/$L$10)","v":0.84615384615384615},{"$f":"IF(G10=0,\"-\",G10/$L$10)","v":"-"},"-","-",0.15384615384615385,"-",1,null,null,null,null,{"$f":"_xlfn.XLOOKUP($B$3,Bezetting_2!$A$2:$A$90,Bezetting_2!Q$2:Q$90,,0)","v":0}]
[null,{"$f":"\"Meetperiode: \"&TEXT(VLOOKUP(B3,Coordinaten!$A:$G,7,0),\"dddd dd mmmm jjjj\")","v":"Meetperiode: di 10 & do 12 oktober 2023"}]
[null,"Methodiek: Parkeerdrukmeting met waarnemers"]
[null,"In opdracht van: Vlaamse overheid"]
[null,"Uitgevoerd door: Dufec"]
[null,null,null,"VERDELING NAAR CATEGORIE"]
[null,"Locatie"]
[null,{"$f":"IF(B4=\"\",\"\",HYPERLINK(\"http://www.googlemaps.com/?q=\"&B4,\"Lat/Long: \"&B4))","v":"Lat/Long: 50.9860214680881, 3.67492574904555"}]
[]
[null,null,null,null,null,null,null,null,null,null,null,null,null,null,null,"Legenda"]
[null,null,null,null,null,null,null,null,null,null,null,null,null,null,null,null,"Personenwagen"]
[null,null,null,null,null,null,null,null,null,null,null,null,null,null,null,null,"Vracht"]
[null,null,null,null,null,null,null,null,null,null,null,null,null,null,null,null,"Motor"]
[null,null,null,null,null,null,null,null,null,null,null,null,null,null,null,null,"Obstakel / overig"]
[null,null,null,null,null,null,null,null,null,null,null,null,null,null,null,null,"Fout personenwagen"]
[null,null,null,null,null,null,null,null,null,null,null,null,null,null,null,null,"Fout Vracht"]
[]
[]
[]
[]
[]
[]
[]
[]
[]
[]
[]
[]
[null,"Toelichting"]
[null,"Pers = personenwagens op daarvoor bestemde"]
[null,"          openbare plaatsen"]
[null,"Vracht = vrachtwagens op daarvoor bestemde"]
[null,"          parkeerplaatsen (middel- en zwaar vrachtverkeer)"]
[null,"Motor = geparkeerde motoren op openbare plaatsen"]
[null,"Obstakel / overig = obstakels of overige voertuigen"]
[null,"          geparkeerd op openbare plaatsen"]
[null,"Fout pers = personenwagens die fout geparkeerd staan"]
[null,"Fout vracht = vrachtwagens die fout geparkeerd staan"]
[null,"E-wagen = geparkeerde elektrisch voertuig bij een"]
[null,"          elektrisch oplaadpunt"]
[null,"Invalide = personenwagens en motoren op voor"]
[null,"          invalide personen bestemde parkeerplaats"]
[null,"Gestalde fietsen = alle gestalde fietsen op de"]
[null,"          daarvoor bestemde parkeerplaatsen"]

{"sheet":"97.Destelbergen","index":86,"n_rows":54,"n_cols":26,"rows_kept":54,"cut":false,"hidden":false,"merged":[[4,3,5,12],[4,16,5,16],[15,3,16,12]]}
[]
[null,"PARKEERONDERZOEK",null,"CARPOOLPARKINGS EN P+R PARKINGS"]
[null,97,null,{"$f":"B8 & \" - \"& TEXT(VLOOKUP(B3,Coordinaten!$A$2:$G$101,7,0),\"dddd d mmmm jjjj\")","v":"Carpool parking Destelbergen, Destelbergen - di 10 & do 12 oktober 2023"}]
[null,{"$f":"VLOOKUP(B3,Coordinaten!$A$2:$G$101,6,0)","v":"51.0582508416525, 3.81284992030355"}]
[null,null,null,"BEZETTING  ",null,null,null,null,null,null,null,null,null,null,null,null,"OPMERKINGEN"]
[]
[null,"Onderzoeksgebied",null,"Datum","Geregistreerd tussen","Pers","Vracht","Motor","Obstakel / overig","Fout   pers","Fout Vracht","Totaal","E-wagen\nplaats","Invalidenplaats","Gestalde fietsen",null,null,null,null,null,{"$f":"F7","v":"Pers"},"Vracht","Motor","Obstakel / overig","Fout   pers","Fout Vracht"]
[null,{"$f":"VLOOKUP(B3,Coordinaten!$A$2:$G$101,3,0)&\", \"&VLOOKUP(B3,Coordinaten!$A$2:$G$101,5,0)","v":"Carpool parking Destelbergen, Destelbergen"},null,{"$f":"_xlfn.XLOOKUP($B$3,Bezetting_1!$A$2:$A$90,Bezetting_1!C$2:C$90,,0)","v":"2023-10-10"},{"$f":"_xlfn.XLOOKUP($B$3,Bezetting_1!$A$2:$A$90,Bezetting_1!D$2:D$90,,0)","v":"09:00 - 16:00u"},{"$f":"_xlfn.XLOOKUP($B$3,Bezetting_1!$A$2:$A$90,Bezetting_1!E$2:E$90,,0)","v":65},{"$f":"_xlfn.XLOOKUP($B$3,Bezetting_1!$A$2:$A$90,Bezetting_1!F$2:F$90,,0)","v":1},{"$f":"_xlfn.XLOOKUP($B$3,Bezetting_1!$A$2:$A$90,Bezetting_1!G$2:G$90,,0)","v":0},{"$f":"_xlfn.XLOOKUP($B$3,Bezetting_1!$A$2:$A$90,Bezetting_1!H$2:H$90,,0)","v":1},{"$f":"_xlfn.XLOOKUP($B$3,Bezetting_1!$A$2:$A$90,Bezetting_1!I$2:I$90,,0)","v":3},{"$f":"_xlfn.XLOOKUP($B$3,Bezetting_1!$A$2:$A$90,Bezetting_1!J$2:J$90,,0)","v":2},{"$f":"_xlfn.XLOOKUP($B$3,Bezetting_1!$A$2:$A$90,Bezetting_1!K$2:K$90,,0)","v":72},{"$f":"_xlfn.XLOOKUP($B$3,Bezetting_1!$A$2:$A$90,Bezetting_1!L$2:L$90,,0)","v":0},{"$f":"_xlfn.XLOOKUP($B$3,Bezetting_1!$A$2:$A$90,Bezetting_1!M$2:M$90,,0)","v":0},{"$f":"_xlfn.XLOOKUP($B$3,Bezetting_1!$A$2:$A$90,Bezetting_1!N$2:N$90,,0)","v":3},null,{"$f":"_xlfn.XLOOKUP($B$3,Bezetting_1!$A$2:$A$90,Bezetting_1!P$2:P$90,,0)","v":"Fout pers: in parkeerplaats voor vracht"},null,{"$f":"D8","v":"2023-10-10"},{"$f":"E8","v":"09:00 - 16:00u"},{"$f":"IF(F8=0,NA(),F8/$L8)","v":0.90277777777777779},{"$f":"IF(G8=0,NA(),G8/$L8)","v":1.3888888888888888E-2},{"$f":"IF(H8=0,NA(),H8/$L8)","v":{"$error":"#N/A"}},1.3888888888888888E-2,4.1666666666666664E-2,2.7777777777777776E-2]
[null,{"$f":"\"Nabij kruispunt: \"&VLOOKUP(B3,Coordinaten!$A$2:$L$101,4,0)","v":"Nabij kruispunt: R4/N445"},null,null,null,{"$f":"IF(F8=0,\"-\",F8/$L$8)","v":0.90277777777777779},{"$f":"IF(G8=0,\"-\",G8/$L$8)","v":1.3888888888888888E-2},"-",1.3888888888888888E-2,4.1666666666666664E-2,2.7777777777777776E-2,1,null,null,null,null,{"$f":"_xlfn.XLOOKUP($B$3,Bezetting_1!$A$2:$A$90,Bezetting_1!Q$2:Q$90,,0)","v":"Overig: 1x trailer"},null,{"$f":"D10","v":"2023-10-10"},{"$f":"E10","v":"19:00 - 02:00u"},{"$f":"IF(F10=0,NA(),F10/$L10)","v":0.63829787234042556},{"$f":"IF(G10=0,NA(),G10/$L10)","v":{"$error":"#N/A"}},{"$error":"#N/A"},0.25531914893617019,{"$error":"#N/A"},0.10638297872340426]
[null,null,null,{"$f":"_xlfn.XLOOKUP($B$3,Bezetting_2!$A$2:$A$90,Bezetting_2!C$2:C$90,,0)","v":"2023-10-10"},{"$f":"_xlfn.XLOOKUP($B$3,Bezetting_2!$A$2:$A$90,Bezetting_2!D$2:D$90,,0)","v":"19:00 - 02:00u"},{"$f":"_xlfn.XLOOKUP($B$3,Bezetting_2!$A$2:$A$90,Bezetting_2!E$2:E$90,,0)","v":30},{"$f":"_xlfn.XLOOKUP($B$3,Bezetting_2!$A$2:$A$90,Bezetting_2!F$2:F$90,,0)","v":0},{"$f":"_xlfn.XLOOKUP($B$3,Bezetting_2!$A$2:$A$90,Bezetting_2!G$2:G$90,,0)","v":0},{"$f":"_xlfn.XLOOKUP($B$3,Bezetting_2!$A$2:$A$90,Bezetting_2!H$2:H$90,,0)","v":12},{"$f":"_xlfn.XLOOKUP($B$3,Bezetting_2!$A$2:$A$90,Bezetting_2!I$2:I$90,,0)","v":0},{"$f":"_xlfn.XLOOKUP($B$3,Bezetting_2!$A$2:$A$90,Bezetting_2!J$2:J$90,,0)","v":5},{"$f":"_xlfn.XLOOKUP($B$3,Bezetting_2!$A$2:$A$90,Bezetting_2!K$2:K$90,,0)","v":47},{"$f":"_xlfn.XLOOKUP($B$3,Bezetting_2!$A$2:$A$90,Bezetting_2!L$2:L$90,,0)","v":1},{"$f":"_xlfn.XLOOKUP($B$3,Bezetting_2!$A$2:$A$90,Bezetting_2!M$2:M$90,,0)","v":0},{"$f":"_xlfn.XLOOKUP($B$3,Bezetting_2!$A$2:$A$90,Bezetting_2!N$2:N$90,,0)","v":1},{"$f":"_xlfn.XLOOKUP($B$3,Bezetting_2!$A$2:$A$90,Bezetting_2!O$2:O$90,,0)","v":0},{"$f":"_xlfn.XLOOKUP($B$3,Bezetting_2!$A$2:$A$90,Bezetting_2!P$2:P$90,,0)","v":"Fout vracht: 5 vrachtwagens op 40 plaatsen"}]
[null,"Meting",null,null,null,{"$f":"IF(F10=0,\"-\",F10/$L$10)","v":0.63829787234042556},{"$f":"IF(G10=0,\"-\",G10/$L$10)","v":"-"},"-",0.25531914893617019,"-",0.10638297872340426,1,null,null,null,null,{"$f":"_xlfn.XLOOKUP($B$3,Bezetting_2!$A$2:$A$90,Bezetting_2!Q$2:Q$90,,0)","v":"Overig: 4x trailer op 12 plaatsen"}]
[null,{"$f":"\"Meetperiode: \"&TEXT(VLOOKUP(B3,Coordinaten!$A:$G,7,0),\"dddd dd mmmm jjjj\")","v":"Meetperiode: di 10 & do 12 oktober 2023"}]
[null,"Methodiek: Parkeerdrukmeting met waarnemers"]
[null,"In opdracht van: Vlaamse overheid"]
[null,"Uitgevoerd door: Dufec"]
[null,null,null,"VERDELING NAAR CATEGORIE"]
[null,"Locatie"]
[null,{"$f":"IF(B4=\"\",\"\",HYPERLINK(\"http://www.googlemaps.com/?q=\"&B4,\"Lat/Long: \"&B4))","v":"Lat/Long: 51.0582508416525, 3.81284992030355"}]
[]
[null,null,null,null,null,null,null,null,null,null,null,null,null,null,null,"Legenda"]
[null,null,null,null,null,null,null,null,null,null,null,null,null,null,null,null,"Personenwagen"]
[null,null,null,null,null,null,null,null,null,null,null,null,null,null,null,null,"Vracht"]
[null,null,null,null,null,null,null,null,null,null,null,null,null,null,null,null,"Motor"]
[null,null,null,null,null,null,null,null,null,null,null,null,null,null,null,null,"Obstakel / overig"]
[null,null,null,null,null,null,null,null,null,null,null,null,null,null,null,null,"Fout personenwagen"]
[null,null,null,null,null,null,null,null,null,null,null,null,null,null,null,null,"Fout Vracht"]
[]
[]
[]
[]
[]
[]
[]
[]
[]
[]
[]
[]
[null,"Toelichting"]
[null,"Pers = personenwagens op daarvoor bestemde"]
[null,"          openbare plaatsen"]
[null,"Vracht = vrachtwagens op daarvoor bestemde"]
[null,"          parkeerplaatsen (middel- en zwaar vrachtverkeer)"]
[null,"Motor = geparkeerde motoren op openbare plaatsen"]
[null,"Obstakel / overig = obstakels of overige voertuigen"]
[null,"          geparkeerd op openbare plaatsen"]
[null,"Fout pers = personenwagens die fout geparkeerd staan"]
[null,"Fout vracht = vrachtwagens die fout geparkeerd staan"]
[null,"E-wagen = geparkeerde elektrisch voertuig bij een"]
[null,"          elektrisch oplaadpunt"]
[null,"Invalide = personenwagens en motoren op voor"]
[null,"          invalide personen bestemde parkeerplaats"]
[null,"Gestalde fietsen = alle gestalde fietsen op de"]
[null,"          daarvoor bestemde parkeerplaatsen"]

{"sheet":"99.Massenhoven","index":87,"n_rows":54,"n_cols":26,"rows_kept":54,"cut":false,"hidden":false,"merged":[[4,3,5,12],[4,16,5,16],[15,3,16,12]]}
[]
[null,"PARKEERONDERZOEK",null,"CARPOOLPARKINGS EN P+R PARKINGS"]
[null,99,null,{"$f":"B8 & \" - \"& TEXT(VLOOKUP(B3,Coordinaten!$A$2:$G$101,7,0),\"dddd d mmmm jjjj\")","v":"P+R parking Massenhoven, Massenhoven - di 10 & do 12 oktober 2023"}]
[null,{"$f":"VLOOKUP(B3,Coordinaten!$A$2:$G$101,6,0)","v":"51.194333453788, 4.64222375753947"}]
[null,null,null,"BEZETTING  ",null,null,null,null,null,null,null,null,null,null,null,null,"OPMERKINGEN"]
[]
[null,"Onderzoeksgebied",null,"Datum","Geregistreerd tussen","Pers","Vracht","Motor","Obstakel / overig","Fout   pers","Fout Vracht","Totaal","E-wagen\nplaats","Invalidenplaats","Gestalde fietsen",null,null,null,null,null,{"$f":"F7","v":"Pers"},"Vracht","Motor","Obstakel / overig","Fout   pers","Fout Vracht"]
[null,{"$f":"VLOOKUP(B3,Coordinaten!$A$2:$G$101,3,0)&\", \"&VLOOKUP(B3,Coordinaten!$A$2:$G$101,5,0)","v":"P+R parking Massenhoven, Massenhoven"},null,{"$f":"_xlfn.XLOOKUP($B$3,Bezetting_1!$A$2:$A$90,Bezetting_1!C$2:C$90,,0)","v":"2023-10-12"},{"$f":"_xlfn.XLOOKUP($B$3,Bezetting_1!$A$2:$A$90,Bezetting_1!D$2:D$90,,0)","v":"09:00 - 16:00u"},{"$f":"_xlfn.XLOOKUP($B$3,Bezetting_1!$A$2:$A$90,Bezetting_1!E$2:E$90,,0)","v":44},{"$f":"_xlfn.XLOOKUP($B$3,Bezetting_1!$A$2:$A$90,Bezetting_1!F$2:F$90,,0)","v":0},{"$f":"_xlfn.XLOOKUP($B$3,Bezetting_1!$A$2:$A$90,Bezetting_1!G$2:G$90,,0)","v":0},{"$f":"_xlfn.XLOOKUP($B$3,Bezetting_1!$A$2:$A$90,Bezetting_1!H$2:H$90,,0)","v":1},{"$f":"_xlfn.XLOOKUP($B$3,Bezetting_1!$A$2:$A$90,Bezetting_1!I$2:I$90,,0)","v":0},{"$f":"_xlfn.XLOOKUP($B$3,Bezetting_1!$A$2:$A$90,Bezetting_1!J$2:J$90,,0)","v":0},{"$f":"_xlfn.XLOOKUP($B$3,Bezetting_1!$A$2:$A$90,Bezetting_1!K$2:K$90,,0)","v":45},{"$f":"_xlfn.XLOOKUP($B$3,Bezetting_1!$A$2:$A$90,Bezetting_1!L$2:L$90,,0)","v":0},{"$f":"_xlfn.XLOOKUP($B$3,Bezetting_1!$A$2:$A$90,Bezetting_1!M$2:M$90,,0)","v":0},{"$f":"_xlfn.XLOOKUP($B$3,Bezetting_1!$A$2:$A$90,Bezetting_1!N$2:N$90,,0)","v":16},null,{"$f":"_xlfn.XLOOKUP($B$3,Bezetting_1!$A$2:$A$90,Bezetting_1!P$2:P$90,,0)","v":"Tijdelijke fietstenstalling staat op 5 parkeerplaatsen"},null,{"$f":"D8","v":"2023-10-12"},{"$f":"E8","v":"09:00 - 16:00u"},{"$f":"IF(F8=0,NA(),F8/$L8)","v":0.97777777777777775},{"$f":"IF(G8=0,NA(),G8/$L8)","v":{"$error":"#N/A"}},{"$f":"IF(H8=0,NA(),H8/$L8)","v":{"$error":"#N/A"}},2.2222222222222223E-2,{"$error":"#N/A"},{"$error":"#N/A"}]
[null,{"$f":"\"Nabij kruispunt: \"&VLOOKUP(B3,Coordinaten!$A$2:$L$101,4,0)","v":"Nabij kruispunt: E313/N14"},null,null,null,{"$f":"IF(F8=0,\"-\",F8/$L$8)","v":0.97777777777777775},{"$f":"IF(G8=0,\"-\",G8/$L$8)","v":"-"},"-",2.2222222222222223E-2,"-","-",1,null,null,null,null,{"$f":"_xlfn.XLOOKUP($B$3,Bezetting_1!$A$2:$A$90,Bezetting_1!Q$2:Q$90,,0)","v":"Overig: aanhanger"},null,{"$f":"D10","v":"2023-10-10"},{"$f":"E10","v":"19:00 - 02:00u"},{"$f":"IF(F10=0,NA(),F10/$L10)","v":0.68181818181818177},{"$f":"IF(G10=0,NA(),G10/$L10)","v":{"$error":"#N/A"}},4.5454545454545456E-2,0.22727272727272727,{"$error":"#N/A"},4.5454545454545456E-2]
[null,null,null,{"$f":"_xlfn.XLOOKUP($B$3,Bezetting_2!$A$2:$A$90,Bezetting_2!C$2:C$90,,0)","v":"2023-10-10"},{"$f":"_xlfn.XLOOKUP($B$3,Bezetting_2!$A$2:$A$90,Bezetting_2!D$2:D$90,,0)","v":"19:00 - 02:00u"},{"$f":"_xlfn.XLOOKUP($B$3,Bezetting_2!$A$2:$A$90,Bezetting_2!E$2:E$90,,0)","v":15},{"$f":"_xlfn.XLOOKUP($B$3,Bezetting_2!$A$2:$A$90,Bezetting_2!F$2:F$90,,0)","v":0},{"$f":"_xlfn.XLOOKUP($B$3,Bezetting_2!$A$2:$A$90,Bezetting_2!G$2:G$90,,0)","v":1},{"$f":"_xlfn.XLOOKUP($B$3,Bezetting_2!$A$2:$A$90,Bezetting_2!H$2:H$90,,0)","v":5},{"$f":"_xlfn.XLOOKUP($B$3,Bezetting_2!$A$2:$A$90,Bezetting_2!I$2:I$90,,0)","v":0},{"$f":"_xlfn.XLOOKUP($B$3,Bezetting_2!$A$2:$A$90,Bezetting_2!J$2:J$90,,0)","v":1},{"$f":"_xlfn.XLOOKUP($B$3,Bezetting_2!$A$2:$A$90,Bezetting_2!K$2:K$90,,0)","v":22},{"$f":"_xlfn.XLOOKUP($B$3,Bezetting_2!$A$2:$A$90,Bezetting_2!L$2:L$90,,0)","v":1},{"$f":"_xlfn.XLOOKUP($B$3,Bezetting_2!$A$2:$A$90,Bezetting_2!M$2:M$90,,0)","v":0},{"$f":"_xlfn.XLOOKUP($B$3,Bezetting_2!$A$2:$A$90,Bezetting_2!N$2:N$90,,0)","v":8},{"$f":"_xlfn.XLOOKUP($B$3,Bezetting_2!$A$2:$A$90,Bezetting_2!O$2:O$90,,0)","v":0},{"$f":"_xlfn.XLOOKUP($B$3,Bezetting_2!$A$2:$A$90,Bezetting_2!P$2:P$90,,0)","v":"Fout vracht: op 6 plaatsen"}]
[null,"Meting",null,null,null,{"$f":"IF(F10=0,\"-\",F10/$L$10)","v":0.68181818181818177},{"$f":"IF(G10=0,\"-\",G10/$L$10)","v":"-"},4.5454545454545456E-2,0.22727272727272727,"-",4.5454545454545456E-2,1,null,null,null,null,{"$f":"_xlfn.XLOOKUP($B$3,Bezetting_2!$A$2:$A$90,Bezetting_2!Q$2:Q$90,,0)","v":"Overig: 2x container, 3x constructiemateriaal"}]
[null,{"$f":"\"Meetperiode: \"&TEXT(VLOOKUP(B3,Coordinaten!$A:$G,7,0),\"dddd dd mmmm jjjj\")","v":"Meetperiode: di 10 & do 12 oktober 2023"}]
[null,"Methodiek: Parkeerdrukmeting met waarnemers"]
[null,"In opdracht van: Vlaamse overheid"]
[null,"Uitgevoerd door: Dufec"]
[null,null,null,"VERDELING NAAR CATEGORIE"]
[null,"Locatie"]
[null,{"$f":"IF(B4=\"\",\"\",HYPERLINK(\"http://www.googlemaps.com/?q=\"&B4,\"Lat/Long: \"&B4))","v":"Lat/Long: 51.194333453788, 4.64222375753947"}]
[]
[null,null,null,null,null,null,null,null,null,null,null,null,null,null,null,"Legenda"]
[null,null,null,null,null,null,null,null,null,null,null,null,null,null,null,null,"Personenwagen"]
[null,null,null,null,null,null,null,null,null,null,null,null,null,null,null,null,"Vracht"]
[null,null,null,null,null,null,null,null,null,null,null,null,null,null,null,null,"Motor"]
[null,null,null,null,null,null,null,null,null,null,null,null,null,null,null,null,"Obstakel / overig"]
[null,null,null,null,null,null,null,null,null,null,null,null,null,null,null,null,"Fout personenwagen"]
[null,null,null,null,null,null,null,null,null,null,null,null,null,null,null,null,"Fout Vracht"]
[]
[]
[]
[]
[]
[]
[]
[]
[]
[]
[]
[]
[null,"Toelichting"]
[null,"Pers = personenwagens op daarvoor bestemde"]
[null,"          openbare plaatsen"]
[null,"Vracht = vrachtwagens op daarvoor bestemde"]
[null,"          parkeerplaatsen (middel- en zwaar vrachtverkeer)"]
[null,"Motor = geparkeerde motoren op openbare plaatsen"]
[null,"Obstakel / overig = obstakels of overige voertuigen"]
[null,"          geparkeerd op openbare plaatsen"]
[null,"Fout pers = personenwagens die fout geparkeerd staan"]
[null,"Fout vracht = vrachtwagens die fout geparkeerd staan"]
[null,"E-wagen = geparkeerde elektrisch voertuig bij een"]
[null,"          elektrisch oplaadpunt"]
[null,"Invalide = personenwagens en motoren op voor"]
[null,"          invalide personen bestemde parkeerplaats"]
[null,"Gestalde fietsen = alle gestalde fietsen op de"]
[null,"          daarvoor bestemde parkeerplaatsen"]

{"sheet":"100.Tongeren","index":88,"n_rows":54,"n_cols":26,"rows_kept":54,"cut":false,"hidden":false,"merged":[[4,3,5,12],[4,16,5,16],[15,3,16,12]]}
[]
[null,"PARKEERONDERZOEK",null,"CARPOOLPARKINGS EN P+R PARKINGS"]
[null,100,null,{"$f":"B8 & \" - \"& TEXT(VLOOKUP(B3,Coordinaten!$A$2:$G$101,7,0),\"dddd d mmmm jjjj\")","v":"Carpool parking Tongeren, Tongeren - di 10 & do 12 oktober 2023"}]
[null,{"$f":"VLOOKUP(B3,Coordinaten!$A$2:$G$101,6,0)","v":"50.7911487169427, 5.52935513780375"}]
[null,null,null,"BEZETTING  ",null,null,null,null,null,null,null,null,null,null,null,null,"OPMERKINGEN"]
[]
[null,"Onderzoeksgebied",null,"Datum","Geregistreerd tussen","Pers","Vracht","Motor","Obstakel / overig","Fout   pers","Fout Vracht","Totaal","E-wagen\nplaats","Invalidenplaats","Gestalde fietsen",null,null,null,null,null,{"$f":"F7","v":"Pers"},"Vracht","Motor","Obstakel / overig","Fout   pers","Fout Vracht"]
[null,{"$f":"VLOOKUP(B3,Coordinaten!$A$2:$G$101,3,0)&\", \"&VLOOKUP(B3,Coordinaten!$A$2:$G$101,5,0)","v":"Carpool parking Tongeren, Tongeren"},null,{"$f":"_xlfn.XLOOKUP($B$3,Bezetting_1!$A$2:$A$90,Bezetting_1!C$2:C$90,,0)","v":"2023-10-12"},{"$f":"_xlfn.XLOOKUP($B$3,Bezetting_1!$A$2:$A$90,Bezetting_1!D$2:D$90,,0)","v":"09:00 - 16:00u"},{"$f":"_xlfn.XLOOKUP($B$3,Bezetting_1!$A$2:$A$90,Bezetting_1!E$2:E$90,,0)","v":49},{"$f":"_xlfn.XLOOKUP($B$3,Bezetting_1!$A$2:$A$90,Bezetting_1!F$2:F$90,,0)","v":0},{"$f":"_xlfn.XLOOKUP($B$3,Bezetting_1!$A$2:$A$90,Bezetting_1!G$2:G$90,,0)","v":0},{"$f":"_xlfn.XLOOKUP($B$3,Bezetting_1!$A$2:$A$90,Bezetting_1!H$2:H$90,,0)","v":0},{"$f":"_xlfn.XLOOKUP($B$3,Bezetting_1!$A$2:$A$90,Bezetting_1!I$2:I$90,,0)","v":0},{"$f":"_xlfn.XLOOKUP($B$3,Bezetting_1!$A$2:$A$90,Bezetting_1!J$2:J$90,,0)","v":0},{"$f":"_xlfn.XLOOKUP($B$3,Bezetting_1!$A$2:$A$90,Bezetting_1!K$2:K$90,,0)","v":49},{"$f":"_xlfn.XLOOKUP($B$3,Bezetting_1!$A$2:$A$90,Bezetting_1!L$2:L$90,,0)","v":0},{"$f":"_xlfn.XLOOKUP($B$3,Bezetting_1!$A$2:$A$90,Bezetting_1!M$2:M$90,,0)","v":0},{"$f":"_xlfn.XLOOKUP($B$3,Bezetting_1!$A$2:$A$90,Bezetting_1!N$2:N$90,,0)","v":0},null,{"$f":"_xlfn.XLOOKUP($B$3,Bezetting_1!$A$2:$A$90,Bezetting_1!P$2:P$90,,0)","v":0},{"$f":"_xlfn.XLOOKUP($B$3,Bezetting_1!$A$2:$A$90,Bezetting_1!Q$2:Q$90,,0)","v":0},{"$f":"D8","v":"2023-10-12"},{"$f":"E8","v":"09:00 - 16:00u"},{"$f":"IF(F8=0,NA(),F8/$L8)","v":1},{"$f":"IF(G8=0,NA(),G8/$L8)","v":{"$error":"#N/A"}},{"$f":"IF(H8=0,NA(),H8/$L8)","v":{"$error":"#N/A"}},{"$error":"#N/A"},{"$error":"#N/A"},{"$error":"#N/A"}]
[null,{"$f":"\"Nabij kruispunt: \"&VLOOKUP(B3,Coordinaten!$A$2:$L$101,4,0)","v":"Nabij kruispunt: N79 / E313 (rotonde)"},null,null,null,{"$f":"IF(F8=0,\"-\",F8/$L$8)","v":1},{"$f":"IF(G8=0,\"-\",G8/$L$8)","v":"-"},"-","-","-","-",1,null,null,null,null,{"$f":"_xlfn.XLOOKUP($B$3,Bezetting_1!$A$2:$A$90,Bezetting_1!Q$2:Q$90,,0)","v":0},null,{"$f":"D10","v":"2023-10-10"},{"$f":"E10","v":"19:00 - 02:00u"},{"$f":"IF(F10=0,NA(),F10/$L10)","v":1},{"$f":"IF(G10=0,NA(),G10/$L10)","v":{"$error":"#N/A"}},{"$error":"#N/A"},{"$error":"#N/A"},{"$error":"#N/A"},{"$error":"#N/A"}]
[null,null,null,{"$f":"_xlfn.XLOOKUP($B$3,Bezetting_2!$A$2:$A$90,Bezetting_2!C$2:C$90,,0)","v":"2023-10-10"},{"$f":"_xlfn.XLOOKUP($B$3,Bezetting_2!$A$2:$A$90,Bezetting_2!D$2:D$90,,0)","v":"19:00 - 02:00u"},{"$f":"_xlfn.XLOOKUP($B$3,Bezetting_2!$A$2:$A$90,Bezetting_2!E$2:E$90,,0)","v":8},{"$f":"_xlfn.XLOOKUP($B$3,Bezetting_2!$A$2:$A$90,Bezetting_2!F$2:F$90,,0)","v":0},{"$f":"_xlfn.XLOOKUP($B$3,Bezetting_2!$A$2:$A$90,Bezetting_2!G$2:G$90,,0)","v":0},{"$f":"_xlfn.XLOOKUP($B$3,Bezetting_2!$A$2:$A$90,Bezetting_2!H$2:H$90,,0)","v":0},{"$f":"_xlfn.XLOOKUP($B$3,Bezetting_2!$A$2:$A$90,Bezetting_2!I$2:I$90,,0)","v":0},{"$f":"_xlfn.XLOOKUP($B$3,Bezetting_2!$A$2:$A$90,Bezetting_2!J$2:J$90,,0)","v":0},{"$f":"_xlfn.XLOOKUP($B$3,Bezetting_2!$A$2:$A$90,Bezetting_2!K$2:K$90,,0)","v":8},{"$f":"_xlfn.XLOOKUP($B$3,Bezetting_2!$A$2:$A$90,Bezetting_2!L$2:L$90,,0)","v":0},{"$f":"_xlfn.XLOOKUP($B$3,Bezetting_2!$A$2:$A$90,Bezetting_2!M$2:M$90,,0)","v":0},{"$f":"_xlfn.XLOOKUP($B$3,Bezetting_2!$A$2:$A$90,Bezetting_2!N$2:N$90,,0)","v":0},{"$f":"_xlfn.XLOOKUP($B$3,Bezetting_2!$A$2:$A$90,Bezetting_2!O$2:O$90,,0)","v":0},{"$f":"_xlfn.XLOOKUP($B$3,Bezetting_2!$A$2:$A$90,Bezetting_2!P$2:P$90,,0)","v":0}]
[null,"Meting",null,null,null,{"$f":"IF(F10=0,\"-\",F10/$L$10)","v":1},{"$f":"IF(G10=0,\"-\",G10/$L$10)","v":"-"},"-","-","-","-",1,null,null,null,null,{"$f":"_xlfn.XLOOKUP($B$3,Bezetting_2!$A$2:$A$90,Bezetting_2!Q$2:Q$90,,0)","v":0}]
[null,{"$f":"\"Meetperiode: \"&TEXT(VLOOKUP(B3,Coordinaten!$A:$G,7,0),\"dddd dd mmmm jjjj\")","v":"Meetperiode: di 10 & do 12 oktober 2023"}]
[null,"Methodiek: Parkeerdrukmeting met waarnemers"]
[null,"In opdracht van: Vlaamse overheid"]
[null,"Uitgevoerd door: Dufec"]
[null,null,null,"VERDELING NAAR CATEGORIE"]
[null,"Locatie"]
[null,{"$f":"IF(B4=\"\",\"\",HYPERLINK(\"http://www.googlemaps.com/?q=\"&B4,\"Lat/Long: \"&B4))","v":"Lat/Long: 50.7911487169427, 5.52935513780375"}]
[]
[null,null,null,null,null,null,null,null,null,null,null,null,null,null,null,"Legenda"]
[null,null,null,null,null,null,null,null,null,null,null,null,null,null,null,null,"Personenwagen"]
[null,null,null,null,null,null,null,null,null,null,null,null,null,null,null,null,"Vracht"]
[null,null,null,null,null,null,null,null,null,null,null,null,null,null,null,null,"Motor"]
[null,null,null,null,null,null,null,null,null,null,null,null,null,null,null,null,"Obstakel / overig"]
[null,null,null,null,null,null,null,null,null,null,null,null,null,null,null,null,"Fout personenwagen"]
[null,null,null,null,null,null,null,null,null,null,null,null,null,null,null,null,"Fout Vracht"]
[]
[]
[]
[]
[]
[]
[]
[]
[]
[]
[]
[]
[null,"Toelichting"]
[null,"Pers = personenwagens op daarvoor bestemde"]
[null,"          openbare plaatsen"]
[null,"Vracht = vrachtwagens op daarvoor bestemde"]
[null,"          parkeerplaatsen (middel- en zwaar vrachtverkeer)"]
[null,"Motor = geparkeerde motoren op openbare plaatsen"]
[null,"Obstakel / overig = obstakels of overige voertuigen"]
[null,"          geparkeerd op openbare plaatsen"]
[null,"Fout pers = personenwagens die fout geparkeerd staan"]
[null,"Fout vracht = vrachtwagens die fout geparkeerd staan"]
[null,"E-wagen = geparkeerde elektrisch voertuig bij een"]
[null,"          elektrisch oplaadpunt"]
[null,"Invalide = personenwagens en motoren op voor"]
[null,"          invalide personen bestemde parkeerplaats"]
[null,"Gestalde fietsen = alle gestalde fietsen op de"]
[null,"          daarvoor bestemde parkeerplaatsen"]

{"sheet":"Coordinaten","index":89,"n_rows":101,"n_cols":18,"rows_kept":101,"cut":false,"hidden":true,"merged":[]}
["Locatie","Naam1","naam2","Nabij kruispunt","Plaats","Coordinaten","Datum","URL","1e deel","3edeel","2edeel","4edeel",null,null,null,null,null,"ID"]
[1,"Kemzeke-Zuid","Carpool parking Kemzeke-Zuid","N49 / N403","Stekene","51.226907, 4.063425","di 10 & do 12 oktober 2023","https://api.mapbox.com/styles/v1/heinv/cj1c3sqp500di2rqmtxr5l2jn/static/4.063425,51.226907,13,0/400x400?access_token=pk.eyJ1IjoiaGVpbnYiLCJhIjoiNGEzYjEwYjY5MjM3YjQxNTZlZmY5MjE5YTViZWFiNjYifQ.dwA82fqv0CeVGxFMr30KIg","https://api.mapbox.com/styles/v1/heinv/cj1c3sqp500di2rqmtxr5l2jn/static/","51.226907","4.063425",",13,0/400x400?access_token=pk.eyJ1IjoiaGVpbnYiLCJhIjoiNGEzYjEwYjY5MjM3YjQxNTZlZmY5MjE5YTViZWFiNjYifQ.dwA82fqv0CeVGxFMr30KIg",null,null,null,null,null,1]
[2,"Halle-Dassenveld","Carpool parking Halle-Dassenveld","N7 / A8","Halle","50.726346, 4.217220","di 10 & do 12 oktober 2023","https://api.mapbox.com/styles/v1/heinv/cj1c3sqp500di2rqmtxr5l2jn/static/4.217220,50.726346,13,0/400x400?access_token=pk.eyJ1IjoiaGVpbnYiLCJhIjoiNGEzYjEwYjY5MjM3YjQxNTZlZmY5MjE5YTViZWFiNjYifQ.dwA82fqv0CeVGxFMr30KIg","https://api.mapbox.com/styles/v1/heinv/cj1c3sqp500di2rqmtxr5l2jn/static/","50.726346","4.217220",",13,0/400x400?access_token=pk.eyJ1IjoiaGVpbnYiLCJhIjoiNGEzYjEwYjY5MjM3YjQxNTZlZmY5MjE5YTViZWFiNjYifQ.dwA82fqv0CeVGxFMr30KIg",null,null,null,null,null,2]
[3,"Winksele","Carpool parking Winksele","Stuiverstraat / N2","Herent","50.885324, 4.672071","di 10 & do 12 oktober 2023","https://api.mapbox.com/styles/v1/heinv/cj1c3sqp500di2rqmtxr5l2jn/static/4.672071,50.885324,13,0/400x400?access_token=pk.eyJ1IjoiaGVpbnYiLCJhIjoiNGEzYjEwYjY5MjM3YjQxNTZlZmY5MjE5YTViZWFiNjYifQ.dwA82fqv0CeVGxFMr30KIg","https://api.mapbox.com/styles/v1/heinv/cj1c3sqp500di2rqmtxr5l2jn/static/","50.885324","4.672071",",13,0/400x400?access_token=pk.eyJ1IjoiaGVpbnYiLCJhIjoiNGEzYjEwYjY5MjM3YjQxNTZlZmY5MjE5YTViZWFiNjYifQ.dwA82fqv0CeVGxFMr30KIg",null,null,null,null,null,3]
[4,"Herent","Carpool parking Herent","N26 / A2","Leuven","50.893869, 4.689409","di 10 & do 12 oktober 2023","https://api.mapbox.com/styles/v1/heinv/cj1c3sqp500di2rqmtxr5l2jn/static/4.689409,50.893869,13,0/400x400?access_token=pk.eyJ1IjoiaGVpbnYiLCJhIjoiNGEzYjEwYjY5MjM3YjQxNTZlZmY5MjE5YTViZWFiNjYifQ.dwA82fqv0CeVGxFMr30KIg","https://api.mapbox.com/styles/v1/heinv/cj1c3sqp500di2rqmtxr5l2jn/static/","50.893869","4.689409",",13,0/400x400?access_token=pk.eyJ1IjoiaGVpbnYiLCJhIjoiNGEzYjEwYjY5MjM3YjQxNTZlZmY5MjE5YTViZWFiNjYifQ.dwA82fqv0CeVGxFMr30KIg",null,null,null,null,null,4]
[5,"Bekkevoort","Carpool parking Bekkevoort","N2 / A2","Bekkevoort","50.952219, 4.998683","di 10 & do 12 oktober 2023","https://api.mapbox.com/styles/v1/heinv/cj1c3sqp500di2rqmtxr5l2jn/static/4.998683,50.952219,13,0/400x400?access_token=pk.eyJ1IjoiaGVpbnYiLCJhIjoiNGEzYjEwYjY5MjM3YjQxNTZlZmY5MjE5YTViZWFiNjYifQ.dwA82fqv0CeVGxFMr30KIg","https://api.mapbox.com/styles/v1/heinv/cj1c3sqp500di2rqmtxr5l2jn/static/","50.952219","4.998683",",13,0/400x400?access_token=pk.eyJ1IjoiaGVpbnYiLCJhIjoiNGEzYjEwYjY5MjM3YjQxNTZlZmY5MjE5YTViZWFiNjYifQ.dwA82fqv0CeVGxFMr30KIg",null,null,null,null,null,5]
[6,"Overijse","Carpool parking Overijse","Kerkeweg / N253","Overijse","50.755140, 4.526412","di 10 & do 12 oktober 2023","https://api.mapbox.com/styles/v1/heinv/cj1c3sqp500di2rqmtxr5l2jn/static/4.526412,50.755140,13,0/400x400?access_token=pk.eyJ1IjoiaGVpbnYiLCJhIjoiNGEzYjEwYjY5MjM3YjQxNTZlZmY5MjE5YTViZWFiNjYifQ.dwA82fqv0CeVGxFMr30KIg","https://api.mapbox.com/styles/v1/heinv/cj1c3sqp500di2rqmtxr5l2jn/static/","50.755140","4.526412",",13,0/400x400?access_token=pk.eyJ1IjoiaGVpbnYiLCJhIjoiNGEzYjEwYjY5MjM3YjQxNTZlZmY5MjE5YTViZWFiNjYifQ.dwA82fqv0CeVGxFMr30KIg",null,null,null,null,null,6]
[7,"St. Michiels","Carpool parking St. Michiels","N31 / N32","Brugge","51.194190, 3.197624","di 10 & do 12 oktober 2023","https://api.mapbox.com/styles/v1/heinv/cj1c3sqp500di2rqmtxr5l2jn/static/3.197624,51.194190,13,0/400x400?access_token=pk.eyJ1IjoiaGVpbnYiLCJhIjoiNGEzYjEwYjY5MjM3YjQxNTZlZmY5MjE5YTViZWFiNjYifQ.dwA82fqv0CeVGxFMr30KIg","https://api.mapbox.com/styles/v1/heinv/cj1c3sqp500di2rqmtxr5l2jn/static/","51.194190","3.197624",",13,0/400x400?access_token=pk.eyJ1IjoiaGVpbnYiLCJhIjoiNGEzYjEwYjY5MjM3YjQxNTZlZmY5MjE5YTViZWFiNjYifQ.dwA82fqv0CeVGxFMr30KIg",null,null,null,null,null,7]
[8,"Izegem","Carpool parking Izegem","N382c / Schaapbruggestraat","Roeselare","50.940676, 3.160323","di 10 & do 12 oktober 2023","https://api.mapbox.com/styles/v1/heinv/cj1c3sqp500di2rqmtxr5l2jn/static/3.160323,50.940676,13,0/400x400?access_token=pk.eyJ1IjoiaGVpbnYiLCJhIjoiNGEzYjEwYjY5MjM3YjQxNTZlZmY5MjE5YTViZWFiNjYifQ.dwA82fqv0CeVGxFMr30KIg","https://api.mapbox.com/styles/v1/heinv/cj1c3sqp500di2rqmtxr5l2jn/static/","50.940676","3.160323",",13,0/400x400?access_token=pk.eyJ1IjoiaGVpbnYiLCJhIjoiNGEzYjEwYjY5MjM3YjQxNTZlZmY5MjE5YTViZWFiNjYifQ.dwA82fqv0CeVGxFMr30KIg",null,null,null,null,null,8]
[9,"Torhout","Carpool parking Torhout","R34 / Keibergstraat","Torhout","51.077896, 3.118743","di 10 & do 12 oktober 2023","https://api.mapbox.com/styles/v1/heinv/cj1c3sqp500di2rqmtxr5l2jn/static/3.118743,51.077896,13,0/400x400?access_token=pk.eyJ1IjoiaGVpbnYiLCJhIjoiNGEzYjEwYjY5MjM3YjQxNTZlZmY5MjE5YTViZWFiNjYifQ.dwA82fqv0CeVGxFMr30KIg","https://api.mapbox.com/styles/v1/heinv/cj1c3sqp500di2rqmtxr5l2jn/static/","51.077896","3.118743",",13,0/400x400?access_token=pk.eyJ1IjoiaGVpbnYiLCJhIjoiNGEzYjEwYjY5MjM3YjQxNTZlZmY5MjE5YTViZWFiNjYifQ.dwA82fqv0CeVGxFMr30KIg",null,null,null,null,null,9]
[10,"Houthalen","Carpool parking Houthalen","N715 / A2","Houthalen-Helchteren","51.015552, 5.371400","di 10 & do 12 oktober 2023","https://api.mapbox.com/styles/v1/heinv/cj1c3sqp500di2rqmtxr5l2jn/static/5.371400,51.015552,13,0/400x400?access_token=pk.eyJ1IjoiaGVpbnYiLCJhIjoiNGEzYjEwYjY5MjM3YjQxNTZlZmY5MjE5YTViZWFiNjYifQ.dwA82fqv0CeVGxFMr30KIg","https://api.mapbox.com/styles/v1/heinv/cj1c3sqp500di2rqmtxr5l2jn/static/","51.015552","5.371400",",13,0/400x400?access_token=pk.eyJ1IjoiaGVpbnYiLCJhIjoiNGEzYjEwYjY5MjM3YjQxNTZlZmY5MjE5YTViZWFiNjYifQ.dwA82fqv0CeVGxFMr30KIg",null,null,null,null,null,10]
[11,"Diepenbeek","Carpool parking Diepenbeek","N76 / A13","Diepenbeek","50.894087, 5.417912","di 10 & do 12 oktober 2023","https://api.mapbox.com/styles/v1/heinv/cj1c3sqp500di2rqmtxr5l2jn/static/5.417912,50.894087,13,0/400x400?access_token=pk.eyJ1IjoiaGVpbnYiLCJhIjoiNGEzYjEwYjY5MjM3YjQxNTZlZmY5MjE5YTViZWFiNjYifQ.dwA82fqv0CeVGxFMr30KIg","https://api.mapbox.com/styles/v1/heinv/cj1c3sqp500di2rqmtxr5l2jn/static/","50.894087","5.417912",",13,0/400x400?access_token=pk.eyJ1IjoiaGVpbnYiLCJhIjoiNGEzYjEwYjY5MjM3YjQxNTZlZmY5MjE5YTViZWFiNjYifQ.dwA82fqv0CeVGxFMr30KIg",null,null,null,null,null,11]
[12,"Wommelgem-Zuid","P+R parking Wommelgem-Zuid","R11 / A13","Wommelgem","51.210463, 4.493799","di 10 & do 12 oktober 2023","https://api.mapbox.com/styles/v1/heinv/cj1c3sqp500di2rqmtxr5l2jn/static/4.493799,51.210463,13,0/400x400?access_token=pk.eyJ1IjoiaGVpbnYiLCJhIjoiNGEzYjEwYjY5MjM3YjQxNTZlZmY5MjE5YTViZWFiNjYifQ.dwA82fqv0CeVGxFMr30KIg","https://api.mapbox.com/styles/v1/heinv/cj1c3sqp500di2rqmtxr5l2jn/static/","51.210463","4.493799",",13,0/400x400?access_token=pk.eyJ1IjoiaGVpbnYiLCJhIjoiNGEzYjEwYjY5MjM3YjQxNTZlZmY5MjE5YTViZWFiNjYifQ.dwA82fqv0CeVGxFMr30KIg",null,null,null,null,null,12]
[13,"Minitaria","Carpool parking Minitaria","N3 / R27","Tienen","50.799170, 4.970858","di 10 & do 12 oktober 2023","https://api.mapbox.com/styles/v1/heinv/cj1c3sqp500di2rqmtxr5l2jn/static/4.970858,50.799170,13,0/400x400?access_token=pk.eyJ1IjoiaGVpbnYiLCJhIjoiNGEzYjEwYjY5MjM3YjQxNTZlZmY5MjE5YTViZWFiNjYifQ.dwA82fqv0CeVGxFMr30KIg","https://api.mapbox.com/styles/v1/heinv/cj1c3sqp500di2rqmtxr5l2jn/static/","50.799170","4.970858",",13,0/400x400?access_token=pk.eyJ1IjoiaGVpbnYiLCJhIjoiNGEzYjEwYjY5MjM3YjQxNTZlZmY5MjE5YTViZWFiNjYifQ.dwA82fqv0CeVGxFMr30KIg",null,null,null,null,null,13]
[14,"Hakendover","Carpool parking Hakendover","N3 / R27","Tienen","50.798982, 4.973467","di 10 & do 12 oktober 2023","https://api.mapbox.com/styles/v1/heinv/cj1c3sqp500di2rqmtxr5l2jn/static/4.973467,50.798982,13,0/400x400?access_token=pk.eyJ1IjoiaGVpbnYiLCJhIjoiNGEzYjEwYjY5MjM3YjQxNTZlZmY5MjE5YTViZWFiNjYifQ.dwA82fqv0CeVGxFMr30KIg","https://api.mapbox.com/styles/v1/heinv/cj1c3sqp500di2rqmtxr5l2jn/static/","50.798982","4.973467",",13,0/400x400?access_token=pk.eyJ1IjoiaGVpbnYiLCJhIjoiNGEzYjEwYjY5MjM3YjQxNTZlZmY5MjE5YTViZWFiNjYifQ.dwA82fqv0CeVGxFMr30KIg",null,null,null,null,null,14]
[15,"Kontich","Carpool parking Kontich","N171 / A1","Kontich","51.126274, 4.432122","di 10 & do 12 oktober 2023","https://api.mapbox.com/styles/v1/heinv/cj1c3sqp500di2rqmtxr5l2jn/static/4.432122,51.126274,13,0/400x400?access_token=pk.eyJ1IjoiaGVpbnYiLCJhIjoiNGEzYjEwYjY5MjM3YjQxNTZlZmY5MjE5YTViZWFiNjYifQ.dwA82fqv0CeVGxFMr30KIg","https://api.mapbox.com/styles/v1/heinv/cj1c3sqp500di2rqmtxr5l2jn/static/","51.126274","4.432122",",13,0/400x400?access_token=pk.eyJ1IjoiaGVpbnYiLCJhIjoiNGEzYjEwYjY5MjM3YjQxNTZlZmY5MjE5YTViZWFiNjYifQ.dwA82fqv0CeVGxFMr30KIg",null,null,null,null,null,15]
[16,"Breendonk (Puurs)","Carpool parking Breendonk (Puurs)","N16 / N183","Puurs","51.060329, 4.334348","di 10 & do 12 oktober 2023","https://api.mapbox.com/styles/v1/heinv/cj1c3sqp500di2rqmtxr5l2jn/static/4.334348,51.060329,13,0/400x400?access_token=pk.eyJ1IjoiaGVpbnYiLCJhIjoiNGEzYjEwYjY5MjM3YjQxNTZlZmY5MjE5YTViZWFiNjYifQ.dwA82fqv0CeVGxFMr30KIg","https://api.mapbox.com/styles/v1/heinv/cj1c3sqp500di2rqmtxr5l2jn/static/","51.060329","4.334348",",13,0/400x400?access_token=pk.eyJ1IjoiaGVpbnYiLCJhIjoiNGEzYjEwYjY5MjM3YjQxNTZlZmY5MjE5YTViZWFiNjYifQ.dwA82fqv0CeVGxFMr30KIg",null,null,null,null,null,16]
[17,"Hasselt-Zuid","Carpool parking Hasselt-Zuid","N80 / A13","Hasselt","50.915675, 5.322639","di 10 & do 12 oktober 2023","https://api.mapbox.com/styles/v1/heinv/cj1c3sqp500di2rqmtxr5l2jn/static/5.322639,50.915675,13,0/400x400?access_token=pk.eyJ1IjoiaGVpbnYiLCJhIjoiNGEzYjEwYjY5MjM3YjQxNTZlZmY5MjE5YTViZWFiNjYifQ.dwA82fqv0CeVGxFMr30KIg","https://api.mapbox.com/styles/v1/heinv/cj1c3sqp500di2rqmtxr5l2jn/static/","50.915675","5.322639",",13,0/400x400?access_token=pk.eyJ1IjoiaGVpbnYiLCJhIjoiNGEzYjEwYjY5MjM3YjQxNTZlZmY5MjE5YTViZWFiNjYifQ.dwA82fqv0CeVGxFMr30KIg",null,null,null,null,null,17]
[18,"Herentals-West","Carpool parking Herentals-West","N13 / A13","Grobbendonk","51.175093, 4.761781","di 10 & do 12 oktober 2023","https://api.mapbox.com/styles/v1/heinv/cj1c3sqp500di2rqmtxr5l2jn/static/4.761781,51.175093,13,0/400x400?access_token=pk.eyJ1IjoiaGVpbnYiLCJhIjoiNGEzYjEwYjY5MjM3YjQxNTZlZmY5MjE5YTViZWFiNjYifQ.dwA82fqv0CeVGxFMr30KIg","https://api.mapbox.com/styles/v1/heinv/cj1c3sqp500di2rqmtxr5l2jn/static/","51.175093","4.761781",",13,0/400x400?access_token=pk.eyJ1IjoiaGVpbnYiLCJhIjoiNGEzYjEwYjY5MjM3YjQxNTZlZmY5MjE5YTViZWFiNjYifQ.dwA82fqv0CeVGxFMr30KIg",null,null,null,null,null,18]
[19,"Rumst","Carpool parking Rumst","N1c / A1","Rumst","51.085447, 4.444751","di 10 & do 12 oktober 2023","https://api.mapbox.com/styles/v1/heinv/cj1c3sqp500di2rqmtxr5l2jn/static/4.444751,51.085447,13,0/400x400?access_token=pk.eyJ1IjoiaGVpbnYiLCJhIjoiNGEzYjEwYjY5MjM3YjQxNTZlZmY5MjE5YTViZWFiNjYifQ.dwA82fqv0CeVGxFMr30KIg","https://api.mapbox.com/styles/v1/heinv/cj1c3sqp500di2rqmtxr5l2jn/static/","51.085447","4.444751",",13,0/400x400?access_token=pk.eyJ1IjoiaGVpbnYiLCJhIjoiNGEzYjEwYjY5MjM3YjQxNTZlZmY5MjE5YTViZWFiNjYifQ.dwA82fqv0CeVGxFMr30KIg",null,null,null,null,null,19]
[20,"Paal","Carpool parking Paal","N29 / A13","Beringen","51.043187, 5.186305","di 10 & do 12 oktober 2023","https://api.mapbox.com/styles/v1/heinv/cj1c3sqp500di2rqmtxr5l2jn/static/5.186305,51.043187,13,0/400x400?access_token=pk.eyJ1IjoiaGVpbnYiLCJhIjoiNGEzYjEwYjY5MjM3YjQxNTZlZmY5MjE5YTViZWFiNjYifQ.dwA82fqv0CeVGxFMr30KIg","https://api.mapbox.com/styles/v1/heinv/cj1c3sqp500di2rqmtxr5l2jn/static/","51.043187","5.186305",",13,0/400x400?access_token=pk.eyJ1IjoiaGVpbnYiLCJhIjoiNGEzYjEwYjY5MjM3YjQxNTZlZmY5MjE5YTViZWFiNjYifQ.dwA82fqv0CeVGxFMr30KIg",null,null,null,null,null,20]
[21,"Lummen","Carpool parking Lummen","N717 / A2","Lummen","50.997621, 5.197778","di 10 & do 12 oktober 2023","https://api.mapbox.com/styles/v1/heinv/cj1c3sqp500di2rqmtxr5l2jn/static/5.197778,50.997621,13,0/400x400?access_token=pk.eyJ1IjoiaGVpbnYiLCJhIjoiNGEzYjEwYjY5MjM3YjQxNTZlZmY5MjE5YTViZWFiNjYifQ.dwA82fqv0CeVGxFMr30KIg","https://api.mapbox.com/styles/v1/heinv/cj1c3sqp500di2rqmtxr5l2jn/static/","50.997621","5.197778",",13,0/400x400?access_token=pk.eyJ1IjoiaGVpbnYiLCJhIjoiNGEzYjEwYjY5MjM3YjQxNTZlZmY5MjE5YTViZWFiNjYifQ.dwA82fqv0CeVGxFMr30KIg",null,null,null,null,null,21]
[22,"Halen","Carpool parking Halen","N2 / A2","Halen","50.962073, 5.083806","di 10 & do 12 oktober 2023","https://api.mapbox.com/styles/v1/heinv/cj1c3sqp500di2rqmtxr5l2jn/static/5.083806,50.962073,13,0/400x400?access_token=pk.eyJ1IjoiaGVpbnYiLCJhIjoiNGEzYjEwYjY5MjM3YjQxNTZlZmY5MjE5YTViZWFiNjYifQ.dwA82fqv0CeVGxFMr30KIg","https://api.mapbox.com/styles/v1/heinv/cj1c3sqp500di2rqmtxr5l2jn/static/","50.962073","5.083806",",13,0/400x400?access_token=pk.eyJ1IjoiaGVpbnYiLCJhIjoiNGEzYjEwYjY5MjM3YjQxNTZlZmY5MjE5YTViZWFiNjYifQ.dwA82fqv0CeVGxFMr30KIg",null,null,null,null,null,22]
[23,"Maasmechelen","Carpool parking Maasmechelen","N78 / E314","Maasmechelen","50.954058, 5.694835","di 10 & do 12 oktober 2023","https://api.mapbox.com/styles/v1/heinv/cj1c3sqp500di2rqmtxr5l2jn/static/5.694835,50.954058,13,0/400x400?access_token=pk.eyJ1IjoiaGVpbnYiLCJhIjoiNGEzYjEwYjY5MjM3YjQxNTZlZmY5MjE5YTViZWFiNjYifQ.dwA82fqv0CeVGxFMr30KIg","https://api.mapbox.com/styles/v1/heinv/cj1c3sqp500di2rqmtxr5l2jn/static/","50.954058","5.694835",",13,0/400x400?access_token=pk.eyJ1IjoiaGVpbnYiLCJhIjoiNGEzYjEwYjY5MjM3YjQxNTZlZmY5MjE5YTViZWFiNjYifQ.dwA82fqv0CeVGxFMr30KIg",null,null,null,null,null,23]
[24,"Gentbrugge Arsenaal","P+R parking Gentbrugge Arsenaal","N9 / Jules de Saint-Genoisstraat","Gent","51.032277, 3.758713","di 10 & do 12 oktober 2023","https://api.mapbox.com/styles/v1/heinv/cj1c3sqp500di2rqmtxr5l2jn/static/3.758713,51.032277,13,0/400x400?access_token=pk.eyJ1IjoiaGVpbnYiLCJhIjoiNGEzYjEwYjY5MjM3YjQxNTZlZmY5MjE5YTViZWFiNjYifQ.dwA82fqv0CeVGxFMr30KIg","https://api.mapbox.com/styles/v1/heinv/cj1c3sqp500di2rqmtxr5l2jn/static/","51.032277","3.758713",",13,0/400x400?access_token=pk.eyJ1IjoiaGVpbnYiLCJhIjoiNGEzYjEwYjY5MjM3YjQxNTZlZmY5MjE5YTViZWFiNjYifQ.dwA82fqv0CeVGxFMr30KIg",null,null,null,null,null,24]
[25,"Aalst-Zuid","Carpool parking Aalst-Zuid","N45 / N460","Aalst","50.913372, 4.031872","di 10 & do 12 oktober 2023","https://api.mapbox.com/styles/v1/heinv/cj1c3sqp500di2rqmtxr5l2jn/static/4.031872,50.913372,13,0/400x400?access_token=pk.eyJ1IjoiaGVpbnYiLCJhIjoiNGEzYjEwYjY5MjM3YjQxNTZlZmY5MjE5YTViZWFiNjYifQ.dwA82fqv0CeVGxFMr30KIg","https://api.mapbox.com/styles/v1/heinv/cj1c3sqp500di2rqmtxr5l2jn/static/","50.913372","4.031872",",13,0/400x400?access_token=pk.eyJ1IjoiaGVpbnYiLCJhIjoiNGEzYjEwYjY5MjM3YjQxNTZlZmY5MjE5YTViZWFiNjYifQ.dwA82fqv0CeVGxFMr30KIg",null,null,null,null,null,25]
[26,"Waasmunster","P+R parking Waasmunster","N446 / A14","Waasmunster","51.127953, 4.079340","di 10 & do 12 oktober 2023","https://api.mapbox.com/styles/v1/heinv/cj1c3sqp500di2rqmtxr5l2jn/static/4.079340,51.127953,13,0/400x400?access_token=pk.eyJ1IjoiaGVpbnYiLCJhIjoiNGEzYjEwYjY5MjM3YjQxNTZlZmY5MjE5YTViZWFiNjYifQ.dwA82fqv0CeVGxFMr30KIg","https://api.mapbox.com/styles/v1/heinv/cj1c3sqp500di2rqmtxr5l2jn/static/","51.127953","4.079340",",13,0/400x400?access_token=pk.eyJ1IjoiaGVpbnYiLCJhIjoiNGEzYjEwYjY5MjM3YjQxNTZlZmY5MjE5YTViZWFiNjYifQ.dwA82fqv0CeVGxFMr30KIg",null,null,null,null,null,26]
[27,"Melsele-Zuid","Carpool parking Melsele-Zuid","N450 / A11","Beveren","51.239507, 4.269469","di 10 & do 12 oktober 2023","https://api.mapbox.com/styles/v1/heinv/cj1c3sqp500di2rqmtxr5l2jn/static/4.269469,51.239507,13,0/400x400?access_token=pk.eyJ1IjoiaGVpbnYiLCJhIjoiNGEzYjEwYjY5MjM3YjQxNTZlZmY5MjE5YTViZWFiNjYifQ.dwA82fqv0CeVGxFMr30KIg","https://api.mapbox.com/styles/v1/heinv/cj1c3sqp500di2rqmtxr5l2jn/static/","51.239507","4.269469",",13,0/400x400?access_token=pk.eyJ1IjoiaGVpbnYiLCJhIjoiNGEzYjEwYjY5MjM3YjQxNTZlZmY5MjE5YTViZWFiNjYifQ.dwA82fqv0CeVGxFMr30KIg",null,null,null,null,null,27]
[28,"Meerbeke","Carpool parking Meerbeke","N28 / N8","Ninove","50.828223, 4.034914","di 10 & do 12 oktober 2023","https://api.mapbox.com/styles/v1/heinv/cj1c3sqp500di2rqmtxr5l2jn/static/4.034914,50.828223,13,0/400x400?access_token=pk.eyJ1IjoiaGVpbnYiLCJhIjoiNGEzYjEwYjY5MjM3YjQxNTZlZmY5MjE5YTViZWFiNjYifQ.dwA82fqv0CeVGxFMr30KIg","https://api.mapbox.com/styles/v1/heinv/cj1c3sqp500di2rqmtxr5l2jn/static/","50.828223","4.034914",",13,0/400x400?access_token=pk.eyJ1IjoiaGVpbnYiLCJhIjoiNGEzYjEwYjY5MjM3YjQxNTZlZmY5MjE5YTViZWFiNjYifQ.dwA82fqv0CeVGxFMr30KIg",null,null,null,null,null,28]
[29,"Ninove","Carpool parking Ninove","N255 / N8","Ninove","50.827345, 4.025918","di 10 & do 12 oktober 2023","https://api.mapbox.com/styles/v1/heinv/cj1c3sqp500di2rqmtxr5l2jn/static/4.025918,50.827345,13,0/400x400?access_token=pk.eyJ1IjoiaGVpbnYiLCJhIjoiNGEzYjEwYjY5MjM3YjQxNTZlZmY5MjE5YTViZWFiNjYifQ.dwA82fqv0CeVGxFMr30KIg","https://api.mapbox.com/styles/v1/heinv/cj1c3sqp500di2rqmtxr5l2jn/static/","50.827345","4.025918",",13,0/400x400?access_token=pk.eyJ1IjoiaGVpbnYiLCJhIjoiNGEzYjEwYjY5MjM3YjQxNTZlZmY5MjE5YTViZWFiNjYifQ.dwA82fqv0CeVGxFMr30KIg",null,null,null,null,null,29]
[30,"Kruishoutem","Carpool parking Kruishoutem","N459 / A14","Kruishoutem","50.916012, 3.492023","di 10 & do 12 oktober 2023","https://api.mapbox.com/styles/v1/heinv/cj1c3sqp500di2rqmtxr5l2jn/static/3.492023,50.916012,13,0/400x400?access_token=pk.eyJ1IjoiaGVpbnYiLCJhIjoiNGEzYjEwYjY5MjM3YjQxNTZlZmY5MjE5YTViZWFiNjYifQ.dwA82fqv0CeVGxFMr30KIg","https://api.mapbox.com/styles/v1/heinv/cj1c3sqp500di2rqmtxr5l2jn/static/","50.916012","3.492023",",13,0/400x400?access_token=pk.eyJ1IjoiaGVpbnYiLCJhIjoiNGEzYjEwYjY5MjM3YjQxNTZlZmY5MjE5YTViZWFiNjYifQ.dwA82fqv0CeVGxFMr30KIg",null,null,null,null,null,30]
[31,"Mersele-Noord","Carpool parking Mersele-Noord","N450 / A11","Beveren","51.243978, 4.271561","di 10 & do 12 oktober 2023","https://api.mapbox.com/styles/v1/heinv/cj1c3sqp500di2rqmtxr5l2jn/static/4.271561,51.243978,13,0/400x400?access_token=pk.eyJ1IjoiaGVpbnYiLCJhIjoiNGEzYjEwYjY5MjM3YjQxNTZlZmY5MjE5YTViZWFiNjYifQ.dwA82fqv0CeVGxFMr30KIg","https://api.mapbox.com/styles/v1/heinv/cj1c3sqp500di2rqmtxr5l2jn/static/","51.243978","4.271561",",13,0/400x400?access_token=pk.eyJ1IjoiaGVpbnYiLCJhIjoiNGEzYjEwYjY5MjM3YjQxNTZlZmY5MjE5YTViZWFiNjYifQ.dwA82fqv0CeVGxFMr30KIg",null,null,null,null,null,31]
[32,"Vrasene-Noord","Carpool parking Vrasene-Noord","N451 / A11","Beveren","51.240943, 4.189741","di 10 & do 12 oktober 2023","https://api.mapbox.com/styles/v1/heinv/cj1c3sqp500di2rqmtxr5l2jn/static/4.189741,51.240943,13,0/400x400?access_token=pk.eyJ1IjoiaGVpbnYiLCJhIjoiNGEzYjEwYjY5MjM3YjQxNTZlZmY5MjE5YTViZWFiNjYifQ.dwA82fqv0CeVGxFMr30KIg","https://api.mapbox.com/styles/v1/heinv/cj1c3sqp500di2rqmtxr5l2jn/static/","51.240943","4.189741",",13,0/400x400?access_token=pk.eyJ1IjoiaGVpbnYiLCJhIjoiNGEzYjEwYjY5MjM3YjQxNTZlZmY5MjE5YTViZWFiNjYifQ.dwA82fqv0CeVGxFMr30KIg",null,null,null,null,null,32]
[33,"Merelbeke","Carpool parking Merelbeke","B403 / R4","Merelbeke","51.003542, 3.763040","di 10 & do 12 oktober 2023","https://api.mapbox.com/styles/v1/heinv/cj1c3sqp500di2rqmtxr5l2jn/static/3.763040,51.003542,13,0/400x400?access_token=pk.eyJ1IjoiaGVpbnYiLCJhIjoiNGEzYjEwYjY5MjM3YjQxNTZlZmY5MjE5YTViZWFiNjYifQ.dwA82fqv0CeVGxFMr30KIg","https://api.mapbox.com/styles/v1/heinv/cj1c3sqp500di2rqmtxr5l2jn/static/","51.003542","3.763040",",13,0/400x400?access_token=pk.eyJ1IjoiaGVpbnYiLCJhIjoiNGEzYjEwYjY5MjM3YjQxNTZlZmY5MjE5YTViZWFiNjYifQ.dwA82fqv0CeVGxFMr30KIg",null,null,null,null,null,33]
[34,"Vilvoorde","Carpool parking Vilvoorde","N211 / N21","Machelen","50.910540, 4.459740","di 10 & do 12 oktober 2023","https://api.mapbox.com/styles/v1/heinv/cj1c3sqp500di2rqmtxr5l2jn/static/4.459740,50.910540,13,0/400x400?access_token=pk.eyJ1IjoiaGVpbnYiLCJhIjoiNGEzYjEwYjY5MjM3YjQxNTZlZmY5MjE5YTViZWFiNjYifQ.dwA82fqv0CeVGxFMr30KIg","https://api.mapbox.com/styles/v1/heinv/cj1c3sqp500di2rqmtxr5l2jn/static/","50.910540","4.459740",",13,0/400x400?access_token=pk.eyJ1IjoiaGVpbnYiLCJhIjoiNGEzYjEwYjY5MjM3YjQxNTZlZmY5MjE5YTViZWFiNjYifQ.dwA82fqv0CeVGxFMr30KIg",null,null,null,null,null,34]
[35,"Holsbeek","Carpool parking Holsbeek","N229 / A2","Leuven","50.933565, 4.743369","di 10 & do 12 oktober 2023","https://api.mapbox.com/styles/v1/heinv/cj1c3sqp500di2rqmtxr5l2jn/static/4.743369,50.933565,13,0/400x400?access_token=pk.eyJ1IjoiaGVpbnYiLCJhIjoiNGEzYjEwYjY5MjM3YjQxNTZlZmY5MjE5YTViZWFiNjYifQ.dwA82fqv0CeVGxFMr30KIg","https://api.mapbox.com/styles/v1/heinv/cj1c3sqp500di2rqmtxr5l2jn/static/","50.933565","4.743369",",13,0/400x400?access_token=pk.eyJ1IjoiaGVpbnYiLCJhIjoiNGEzYjEwYjY5MjM3YjQxNTZlZmY5MjE5YTViZWFiNjYifQ.dwA82fqv0CeVGxFMr30KIg",null,null,null,null,null,35]
[36,"Halle-Essenbeek","P+R parking Halle-Essenbeek","N28 / N203a","Halle","50.721091, 4.250252","di 10 & do 12 oktober 2023","https://api.mapbox.com/styles/v1/heinv/cj1c3sqp500di2rqmtxr5l2jn/static/4.250252,50.721091,13,0/400x400?access_token=pk.eyJ1IjoiaGVpbnYiLCJhIjoiNGEzYjEwYjY5MjM3YjQxNTZlZmY5MjE5YTViZWFiNjYifQ.dwA82fqv0CeVGxFMr30KIg","https://api.mapbox.com/styles/v1/heinv/cj1c3sqp500di2rqmtxr5l2jn/static/","50.721091","4.250252",",13,0/400x400?access_token=pk.eyJ1IjoiaGVpbnYiLCJhIjoiNGEzYjEwYjY5MjM3YjQxNTZlZmY5MjE5YTViZWFiNjYifQ.dwA82fqv0CeVGxFMr30KIg",null,null,null,null,null,36]
[37,"Halle-Sint Rochus","Carpool parking Halle-Sint Rochus","N203 / N203a","Halle","50.727008, 4.258883","di 10 & do 12 oktober 2023","https://api.mapbox.com/styles/v1/heinv/cj1c3sqp500di2rqmtxr5l2jn/static/4.258883,50.727008,13,0/400x400?access_token=pk.eyJ1IjoiaGVpbnYiLCJhIjoiNGEzYjEwYjY5MjM3YjQxNTZlZmY5MjE5YTViZWFiNjYifQ.dwA82fqv0CeVGxFMr30KIg","https://api.mapbox.com/styles/v1/heinv/cj1c3sqp500di2rqmtxr5l2jn/static/","50.727008","4.258883",",13,0/400x400?access_token=pk.eyJ1IjoiaGVpbnYiLCJhIjoiNGEzYjEwYjY5MjM3YjQxNTZlZmY5MjE5YTViZWFiNjYifQ.dwA82fqv0CeVGxFMr30KIg",null,null,null,null,null,37]
[38,"Boutersem","Carpool parking Boutersem","N234 / A3","Boutersem","50.825404, 4.814390","di 10 & do 12 oktober 2023","https://api.mapbox.com/styles/v1/heinv/cj1c3sqp500di2rqmtxr5l2jn/static/4.814390,50.825404,13,0/400x400?access_token=pk.eyJ1IjoiaGVpbnYiLCJhIjoiNGEzYjEwYjY5MjM3YjQxNTZlZmY5MjE5YTViZWFiNjYifQ.dwA82fqv0CeVGxFMr30KIg","https://api.mapbox.com/styles/v1/heinv/cj1c3sqp500di2rqmtxr5l2jn/static/","50.825404","4.814390",",13,0/400x400?access_token=pk.eyJ1IjoiaGVpbnYiLCJhIjoiNGEzYjEwYjY5MjM3YjQxNTZlZmY5MjE5YTViZWFiNjYifQ.dwA82fqv0CeVGxFMr30KIg",null,null,null,null,null,38]
[39,"Aarschot","Carpool parking Aarschot","A2 / N233","Aarschot","50.963819, 4.836608","di 10 & do 12 oktober 2023","https://api.mapbox.com/styles/v1/heinv/cj1c3sqp500di2rqmtxr5l2jn/static/4.836608,50.963819,13,0/400x400?access_token=pk.eyJ1IjoiaGVpbnYiLCJhIjoiNGEzYjEwYjY5MjM3YjQxNTZlZmY5MjE5YTViZWFiNjYifQ.dwA82fqv0CeVGxFMr30KIg","https://api.mapbox.com/styles/v1/heinv/cj1c3sqp500di2rqmtxr5l2jn/static/","50.963819","4.836608",",13,0/400x400?access_token=pk.eyJ1IjoiaGVpbnYiLCJhIjoiNGEzYjEwYjY5MjM3YjQxNTZlZmY5MjE5YTViZWFiNjYifQ.dwA82fqv0CeVGxFMr30KIg",null,null,null,null,null,39]
[40,"Tielt-Winge","Carpool parking Tielt-Winge","N258 / A2","Tielt-Winge","50.959801, 4.930284","di 10 & do 12 oktober 2023","https://api.mapbox.com/styles/v1/heinv/cj1c3sqp500di2rqmtxr5l2jn/static/4.930284,50.959801,13,0/400x400?access_token=pk.eyJ1IjoiaGVpbnYiLCJhIjoiNGEzYjEwYjY5MjM3YjQxNTZlZmY5MjE5YTViZWFiNjYifQ.dwA82fqv0CeVGxFMr30KIg","https://api.mapbox.com/styles/v1/heinv/cj1c3sqp500di2rqmtxr5l2jn/static/","50.959801","4.930284",",13,0/400x400?access_token=pk.eyJ1IjoiaGVpbnYiLCJhIjoiNGEzYjEwYjY5MjM3YjQxNTZlZmY5MjE5YTViZWFiNjYifQ.dwA82fqv0CeVGxFMr30KIg",null,null,null,null,null,40]
[41,"Walshoutem","Carpool parking Walshoutem","N80 / A3","Landen","50.713075, 5.081833","di 10 & do 12 oktober 2023","https://api.mapbox.com/styles/v1/heinv/cj1c3sqp500di2rqmtxr5l2jn/static/5.081833,50.713075,13,0/400x400?access_token=pk.eyJ1IjoiaGVpbnYiLCJhIjoiNGEzYjEwYjY5MjM3YjQxNTZlZmY5MjE5YTViZWFiNjYifQ.dwA82fqv0CeVGxFMr30KIg","https://api.mapbox.com/styles/v1/heinv/cj1c3sqp500di2rqmtxr5l2jn/static/","50.713075","5.081833",",13,0/400x400?access_token=pk.eyJ1IjoiaGVpbnYiLCJhIjoiNGEzYjEwYjY5MjM3YjQxNTZlZmY5MjE5YTViZWFiNjYifQ.dwA82fqv0CeVGxFMr30KIg",null,null,null,null,null,41]
[42,"Zingem","Carpool parking Zingem","N435 / N60","Zingem","50.909427, 3.615886","di 10 & do 12 oktober 2023","https://api.mapbox.com/styles/v1/heinv/cj1c3sqp500di2rqmtxr5l2jn/static/3.615886,50.909427,13,0/400x400?access_token=pk.eyJ1IjoiaGVpbnYiLCJhIjoiNGEzYjEwYjY5MjM3YjQxNTZlZmY5MjE5YTViZWFiNjYifQ.dwA82fqv0CeVGxFMr30KIg","https://api.mapbox.com/styles/v1/heinv/cj1c3sqp500di2rqmtxr5l2jn/static/","50.909427","3.615886",",13,0/400x400?access_token=pk.eyJ1IjoiaGVpbnYiLCJhIjoiNGEzYjEwYjY5MjM3YjQxNTZlZmY5MjE5YTViZWFiNjYifQ.dwA82fqv0CeVGxFMr30KIg",null,null,null,null,null,42]
[43,"Kemzeke-West","Carpool parking Kemzeke-West","N403 / N49","Stekene","51.229594, 4.060439","di 10 & do 12 oktober 2023","https://api.mapbox.com/styles/v1/heinv/cj1c3sqp500di2rqmtxr5l2jn/static/4.060439,51.229594,13,0/400x400?access_token=pk.eyJ1IjoiaGVpbnYiLCJhIjoiNGEzYjEwYjY5MjM3YjQxNTZlZmY5MjE5YTViZWFiNjYifQ.dwA82fqv0CeVGxFMr30KIg","https://api.mapbox.com/styles/v1/heinv/cj1c3sqp500di2rqmtxr5l2jn/static/","51.229594","4.060439",",13,0/400x400?access_token=pk.eyJ1IjoiaGVpbnYiLCJhIjoiNGEzYjEwYjY5MjM3YjQxNTZlZmY5MjE5YTViZWFiNjYifQ.dwA82fqv0CeVGxFMr30KIg",null,null,null,null,null,43]
[44,"Kemzeke-Oost","Carpool parking Kemzeke-Oost","N403 / N49","Stekene","51.229783, 4.061087","di 10 & do 12 oktober 2023","https://api.mapbox.com/styles/v1/heinv/cj1c3sqp500di2rqmtxr5l2jn/static/4.061087,51.229783,13,0/400x400?access_token=pk.eyJ1IjoiaGVpbnYiLCJhIjoiNGEzYjEwYjY5MjM3YjQxNTZlZmY5MjE5YTViZWFiNjYifQ.dwA82fqv0CeVGxFMr30KIg","https://api.mapbox.com/styles/v1/heinv/cj1c3sqp500di2rqmtxr5l2jn/static/","51.229783","4.061087",",13,0/400x400?access_token=pk.eyJ1IjoiaGVpbnYiLCJhIjoiNGEzYjEwYjY5MjM3YjQxNTZlZmY5MjE5YTViZWFiNjYifQ.dwA82fqv0CeVGxFMr30KIg",null,null,null,null,null,44]
[45,"Wommelgem-Noord","P+R parking Wommelgem-Noord","R11 / A13","Wommelgem","51.212489, 4.491956","di 10 & do 12 oktober 2023","https://api.mapbox.com/styles/v1/heinv/cj1c3sqp500di2rqmtxr5l2jn/static/4.491956,51.212489,13,0/400x400?access_token=pk.eyJ1IjoiaGVpbnYiLCJhIjoiNGEzYjEwYjY5MjM3YjQxNTZlZmY5MjE5YTViZWFiNjYifQ.dwA82fqv0CeVGxFMr30KIg","https://api.mapbox.com/styles/v1/heinv/cj1c3sqp500di2rqmtxr5l2jn/static/","51.212489","4.491956",",13,0/400x400?access_token=pk.eyJ1IjoiaGVpbnYiLCJhIjoiNGEzYjEwYjY5MjM3YjQxNTZlZmY5MjE5YTViZWFiNjYifQ.dwA82fqv0CeVGxFMr30KIg",null,null,null,null,null,45]
[46,"Geel-Oost","Carpool parking Geel-Oost","N174 / A13","Laakdal","51.106646, 5.018691","di 10 & do 12 oktober 2023","https://api.mapbox.com/styles/v1/heinv/cj1c3sqp500di2rqmtxr5l2jn/static/5.018691,51.106646,13,0/400x400?access_token=pk.eyJ1IjoiaGVpbnYiLCJhIjoiNGEzYjEwYjY5MjM3YjQxNTZlZmY5MjE5YTViZWFiNjYifQ.dwA82fqv0CeVGxFMr30KIg","https://api.mapbox.com/styles/v1/heinv/cj1c3sqp500di2rqmtxr5l2jn/static/","51.106646","5.018691",",13,0/400x400?access_token=pk.eyJ1IjoiaGVpbnYiLCJhIjoiNGEzYjEwYjY5MjM3YjQxNTZlZmY5MjE5YTViZWFiNjYifQ.dwA82fqv0CeVGxFMr30KIg",null,null,null,null,null,46]
[47,"Lille","Carpool parking Lille","N153 / A21","Lille","51.254780, 4.807767","di 10 & do 12 oktober 2023","https://api.mapbox.com/styles/v1/heinv/cj1c3sqp500di2rqmtxr5l2jn/static/4.807767,51.254780,13,0/400x400?access_token=pk.eyJ1IjoiaGVpbnYiLCJhIjoiNGEzYjEwYjY5MjM3YjQxNTZlZmY5MjE5YTViZWFiNjYifQ.dwA82fqv0CeVGxFMr30KIg","https://api.mapbox.com/styles/v1/heinv/cj1c3sqp500di2rqmtxr5l2jn/static/","51.254780","4.807767",",13,0/400x400?access_token=pk.eyJ1IjoiaGVpbnYiLCJhIjoiNGEzYjEwYjY5MjM3YjQxNTZlZmY5MjE5YTViZWFiNjYifQ.dwA82fqv0CeVGxFMr30KIg",null,null,null,null,null,47]
[48,"Oelegem-West","Carpool parking Oelegem-West","A21 / Zandhovensesteenweg","Ranst","51.212044, 4.623777","di 10 & do 12 oktober 2023","https://api.mapbox.com/styles/v1/heinv/cj1c3sqp500di2rqmtxr5l2jn/static/4.623777,51.212044,13,0/400x400?access_token=pk.eyJ1IjoiaGVpbnYiLCJhIjoiNGEzYjEwYjY5MjM3YjQxNTZlZmY5MjE5YTViZWFiNjYifQ.dwA82fqv0CeVGxFMr30KIg","https://api.mapbox.com/styles/v1/heinv/cj1c3sqp500di2rqmtxr5l2jn/static/","51.212044","4.623777",",13,0/400x400?access_token=pk.eyJ1IjoiaGVpbnYiLCJhIjoiNGEzYjEwYjY5MjM3YjQxNTZlZmY5MjE5YTViZWFiNjYifQ.dwA82fqv0CeVGxFMr30KIg",null,null,null,null,null,48]
[49,"Oelegem-Oost","Carpool parking Oelegem-Oost","A21 / Zandhovensesteenweg","Ranst","51.211693, 4.625380","di 10 & do 12 oktober 2023","https://api.mapbox.com/styles/v1/heinv/cj1c3sqp500di2rqmtxr5l2jn/static/4.625380,51.211693,13,0/400x400?access_token=pk.eyJ1IjoiaGVpbnYiLCJhIjoiNGEzYjEwYjY5MjM3YjQxNTZlZmY5MjE5YTViZWFiNjYifQ.dwA82fqv0CeVGxFMr30KIg","https://api.mapbox.com/styles/v1/heinv/cj1c3sqp500di2rqmtxr5l2jn/static/","51.211693","4.625380",",13,0/400x400?access_token=pk.eyJ1IjoiaGVpbnYiLCJhIjoiNGEzYjEwYjY5MjM3YjQxNTZlZmY5MjE5YTViZWFiNjYifQ.dwA82fqv0CeVGxFMr30KIg",null,null,null,null,null,49]
[50,"Sint Job in 't Goor","P+R parking Sint Job in 't Goor","N117 / A1","Brasschaat","51.309564, 4.555137","di 10 & do 12 oktober 2023","https://api.mapbox.com/styles/v1/heinv/cj1c3sqp500di2rqmtxr5l2jn/static/4.555137,51.309564,13,0/400x400?access_token=pk.eyJ1IjoiaGVpbnYiLCJhIjoiNGEzYjEwYjY5MjM3YjQxNTZlZmY5MjE5YTViZWFiNjYifQ.dwA82fqv0CeVGxFMr30KIg","https://api.mapbox.com/styles/v1/heinv/cj1c3sqp500di2rqmtxr5l2jn/static/","51.309564","4.555137",",13,0/400x400?access_token=pk.eyJ1IjoiaGVpbnYiLCJhIjoiNGEzYjEwYjY5MjM3YjQxNTZlZmY5MjE5YTViZWFiNjYifQ.dwA82fqv0CeVGxFMr30KIg",null,null,null,null,null,50]
[51,"Menen","Carpool parking Menen","A19 / N32","Menen","50.817106, 3.125718","di 10 & do 12 oktober 2023","https://api.mapbox.com/styles/v1/heinv/cj1c3sqp500di2rqmtxr5l2jn/static/3.125718,50.817106,13,0/400x400?access_token=pk.eyJ1IjoiaGVpbnYiLCJhIjoiNGEzYjEwYjY5MjM3YjQxNTZlZmY5MjE5YTViZWFiNjYifQ.dwA82fqv0CeVGxFMr30KIg","https://api.mapbox.com/styles/v1/heinv/cj1c3sqp500di2rqmtxr5l2jn/static/","50.817106","3.125718",",13,0/400x400?access_token=pk.eyJ1IjoiaGVpbnYiLCJhIjoiNGEzYjEwYjY5MjM3YjQxNTZlZmY5MjE5YTViZWFiNjYifQ.dwA82fqv0CeVGxFMr30KIg",null,null,null,null,null,51]
[52,"Deerlijk","Carpool parking Deerlijk","N36 / Vichtesteenweg","Deerlijk","50.850190, 3.368235","di 10 & do 12 oktober 2023","https://api.mapbox.com/styles/v1/heinv/cj1c3sqp500di2rqmtxr5l2jn/static/3.368235,50.850190,13,0/400x400?access_token=pk.eyJ1IjoiaGVpbnYiLCJhIjoiNGEzYjEwYjY5MjM3YjQxNTZlZmY5MjE5YTViZWFiNjYifQ.dwA82fqv0CeVGxFMr30KIg","https://api.mapbox.com/styles/v1/heinv/cj1c3sqp500di2rqmtxr5l2jn/static/","50.850190","3.368235",",13,0/400x400?access_token=pk.eyJ1IjoiaGVpbnYiLCJhIjoiNGEzYjEwYjY5MjM3YjQxNTZlZmY5MjE5YTViZWFiNjYifQ.dwA82fqv0CeVGxFMr30KIg",null,null,null,null,null,52]
[53,"Zoersel","Carpool parking Zoersel","N14 / A21","Zoersel","51.245282, 4.703352","di 10 & do 12 oktober 2023","https://api.mapbox.com/styles/v1/heinv/cj1c3sqp500di2rqmtxr5l2jn/static/4.703352,51.245282,13,0/400x400?access_token=pk.eyJ1IjoiaGVpbnYiLCJhIjoiNGEzYjEwYjY5MjM3YjQxNTZlZmY5MjE5YTViZWFiNjYifQ.dwA82fqv0CeVGxFMr30KIg","https://api.mapbox.com/styles/v1/heinv/cj1c3sqp500di2rqmtxr5l2jn/static/","51.245282","4.703352",",13,0/400x400?access_token=pk.eyJ1IjoiaGVpbnYiLCJhIjoiNGEzYjEwYjY5MjM3YjQxNTZlZmY5MjE5YTViZWFiNjYifQ.dwA82fqv0CeVGxFMr30KIg",null,null,null,null,null,53]
[54,"E17 Deinze","Carpool parking E17 Deinze","N35 / N17","Nazareth","50.952738, 3.569722","di 10 & do 12 oktober 2023","https://api.mapbox.com/styles/v1/heinv/cj1c3sqp500di2rqmtxr5l2jn/static/3.569722,50.952738,13,0/400x400?access_token=pk.eyJ1IjoiaGVpbnYiLCJhIjoiNGEzYjEwYjY5MjM3YjQxNTZlZmY5MjE5YTViZWFiNjYifQ.dwA82fqv0CeVGxFMr30KIg","https://api.mapbox.com/styles/v1/heinv/cj1c3sqp500di2rqmtxr5l2jn/static/","50.952738","3.569722",",13,0/400x400?access_token=pk.eyJ1IjoiaGVpbnYiLCJhIjoiNGEzYjEwYjY5MjM3YjQxNTZlZmY5MjE5YTViZWFiNjYifQ.dwA82fqv0CeVGxFMr30KIg",null,null,null,null,null,54]
[55,"Erpe-Mere","Carpool parking Erpe-Mere","N46 / A10","Erpe-Mere","50.927985, 3.958209","di 10 & do 12 oktober 2023","https://api.mapbox.com/styles/v1/heinv/cj1c3sqp500di2rqmtxr5l2jn/static/3.958209,50.927985,13,0/400x400?access_token=pk.eyJ1IjoiaGVpbnYiLCJhIjoiNGEzYjEwYjY5MjM3YjQxNTZlZmY5MjE5YTViZWFiNjYifQ.dwA82fqv0CeVGxFMr30KIg","https://api.mapbox.com/styles/v1/heinv/cj1c3sqp500di2rqmtxr5l2jn/static/","50.927985","3.958209",",13,0/400x400?access_token=pk.eyJ1IjoiaGVpbnYiLCJhIjoiNGEzYjEwYjY5MjM3YjQxNTZlZmY5MjE5YTViZWFiNjYifQ.dwA82fqv0CeVGxFMr30KIg",null,null,null,null,null,55]
[56,"Geel-West","Carpool parking Geel-West","N19 / Bell-Telephonelaan","Westerlo","51.133020, 4.940494","di 10 & do 12 oktober 2023","https://api.mapbox.com/styles/v1/heinv/cj1c3sqp500di2rqmtxr5l2jn/static/4.940494,51.133020,13,0/400x400?access_token=pk.eyJ1IjoiaGVpbnYiLCJhIjoiNGEzYjEwYjY5MjM3YjQxNTZlZmY5MjE5YTViZWFiNjYifQ.dwA82fqv0CeVGxFMr30KIg","https://api.mapbox.com/styles/v1/heinv/cj1c3sqp500di2rqmtxr5l2jn/static/","51.133020","4.940494",",13,0/400x400?access_token=pk.eyJ1IjoiaGVpbnYiLCJhIjoiNGEzYjEwYjY5MjM3YjQxNTZlZmY5MjE5YTViZWFiNjYifQ.dwA82fqv0CeVGxFMr30KIg",null,null,null,null,null,56]
[57,"Veurne","Carpool parking Veurne","N39 / N8","Veurne","51.070372, 2.656499","di 10 & do 12 oktober 2023","https://api.mapbox.com/styles/v1/heinv/cj1c3sqp500di2rqmtxr5l2jn/static/2.656499,51.070372,13,0/400x400?access_token=pk.eyJ1IjoiaGVpbnYiLCJhIjoiNGEzYjEwYjY5MjM3YjQxNTZlZmY5MjE5YTViZWFiNjYifQ.dwA82fqv0CeVGxFMr30KIg","https://api.mapbox.com/styles/v1/heinv/cj1c3sqp500di2rqmtxr5l2jn/static/","51.070372","2.656499",",13,0/400x400?access_token=pk.eyJ1IjoiaGVpbnYiLCJhIjoiNGEzYjEwYjY5MjM3YjQxNTZlZmY5MjE5YTViZWFiNjYifQ.dwA82fqv0CeVGxFMr30KIg",null,null,null,null,null,57]
[58,"Oudenburg","Carpool parking Oudenburg","N358 / A10","Oudenburg","51.200906, 3.007635","di 10 & do 12 oktober 2023","https://api.mapbox.com/styles/v1/heinv/cj1c3sqp500di2rqmtxr5l2jn/static/3.007635,51.200906,13,0/400x400?access_token=pk.eyJ1IjoiaGVpbnYiLCJhIjoiNGEzYjEwYjY5MjM3YjQxNTZlZmY5MjE5YTViZWFiNjYifQ.dwA82fqv0CeVGxFMr30KIg","https://api.mapbox.com/styles/v1/heinv/cj1c3sqp500di2rqmtxr5l2jn/static/","51.200906","3.007635",",13,0/400x400?access_token=pk.eyJ1IjoiaGVpbnYiLCJhIjoiNGEzYjEwYjY5MjM3YjQxNTZlZmY5MjE5YTViZWFiNjYifQ.dwA82fqv0CeVGxFMr30KIg",null,null,null,null,null,58]
[59,"Middelkerke","Carpool parking Middelkerke","N369 / A18","Middelkerke","51.139750, 2.862593","di 10 & do 12 oktober 2023","https://api.mapbox.com/styles/v1/heinv/cj1c3sqp500di2rqmtxr5l2jn/static/2.862593,51.139750,13,0/400x400?access_token=pk.eyJ1IjoiaGVpbnYiLCJhIjoiNGEzYjEwYjY5MjM3YjQxNTZlZmY5MjE5YTViZWFiNjYifQ.dwA82fqv0CeVGxFMr30KIg","https://api.mapbox.com/styles/v1/heinv/cj1c3sqp500di2rqmtxr5l2jn/static/","51.139750","2.862593",",13,0/400x400?access_token=pk.eyJ1IjoiaGVpbnYiLCJhIjoiNGEzYjEwYjY5MjM3YjQxNTZlZmY5MjE5YTViZWFiNjYifQ.dwA82fqv0CeVGxFMr30KIg",null,null,null,null,null,59]
[60,"Loenhout","P+R parking Loenhout","N144 / Hollandseweg","Wuustwezel","51.397419, 4.689008","di 10 & do 12 oktober 2023","https://api.mapbox.com/styles/v1/heinv/cj1c3sqp500di2rqmtxr5l2jn/static/4.689008,51.397419,13,0/400x400?access_token=pk.eyJ1IjoiaGVpbnYiLCJhIjoiNGEzYjEwYjY5MjM3YjQxNTZlZmY5MjE5YTViZWFiNjYifQ.dwA82fqv0CeVGxFMr30KIg","https://api.mapbox.com/styles/v1/heinv/cj1c3sqp500di2rqmtxr5l2jn/static/","51.397419","4.689008",",13,0/400x400?access_token=pk.eyJ1IjoiaGVpbnYiLCJhIjoiNGEzYjEwYjY5MjM3YjQxNTZlZmY5MjE5YTViZWFiNjYifQ.dwA82fqv0CeVGxFMr30KIg",null,null,null,null,null,60]
[61,"Meise","P+R parking Meise","N227 / A12","Meise","50.934686, 4.330993","di 10 & do 12 oktober 2023","https://api.mapbox.com/styles/v1/heinv/cj1c3sqp500di2rqmtxr5l2jn/static/4.330993,50.934686,13,0/400x400?access_token=pk.eyJ1IjoiaGVpbnYiLCJhIjoiNGEzYjEwYjY5MjM3YjQxNTZlZmY5MjE5YTViZWFiNjYifQ.dwA82fqv0CeVGxFMr30KIg","https://api.mapbox.com/styles/v1/heinv/cj1c3sqp500di2rqmtxr5l2jn/static/","50.934686","4.330993",",13,0/400x400?access_token=pk.eyJ1IjoiaGVpbnYiLCJhIjoiNGEzYjEwYjY5MjM3YjQxNTZlZmY5MjE5YTViZWFiNjYifQ.dwA82fqv0CeVGxFMr30KIg",null,null,null,null,null,61]
[62,"Nieuwpoort","Carpool parking Nieuwpoort","N355 / A18","Nieuwpoort","51.109593, 2.757978","di 10 & do 12 oktober 2023","https://api.mapbox.com/styles/v1/heinv/cj1c3sqp500di2rqmtxr5l2jn/static/2.757978,51.109593,13,0/400x400?access_token=pk.eyJ1IjoiaGVpbnYiLCJhIjoiNGEzYjEwYjY5MjM3YjQxNTZlZmY5MjE5YTViZWFiNjYifQ.dwA82fqv0CeVGxFMr30KIg","https://api.mapbox.com/styles/v1/heinv/cj1c3sqp500di2rqmtxr5l2jn/static/","51.109593","2.757978",",13,0/400x400?access_token=pk.eyJ1IjoiaGVpbnYiLCJhIjoiNGEzYjEwYjY5MjM3YjQxNTZlZmY5MjE5YTViZWFiNjYifQ.dwA82fqv0CeVGxFMr30KIg",null,null,null,null,null,62]
[63,"Lichtervelde","Carpool parking Lichtervelde","N35 / A17","Lichtervelde","51.011285, 3.167382","di 10 & do 12 oktober 2023","https://api.mapbox.com/styles/v1/heinv/cj1c3sqp500di2rqmtxr5l2jn/static/3.167382,51.011285,13,0/400x400?access_token=pk.eyJ1IjoiaGVpbnYiLCJhIjoiNGEzYjEwYjY5MjM3YjQxNTZlZmY5MjE5YTViZWFiNjYifQ.dwA82fqv0CeVGxFMr30KIg","https://api.mapbox.com/styles/v1/heinv/cj1c3sqp500di2rqmtxr5l2jn/static/","51.011285","3.167382",",13,0/400x400?access_token=pk.eyJ1IjoiaGVpbnYiLCJhIjoiNGEzYjEwYjY5MjM3YjQxNTZlZmY5MjE5YTViZWFiNjYifQ.dwA82fqv0CeVGxFMr30KIg",null,null,null,null,null,63]
[64,"Kortrijk-Oost","Carpool parking Kortrijk-Oost","N8 / A14","Kortrijk","50.817455, 3.299312","di 10 & do 12 oktober 2023","https://api.mapbox.com/styles/v1/heinv/cj1c3sqp500di2rqmtxr5l2jn/static/3.299312,50.817455,13,0/400x400?access_token=pk.eyJ1IjoiaGVpbnYiLCJhIjoiNGEzYjEwYjY5MjM3YjQxNTZlZmY5MjE5YTViZWFiNjYifQ.dwA82fqv0CeVGxFMr30KIg","https://api.mapbox.com/styles/v1/heinv/cj1c3sqp500di2rqmtxr5l2jn/static/","50.817455","3.299312",",13,0/400x400?access_token=pk.eyJ1IjoiaGVpbnYiLCJhIjoiNGEzYjEwYjY5MjM3YjQxNTZlZmY5MjE5YTViZWFiNjYifQ.dwA82fqv0CeVGxFMr30KIg",null,null,null,null,null,64]
[65,"Loppem","P+R parking Loppem","N397 / E40","Zedelgem","51.162436, 3.192146","di 10 & do 12 oktober 2023","https://api.mapbox.com/styles/v1/heinv/cj1c3sqp500di2rqmtxr5l2jn/static/3.192146,51.162436,13,0/400x400?access_token=pk.eyJ1IjoiaGVpbnYiLCJhIjoiNGEzYjEwYjY5MjM3YjQxNTZlZmY5MjE5YTViZWFiNjYifQ.dwA82fqv0CeVGxFMr30KIg","https://api.mapbox.com/styles/v1/heinv/cj1c3sqp500di2rqmtxr5l2jn/static/","51.162436","3.192146",",13,0/400x400?access_token=pk.eyJ1IjoiaGVpbnYiLCJhIjoiNGEzYjEwYjY5MjM3YjQxNTZlZmY5MjE5YTViZWFiNjYifQ.dwA82fqv0CeVGxFMr30KIg",null,null,null,null,null,65]
[66,"Jabbeke-Oost","Carpool parking Jabbeke-Oost","N376 / Vlamingveld","Jabbeke","51.180310, 3.113845","di 10 & do 12 oktober 2023","https://api.mapbox.com/styles/v1/heinv/cj1c3sqp500di2rqmtxr5l2jn/static/3.113845,51.180310,13,0/400x400?access_token=pk.eyJ1IjoiaGVpbnYiLCJhIjoiNGEzYjEwYjY5MjM3YjQxNTZlZmY5MjE5YTViZWFiNjYifQ.dwA82fqv0CeVGxFMr30KIg","https://api.mapbox.com/styles/v1/heinv/cj1c3sqp500di2rqmtxr5l2jn/static/","51.180310","3.113845",",13,0/400x400?access_token=pk.eyJ1IjoiaGVpbnYiLCJhIjoiNGEzYjEwYjY5MjM3YjQxNTZlZmY5MjE5YTViZWFiNjYifQ.dwA82fqv0CeVGxFMr30KIg",null,null,null,null,null,66]
[67,"Waregem","Carpool parking Waregem","N357 / Franklin Rooseveltlaan","Waregem","50.873938, 3.441505","di 10 & do 12 oktober 2023","https://api.mapbox.com/styles/v1/heinv/cj1c3sqp500di2rqmtxr5l2jn/static/3.441505,50.873938,13,0/400x400?access_token=pk.eyJ1IjoiaGVpbnYiLCJhIjoiNGEzYjEwYjY5MjM3YjQxNTZlZmY5MjE5YTViZWFiNjYifQ.dwA82fqv0CeVGxFMr30KIg","https://api.mapbox.com/styles/v1/heinv/cj1c3sqp500di2rqmtxr5l2jn/static/","50.873938","3.441505",",13,0/400x400?access_token=pk.eyJ1IjoiaGVpbnYiLCJhIjoiNGEzYjEwYjY5MjM3YjQxNTZlZmY5MjE5YTViZWFiNjYifQ.dwA82fqv0CeVGxFMr30KIg",null,null,null,null,null,67]
[68,"Zandvoorde","Carpool parking Zandvoorde","A10 / Kasteelstraat","Oostende","51.204204, 2.976173","di 10 & do 12 oktober 2023","https://api.mapbox.com/styles/v1/heinv/cj1c3sqp500di2rqmtxr5l2jn/static/2.976173,51.204204,13,0/400x400?access_token=pk.eyJ1IjoiaGVpbnYiLCJhIjoiNGEzYjEwYjY5MjM3YjQxNTZlZmY5MjE5YTViZWFiNjYifQ.dwA82fqv0CeVGxFMr30KIg","https://api.mapbox.com/styles/v1/heinv/cj1c3sqp500di2rqmtxr5l2jn/static/","51.204204","2.976173",",13,0/400x400?access_token=pk.eyJ1IjoiaGVpbnYiLCJhIjoiNGEzYjEwYjY5MjM3YjQxNTZlZmY5MjE5YTViZWFiNjYifQ.dwA82fqv0CeVGxFMr30KIg",null,null,null,null,null,68]
[69,"Beernem","Carpool parking Beernem","N370 / A10","Beernem","51.120332, 3.324059","di 10 & do 12 oktober 2023","https://api.mapbox.com/styles/v1/heinv/cj1c3sqp500di2rqmtxr5l2jn/static/3.324059,51.120332,13,0/400x400?access_token=pk.eyJ1IjoiaGVpbnYiLCJhIjoiNGEzYjEwYjY5MjM3YjQxNTZlZmY5MjE5YTViZWFiNjYifQ.dwA82fqv0CeVGxFMr30KIg","https://api.mapbox.com/styles/v1/heinv/cj1c3sqp500di2rqmtxr5l2jn/static/","51.120332","3.324059",",13,0/400x400?access_token=pk.eyJ1IjoiaGVpbnYiLCJhIjoiNGEzYjEwYjY5MjM3YjQxNTZlZmY5MjE5YTViZWFiNjYifQ.dwA82fqv0CeVGxFMr30KIg",null,null,null,null,null,69]
[70,"The Loop-Expo","P+R parking The Loop/Expo","Derbystraat / Hélène Dutrieulaan","Gent","51.024607, 3.695634","di 10 & do 12 oktober 2023","https://api.mapbox.com/styles/v1/heinv/cj1c3sqp500di2rqmtxr5l2jn/static/3.695634,51.024607,13,0/400x400?access_token=pk.eyJ1IjoiaGVpbnYiLCJhIjoiNGEzYjEwYjY5MjM3YjQxNTZlZmY5MjE5YTViZWFiNjYifQ.dwA82fqv0CeVGxFMr30KIg","https://api.mapbox.com/styles/v1/heinv/cj1c3sqp500di2rqmtxr5l2jn/static/","51.024607","3.695634",",13,0/400x400?access_token=pk.eyJ1IjoiaGVpbnYiLCJhIjoiNGEzYjEwYjY5MjM3YjQxNTZlZmY5MjE5YTViZWFiNjYifQ.dwA82fqv0CeVGxFMr30KIg",null,null,null,null,null,70]
[71,"Oostkamp","Carpool parking Oostkamp","N50g / A10","Oostkamp","51.143977, 3.245762","di 10 & do 12 oktober 2023","https://api.mapbox.com/styles/v1/heinv/cj1c3sqp500di2rqmtxr5l2jn/static/3.245762,51.143977,13,0/400x400?access_token=pk.eyJ1IjoiaGVpbnYiLCJhIjoiNGEzYjEwYjY5MjM3YjQxNTZlZmY5MjE5YTViZWFiNjYifQ.dwA82fqv0CeVGxFMr30KIg","https://api.mapbox.com/styles/v1/heinv/cj1c3sqp500di2rqmtxr5l2jn/static/","51.143977","3.245762",",13,0/400x400?access_token=pk.eyJ1IjoiaGVpbnYiLCJhIjoiNGEzYjEwYjY5MjM3YjQxNTZlZmY5MjE5YTViZWFiNjYifQ.dwA82fqv0CeVGxFMr30KIg",null,null,null,null,null,71]
[72,"Veurne","Carpool parking Veurne","N8 / A18","Veurne","51.057349, 2.667068","di 10 & do 12 oktober 2023","https://api.mapbox.com/styles/v1/heinv/cj1c3sqp500di2rqmtxr5l2jn/static/2.667068,51.057349,13,0/400x400?access_token=pk.eyJ1IjoiaGVpbnYiLCJhIjoiNGEzYjEwYjY5MjM3YjQxNTZlZmY5MjE5YTViZWFiNjYifQ.dwA82fqv0CeVGxFMr30KIg","https://api.mapbox.com/styles/v1/heinv/cj1c3sqp500di2rqmtxr5l2jn/static/","51.057349","2.667068",",13,0/400x400?access_token=pk.eyJ1IjoiaGVpbnYiLCJhIjoiNGEzYjEwYjY5MjM3YjQxNTZlZmY5MjE5YTViZWFiNjYifQ.dwA82fqv0CeVGxFMr30KIg",null,null,null,null,null,72]
[73,"Jabbeke-West","Carpool parking Jabbeke-West","N377 / A10","Jabbeke","51.187549, 3.093136","di 10 & do 12 oktober 2023","https://api.mapbox.com/styles/v1/heinv/cj1c3sqp500di2rqmtxr5l2jn/static/3.093136,51.187549,13,0/400x400?access_token=pk.eyJ1IjoiaGVpbnYiLCJhIjoiNGEzYjEwYjY5MjM3YjQxNTZlZmY5MjE5YTViZWFiNjYifQ.dwA82fqv0CeVGxFMr30KIg","https://api.mapbox.com/styles/v1/heinv/cj1c3sqp500di2rqmtxr5l2jn/static/","51.187549","3.093136",",13,0/400x400?access_token=pk.eyJ1IjoiaGVpbnYiLCJhIjoiNGEzYjEwYjY5MjM3YjQxNTZlZmY5MjE5YTViZWFiNjYifQ.dwA82fqv0CeVGxFMr30KIg",null,null,null,null,null,73]
[74,"Melsele","P+R parking Melsele","N70 / N419","Beveren","51.218385, 4.305929","di 10 & do 12 oktober 2023","https://api.mapbox.com/styles/v1/heinv/cj1c3sqp500di2rqmtxr5l2jn/static/4.305929,51.218385,13,0/400x400?access_token=pk.eyJ1IjoiaGVpbnYiLCJhIjoiNGEzYjEwYjY5MjM3YjQxNTZlZmY5MjE5YTViZWFiNjYifQ.dwA82fqv0CeVGxFMr30KIg","https://api.mapbox.com/styles/v1/heinv/cj1c3sqp500di2rqmtxr5l2jn/static/","51.218385","4.305929",",13,0/400x400?access_token=pk.eyJ1IjoiaGVpbnYiLCJhIjoiNGEzYjEwYjY5MjM3YjQxNTZlZmY5MjE5YTViZWFiNjYifQ.dwA82fqv0CeVGxFMr30KIg",null,null,null,null,null,74]
[75,"Frederik van Eeden","Carpool parking Frederik van Eeden","Frederik van Eedenplein / Lode Zielenslaan","Antwerpen","51.221309, 4.386971","di 10 & do 12 oktober 2023","https://api.mapbox.com/styles/v1/heinv/cj1c3sqp500di2rqmtxr5l2jn/static/4.386971,51.221309,13,0/400x400?access_token=pk.eyJ1IjoiaGVpbnYiLCJhIjoiNGEzYjEwYjY5MjM3YjQxNTZlZmY5MjE5YTViZWFiNjYifQ.dwA82fqv0CeVGxFMr30KIg","https://api.mapbox.com/styles/v1/heinv/cj1c3sqp500di2rqmtxr5l2jn/static/","51.221309","4.386971",",13,0/400x400?access_token=pk.eyJ1IjoiaGVpbnYiLCJhIjoiNGEzYjEwYjY5MjM3YjQxNTZlZmY5MjE5YTViZWFiNjYifQ.dwA82fqv0CeVGxFMr30KIg",null,null,null,null,null,75]
[76,"Wuustwezel","Carpool parking Wuustwezel","N1 / N144","Wuustwezel","51.408496, 4.612086","di 10 & do 12 oktober 2023","https://api.mapbox.com/styles/v1/heinv/cj1c3sqp500di2rqmtxr5l2jn/static/4.612086,51.408496,13,0/400x400?access_token=pk.eyJ1IjoiaGVpbnYiLCJhIjoiNGEzYjEwYjY5MjM3YjQxNTZlZmY5MjE5YTViZWFiNjYifQ.dwA82fqv0CeVGxFMr30KIg","https://api.mapbox.com/styles/v1/heinv/cj1c3sqp500di2rqmtxr5l2jn/static/","51.408496","4.612086",",13,0/400x400?access_token=pk.eyJ1IjoiaGVpbnYiLCJhIjoiNGEzYjEwYjY5MjM3YjQxNTZlZmY5MjE5YTViZWFiNjYifQ.dwA82fqv0CeVGxFMr30KIg",null,null,null,null,null,76]
[77,"Keizershoek","Carpool parking/P+R parking Keizershoek","N1 / Horstebaan","Antwerpen","51.258243, 4.461816","di 10 & do 12 oktober 2023","https://api.mapbox.com/styles/v1/heinv/cj1c3sqp500di2rqmtxr5l2jn/static/4.461816,51.258243,13,0/400x400?access_token=pk.eyJ1IjoiaGVpbnYiLCJhIjoiNGEzYjEwYjY5MjM3YjQxNTZlZmY5MjE5YTViZWFiNjYifQ.dwA82fqv0CeVGxFMr30KIg","https://api.mapbox.com/styles/v1/heinv/cj1c3sqp500di2rqmtxr5l2jn/static/","51.258243","4.461816",",13,0/400x400?access_token=pk.eyJ1IjoiaGVpbnYiLCJhIjoiNGEzYjEwYjY5MjM3YjQxNTZlZmY5MjE5YTViZWFiNjYifQ.dwA82fqv0CeVGxFMr30KIg",null,null,null,null,null,77]
[78,"Blancefloerlaan","Carpool parking Blancefloerlaan","R1 / N70","Antwerpen","51.219428, 4.347431","di 10 & do 12 oktober 2023","https://api.mapbox.com/styles/v1/heinv/cj1c3sqp500di2rqmtxr5l2jn/static/4.347431,51.219428,13,0/400x400?access_token=pk.eyJ1IjoiaGVpbnYiLCJhIjoiNGEzYjEwYjY5MjM3YjQxNTZlZmY5MjE5YTViZWFiNjYifQ.dwA82fqv0CeVGxFMr30KIg","https://api.mapbox.com/styles/v1/heinv/cj1c3sqp500di2rqmtxr5l2jn/static/","51.219428","4.347431",",13,0/400x400?access_token=pk.eyJ1IjoiaGVpbnYiLCJhIjoiNGEzYjEwYjY5MjM3YjQxNTZlZmY5MjE5YTViZWFiNjYifQ.dwA82fqv0CeVGxFMr30KIg",null,null,null,null,null,78]
[79,"Kiewit","Carpool parking Kiewit","N74 / Schrijnbroekstraat","Hasselt","50.954067, 5.349303","di 10 & do 12 oktober 2023","https://api.mapbox.com/styles/v1/heinv/cj1c3sqp500di2rqmtxr5l2jn/static/5.349303,50.954067,13,0/400x400?access_token=pk.eyJ1IjoiaGVpbnYiLCJhIjoiNGEzYjEwYjY5MjM3YjQxNTZlZmY5MjE5YTViZWFiNjYifQ.dwA82fqv0CeVGxFMr30KIg","https://api.mapbox.com/styles/v1/heinv/cj1c3sqp500di2rqmtxr5l2jn/static/","50.954067","5.349303",",13,0/400x400?access_token=pk.eyJ1IjoiaGVpbnYiLCJhIjoiNGEzYjEwYjY5MjM3YjQxNTZlZmY5MjE5YTViZWFiNjYifQ.dwA82fqv0CeVGxFMr30KIg",null,null,null,null,null,79]
[80,"Gentbrugge","P+R parking Gentbrugge","N9 / A14","Gent","51.033488, 3.756221","di 10 & do 12 oktober 2023","https://api.mapbox.com/styles/v1/heinv/cj1c3sqp500di2rqmtxr5l2jn/static/3.756221,51.033488,13,0/400x400?access_token=pk.eyJ1IjoiaGVpbnYiLCJhIjoiNGEzYjEwYjY5MjM3YjQxNTZlZmY5MjE5YTViZWFiNjYifQ.dwA82fqv0CeVGxFMr30KIg","https://api.mapbox.com/styles/v1/heinv/cj1c3sqp500di2rqmtxr5l2jn/static/","51.033488","3.756221",",13,0/400x400?access_token=pk.eyJ1IjoiaGVpbnYiLCJhIjoiNGEzYjEwYjY5MjM3YjQxNTZlZmY5MjE5YTViZWFiNjYifQ.dwA82fqv0CeVGxFMr30KIg",null,null,null,null,null,80]
[81,"Rotselaar","Carpool parking Rotselaar","N19 / N229","Rotselaar","50.938803, 4.736643","di 10 & do 12 oktober 2023","https://api.mapbox.com/styles/v1/heinv/cj1c3sqp500di2rqmtxr5l2jn/static/4.736643,50.938803,13,0/400x400?access_token=pk.eyJ1IjoiaGVpbnYiLCJhIjoiNGEzYjEwYjY5MjM3YjQxNTZlZmY5MjE5YTViZWFiNjYifQ.dwA82fqv0CeVGxFMr30KIg","https://api.mapbox.com/styles/v1/heinv/cj1c3sqp500di2rqmtxr5l2jn/static/","50.938803","4.736643",",13,0/400x400?access_token=pk.eyJ1IjoiaGVpbnYiLCJhIjoiNGEzYjEwYjY5MjM3YjQxNTZlZmY5MjE5YTViZWFiNjYifQ.dwA82fqv0CeVGxFMr30KIg",null,null,null,null,null,81]
[82,"Vuntcomplex","Carpool parking Vuntcomplex","A2 / Vuntcomplex","Leuven","50.906947, 4.716171","di 10 & do 12 oktober 2023","https://api.mapbox.com/styles/v1/heinv/cj1c3sqp500di2rqmtxr5l2jn/static/4.716171,50.906947,13,0/400x400?access_token=pk.eyJ1IjoiaGVpbnYiLCJhIjoiNGEzYjEwYjY5MjM3YjQxNTZlZmY5MjE5YTViZWFiNjYifQ.dwA82fqv0CeVGxFMr30KIg","https://api.mapbox.com/styles/v1/heinv/cj1c3sqp500di2rqmtxr5l2jn/static/","50.906947","4.716171",",13,0/400x400?access_token=pk.eyJ1IjoiaGVpbnYiLCJhIjoiNGEzYjEwYjY5MjM3YjQxNTZlZmY5MjE5YTViZWFiNjYifQ.dwA82fqv0CeVGxFMr30KIg",null,null,null,null,null,82]
[83,"Sterrebeek","Carpool parking Sterrebeek","N227 / A3","Zaventem","50.871388, 4.510603","di 10 & do 12 oktober 2023","https://api.mapbox.com/styles/v1/heinv/cj1c3sqp500di2rqmtxr5l2jn/static/4.510603,50.871388,13,0/400x400?access_token=pk.eyJ1IjoiaGVpbnYiLCJhIjoiNGEzYjEwYjY5MjM3YjQxNTZlZmY5MjE5YTViZWFiNjYifQ.dwA82fqv0CeVGxFMr30KIg","https://api.mapbox.com/styles/v1/heinv/cj1c3sqp500di2rqmtxr5l2jn/static/","50.871388","4.510603",",13,0/400x400?access_token=pk.eyJ1IjoiaGVpbnYiLCJhIjoiNGEzYjEwYjY5MjM3YjQxNTZlZmY5MjE5YTViZWFiNjYifQ.dwA82fqv0CeVGxFMr30KIg",null,null,null,null,null,83]
[84,"Halle-Rattenput","Carpool parking Halle-Rattenput","N6 / A8","Halle","50.723963, 4.227925","di 10 & do 12 oktober 2023","https://api.mapbox.com/styles/v1/heinv/cj1c3sqp500di2rqmtxr5l2jn/static/4.227925,50.723963,13,0/400x400?access_token=pk.eyJ1IjoiaGVpbnYiLCJhIjoiNGEzYjEwYjY5MjM3YjQxNTZlZmY5MjE5YTViZWFiNjYifQ.dwA82fqv0CeVGxFMr30KIg","https://api.mapbox.com/styles/v1/heinv/cj1c3sqp500di2rqmtxr5l2jn/static/","50.723963","4.227925",",13,0/400x400?access_token=pk.eyJ1IjoiaGVpbnYiLCJhIjoiNGEzYjEwYjY5MjM3YjQxNTZlZmY5MjE5YTViZWFiNjYifQ.dwA82fqv0CeVGxFMr30KIg",null,null,null,null,null,84]
[85,"Strombeek-Bever","Carpool parking Strombeek-Bever","N276 / Nieuwelaan","Grimbergen","50.903140, 4.346976","di 10 & do 12 oktober 2023","https://api.mapbox.com/styles/v1/heinv/cj1c3sqp500di2rqmtxr5l2jn/static/4.346976,50.903140,13,0/400x400?access_token=pk.eyJ1IjoiaGVpbnYiLCJhIjoiNGEzYjEwYjY5MjM3YjQxNTZlZmY5MjE5YTViZWFiNjYifQ.dwA82fqv0CeVGxFMr30KIg","https://api.mapbox.com/styles/v1/heinv/cj1c3sqp500di2rqmtxr5l2jn/static/","50.903140","4.346976",",13,0/400x400?access_token=pk.eyJ1IjoiaGVpbnYiLCJhIjoiNGEzYjEwYjY5MjM3YjQxNTZlZmY5MjE5YTViZWFiNjYifQ.dwA82fqv0CeVGxFMr30KIg",null,null,null,null,null,85]
[86,"Jezus-Eik","Carpool parking Jezus-Eik","A4 / Kersenbomenlaan","Overijse","50.791286, 4.486517","di 10 & do 12 oktober 2023","https://api.mapbox.com/styles/v1/heinv/cj1c3sqp500di2rqmtxr5l2jn/static/4.486517,50.791286,13,0/400x400?access_token=pk.eyJ1IjoiaGVpbnYiLCJhIjoiNGEzYjEwYjY5MjM3YjQxNTZlZmY5MjE5YTViZWFiNjYifQ.dwA82fqv0CeVGxFMr30KIg","https://api.mapbox.com/styles/v1/heinv/cj1c3sqp500di2rqmtxr5l2jn/static/","50.791286","4.486517",",13,0/400x400?access_token=pk.eyJ1IjoiaGVpbnYiLCJhIjoiNGEzYjEwYjY5MjM3YjQxNTZlZmY5MjE5YTViZWFiNjYifQ.dwA82fqv0CeVGxFMr30KIg",null,null,null,null,null,86]
[87,"Affligem","Carpool parking Affligem","N208 / A10","Affligem","50.893622, 4.119238","di 10 & do 12 oktober 2023","https://api.mapbox.com/styles/v1/heinv/cj1c3sqp500di2rqmtxr5l2jn/static/4.119238,50.893622,13,0/400x400?access_token=pk.eyJ1IjoiaGVpbnYiLCJhIjoiNGEzYjEwYjY5MjM3YjQxNTZlZmY5MjE5YTViZWFiNjYifQ.dwA82fqv0CeVGxFMr30KIg","https://api.mapbox.com/styles/v1/heinv/cj1c3sqp500di2rqmtxr5l2jn/static/","50.893622","4.119238",",13,0/400x400?access_token=pk.eyJ1IjoiaGVpbnYiLCJhIjoiNGEzYjEwYjY5MjM3YjQxNTZlZmY5MjE5YTViZWFiNjYifQ.dwA82fqv0CeVGxFMr30KIg",null,null,null,null,null,87]
[88,"Bertem","Carpool parking Bertem","N3 / A3","Bertem","50.861791, 4.613666","di 10 & do 12 oktober 2023","https://api.mapbox.com/styles/v1/heinv/cj1c3sqp500di2rqmtxr5l2jn/static/4.613666,50.861791,13,0/400x400?access_token=pk.eyJ1IjoiaGVpbnYiLCJhIjoiNGEzYjEwYjY5MjM3YjQxNTZlZmY5MjE5YTViZWFiNjYifQ.dwA82fqv0CeVGxFMr30KIg","https://api.mapbox.com/styles/v1/heinv/cj1c3sqp500di2rqmtxr5l2jn/static/","50.861791","4.613666",",13,0/400x400?access_token=pk.eyJ1IjoiaGVpbnYiLCJhIjoiNGEzYjEwYjY5MjM3YjQxNTZlZmY5MjE5YTViZWFiNjYifQ.dwA82fqv0CeVGxFMr30KIg",null,null,null,null,null,88]
[89,"Hoegaarden","Carpool parking Hoegaarden","N29 / A3","Hoegaarden","50.780420, 4.919336","di 10 & do 12 oktober 2023","https://api.mapbox.com/styles/v1/heinv/cj1c3sqp500di2rqmtxr5l2jn/static/4.919336,50.780420,13,0/400x400?access_token=pk.eyJ1IjoiaGVpbnYiLCJhIjoiNGEzYjEwYjY5MjM3YjQxNTZlZmY5MjE5YTViZWFiNjYifQ.dwA82fqv0CeVGxFMr30KIg","https://api.mapbox.com/styles/v1/heinv/cj1c3sqp500di2rqmtxr5l2jn/static/","50.780420","4.919336",",13,0/400x400?access_token=pk.eyJ1IjoiaGVpbnYiLCJhIjoiNGEzYjEwYjY5MjM3YjQxNTZlZmY5MjE5YTViZWFiNjYifQ.dwA82fqv0CeVGxFMr30KIg",null,null,null,null,null,89]
[90,"Kampenhout","Carpool parking Kampenhout","N21 / N26","Kampenhout","50.955475, 4.594162","di 10 & do 12 oktober 2023","https://api.mapbox.com/styles/v1/heinv/cj1c3sqp500di2rqmtxr5l2jn/static/4.594162,50.955475,13,0/400x400?access_token=pk.eyJ1IjoiaGVpbnYiLCJhIjoiNGEzYjEwYjY5MjM3YjQxNTZlZmY5MjE5YTViZWFiNjYifQ.dwA82fqv0CeVGxFMr30KIg","https://api.mapbox.com/styles/v1/heinv/cj1c3sqp500di2rqmtxr5l2jn/static/","50.955475","4.594162",",13,0/400x400?access_token=pk.eyJ1IjoiaGVpbnYiLCJhIjoiNGEzYjEwYjY5MjM3YjQxNTZlZmY5MjE5YTViZWFiNjYifQ.dwA82fqv0CeVGxFMr30KIg",null,null,null,null,null,90]
[91,"Nevele","Carpool parking Nevele","N437 / A10","Nevele","51.056514, 3.527934","di 10 & do 12 oktober 2023","https://api.mapbox.com/styles/v1/heinv/cj1c3sqp500di2rqmtxr5l2jn/static/3.527934,51.056514,13,0/400x400?access_token=pk.eyJ1IjoiaGVpbnYiLCJhIjoiNGEzYjEwYjY5MjM3YjQxNTZlZmY5MjE5YTViZWFiNjYifQ.dwA82fqv0CeVGxFMr30KIg","https://api.mapbox.com/styles/v1/heinv/cj1c3sqp500di2rqmtxr5l2jn/static/","51.056514","3.527934",",13,0/400x400?access_token=pk.eyJ1IjoiaGVpbnYiLCJhIjoiNGEzYjEwYjY5MjM3YjQxNTZlZmY5MjE5YTViZWFiNjYifQ.dwA82fqv0CeVGxFMr30KIg",null,null,null,null,null,91]
[92,"Beerse-Vosselaar","P+R parking Beerse-Vosselaar","N132 / A21","Lille","51.289402, 4.856541","di 10 & do 12 oktober 2023","https://api.mapbox.com/styles/v1/heinv/cj1c3sqp500di2rqmtxr5l2jn/static/4.856541,51.289402,13,0/400x400?access_token=pk.eyJ1IjoiaGVpbnYiLCJhIjoiNGEzYjEwYjY5MjM3YjQxNTZlZmY5MjE5YTViZWFiNjYifQ.dwA82fqv0CeVGxFMr30KIg","https://api.mapbox.com/styles/v1/heinv/cj1c3sqp500di2rqmtxr5l2jn/static/","51.289402","4.856541",",13,0/400x400?access_token=pk.eyJ1IjoiaGVpbnYiLCJhIjoiNGEzYjEwYjY5MjM3YjQxNTZlZmY5MjE5YTViZWFiNjYifQ.dwA82fqv0CeVGxFMr30KIg",null,null,null,null,null,92]
[93,"Terlaemen","Carpool parking Terlaemen","N729 / Snelwegstraat","Heusden-Zolder","51.006354, 5.271851","di 10 & do 12 oktober 2023","https://api.mapbox.com/styles/v1/heinv/cj1c3sqp500di2rqmtxr5l2jn/static/5.271851,51.006354,13,0/400x400?access_token=pk.eyJ1IjoiaGVpbnYiLCJhIjoiNGEzYjEwYjY5MjM3YjQxNTZlZmY5MjE5YTViZWFiNjYifQ.dwA82fqv0CeVGxFMr30KIg","https://api.mapbox.com/styles/v1/heinv/cj1c3sqp500di2rqmtxr5l2jn/static/","51.006354","5.271851",",13,0/400x400?access_token=pk.eyJ1IjoiaGVpbnYiLCJhIjoiNGEzYjEwYjY5MjM3YjQxNTZlZmY5MjE5YTViZWFiNjYifQ.dwA82fqv0CeVGxFMr30KIg",null,null,null,null,null,93]
[94,"Boechout","P+R parking Boechout","N10 / Borsbeeksesteenweg","Boechout","51.168563, 4.494312","di 10 & do 12 oktober 2023","https://api.mapbox.com/styles/v1/heinv/cj1c3sqp500di2rqmtxr5l2jn/static/4.494312,51.168563,13,0/400x400?access_token=pk.eyJ1IjoiaGVpbnYiLCJhIjoiNGEzYjEwYjY5MjM3YjQxNTZlZmY5MjE5YTViZWFiNjYifQ.dwA82fqv0CeVGxFMr30KIg","https://api.mapbox.com/styles/v1/heinv/cj1c3sqp500di2rqmtxr5l2jn/static/","51.168563","4.494312",",13,0/400x400?access_token=pk.eyJ1IjoiaGVpbnYiLCJhIjoiNGEzYjEwYjY5MjM3YjQxNTZlZmY5MjE5YTViZWFiNjYifQ.dwA82fqv0CeVGxFMr30KIg",null,null,null,null,null,94]
[95,"Aalter",{"$f":"\"Carpool parking \"&B96","v":"Carpool parking Aalter"},"N37/N409/E40","Aalter",{"$f":"J96&\", \"&K96","v":"51.0749724302438, 3.44756033702165"},"di 10 & do 12 oktober 2023","https://api.mapbox.com/styles/v1/heinv/cj1c3sqp500di2rqmtxr5l2jn/static/3.44756033702165,51.0749724302438,13,0/400x400?access_token=pk.eyJ1IjoiaGVpbnYiLCJhIjoiNGEzYjEwYjY5MjM3YjQxNTZlZmY5MjE5YTViZWFiNjYifQ.dwA82fqv0CeVGxFMr30KIg","https://api.mapbox.com/styles/v1/heinv/cj1c3sqp500di2rqmtxr5l2jn/static/","51.0749724302438","3.44756033702165",",13,0/400x400?access_token=pk.eyJ1IjoiaGVpbnYiLCJhIjoiNGEzYjEwYjY5MjM3YjQxNTZlZmY5MjE5YTViZWFiNjYifQ.dwA82fqv0CeVGxFMr30KIg",null,null,null,null,null,95]
[96,"De Pinte",{"$f":"\"Carpool parking \"&B97","v":"Carpool parking De Pinte"},"E17/N60","De Pinte",{"$f":"J97&\", \"&K97","v":"50.9860214680881, 3.67492574904555"},"di 10 & do 12 oktober 2023","https://api.mapbox.com/styles/v1/heinv/cj1c3sqp500di2rqmtxr5l2jn/static/3.67492574904555,50.9860214680881,13,0/400x400?access_token=pk.eyJ1IjoiaGVpbnYiLCJhIjoiNGEzYjEwYjY5MjM3YjQxNTZlZmY5MjE5YTViZWFiNjYifQ.dwA82fqv0CeVGxFMr30KIg","https://api.mapbox.com/styles/v1/heinv/cj1c3sqp500di2rqmtxr5l2jn/static/","50.9860214680881","3.67492574904555",",13,0/400x400?access_token=pk.eyJ1IjoiaGVpbnYiLCJhIjoiNGEzYjEwYjY5MjM3YjQxNTZlZmY5MjE5YTViZWFiNjYifQ.dwA82fqv0CeVGxFMr30KIg",null,null,null,null,null,96]
[97,"Destelbergen","Carpool parking Destelbergen","R4/N445","Destelbergen","51.0582508416525, 3.81284992030355","di 10 & do 12 oktober 2023","https://api.mapbox.com/styles/v1/heinv/cj1c3sqp500di2rqmtxr5l2jn/static/3.81284992030355,51.0582508416525,13,0/400x400?access_token=pk.eyJ1IjoiaGVpbnYiLCJhIjoiNGEzYjEwYjY5MjM3YjQxNTZlZmY5MjE5YTViZWFiNjYifQ.dwA82fqv0CeVGxFMr30KIg","https://api.mapbox.com/styles/v1/heinv/cj1c3sqp500di2rqmtxr5l2jn/static/","51.0582508416525","3.81284992030355",",13,0/400x400?access_token=pk.eyJ1IjoiaGVpbnYiLCJhIjoiNGEzYjEwYjY5MjM3YjQxNTZlZmY5MjE5YTViZWFiNjYifQ.dwA82fqv0CeVGxFMr30KIg",null,null,null,null,null,97]
[98,"Lokeren","Carpool parking Lokeren","E17/N47 - uitrit 12","Lokeren","51.087592871792, 4.01991671115621","di 10 & do 12 oktober 2023","https://api.mapbox.com/styles/v1/heinv/cj1c3sqp500di2rqmtxr5l2jn/static/4.01991671115621,51.087592871792,13,0/400x400?access_token=pk.eyJ1IjoiaGVpbnYiLCJhIjoiNGEzYjEwYjY5MjM3YjQxNTZlZmY5MjE5YTViZWFiNjYifQ.dwA82fqv0CeVGxFMr30KIg","https://api.mapbox.com/styles/v1/heinv/cj1c3sqp500di2rqmtxr5l2jn/static/","51.087592871792","4.01991671115621",",13,0/400x400?access_token=pk.eyJ1IjoiaGVpbnYiLCJhIjoiNGEzYjEwYjY5MjM3YjQxNTZlZmY5MjE5YTViZWFiNjYifQ.dwA82fqv0CeVGxFMr30KIg",null,null,null,null,null,98]
[99,"Massenhoven",{"$f":"\"P+R parking \"&B100","v":"P+R parking Massenhoven"},"E313/N14","Massenhoven","51.194333453788, 4.64222375753947","di 10 & do 12 oktober 2023","https://api.mapbox.com/styles/v1/heinv/cj1c3sqp500di2rqmtxr5l2jn/static/4.64222375753947,51.194333453788,13,0/400x400?access_token=pk.eyJ1IjoiaGVpbnYiLCJhIjoiNGEzYjEwYjY5MjM3YjQxNTZlZmY5MjE5YTViZWFiNjYifQ.dwA82fqv0CeVGxFMr30KIg","https://api.mapbox.com/styles/v1/heinv/cj1c3sqp500di2rqmtxr5l2jn/static/","51.194333453788","4.64222375753947",",13,0/400x400?access_token=pk.eyJ1IjoiaGVpbnYiLCJhIjoiNGEzYjEwYjY5MjM3YjQxNTZlZmY5MjE5YTViZWFiNjYifQ.dwA82fqv0CeVGxFMr30KIg",null,null,null,null,null,99]
[100,"Tongeren","Carpool parking Tongeren","N79 / E313 (rotonde)","Tongeren","50.7911487169427, 5.52935513780375","di 10 & do 12 oktober 2023",{"$f":"I101&K101&\",\"&J101&L101","v":"https://api.mapbox.com/styles/v1/heinv/cj1c3sqp500di2rqmtxr5l2jn/static/5.52935513780375,50.7911487169427,13,0/400x400?access_token=pk.eyJ1IjoiaGVpbnYiLCJhIjoiNGEzYjEwYjY5MjM3YjQxNTZlZmY5MjE5YTViZWFiNjYifQ.dwA82fqv0CeVGxFMr30KIg"},"https://api.mapbox.com/styles/v1/heinv/cj1c3sqp500di2rqmtxr5l2jn/static/","50.7911487169427","5.52935513780375",",13,0/400x400?access_token=pk.eyJ1IjoiaGVpbnYiLCJhIjoiNGEzYjEwYjY5MjM3YjQxNTZlZmY5MjE5YTViZWFiNjYifQ.dwA82fqv0CeVGxFMr30KIg",null,null,null,null,null,100]

{"sheet":"Sjabloon","index":90,"n_rows":55,"n_cols":27,"rows_kept":55,"cut":false,"hidden":true,"merged":[[4,3,5,12],[15,3,16,12],[4,16,5,16]]}
[]
[null,"PARKEERONDERZOEK",null,"CARPOOLPARKINGS EN P+R PARKINGS"]
[null,1,null,{"$f":"B8 & \" - \"& TEXT(VLOOKUP(B3,Coordinaten!$A$2:$G$95,7,0),\"dddd dd mmmm jjjj\")","v":"Carpool parking Kemzeke-Zuid, Stekene - di 10 & do 12 oktober 2023"}]
[null,{"$f":"VLOOKUP(B3,Coordinaten!$A$2:$G$95,6,0)","v":"51.226907, 4.063425"}]
[null,null,null,"BEZETTING  ",null,null,null,null,null,null,null,null,null,null,null,null,"OPMERKINGEN"]
[]
[null,"Onderzoeksgebied",null,"Datum","Geregistreerd tussen","Pers","Vracht","Losse trekkers","Losse oplegger","Overig","Fout   pers","Fout Vracht","Totaal","Invalidenplaats","Gestalde fietsen",null,null,null,null,null,{"$f":"F7","v":"Pers"},"Vracht","Losse trekkers","Losse oplegger","Overig","Fout   pers","Fout Vracht"]
[null,{"$f":"VLOOKUP(B3,Coordinaten!$A$2:$G$95,3,0)&\", \"&VLOOKUP(B3,Coordinaten!$A$2:$G$95,5,0)","v":"Carpool parking Kemzeke-Zuid, Stekene"},null,null,null,null,null,null,null,null,null,null,null,null,null,null,null,null,{"$f":"D8","v":"00:00:00"},{"$f":"E8","v":0},{"$f":"F8/$M8","v":{"$error":"#DIV/0!"}},{"$error":"#DIV/0!"},{"$error":"#DIV/0!"},{"$error":"#DIV/0!"},{"$error":"#DIV/0!"},{"$error":"#DIV/0!"},{"$error":"#DIV/0!"}]
[null,{"$f":"\"Nabij kruispunt: \"&VLOOKUP(B3,Coordinaten!$A$2:$L$95,4,0)","v":"Nabij kruispunt: N49 / N403"},null,null,null,null,null,null,null,null,null,null,null,null,null,null,null,null,{"$f":"D10","v":"00:00:00"},{"$f":"E10","v":0},{"$f":"F10/$M10","v":{"$error":"#DIV/0!"}},{"$error":"#DIV/0!"},{"$error":"#DIV/0!"},{"$error":"#DIV/0!"},{"$error":"#DIV/0!"},{"$error":"#DIV/0!"},{"$error":"#DIV/0!"}]
[]
[null,"Meting"]
[null,{"$f":"\"Meetperiode: \"&TEXT(VLOOKUP(B3,Coordinaten!$A$2:$G$95,7,0),\"dddd dd mmmm jjjj\")","v":"Meetperiode: di 10 & do 12 oktober 2023"}]
[null,"Methodiek: Parkeerdrukmeting met waarnemers"]
[null,"In opdracht van: Vlaamse overheid"]
[null,"Uitgevoerd door: Dufec"]
[null,null,null,"VERDELING NAAR CATEGORIE"]
[null,"Locatie"]
[null,{"$f":"IF(B4=\"\",\"\",HYPERLINK(\"http://www.googlemaps.com/?q=\"&B4,\"Lat/Long: \"&B4))","v":"Lat/Long: 51.226907, 4.063425"}]
[]
[null,null,null,null,null,null,null,null,null,null,null,null,null,null,null,"Legenda"]
[null,null,null,null,null,null,null,null,null,null,null,null,null,null,null,null,"Personenwagen"]
[null,null,null,null,null,null,null,null,null,null,null,null,null,null,null,null,"Vracht"]
[null,null,null,null,null,null,null,null,null,null,null,null,null,null,null,null,"Losse trekkers"]
[null,null,null,null,null,null,null,null,null,null,null,null,null,null,null,null,"Losse opleggers"]
[null,null,null,null,null,null,null,null,null,null,null,null,null,null,null,null,"Overig"]
[null,null,null,null,null,null,null,null,null,null,null,null,null,null,null,null,"Fout \"Licht\""]
[null,null,null,null,null,null,null,null,null,null,null,null,null,null,null,null,"Fout Vracht"]
[]
[]
[]
[]
[]
[]
[]
[]
[]
[]
[]
[null,"Toelichting"]
[null,"Pers = personenwagens en motoren licht verkeer)"]
[null,"          op daarvoor bestemde openbare plaatsen"]
[null,"Vracht = vrachtwagens op daarvoor bestemde"]
[null,"          parkeerplaatsen (middel- en zwaar vrachtverkeer)"]
[null,"Losse trekkers = geparkeerde vrachtwagencabines"]
[null,"          op gehele parking"]
[null,"Losse opleggers = geparkeerde opleggers op gehele"]
[null,"          parking"]
[null,"Overig = andere voertuigen op de parking"]
[null,"Fout pers = personenwagens en motoren die fout"]
[null,"          geparkeerd staan"]
[null,"Fout vracht = vrachtwagens die fout geparkeerd staan"]
[null,"Invalide = personenwagens en motoren op voor"]
[null,"          invalide personen bestemde parkeerplaats"]
[null,"Gestalde fietsen = alle gestalde fietsen binnen de"]
[null,"          rode lijnen"]

{"sheet":"Bezetting_1","index":91,"n_rows":90,"n_cols":17,"rows_kept":90,"cut":false,"hidden":true,"merged":[]}
["Locatie","Naam1","Datum","Geregistreerd tussen","Pers","Vracht","Motor","Obstakel / overig","Fout   pers","Fout Vracht","Totaal","E-wagen\nplaats","Invalidenplaats","Gestalde fietsen",null,"Opmerkingen 1","Opmerkingen 2"]
[1,"Kemzeke-Zuid","2023-10-10","09:00 - 16:00u",30,1,null,null,20,null,{"$f":"SUM(E2:J2)","v":51},null,null,9]
[2,"Halle-Dassenveld","2023-10-12","09:00 - 16:00u",21,16,null,null,null,null,{"$f":"SUM(E3:J3)","v":37}]
[3,"Winksele","2023-10-10","09:00 - 16:00u",13,null,null,null,null,null,13,null,null,4]
[4,"Herent","2023-10-10","09:00 - 16:00u",43,null,null,1,null,null,44,null,null,12,null,"Overig: aanhanger"]
[5,"Bekkevoort","2023-10-12","09:00 - 16:00u",52,null,1,null,null,null,53]
[6,"Overijse","2023-10-12","09:00 - 16:00u",21,null,null,20,null,null,41,null,null,0,null,"Overig: werkzaamheden"]
[7,"St. Michiels","2023-10-10","09:00 - 16:00u",58,null,null,null,null,null,58,1,0,2]
[9,"Torhout","2023-10-12","09:00 - 16:00u",19,null,null,null,null,null,19,1,null,1]
[10,"Houthalen","2023-10-12","09:00 - 16:00u",65,null,null,null,null,null,65,null,null,2]
[11,"Diepenbeek","2023-10-12","09:00 - 16:00u",79,null,null,null,1,null,80,null,null,3]
[12,"Wommelgem-Zuid","2023-10-12","09:00 - 16:00u",38,null,1,null,1,null,40,null,null,6]
[13,"Minitaria","2023-10-10","09:00 - 16:00u",5,null,null,1,null,null,6,null,1,null,null,"Overig: aanhanger"]
[14,"Hakendover","2023-10-10","09:00 - 16:00u",4,null,null,null,null,null,4]
[15,"Kontich","2023-10-12","09:00 - 16:00u",144,null,null,1,null,null,145,1,null,0,null,"Overig: caravan"]
[16,"Breendonk","2023-10-12","09:00 - 16:00u",79,13,null,null,2,4,98,null,null,0]
[17,"Hasselt-Zuid","2023-10-12","09:00 - 16:00u",52,null,null,null,null,null,52,1,null,6]
[18,"Herentals-West","2023-10-12","09:00 - 16:00u",51,null,null,null,null,null,51,null,null,2]
[19,"Rumst","2023-10-12","09:00 - 16:00u",43,null,null,null,null,null,43,1,null,7]
[20,"Paal","2023-10-12","09:00 - 16:00u",72,null,null,null,null,null,72,null,null,2]
[21,"Lummen","2023-10-12","09:00 - 16:00u",269,null,1,null,4,null,274,null,null,4]
[22,"Halen","2023-10-12","09:00 - 16:00u",49,0,1,2,null,1,53,1,null,1,null,"Overig: 2x aanhanger"]
[23,"Maasmechelen","2023-10-12","09:00 - 16:00u",57,null,null,1,null,null,58,null,null,1,null,"Overig: aanhanger"]
[24,"Gentbrugge-Oost","2023-10-12","09:00 - 16:00u",248,null,null,2,7,null,257,4,null,33,null,"Overig: 2x aanhanger"]
[25,"Aalst-Zuid","2023-10-12","09:00 - 16:00u",22,null,null,null,6,null,28,1]
[26,"Waasmunster","2023-10-10","09:00 - 16:00u",27,null,null,null,null,null,27,null,0,2]
[27,"Melsele-Zuid","2023-10-10","09:00 - 16:00u",16,null,null,null,2,1,19,0,null,3]
[28,"Meerbeke","2023-10-12","09:00 - 16:00u",22,null,null,null,null,null,22,null,null,null,null,"Fout: 1 fiets"]
[29,"Ninove","2023-10-12","09:00 - 16:00u",23,null,null,null,null,null,23]
[30,"Kruishoutem","2023-10-12","09:00 - 16:00u",36,0,null,null,2,1,39,null,null,null,null,"Fout pers: 2 auto's dubbel geparkeerd"]
[32,"Vrasene-Noord","2023-10-10","09:00 - 16:00u",30,0,null,null,null,null,30,0,null,1]
[33,"Merelbeke","2023-10-12","09:00 - 16:00u",88,null,null,null,2,1,91,null,null,8]
[34,"Vilvoorde","2023-10-12","09:00 - 16:00u",26,null,null,null,null,null,26,null,null,0]
[35,"Holsbeek","2023-10-10","09:00 - 16:00u",16,null,null,null,null,null,16,null,null,0]
[36,"Halle-Essenbeek","2023-10-12","09:00 - 16:00u",17,null,null,null,null,null,17,null,2,1]
[37,"Halle-Sint Rochus","2023-10-12","09:00 - 16:00u",4,null,null,null,null,null,4]
[38,"Boutersem","2023-10-10","09:00 - 16:00u",32,null,null,null,null,null,32,null,null,0]
[39,"Aarschot","2023-10-12","09:00 - 16:00u",44,null,null,null,null,null,44,null,null,1]
[40,"Tielt-Winge","2023-10-12","09:00 - 16:00u",37,null,null,null,null,null,37,null,null,1]
[41,"Walshoutem","2023-10-10","09:00 - 16:00u",29,null,null,null,null,null,29,null,null,0]
[42,"Zingem","2023-10-12","09:00 - 16:00u",16,null,null,null,null,null,16,null,null,6]
[43,"Kemzeke-West","2023-10-10","09:00 - 16:00u",16,null,null,1,null,null,17,0,null,0,null,"Overig: aanhanger"]
[44,"Kemzeke-Oost","2023-10-10","09:00 - 16:00u",2,null,null,null,null,null,2]
[46,"Geel-Oost","2023-10-12","09:00 - 16:00u",30,null,null,null,null,null,30,null,null,null,null,"Electrische laadpunten in aanbouw"]
[47,"Lille","2023-10-12","09:00 - 16:00u",58,null,null,1,null,null,59,null,null,7,null,"Overig: aanhanger"]
[48,"Oelegem-West","2023-10-12","09:00 - 16:00u",8,null,null,null,1,null,9,1,null,null,null,"Fout: 2 fietsen"]
[49,"Oelegem-Oost","2023-10-12","09:00 - 16:00u",20,null,null,null,null,null,20]
[50,"St. Job in 't Goor","2023-10-10","09:00 - 16:00u",60,4,1,4,null,3,72,null,null,15,null,"Overig: 4x trailer","Fout: 2 fietsen"]
[51,"Menen","2023-10-12","09:00 - 16:00u",38,null,null,null,null,null,38,null,null,6]
[52,"Deerlijk","2023-10-12","09:00 - 16:00u",47,null,null,null,6,null,53,null,null,7]
[54,"Nazareth","2023-10-12","09:00 - 16:00u",33,null,null,null,null,null,33]
[55,"Erpe-Mere","2023-10-12","09:00 - 16:00u",94,null,null,null,null,null,94,4,null,1]
[56,"Geel-West","2023-10-12","09:00 - 16:00u",77,5,null,1,3,null,86,1,null,2,null,"Overig: aanhanger"]
[57,"Veurne (N39)","2023-10-10","09:00 - 16:00u",21,null,null,null,null,null,21,null,0]
[58,"Oudenburg","2023-10-10","09:00 - 16:00u",17,null,null,null,null,null,17,null,1]
[59,"Middelkerke","2023-10-10","09:00 - 16:00u",11,null,null,null,null,null,11,null,0,1]
[60,"Loenhout","2023-10-10","09:00 - 16:00u",21,null,null,null,null,null,21,1]
[61,"Meise","2023-10-12","09:00 - 16:00u",40,null,null,12,null,null,52,null,null,0,null,"Overig: 1x aanhanger 9x bus, 2x touringcar"]
[62,"Nieuwpoort","2023-10-10","09:00 - 16:00u",19,3,null,null,1,null,23,null,0,0]
[63,"Lichtervelde","2023-10-12","09:00 - 16:00u",65,null,null,null,2,null,67,null,null,null,null,"Fout pers: in parkeerplaats voor vracht"]
[64,"Kortrijk-Oost","2023-10-12","09:00 - 16:00u",75,null,null,null,null,null,75,null,null,6]
[65,"Loppem","2023-10-10","09:00 - 16:00u",69,null,2,null,6,null,77,null,null,2]
[66,"Jabbeke-Oost","2023-10-10","09:00 - 16:00u",23,12,null,null,null,null,35,null,null,0]
[67,"Waregem","2023-10-12","09:00 - 16:00u",49,null,null,null,null,null,49,null,null,1]
[68,"Zandvoorde","2023-10-10","09:00 - 16:00u",3,null,null,null,null,null,3,0]
[69,"Beernem","2023-10-10","09:00 - 16:00u",23,null,null,20,null,null,43,null,0,0,null,"Overig: werkzaamheden"]
[70,"Sint-Denijs-Westrem","2023-10-12","09:00 - 16:00u",84,null,null,null,null,null,{"$f":"SUM(E67:J67)","v":84},11,null,20]
[72,"Veurne (A18)","2023-10-10","09:00 - 16:00u",17,null,null,null,null,null,17]
[73,"Jabbeke-West","2023-10-10","09:00 - 16:00u",19,null,null,null,1,null,20]
[74,"Melsele","2023-10-10","09:00 - 16:00u",143,null,null,10,null,null,153,null,3,136,null,"Overig: werkzaamheden","Fout: 10 fietsen"]
[77,"Keizershoek","2023-10-10","09:00 - 16:00u",79,null,1,null,null,null,80,null,2,37,null,"Is een parkeergarage"]
[78,"Antwerpen L.O. - Blancefloer","2023-10-10","09:00 - 16:00u",24,null,null,null,null,null,24]
[80,"Gentbrugge","2023-10-12","09:00 - 16:00u",16,null,null,null,null,null,16,1]
[82,"Wilsele-De Vunt","2023-10-10","09:00 - 16:00u",21,null,null,null,null,null,21,null,null,12]
[83,"Sterrebeek","2023-10-12","09:00 - 16:00u",21,null,null,null,null,null,21,null,null,0]
[84,"Halle-Rattenput","2023-10-12","09:00 - 16:00u",1,null,null,null,null,null,1,null,null,null,null,"De carpoolparking wordt verbouwd. Veel vakken niet begaanbaar"]
[85,"Strombeek-Bever","2023-10-12","09:00 - 16:00u",27,null,null,1,null,null,28,null,null,1,null,"Overig: rollen kabels"]
[87,"Affligem","2023-10-12","09:00 - 16:00u",50,null,null,null,null,null,50]
[88,"Bertem","2023-10-10","09:00 - 16:00u",95,null,null,null,null,null,95,null,null,0,null,"10 elektrische plaatsen in aanbouw"]
[89,"Hoegaarden","2023-10-10","09:00 - 16:00u",66,2,null,null,null,2,70,null,null,1,null,"10 elektrische plaatsen in aanbouw"]
[90,"Kampenhout","2023-10-10","09:00 - 16:00u",9,null,null,null,null,null,9,null,null,5]
[91,"Nevele","2023-10-10","09:00 - 16:00u",38,null,1,null,null,null,39,null,null,0]
[92,"Beerse Vosselaar","2023-10-12","09:00 - 16:00u",37,null,null,null,null,null,37,null,0]
[93,"Terlaemen","2023-10-12","09:00 - 16:00u",33,null,0,null,null,null,33,null,1,1]
[94,"Caepenberg","2023-10-12","09:00 - 16:00u",121,null,null,null,null,null,121,null,1,93]
[95,"Aalter","2023-10-10","09:00 - 16:00u",61,null,null,null,null,null,61,null,null,4]
[96,"De Pinte","2023-10-12","09:00 - 16:00u",65,null,null,null,4,null,69,null,null,null,null,"Fout pers: geparkeerd op het gras"]
[97,"Destelbergen","2023-10-10","09:00 - 16:00u",65,1,0,1,3,2,72,0,0,3,null,"Fout pers: in parkeerplaats voor vracht","Overig: 1x trailer"]
[99,"Massenhoven","2023-10-12","09:00 - 16:00u",44,null,null,1,null,null,45,0,0,16,null,"Tijdelijke fietstenstalling staat op 5 parkeerplaatsen","Overig: aanhanger"]
[100,"Tongeren","2023-10-12","09:00 - 16:00u",49,null,null,null,null,null,49]

{"sheet":"Bezetting_2","index":92,"n_rows":90,"n_cols":17,"rows_kept":90,"cut":false,"hidden":true,"merged":[]}
["Locatie","Naam1","Datum","Geregistreerd tussen","Pers","Vracht","Motor","Obstakel / overig","Fout   pers","Fout Vracht","Totaal","E-wagen\nplaats","Invalidenplaats","Gestalde fietsen",null,"Opmerkingen 1","Opmerkingen 2"]
[1,"Kemzeke-Zuid","2023-10-10","19:00 - 02:00u",16,null,null,null,null,7,{"$f":"SUM(E2:J2)","v":23},null,null,4]
[2,"Halle-Dassenveld","2023-10-12","19:00 - 02:00u",17,20,null,null,null,null,{"$f":"SUM(E3:J3)","v":37}]
[3,"Winksele","2023-10-10","19:00 - 02:00u",10,null,null,null,null,null,10,null,null,5]
[4,"Herent","2023-10-10","19:00 - 02:00u",47,null,null,1,null,null,48,null,null,9,null,"Overig: aanhanger","Fout: 2 fietsen"]
[5,"Bekkevoort","2023-10-10","19:00 - 02:00u",19,null,null,null,null,null,19,null,0,0,null,"Oplegger langs de weg"]
[6,"Overijse","2023-10-12","19:00 - 02:00u",12,null,null,20,1,null,33,null,null,null,null,"Overig: werkzaamheden"]
[7,"St. Michiels","2023-10-10","19:00 - 02:00u",15,null,null,null,null,null,15,null,null,5]
[9,"Torhout","2023-10-12","19:00 - 02:00u",8,null,null,null,null,null,8,0,0,0]
[10,"Houthalen","2023-10-10","19:00 - 02:00u",35,null,null,null,null,null,35,null,0,1]
[11,"Diepenbeek","2023-10-10","19:00 - 02:00u",26,null,null,null,2,null,28,null,0,1]
[12,"Wommelgem-Zuid","2023-10-10","19:00 - 02:00u",15,null,null,null,null,1,16,null,null,1,null,"Fout vracht: op 6 plaatsen"]
[13,"Minitaria","2023-10-10","19:00 - 02:00u",8,null,null,1,null,null,9,null,1,null,null,"Overig: aanhanger"]
[14,"Hakendover","2023-10-10","19:00 - 02:00u",2,null,null,null,null,null,2]
[15,"Kontich","2023-10-12","19:00 - 02:00u",95,null,null,6,null,null,101,null,null,null,null,"Overig: 1x trailer, 5x bus"]
[16,"Breendonk","2023-10-12","19:00 - 02:00u",29,17,null,0,1,33,80]
[17,"Hasselt-Zuid","2023-10-10","19:00 - 02:00u",40,null,null,null,null,null,40,null,0,5]
[18,"Herentals-West","2023-10-10","19:00 - 02:00u",13,null,null,null,null,null,13,null,null,1]
[19,"Rumst","2023-10-12","19:00 - 02:00u",42,null,null,null,1,null,43,2]
[20,"Paal","2023-10-10","19:00 - 02:00u",19,null,null,null,null,null,19,null,null,1]
[21,"Lummen","2023-10-10","19:00 - 02:00u",109,null,null,null,null,null,109,null,0,0]
[22,"Halen","2023-10-10","19:00 - 02:00u",20,null,null,1,null,null,21,null,0,0,null,"Overig: aanhanger"]
[23,"Maasmechelen","2023-10-10","19:00 - 02:00u",49,null,null,null,null,null,49,3,1,1]
[24,"Gentbrugge-Oost","2023-10-12","19:00 - 02:00u",235,null,null,null,4,null,239,3,1,23]
[25,"Aalst-Zuid","2023-10-12","19:00 - 02:00u",17,null,null,null,null,null,17]
[26,"Waasmunster","2023-10-10","19:00 - 02:00u",21,null,null,3,null,null,24,null,null,null,null,"Overig: graafmachine"]
[27,"Melsele-Zuid","2023-10-10","19:00 - 02:00u",26,null,null,8,null,3,37,null,null,null,null,"Overig: 1 touringcar bezet 8 plaatsen"]
[28,"Meerbeke","2023-10-12","19:00 - 02:00u",13,null,null,null,null,null,13]
[29,"Ninove","2023-10-12","19:00 - 02:00u",28,null,null,null,null,null,28]
[30,"Kruishoutem","2023-10-12","19:00 - 02:00u",14,null,null,null,2,1,17,null,1,0]
[32,"Vrasene-Noord","2023-10-10","19:00 - 02:00u",18,null,null,1,null,null,19,null,null,2,null,"Overig: 1x trailer"]
[33,"Merelbeke","2023-10-12","19:00 - 02:00u",67,null,1,4,null,null,72,null,null,17,null,"Overig: pallets","Fout: 1 fiets"]
[34,"Vilvoorde","2023-10-12","19:00 - 02:00u",21,null,null,null,null,1,22,null,2]
[35,"Holsbeek","2023-10-10","19:00 - 02:00u",9,null,null,null,null,null,9,null,null,1]
[36,"Halle-Essenbeek","2023-10-12","19:00 - 02:00u",22,null,null,null,1,null,23]
[37,"Halle-Sint Rochus","2023-10-12","19:00 - 02:00u",null,null,null,null,null,null,0,0,null,0]
[38,"Boutersem","2023-10-10","19:00 - 02:00u",5,null,null,2,null,2,9,null,null,null,null,"Overig: 2x oplegger"]
[39,"Aarschot","2023-10-10","19:00 - 02:00u",55,null,null,null,null,null,55,null,0,1]
[40,"Tielt-Winge","2023-10-10","19:00 - 02:00u",8,null,null,null,null,null,8,null,0,0]
[41,"Walshoutem","2023-10-10","19:00 - 02:00u",10,null,null,null,null,null,10]
[42,"Zingem","2023-10-12","19:00 - 02:00u",7,null,null,null,null,null,7,null,null,6]
[43,"Kemzeke-West","2023-10-10","19:00 - 02:00u",8,null,null,1,null,null,9,null,null,null,null,"Overig: aanhanger"]
[44,"Kemzeke-Oost","2023-10-10","19:00 - 02:00u",2,null,null,1,null,null,3,null,null,null,null,"Overig: touringcar"]
[46,"Geel-Oost","2023-10-10","19:00 - 02:00u",10,null,null,2,null,null,12,null,null,null,null,"Overig: zandhoop"]
[47,"Lille","2023-10-10","19:00 - 02:00u",18,null,null,null,null,1,19,null,null,1,null,"Fout vracht: op 8 plaatsen"]
[48,"Oelegem-West","2023-10-10","19:00 - 02:00u",2,null,null,null,null,null,2]
[49,"Oelegem-Oost","2023-10-10","19:00 - 02:00u",5,null,null,null,null,null,5]
[50,"St. Job in 't Goor","2023-10-10","19:00 - 02:00u",39,12,null,1,null,2,54,null,null,null,null,"Overig: trailer"]
[51,"Menen","2023-10-12","19:00 - 02:00u",20,null,null,null,null,null,20,null,0,1]
[52,"Deerlijk","2023-10-12","19:00 - 02:00u",25,null,null,null,null,null,25,null,0,0]
[54,"Nazareth","2023-10-12","19:00 - 02:00u",30,null,null,null,null,null,30,null,null,3]
[55,"Erpe-Mere","2023-10-12","19:00 - 02:00u",36,null,null,null,null,null,36]
[56,"Geel-West","2023-10-10","19:00 - 02:00u",27,null,null,null,null,null,27,null,null,2]
[57,"Veurne (N39)","2023-10-10","19:00 - 02:00u",4,null,null,9,null,null,13,null,null,null,null,"Overig: verkeersborden 'verboden te parkeren'","Fout: 1 fiets"]
[58,"Oudenburg","2023-10-10","19:00 - 02:00u",2,null,null,null,null,null,2]
[59,"Middelkerke","2023-10-10","19:00 - 02:00u",5,null,null,null,1,null,6,null,null,1]
[60,"Loenhout","2023-10-10","19:00 - 02:00u",28,null,null,null,null,null,28]
[61,"Meise","2023-10-12","19:00 - 02:00u",21,10,null,1,2,21,55,null,null,null,null,"Overig: 1x aanhanger"]
[62,"Nieuwpoort","2023-10-10","19:00 - 02:00u",6,1,null,2,null,null,9,2,null,null,null,"Overig: Vuilnisbakken"]
[63,"Lichtervelde","2023-10-12","19:00 - 02:00u",26,3,null,null,null,null,29,0,0,1]
[64,"Kortrijk-Oost","2023-10-12","19:00 - 02:00u",63,null,null,null,null,null,63,0,null,10]
[65,"Loppem","2023-10-10","19:00 - 02:00u",24,null,null,1,1,null,26,null,null,1,null,"Overig: trailer"]
[66,"Jabbeke-Oost","2023-10-10","19:00 - 02:00u",16,17,null,null,null,5,38]
[67,"Waregem","2023-10-12","19:00 - 02:00u",38,null,null,null,null,null,38,null,1,1]
[68,"Zandvoorde","2023-10-10","19:00 - 02:00u",3,null,null,1,null,null,4,null,null,null,null,"Overig: e-scooter"]
[69,"Beernem","2023-10-10","19:00 - 02:00u",19,null,null,20,null,null,39,null,null,null,null,"Overig: werkzaamheden"]
[70,"Sint-Denijs-Westrem","2023-10-12","19:00 - 02:00u",30,null,null,null,null,null,{"$f":"SUM(E67:J67)","v":30},4,null,8]
[72,"Veurne (A18)","2023-10-10","19:00 - 02:00u",3,null,null,null,null,null,3,null,null,null,null,"Fout: 1 fiets"]
[73,"Jabbeke-West","2023-10-10","19:00 - 02:00u",3,null,null,null,null,null,3]
[74,"Melsele","2023-10-10","19:00 - 02:00u",91,null,null,6,null,null,97,null,null,null,null,"Overig: container op 3 plaatsen, hoogwerker op 3 plaatsen"]
[77,"Keizershoek","2023-11-07","19:00 - 02:00u",85,null,1,null,null,null,86,3,null,4,null,"Is een parkeergarage","Deze sectie is op 7-nov ingehaald"]
[78,"Antwerpen L.O. - Blancefloer","2023-10-10","19:00 - 02:00u",38,null,null,null,2,null,40]
[80,"Gentbrugge","2023-11-07","19:00 - 02:00u",10,null,null,null,null,null,10,null,null,null,null,"Parkeerplaats word deels verbouwd","Deze sectie is op 7-nov ingehaald"]
[82,"Wilsele-De Vunt","2023-10-10","19:00 - 02:00u",15,null,null,null,null,1,16,null,null,2,null,"Fout vracht: op 3 plaatsen"]
[83,"Sterrebeek","2023-10-12","19:00 - 02:00u",18,null,null,6,null,null,24,null,null,null,null,"Overig: 5x hekkken, 1x bakstenen"]
[84,"Halle-Rattenput","2023-10-12","19:00 - 02:00u",null,null,null,null,null,null,0,null,null,null,null,"De carpoolparking wordt verbouwd. Veel vakken niet begaanbaar"]
[85,"Strombeek-Bever","2023-10-12","19:00 - 02:00u",24,null,null,1,null,null,25,null,null,1,null,"Overig: rollen kabels"]
[87,"Affligem","2023-10-12","19:00 - 02:00u",21,null,null,null,null,null,21]
[88,"Bertem","2023-10-10","19:00 - 02:00u",42,null,null,null,null,null,42,null,null,1]
[89,"Hoegaarden","2023-10-10","19:00 - 02:00u",17,1,null,3,null,8,29,null,null,null,null,"Overig: 3x oplegger"]
[90,"Kampenhout","2023-10-10","19:00 - 02:00u",5,null,null,null,null,null,5,null,null,1]
[91,"Nevele","2023-10-10","19:00 - 02:00u",18,null,null,1,null,null,19,1,null,null,null,"Overig: 1x trailer"]
[92,"Beerse Vosselaar","2023-10-10","19:00 - 02:00u",14,null,null,null,null,null,14]
[93,"Terlaemen","2023-10-10","19:00 - 02:00u",9,null,null,null,null,null,9]
[94,"Caepenberg","2023-10-12","19:00 - 02:00u",68,null,null,null,null,null,68,null,1,77,null,"Fout: 1 fiets"]
[95,"Aalter","2023-10-10","19:00 - 02:00u",34,null,null,null,null,null,34,null,1,2]
[96,"De Pinte","2023-10-12","19:00 - 02:00u",44,null,null,null,8,null,52,null,0,0,null,"Fout pers: geparkeerd op het gras"]
[97,"Destelbergen","2023-10-10","19:00 - 02:00u",30,null,null,12,null,5,47,1,null,1,null,"Fout vracht: 5 vrachtwagens op 40 plaatsen","Overig: 4x trailer op 12 plaatsen"]
[99,"Massenhoven","2023-10-10","19:00 - 02:00u",15,null,1,5,null,1,22,1,null,8,null,"Fout vracht: op 6 plaatsen","Overig: 2x container, 3x constructiemateriaal"]
[100,"Tongeren","2023-10-10","19:00 - 02:00u",8,null,null,null,null,null,8,null,0,0]